{"text_format":"1","workbook":"xlsx","n_sheets":34,"sheets":["Enable Macros","Summary","Test Info","Print to Default Tray Full","Print To Default Tray Subset","Copy","Scan","Mkt FPOT-FCOT","Complex Print Jobs","XPS","Concurrency, Power","preBLI","Finisher 1 - Print, Stream,Copy","Finisher 2 - Print, Stream,Copy","UI","WIFI","ISO Instruction Matrix","ISO Printer -A","ISO Copier -A","ISO Printer -A4","ISO Copier -A4","ISO Summary Report - A","ISO Summary Report - A4","ISO Full Report - A","ISO Full Report - A4","ISO Print Summary - A","ISO Print Summary - A4","ISO Copy Summary - A","ISO Copy Summary - A4","Config Sheet","Version tracking","Sheet1","Backup","Sheet2"],"not_rendered":{"charts":0,"images":12,"macros":1,"external_links":4,"defined_names":31,"comments":5,"pivot_tables":4},"unopened":[],"bounds":{"document_bytes":16777216,"sheet_cells":100000,"rows_first":2000,"rows_last":500,"rows_between":2000,"halvings":0,"cell_chars":16384,"cell_head_chars":4096},"cells_cut":0,"cells_raw":0,"read":"whole","date_system":"1900"}

{"sheet":"Enable Macros","index":0,"n_rows":36,"n_cols":1,"rows_kept":36,"cut":false,"hidden":true,"merged":[[1,0,5,11],[0,0,0,11]]}
["Enable Macros"]
["Your Macros are not Enabled.  Locate the Version of Excel you are running below for Specific Instructions on how to Activate this Workbook:"]
[]
[]
[]
[]
[]
["Excel 2003:"]
[]
[]
[]
[]
[]
[]
[]
[]
[]
[]
[]
[]
[]
["Excel 2007:"]
[]
[]
[]
[]
[]
[]
[]
[]
[]
[]
[]
[]
[]
["Excel 2010:"]

{"sheet":"Summary","index":1,"n_rows":562,"n_cols":15,"rows_kept":562,"cut":false,"hidden":false,"merged":[[535,0,537,0],[55,1,60,1],[532,0,534,0],[122,1,124,1],[466,0,468,0],[470,0,473,0],[119,1,121,1],[89,1,98,1],[475,0,478,0],[480,0,483,0],[462,0,464,0],[125,1,126,1],[103,1,106,1],[134,1,135,1],[127,1,133,1],[5,4,5,5],[21,1,34,1],[35,1,37,1],[73,1,78,1],[67,1,72,1],[5,6,5,7],[6,6,6,7],[5,8,7,8],[109,1,118,1],[109,2,111,2],[112,2,114,2],[115,2,116,2],[117,2,118,2],[9,1,20,1],[107,1,108,1],[61,1,66,1],[79,1,88,1],[38,1,45,1],[46,1,50,1],[51,1,54,1],[99,1,102,1]]}
[{"$f":"'Test Info'!A1","v":"Samudra MFP High B0"}]
[{"$f":"'Test Info'!A2","v":"Release: "},"0.123.0"]
["Test Duration:",{"$f":"CONCATENATE(TEXT('Test Info'!B3, \"m/d/yyyy\"), \" - \", TEXT(EndDate, \"m/d/yyyy\"))","v":"9/11/2017 - 13/11/2017"}]
[{"$f":"'Test Info'!A4","v":"Benchmark:"},"Samudra MFP high"]
[]
["Summary",null,null,null,"Benchmark Data ",null,"Test Device Data",null,"Test Device vs. Benchmark",null,null,null,"Color Key"]
[null,null,null,null," From predecessor program","From Marketing spec","Enter Product information here",null,null,null,null,null,null,"Equal to or faster than BM"]
[null,null,null,"S/w release",{"$f":"#REF!","v":{"$error":"#REF!"}},"Enter spec version",{"$f":"'Test Info'!B9","v":"0.123.0"},{"$f":"'Test Info'!B9","v":"0.123.0"},null,"CQ Number",null,null,null,"< 10% slower than BM"]
[null,"Category","Averaged results","Jobs to Use","Target/BM Data","Marketing spec value","Test Data - 1st Cycle","Test Data - 2nd Cycle","Delta",null,null,null,null,"10% or more slower than BM"]
[null,"Print to Default Tray Subset","FPOT Default Driver Letter (seconds)","All 11 Jobs",{"$f":"AVERAGE('Print To Default Tray Subset'!AC10:AC20)","v":{"$error":"#DIV/0!"}},"NA",{"$f":"AVERAGE('Print To Default Tray Subset'!L10:L20)","v":{"$error":"#DIV/0!"}},null,{"$f":"IF(ISERROR((G10-E10)/E10), N/A, (G10-E10)/E10)","v":{"$error":"#NAME?"}}]
[null,null,"FPOT Alternative Driver Letter (seconds)","All 8 Jobs",{"$f":"AVERAGE('Print To Default Tray Subset'!AC21:AC28)","v":{"$error":"#DIV/0!"}},"NA",{"$f":"AVERAGE('Print To Default Tray Subset'!L21:L28)","v":{"$error":"#DIV/0!"}},null,{"$f":"IF(ISERROR((G11-E11)/E11), N/A, (G11-E11)/E11)","v":{"$error":"#NAME?"}}]
[null,null,"FPOT Default Driver A4 (seconds)","All 4 jobs",{"$f":"AVERAGE('Print To Default Tray Subset'!AC29:AC32)","v":{"$error":"#DIV/0!"}},"NA",{"$f":"AVERAGE('Print To Default Tray Subset'!L29:L32)","v":{"$error":"#DIV/0!"}},null,{"$f":"IF(ISERROR((G12-E12)/E12), N/A, (G12-E12)/E12)","v":{"$error":"#NAME?"}},null,null,null,"UCST (Unique Copy Set Throughput) Results -A (Letter)"]
[null,null,"FPOT banner PRN-Alternative (seconds)","1 jobs",{"$f":"'Print To Default Tray Subset'!AC39","v":0},"NA",{"$f":"'Print To Default Tray Subset'!L39","v":0},null,{"$f":"IF(ISERROR((G13-E13)/E13), N/A, (G13-E13)/E13)","v":{"$error":"#NAME?"}}]
[null,null,"Consecutive files FPOT PRN-Default (seconds)","10 Jobs",{"$f":"'Print To Default Tray Subset'!AC38","v":0},"NA",{"$f":"'Print To Default Tray Subset'!L38","v":0},null,{"$f":"IF(ISERROR((G14-E14)/E14), N/A, (G14-E14)/E14)","v":{"$error":"#NAME?"}},null,null,null,"Simplex "]
[null,null,"FPOT Default & Alternative 14 and 17 inch (seconds)","4 jobs",{"$f":"AVERAGE('Print To Default Tray Subset'!AC33:AC36)","v":{"$error":"#DIV/0!"}},"NA",{"$f":"AVERAGE('Print To Default Tray Subset'!L33:L36)","v":{"$error":"#DIV/0!"}},null,{"$f":"IF(ISERROR((G15-E15)/E15), N/A, (G15-E15)/E15)","v":{"$error":"#NAME?"}},null,null,null,null,"Time (seconds)","UCST (IPM)"]
[null,null,"2-N Default Driver Letter (% rated Speed)","All 11 Jobs",{"$f":"AVERAGE('Print To Default Tray Subset'!AF10:AF20)","v":{"$error":"#DIV/0!"}},"NA",{"$f":"AVERAGE('Print To Default Tray Subset'!O10:O20)","v":{"$error":"#DIV/0!"}},null,{"$f":"IF(ISERROR((E16-G16)/E16), N/A, (E16-G16)/E16)","v":{"$error":"#NAME?"}},null,null,null,"Color",{"$f":"'ISO Copier -A'!I5","v":0},{"$f":"'ISO Copier -A'!J5","v":{"$error":"#DIV/0!"}}]
[null,null,"2-N  Alternative Driver Letter  (% rated Speed)","All 8 Jobs",{"$f":"AVERAGE('Print To Default Tray Subset'!AF21:AF28)","v":{"$error":"#DIV/0!"}},"NA",{"$f":"AVERAGE('Print To Default Tray Subset'!O21:O28)","v":{"$error":"#DIV/0!"}},null,{"$f":"IF(ISERROR((E17-G17)/E17), N/A, (E17-G17)/E17)","v":{"$error":"#NAME?"}},null,null,null,"Mono",{"$f":"'ISO Copier -A'!I12","v":0},{"$f":"'ISO Copier -A'!J12","v":{"$error":"#DIV/0!"}}]
[null,null,"2-N Default Driver A4 (% rated Speed)","All 4 jobs",{"$f":"AVERAGE('Print To Default Tray Subset'!AF29:AF32)","v":{"$error":"#DIV/0!"}},"NA",{"$f":"AVERAGE('Print To Default Tray Subset'!O29:O32)","v":{"$error":"#DIV/0!"}},null,{"$f":"IF(ISERROR((E18-G18)/E18), N/A, (E18-G18)/E18)","v":{"$error":"#NAME?"}}]
[null,null,"2-N Banner PRN- Alternative (% rated Speed)","1 jobs",{"$f":"'Print To Default Tray Subset'!AF39","v":""},"NA",{"$f":"'Print To Default Tray Subset'!O39","v":""},null,{"$f":"IF(ISERROR((E19-G19)/E19), N/A, (E19-G19)/E19)","v":{"$error":"#NAME?"}},null,null,null,"Duplex","4 pages orginal ->2 sheets output  1 side ->2 sides copy"]
[null,null,"Consecutive files 2-N Default Driver (% rated speed)","10 Jobs",{"$f":"'Print To Default Tray Subset'!AF38","v":""},"NA",{"$f":"'Print To Default Tray Subset'!O38","v":""},null,{"$f":"IF(ISERROR((E20-G20)/E20), N/A, (E20-G20)/E20)","v":{"$error":"#NAME?"}},null,null,null,null,"Time (seconds)","UCST (IPM)"]
[null,null,"2-N Default & Alternative 14 and 17 inch (% rated speed)","4 jobs",{"$f":"AVERAGE('Print To Default Tray Subset'!AF33:AF36)","v":{"$error":"#DIV/0!"}},"NA",{"$f":"AVERAGE('Print To Default Tray Subset'!O33:O36)","v":{"$error":"#DIV/0!"}},null,{"$f":"IF(ISERROR((E21-G21)/E21), N/A, (E21-G21)/E21)","v":{"$error":"#NAME?"}},null,null,null,"Color",{"$f":"'ISO Copier -A'!I6","v":0},{"$f":"'ISO Copier -A'!J6","v":{"$error":"#DIV/0!"}}]
[null,"Print to Default Tray - Full","FPOT PS (seconds)","All FFDS 33 Jobs",{"$f":"AVERAGE(E146:E149)","v":{"$error":"#DIV/0!"}},"NA",{"$f":"AVERAGE(F146:F149)","v":{"$error":"#DIV/0!"}},null,{"$f":"IF(ISERROR((G22-E22)/E22), N/A, (G22-E22)/E22)","v":{"$error":"#NAME?"}},null,null,null,"Mono",{"$f":"'ISO Copier -A'!I13","v":0},{"$f":"'ISO Copier -A'!J13","v":{"$error":"#DIV/0!"}}]
[null,null,"FPOT PCL6 (seconds)","All FFDS 33 Jobs",{"$f":"AVERAGE(E150:E153)","v":{"$error":"#DIV/0!"}},"NA",{"$f":"AVERAGE(F150:F153)","v":{"$error":"#DIV/0!"}},null,{"$f":"IF(ISERROR((G23-E23)/E23), N/A, (G23-E23)/E23)","v":{"$error":"#NAME?"}}]
[null,null,"FPOT Default Driver A4 (seconds)","All 4 jobs",{"$f":"'Print to Default Tray Full'!T379","v":""},"NA",{"$f":"'Print to Default Tray Full'!F379","v":""},null,{"$f":"IF(ISERROR((G24-E24)/E24), N/A, (G24-E24)/E24)","v":{"$error":"#NAME?"}},null,null,null,"UCST (Unique Copy Set Throughput) Results - A4"]
[null,null,"FPOT banner PS and PCL (seconds)","FFDS 16 jobs",{"$f":"AVERAGE(E155:E162)","v":{"$error":"#DIV/0!"}},"NA",{"$f":"AVERAGE(F155:F162)","v":{"$error":"#DIV/0!"}},null,{"$f":"IF(ISERROR((G25-E25)/E25), N/A, (G25-E25)/E25)","v":{"$error":"#NAME?"}}]
[null,null,"Consecutive files FPOT PS and PCL (seconds)","5, 10, 30 jobs",{"$f":"AVERAGE(E521:E526)","v":{"$error":"#DIV/0!"}},"NA",{"$f":"AVERAGE(F521:F526)","v":{"$error":"#DIV/0!"}},null,{"$f":"IF(ISERROR((G26-E26)/E26), N/A, (G26-E26)/E26)","v":{"$error":"#NAME?"}},null,null,null,"Simplex "]
[null,null,"FPOT PS and PCL 14 and 17 inch (seconds)","24 jobs",{"$f":"AVERAGE(E226:E233)","v":{"$error":"#DIV/0!"}},"NA",{"$f":"AVERAGE(F226:F233)","v":{"$error":"#DIV/0!"}},null,{"$f":"IF(ISERROR((G27-E27)/E27), N/A, (G27-E27)/E27)","v":{"$error":"#NAME?"}},null,null,null,null,"Time (seconds)","UCST (IPM)"]
[null,null,"FPOT banner PS and PCL  14 and 17 inch (seconds)","12 jobs",{"$f":"AVERAGE(E251:E254)","v":{"$error":"#DIV/0!"}},"NA",{"$f":"AVERAGE(F251:F254)","v":{"$error":"#DIV/0!"}},null,{"$f":"IF(ISERROR((G28-E28)/E28), N/A, (G28-E28)/E28)","v":{"$error":"#NAME?"}},null,null,null,"Color",{"$f":"'ISO Copier -A4'!I5","v":0},{"$f":"'ISO Copier -A4'!J5","v":{"$error":"#DIV/0!"}}]
[null,null,"2-N PS (% rated Speed)","All FFDS 33 Jobs",{"$f":"AVERAGE(E164:E167)","v":{"$error":"#DIV/0!"}},"NA",{"$f":"AVERAGE(F164:F167)","v":{"$error":"#DIV/0!"}},null,{"$f":"IF(ISERROR((E29-G29)/E29), N/A, (E29-G29)/E29)","v":{"$error":"#NAME?"}},null,null,null,"Mono",{"$f":"'ISO Copier -A4'!I12","v":0},{"$f":"'ISO Copier -A4'!J12","v":{"$error":"#DIV/0!"}}]
[null,null,"2-N PCL6 (% rated Speed)","All FFDS 33 Jobs",{"$f":"AVERAGE(E168:E171)","v":{"$error":"#DIV/0!"}},"NA",{"$f":"AVERAGE(F168:F171)","v":{"$error":"#DIV/0!"}},null,{"$f":"IF(ISERROR((E30-G30)/E30), N/A, (E30-G30)/E30)","v":{"$error":"#NAME?"}}]
[null,null,"2-N Default Driver A4 (% rated Speed)","All 4 jobs",{"$f":"'Print to Default Tray Full'!W379","v":""},"NA",{"$f":"'Print to Default Tray Full'!I379","v":""},null,{"$f":"IF(ISERROR((E31-G31)/E31), N/A, (E31-G31)/E31)","v":{"$error":"#NAME?"}},null,null,null,"Duplex","4 pages orginal ->2 sheets output  1 side ->2 sides copy"]
[null,null,"2-N Banner PS and PCL (% rated Speed)","FFDS 16 jobs",{"$f":"AVERAGE(E173:E180)","v":{"$error":"#DIV/0!"}},"NA",{"$f":"AVERAGE(F173:F180)","v":{"$error":"#DIV/0!"}},null,{"$f":"IF(ISERROR((E32-G32)/E32), N/A, (E32-G32)/E32)","v":{"$error":"#NAME?"}},null,null,null,null,"Time (seconds)","UCST (IPM)"]
[null,null,"Consecutive files 2-N PS and PCL (% rated speed)","5, 10, 30 jobs",{"$f":"AVERAGE(E527:E532)","v":{"$error":"#DIV/0!"}},"NA",{"$f":"AVERAGE(F527:F532)","v":{"$error":"#DIV/0!"}},null,{"$f":"IF(ISERROR((E33-G33)/E33), N/A, (E33-G33)/E33)","v":{"$error":"#NAME?"}},null,null,null,"Color",{"$f":"'ISO Copier -A4'!I6","v":0},{"$f":"'ISO Copier -A4'!J6","v":{"$error":"#DIV/0!"}}]
[null,null,"2-N PS and PCL 14 and 17 inch (% rated speed)","24 jobs",{"$f":"AVERAGE(E234:E241)","v":{"$error":"#DIV/0!"}},"NA",{"$f":"AVERAGE(F234:F241)","v":{"$error":"#DIV/0!"}},null,{"$f":"IF(ISERROR((E34-G34)/E34), N/A, (E34-G34)/E34)","v":{"$error":"#NAME?"}},null,null,null,"Mono",{"$f":"'ISO Copier -A4'!I13","v":0},{"$f":"'ISO Copier -A4'!J13","v":{"$error":"#DIV/0!"}}]
[null,null,"2-N banner PS and PCL  14 and 17 inch (% rated speed)","12 jobs",{"$f":"AVERAGE(E255:E258)","v":{"$error":"#DIV/0!"}},"NA",{"$f":"AVERAGE(F255:F258)","v":{"$error":"#DIV/0!"}},null,{"$f":"IF(ISERROR((E35-G35)/E35), N/A, (E35-G35)/E35)","v":{"$error":"#NAME?"}}]
[null,"Copy","FCOT Platen (seconds)","All 4 color modes",{"$f":"AVERAGE(E327:E330)","v":{"$error":"#DIV/0!"}},"NA",{"$f":"AVERAGE(F327:F330)","v":{"$error":"#DIV/0!"}},null,{"$f":"IF(ISERROR((G36-E36)/E36), N/A, (G36-E36)/E36)","v":{"$error":"#NAME?"}}]
[null,null,"FCOT DADF (seconds)","All 4 color modes",{"$f":"AVERAGE(E331:E334)","v":{"$error":"#DIV/0!"}},"NA",{"$f":"AVERAGE(F331:F334)","v":{"$error":"#DIV/0!"}},null,{"$f":"IF(ISERROR((G37-E37)/E37), N/A, (G37-E37)/E37)","v":{"$error":"#NAME?"}}]
[null,null,"FCOT DADF Duplex (seconds)","All 4 color modes",{"$f":"AVERAGE(E335:E338)","v":{"$error":"#DIV/0!"}},"NA",{"$f":"AVERAGE(F335:F338)","v":{"$error":"#DIV/0!"}},null,{"$f":"IF(ISERROR((G38-E38)/E38), N/A, (G38-E38)/E38)","v":{"$error":"#NAME?"}}]
[null,"Scan to Server","Scan PDF File Size (KB)","12 job types",{"$f":"AVERAGE(E409:E420)","v":{"$error":"#DIV/0!"}},"NA",{"$f":"AVERAGE(F409:F420)","v":{"$error":"#DIV/0!"}},null,{"$f":"IF(ISERROR((G39-E39)/E39), N/A, (G39-E39)/E39)","v":{"$error":"#NAME?"}}]
[null,null,"Scan OCR File Size (KB)","4 job types",{"$f":"AVERAGE(E421:E424)","v":{"$error":"#DIV/0!"}},"NA",{"$f":"AVERAGE(F421:F424)","v":{"$error":"#DIV/0!"}},null,{"$f":"IF(ISERROR((G40-E40)/E40), N/A, (G40-E40)/E40)","v":{"$error":"#NAME?"}}]
[null,null,"Scan MTIFF File Size (KB)","7 job types",{"$f":"AVERAGE(E425:E431)","v":{"$error":"#DIV/0!"}},"NA",{"$f":"AVERAGE(F425:F431)","v":{"$error":"#DIV/0!"}},null,{"$f":"IF(ISERROR((G41-E41)/E41), N/A, (G41-E41)/E41)","v":{"$error":"#NAME?"}}]
[null,null,"Scan JPG File Size (KB)","3 job types",{"$f":"AVERAGE(E432:E434)","v":{"$error":"#DIV/0!"}},"NA",{"$f":"AVERAGE(F432:F434)","v":{"$error":"#DIV/0!"}},null,{"$f":"IF(ISERROR((G42-E42)/E42), N/A, (G42-E42)/E42)","v":{"$error":"#NAME?"}}]
[null,null,"Scan PDF Job Time (seconds)","12 job types",{"$f":"AVERAGE(E436:E447)","v":{"$error":"#DIV/0!"}},"NA",{"$f":"AVERAGE(F436:F447)","v":{"$error":"#DIV/0!"}},null,{"$f":"IF(ISERROR((G43-E43)/E43), N/A, (G43-E43)/E43)","v":{"$error":"#NAME?"}}]
[null,null,"Scan OCR Job Time (seconds)","4 job types",{"$f":"AVERAGE(E448:E451)","v":{"$error":"#DIV/0!"}},"NA",{"$f":"AVERAGE(F448:F451)","v":{"$error":"#DIV/0!"}},null,{"$f":"IF(ISERROR((G44-E44)/E44), N/A, (G44-E44)/E44)","v":{"$error":"#NAME?"}}]
[null,null,"Scan MTIFF Job Time (seconds)","7 job types",{"$f":"AVERAGE(E452:E458)","v":{"$error":"#DIV/0!"}},"NA",{"$f":"AVERAGE(F452:F458)","v":{"$error":"#DIV/0!"}},null,{"$f":"IF(ISERROR((G45-E45)/E45), N/A, (G45-E45)/E45)","v":{"$error":"#NAME?"}}]
[null,null,"Scan JPG Job Time (seconds)","3 job types",{"$f":"AVERAGE(E459:E461)","v":{"$error":"#DIV/0!"}},"NA",{"$f":"AVERAGE(F459:F461)","v":{"$error":"#DIV/0!"}},null,{"$f":"IF(ISERROR((G46-E46)/E46), N/A, (G46-E46)/E46)","v":{"$error":"#NAME?"}}]
[null,"Scan to Non server","From Platen - Click to File Displayed (seconds)","3 Jobs",{"$f":"AVERAGE(E463:E465)","v":12.71},"NA",{"$f":"AVERAGE(F463:F465)","v":11.75},null,{"$f":"IF(ISERROR((G47-E47)/E47), N/A, (G47-E47)/E47)","v":-7.5531077891424131E-2}]
[null,null,"From DADF - Click to File Displayed (seconds)","3 Jobs",{"$f":"AVERAGE(E467:E469)","v":24.6},"NA",{"$f":"AVERAGE(F467:F469)","v":24.97},null,{"$f":"IF(ISERROR((G48-E48)/E48), N/A, (G48-E48)/E48)","v":1.504065040650396E-2}]
[null,null,"DADF Speed (PPM)","4 jobs",{"$f":"AVERAGE(E471:E474)","v":49.526293460651594},"NA",{"$f":"AVERAGE(F471:F474)","v":52.944833302634002},null,{"$f":"IF(ISERROR((E49-G49)/E49), N/A, (E49-G49)/E49)","v":-6.9024746313762042E-2}]
[null,null,"From Platen - File Size (Bytes)","4 jobs",{"$f":"AVERAGE(E476:E479)","v":450740.33333333331},"NA",{"$f":"AVERAGE(F476:F479)","v":402102.5},null,{"$f":"IF(ISERROR((G50-E50)/E50), N/A, (G50-E50)/E50)","v":-0.10790654782021573}]
[null,null,"From DADF - File Size (Bytes)","4 jobs",{"$f":"AVERAGE(E481:E484)","v":3968760.3333333335},"NA",{"$f":"AVERAGE(F481:F484)","v":3829694},null,{"$f":"IF(ISERROR((G51-E51)/E51), N/A, (G51-E51)/E51)","v":-3.5040244724612202E-2}]
[null,"Power","Cold Boot (Seconds)","Power Up",{"$f":"E495","v":""},"NA",{"$f":"F495","v":""},null,{"$f":"IF(ISERROR((G52-E52)/E52), N/A, (G52-E52)/E52)","v":{"$error":"#NAME?"}}]
[null,null,"Warm Boot (seconds)","Power up",{"$f":"E496","v":""},"NA",{"$f":"F496","v":""},null,{"$f":"IF(ISERROR((G53-E53)/E53), N/A, (G53-E53)/E53)","v":{"$error":"#NAME?"}}]
[null,null,"Power Down (seconds)","Power down",{"$f":"E501","v":""},"NA",{"$f":"F501","v":""},null,{"$f":"IF(ISERROR((G54-E54)/E54), N/A, (G54-E54)/E54)","v":{"$error":"#NAME?"}}]
[null,null,"Wake up Sleep (seconds)","Exit Sleep mode",{"$f":"E499","v":""},"NA",{"$f":"F499","v":""},null,{"$f":"IF(ISERROR((G55-E55)/E55), N/A, (G55-E55)/E55)","v":{"$error":"#NAME?"}}]
[null,"Complex Print Jobs \n(Default Driver)","Default Resolution FPOT w/ Default Driver (seconds)","7 jobs",{"$f":"E533","v":27.207142857142859},"NA",{"$f":"F533","v":24.638571428571428},null,{"$f":"IF(ISERROR((G56-E56)/E56), N/A, (G56-E56)/E56)","v":-9.4407981097400978E-2}]
[null,null,"Default Resolution 2-N ppm (Default Driver)","7 jobs",14.835084491971703,"NA",18.037581089470045,null,{"$f":"IF(ISERROR((E57-G57)/E57), N/A, (E57-G57)/E57)","v":-0.21587316197837877}]
[null,null,"Default Resolution C-C w/ Default Driver (seconds)","7 jobs",80.498000000000005,"NA",72.414000000000001,null,{"$f":"IF(ISERROR((G58-E58)/E58), N/A, (G58-E58)/E58)","v":-0.10042485527590751}]
[null,null,"Hi Resolution FPOT w/ Default Driver (seconds)","7 jobs",27.191428571428567,"NA",25.621428571428574,null,{"$f":"IF(ISERROR((G59-E59)/E59), N/A, (G59-E59)/E59)","v":-5.7738783230009215E-2}]
[null,null,"Hi Resolution 2-N ppm (Default Driver)","7 jobs",11.58434131213245,"NA",12.028950609464925,null,{"$f":"IF(ISERROR((E60-G60)/E60), N/A, (E60-G60)/E60)","v":-3.8380196625148563E-2}]
[null,null,"Hi Resolution C-C w/ Default Driver (seconds)","7 jobs",93.04,"NA",88.597999999999999,null,{"$f":"IF(ISERROR((G61-E61)/E61), N/A, (G61-E61)/E61)","v":-4.7742906276870237E-2}]
[null,"Marketing\n(Ready mode) ","Color FPOT (Default Driver)","3 readings",5.12,"Enter Spec.",{"$f":"'Mkt FPOT-FCOT'!G14","v":5.1966666666666663},null,{"$f":"IF(ISERROR((G62-E62)/E62), N/A, (G62-E62)/E62)","v":1.4973958333333245E-2}]
[null,null,"Mono FPOT (Default Driver)","3 readings",4.72,"Enter Spec.",{"$f":"'Mkt FPOT-FCOT'!G18","v":4.669999999999999},null,{"$f":"IF(ISERROR((G63-E63)/E63), N/A, (G63-E63)/E63)","v":-1.0593220338983201E-2}]
[null,null,"Color FCOT (Platen)","3 readings",6.47,"Enter Spec.",{"$f":"'Mkt FPOT-FCOT'!M14","v":5.6466666666666674},null,{"$f":"IF(ISERROR((G64-E64)/E64), N/A, (G64-E64)/E64)","v":-0.12725399278722294}]
[null,null,"Mono FCOT (Platen)","3 readings",4.78,"Enter Spec.",{"$f":"'Mkt FPOT-FCOT'!M18","v":4.3866666666666667},null,{"$f":"IF(ISERROR((G65-E65)/E65), N/A, (G65-E65)/E65)","v":-8.2287308228730857E-2}]
[null,null,"Color FCOT (DADF)","3 readings",6.7,"Enter Spec.",{"$f":"'Mkt FPOT-FCOT'!N14","v":6.7366666666666672},null,{"$f":"IF(ISERROR((G66-E66)/E66), N/A, (G66-E66)/E66)","v":5.4726368159204583E-3}]
[null,null,"Mono FCOT (DADF)","3 readings",6.09,"Enter Spec.",{"$f":"'Mkt FPOT-FCOT'!N18","v":6.206666666666667},null,{"$f":"IF(ISERROR((G67-E67)/E67), N/A, (G67-E67)/E67)","v":1.9157088122605442E-2}]
[null,"Marketing \n(Low-Power mode)","Color FPOT (Default Driver)","3 readings",7.42,"Enter Spec.",{"$f":"'Mkt FPOT-FCOT'!G23","v":7.18},null,{"$f":"IF(ISERROR((G68-E68)/E68), N/A, (G68-E68)/E68)","v":-3.2345013477088978E-2}]
[null,null,"Mono FPOT (Default Driver)","3 readings",6.91,"Enter Spec.",{"$f":"'Mkt FPOT-FCOT'!G27","v":7.09},null,{"$f":"IF(ISERROR((G69-E69)/E69), N/A, (G69-E69)/E69)","v":2.6049204052098367E-2}]
[null,null,"Color FCOT (Platen)","3 readings","NA","Enter Spec.",{"$f":"'Mkt FPOT-FCOT'!M23","v":{"$error":"#DIV/0!"}},null,{"$f":"IF(ISERROR((G70-E70)/E70), N/A, (G70-E70)/E70)","v":{"$error":"#NAME?"}}]
[null,null,"Mono FCOT (Platen)","3 readings","NA","Enter Spec.",{"$f":"'Mkt FPOT-FCOT'!M27","v":{"$error":"#DIV/0!"}},null,{"$f":"IF(ISERROR((G71-E71)/E71), N/A, (G71-E71)/E71)","v":{"$error":"#NAME?"}}]
[null,null,"Color FCOT (DADF)","3 readings","NA","Enter Spec.",{"$f":"'Mkt FPOT-FCOT'!N23","v":{"$error":"#DIV/0!"}},null,{"$f":"IF(ISERROR((G72-E72)/E72), N/A, (G72-E72)/E72)","v":{"$error":"#NAME?"}}]
[null,null,"Mono FCOT (DADF)","3 readings","NA","Enter Spec.",{"$f":"'Mkt FPOT-FCOT'!N27","v":{"$error":"#DIV/0!"}},null,{"$f":"IF(ISERROR((G73-E73)/E73), N/A, (G73-E73)/E73)","v":{"$error":"#NAME?"}}]
[null,"Marketing\n(Sleep mode)","Color FPOT (Default Driver)","3 readings",14.8,"Enter Spec.",{"$f":"'Mkt FPOT-FCOT'!G32","v":14.18},null,{"$f":"IF(ISERROR((G74-E74)/E74), N/A, (G74-E74)/E74)","v":-4.1891891891891957E-2}]
[null,null,"Mono FPOT (Default Driver)","3 readings",14.04,"Enter Spec.",{"$f":"'Mkt FPOT-FCOT'!G36","v":13.89},null,{"$f":"IF(ISERROR((G75-E75)/E75), N/A, (G75-E75)/E75)","v":-1.0683760683760583E-2}]
[null,null,"Color FCOT (Platen)","3 readings",null,"Enter Spec.",{"$f":"'Mkt FPOT-FCOT'!M32","v":{"$error":"#DIV/0!"}},null,{"$f":"IF(ISERROR((G76-E76)/E76), N/A, (G76-E76)/E76)","v":{"$error":"#NAME?"}}]
[null,null,"Mono FCOT (Platen)","3 readings",null,"Enter Spec.",{"$f":"'Mkt FPOT-FCOT'!M36","v":{"$error":"#DIV/0!"}},null,{"$f":"IF(ISERROR((G77-E77)/E77), N/A, (G77-E77)/E77)","v":{"$error":"#NAME?"}}]
[null,null,"Color FCOT (DADF)","3 readings",null,"Enter Spec.",{"$f":"'Mkt FPOT-FCOT'!N32","v":{"$error":"#DIV/0!"}},null,{"$f":"IF(ISERROR((G78-E78)/E78), N/A, (G78-E78)/E78)","v":{"$error":"#NAME?"}}]
[null,null,"Mono FCOT (DADF)","3 readings",null,"Enter Spec.",{"$f":"'Mkt FPOT-FCOT'!N36","v":{"$error":"#DIV/0!"}},null,{"$f":"IF(ISERROR((G79-E79)/E79), N/A, (G79-E79)/E79)","v":{"$error":"#NAME?"}}]
[null,"ISO - Letter","Color Simplex Print ESAT (ipm)\naka: 2N PPM","3 jobs N times",null,{"$f":"'Test Info'!$I$6","v":0},{"$f":"'ISO Summary Report - A'!C8","v":{"$error":"#VALUE!"}},null,{"$f":"IF(ISERROR((E80-G80)/E80), N/A, (E80-G80)/E80)","v":{"$error":"#NAME?"}}]
[null,null,"Color Duplex Print ESAT (ipm)","3 jobs N times",null,"Enter Spec.",{"$f":"'ISO Summary Report - A'!C9","v":{"$error":"#VALUE!"}},null,{"$f":"IF(ISERROR((E81-G81)/E81), N/A, (E81-G81)/E81)","v":{"$error":"#NAME?"}}]
[null,null,"Mono Simplex Print ESAT (ipm)\naka: 2N PPM","3 jobs N times",null,{"$f":"'Test Info'!$J$6","v":0},{"$f":"'ISO Summary Report - A'!C10","v":{"$error":"#VALUE!"}},null,{"$f":"IF(ISERROR((E82-G82)/E82), N/A, (E82-G82)/E82)","v":{"$error":"#NAME?"}}]
[null,null,"Mono Duplex Print ESAT (ipm)","3 jobs N times",null,"Enter Spec.",{"$f":"'ISO Summary Report - A'!C11","v":{"$error":"#VALUE!"}},null,{"$f":"IF(ISERROR((E83-G83)/E83), N/A, (E83-G83)/E83)","v":{"$error":"#NAME?"}}]
[null,null,"Color Simplex Copy ESAT (ipm)\naka: 2N PPM","1 job N times",null,{"$f":"'Test Info'!$I$6","v":0},{"$f":"'ISO Summary Report - A'!C59","v":{"$error":"#DIV/0!"}},null,{"$f":"IF(ISERROR((E84-G84)/E84), N/A, (E84-G84)/E84)","v":{"$error":"#NAME?"}}]
[null,null,"Color 1:2 Copy ESAT (ipm)","1 job N times",null,"Enter Spec.",{"$f":"'ISO Summary Report - A'!C60","v":{"$error":"#DIV/0!"}},null,{"$f":"IF(ISERROR((E85-G85)/E85), N/A, (E85-G85)/E85)","v":{"$error":"#NAME?"}}]
[null,null,"Color 2:2 Copy ESAT (ipm)","1 job N times",null,"Enter Spec.",{"$f":"'ISO Summary Report - A'!C61","v":{"$error":"#DIV/0!"}},null,{"$f":"IF(ISERROR((E86-G86)/E86), N/A, (E86-G86)/E86)","v":{"$error":"#NAME?"}}]
[null,null,"Mono Simplex Copy ESAT (ipm)\naka: 2N PPM","1 job N times",null,{"$f":"'Test Info'!$J$6","v":0},{"$f":"'ISO Summary Report - A'!C62","v":{"$error":"#DIV/0!"}},null,{"$f":"IF(ISERROR((E87-G87)/E87), N/A, (E87-G87)/E87)","v":{"$error":"#NAME?"}}]
[null,null,"Mono 1:2 Copy ESAT (ipm)","1 job N times",null,"Enter Spec.",{"$f":"'ISO Summary Report - A'!C63","v":{"$error":"#DIV/0!"}},null,{"$f":"IF(ISERROR((E88-G88)/E88), N/A, (E88-G88)/E88)","v":{"$error":"#NAME?"}}]
[null,null,"Mono 2:2 Copy ESAT (ipm)","1 job N times",null,"Enter Spec.",{"$f":"'ISO Summary Report - A'!C64","v":{"$error":"#DIV/0!"}},null,{"$f":"IF(ISERROR((E89-G89)/E89), N/A, (E89-G89)/E89)","v":{"$error":"#NAME?"}}]
[null,"ISO - A4","Color Simplex Print ESAT (ipm)\naka: 2N PPM","3 jobs N times",null,"Enter Spec.",{"$f":"'ISO Summary Report - A4'!C8","v":{"$error":"#VALUE!"}},null,{"$f":"IF(ISERROR((E90-G90)/E90), N/A, (E90-G90)/E90)","v":{"$error":"#NAME?"}}]
[null,null,"Color Duplex Print ESAT (ipm)","3 jobs N times",null,"Enter Spec.",{"$f":"'ISO Summary Report - A4'!C9","v":{"$error":"#VALUE!"}},null,{"$f":"IF(ISERROR((E91-G91)/E91), N/A, (E91-G91)/E91)","v":{"$error":"#NAME?"}}]
[null,null,"Mono Simplex Print ESAT (ipm)\naka: 2N PPM","3 jobs N times",null,"Enter Spec.",{"$f":"'ISO Summary Report - A4'!C10","v":{"$error":"#VALUE!"}},null,{"$f":"IF(ISERROR((E92-G92)/E92), N/A, (E92-G92)/E92)","v":{"$error":"#NAME?"}}]
[null,null,"Mono Duplex Print ESAT (ipm)","3 jobs N times",null,"Enter Spec.",{"$f":"'ISO Summary Report - A4'!C11","v":{"$error":"#VALUE!"}},null,{"$f":"IF(ISERROR((E93-G93)/E93), N/A, (E93-G93)/E93)","v":{"$error":"#NAME?"}}]
[null,null,"Color Simplex Copy ESAT (ipm)\naka: 2N PPM","1 job N times",null,"Enter Spec.",{"$f":"'ISO Summary Report - A4'!C59","v":{"$error":"#DIV/0!"}},null,{"$f":"IF(ISERROR((E94-G94)/E94), N/A, (E94-G94)/E94)","v":{"$error":"#NAME?"}}]
[null,null,"Color 1:2 Copy ESAT (ipm)","1 job N times",null,"Enter Spec.",{"$f":"'ISO Summary Report - A4'!C60","v":{"$error":"#DIV/0!"}},null,{"$f":"IF(ISERROR((E95-G95)/E95), N/A, (E95-G95)/E95)","v":{"$error":"#NAME?"}}]
[null,null,"Color 2:2 Copy ESAT (ipm)","1 job N times",null,"Enter Spec.",{"$f":"'ISO Summary Report - A4'!C61","v":{"$error":"#DIV/0!"}},null,{"$f":"IF(ISERROR((E96-G96)/E96), N/A, (E96-G96)/E96)","v":{"$error":"#NAME?"}}]
[null,null,"Mono Simplex Copy ESAT (ipm)\naka: 2N PPM","1 job N times",null,"Enter Spec.",{"$f":"'ISO Summary Report - A4'!C62","v":{"$error":"#DIV/0!"}},null,{"$f":"IF(ISERROR((E97-G97)/E97), N/A, (E97-G97)/E97)","v":{"$error":"#NAME?"}}]
[null,null,"Mono 1:2 Copy ESAT (ipm)","1 job N times",null,"Enter Spec.",{"$f":"'ISO Summary Report - A4'!C63","v":{"$error":"#DIV/0!"}},null,{"$f":"IF(ISERROR((E98-G98)/E98), N/A, (E98-G98)/E98)","v":{"$error":"#NAME?"}}]
[null,null,"Mono 2:2 Copy ESAT (ipm)","1 job N times",null,"Enter Spec.",{"$f":"'ISO Summary Report - A4'!C64","v":{"$error":"#DIV/0!"}},null,{"$f":"IF(ISERROR((E99-G99)/E99), N/A, (E99-G99)/E99)","v":{"$error":"#NAME?"}}]
[null,"Finisher 1","Job Stream % Rated Speed","60 jobs",{"$f":"AVERAGE(E308:E311)","v":{"$error":"#DIV/0!"}},"NA",{"$f":"AVERAGE(F308:F311)","v":{"$error":"#DIV/0!"}},null,{"$f":"IF(ISERROR((E100-G100)/E100), N/A, (E100-G100)/E100)","v":{"$error":"#NAME?"}}]
[null,null,"FPOT (seconds)","16 jobs",{"$f":"AVERAGE(E264:E267)","v":{"$error":"#DIV/0!"}},"NA",{"$f":"AVERAGE(F264:F267)","v":{"$error":"#DIV/0!"}},null,{"$f":"IF(ISERROR((G101-E101)/E101), N/A, (G101-E101)/E101)","v":{"$error":"#NAME?"}}]
[null,null,"Print 2N (% Rated Speed)","16 jobs",{"$f":"AVERAGE(E274:E277)","v":{"$error":"#DIV/0!"}},"NA",{"$f":"AVERAGE(F274:F277)","v":{"$error":"#DIV/0!"}},null,{"$f":"IF(ISERROR((E102-G102)/E102), N/A, (E102-G102)/E102)","v":{"$error":"#NAME?"}}]
[null,null,"FCOT (seconds)","24 jobs",{"$f":"AVERAGE(E317:E320)","v":{"$error":"#DIV/0!"}},"NA",{"$f":"AVERAGE(F317:F320)","v":{"$error":"#DIV/0!"}},null,{"$f":"IF(ISERROR((G103-E103)/E103), N/A, (G103-E103)/E103)","v":{"$error":"#NAME?"}}]
[null,"Finisher 2","Job Stream % Rated Speed","60 jobs",{"$f":"AVERAGE(E312:E315)","v":{"$error":"#DIV/0!"}},"NA",{"$f":"AVERAGE(F312:F315)","v":{"$error":"#DIV/0!"}},null,{"$f":"IF(ISERROR((E104-G104)/E104), N/A, (E104-G104)/E104)","v":{"$error":"#NAME?"}}]
[null,null,"FPOT (seconds)","16 jobs",{"$f":"AVERAGE(E269:E272)","v":{"$error":"#DIV/0!"}},"NA",{"$f":"AVERAGE(F269:F272)","v":{"$error":"#DIV/0!"}},null,{"$f":"IF(ISERROR((G105-E105)/E105), N/A, (G105-E105)/E105)","v":{"$error":"#NAME?"}}]
[null,null,"2N (% rated Speed)","16 jobs",{"$f":"AVERAGE(E279:E282)","v":{"$error":"#DIV/0!"}},"NA",{"$f":"AVERAGE(F279:F282)","v":{"$error":"#DIV/0!"}},null,{"$f":"IF(ISERROR((E106-G106)/E106), N/A, (E106-G106)/E106)","v":{"$error":"#NAME?"}}]
[null,null,"FCOT (seconds)","24 jobs",{"$f":"AVERAGE(E322:E325)","v":{"$error":"#DIV/0!"}},"NA",{"$f":"AVERAGE(F322:F325)","v":{"$error":"#DIV/0!"}},null,{"$f":"IF(ISERROR((G107-E107)/E107), N/A, (G107-E107)/E107)","v":{"$error":"#NAME?"}}]
[null,"XPS Driver","FPOT (seconds)","10 jobs",{"$f":"XPS!R13","v":""},"NA",{"$f":"XPS!F13","v":""},null,{"$f":"IF(ISERROR((G108-E108)/E108), N/A, (G108-E108)/E108)","v":{"$error":"#NAME?"}}]
[null,null,"2-N (% Rated Speed)","10 jobs",{"$f":"XPS!T13","v":""},"NA",{"$f":"XPS!I13","v":""},null,{"$f":"IF(ISERROR((E109-G109)/E109), N/A, (E109-G109)/E109)","v":{"$error":"#NAME?"}}]
[null,"Pre-BLI","Buyers Laboratory Copy Productivity/Efficiency Ratings: Auto Color","1:1 Simplex mode",{"$f":"preBLI!E15","v":{"$error":"#DIV/0!"}},"Enter Spec.",{"$f":"preBLI!H15","v":{"$error":"#DIV/0!"}},null,{"$f":"G110-E110","v":{"$error":"#DIV/0!"}}]
[null,null,null,"1:2 Duplex mode",{"$f":"preBLI!E21","v":{"$error":"#DIV/0!"}},"Enter Spec.",{"$f":"preBLI!H21","v":{"$error":"#DIV/0!"}},null,{"$f":"G111-E111","v":{"$error":"#DIV/0!"}}]
[null,null,null,"2:2 Duplex Mode",{"$f":"preBLI!E27","v":{"$error":"#DIV/0!"}},"Enter Spec.",{"$f":"preBLI!H27","v":{"$error":"#DIV/0!"}},null,{"$f":"G112-E113","v":{"$error":"#DIV/0!"}}]
[null,null,"Buyers Laboratory Copy Productivity/Efficiency Ratings: Black","1:1 Simplex mode",{"$f":"preBLI!E38","v":{"$error":"#DIV/0!"}},"Enter Spec.",{"$f":"preBLI!H38","v":{"$error":"#DIV/0!"}},null,{"$error":"#DIV/0!"}]
[null,null,null,"1:2 Duplex mode",{"$f":"preBLI!E44","v":{"$error":"#DIV/0!"}},"Enter Spec.",{"$f":"preBLI!H44","v":{"$error":"#DIV/0!"}},null,{"$error":"#DIV/0!"}]
[null,null,null,"2:2 Duplex Mode",{"$f":"preBLI!E50","v":{"$error":"#DIV/0!"}},"Enter Spec.",{"$f":"preBLI!H50","v":{"$error":"#DIV/0!"}},null,{"$error":"#DIV/0!"}]
[null,null,"Buyers Laboratory Print Productivity/Efficiency Ratings: Auto Color","1:1 Simplex mode",{"$f":"preBLI!E62","v":{"$error":"#DIV/0!"}},"Enter Spec.",{"$f":"preBLI!H62","v":{"$error":"#DIV/0!"}},null,{"$error":"#DIV/0!"}]
[null,null,null,"1:2 Duplex mode",{"$f":"preBLI!E68","v":{"$error":"#DIV/0!"}},"Enter Spec.",{"$f":"preBLI!H68","v":{"$error":"#DIV/0!"}},null,{"$error":"#DIV/0!"}]
[null,null,"Buyers Laboratory Print Productivity/Efficiency Ratings: Black","1:1 Simplex mode",{"$f":"preBLI!E80","v":{"$error":"#DIV/0!"}},"Enter Spec.",{"$f":"preBLI!H80","v":{"$error":"#DIV/0!"}},null,{"$error":"#DIV/0!"}]
[null,null,null,"1:2 Duplex mode",{"$f":"preBLI!E86","v":{"$error":"#DIV/0!"}},"Enter Spec.",{"$f":"preBLI!H86","v":{"$error":"#DIV/0!"}},null,{"$f":"G119-#REF!","v":{"$error":"#DIV/0!"}}]
[null,"Concurrency - Print","C-C print time of Sisters.cdr 12 pgs","Solo Time in Seconds",{"$f":"E486","v":""},"NA",{"$f":"F486","v":""}]
[null,null,"C-C print time while copying America 15 pgs","Added Delta in Percent","","NA",""]
[null,null,"C-C print time while scanning Pscan10 10pgs","Added Delta in Percent",{"$f":"E488","v":""},"NA",""]
[null,"Concurrency - Scan","C-C scan time for PScan10 10 pgs","Solo Time in Seconds","","NA",""]
[null,null,"C-C scan time while copying America 15 pgs","Added Delta in Percent","","NA",""]
[null,null,"C-C scan time while printing Sisters.cdr 12 pgs","Added Delta in Percent","","NA",""]
[null,"Concurrency - Copy","C-C copy time of America 15 pgs","Solo Time in Seconds","","NA",""]
[null,null,"C-C copy time while printing Sisters.cdr 12 pgs","Added Delta in Percent","","NA",""]
[null,"UI Response","Feature Access First time after reboot (seconds)","8 jobs",{"$f":"E540","v":""},"NA",{"$f":"F540","v":""},null,{"$f":"IF(ISERROR((G128-E128)/E128), N/A, (G128-E128)/E128)","v":{"$error":"#NAME?"}}]
[null,null,"Feature Access from Ready (seconds)","8 jobs",{"$f":"E541","v":""},"NA",{"$f":"F541","v":""},null,{"$f":"IF(ISERROR((G129-E129)/E129), N/A, (G129-E129)/E129)","v":{"$error":"#NAME?"}}]
[null,null,"Feature Access While printing (seconds)","8 jobs",{"$f":"E542","v":""},"NA",{"$f":"F542","v":""},null,{"$f":"IF(ISERROR((G130-E130)/E130), N/A, (G130-E130)/E130)","v":{"$error":"#NAME?"}}]
[null,null,"Button (seconds)","18 jobs",{"$f":"AVERAGE(E543:E548)","v":{"$error":"#DIV/0!"}},"NA",{"$f":"AVERAGE(F543:F548)","v":{"$error":"#DIV/0!"}},null,{"$f":"IF(ISERROR((G131-E131)/E131), N/A, (G131-E131)/E131)","v":{"$error":"#NAME?"}}]
[null,null,"Pop Up (seconds)","4 jobs",{"$f":"E549","v":""},"NA",{"$f":"F549","v":""},null,{"$f":"IF(ISERROR((G132-E132)/E132), N/A, (G132-E132)/E132)","v":{"$error":"#NAME?"}}]
[null,null,"Keyboard (seconds)","1 job",{"$f":"E551","v":0},"NA",{"$f":"F551","v":""},null,{"$f":"IF(ISERROR((G133-E133)/E133), N/A, (G133-E133)/E133)","v":{"$error":"#NAME?"}}]
[null,null,"Machine Status (seconds)","3 jobs",{"$f":"E553","v":0},"NA",{"$f":"F553","v":""},null,{"$f":"IF(ISERROR((G134-E134)/E134), N/A, (G134-E134)/E134)","v":{"$error":"#NAME?"}}]
[null,"WIFI Print","FPOT Wireless vs Wired (%)","6 jobs",{"$f":"IF(ISERROR(WIFI!Z16/WIFI!Z17*100),\"\",WIFI!Z16/WIFI!Z17*100)","v":""},"NA",{"$f":"IF(ISERROR(WIFI!J16/WIFI!J17*100),\"\",WIFI!J16/WIFI!J17*100)","v":""},null,{"$f":"IF(ISERROR((E135-G135)/E135), N/A, (E135-G135)/E135)","v":{"$error":"#NAME?"}}]
[null,null,"C-C print time Wireless vs Wired (%)","6 jobs",{"$f":"IF(ISERROR(WIFI!AA16/WIFI!AA17*100),\"\",WIFI!AA16/WIFI!AA17*100)","v":""},"NA",{"$f":"IF(ISERROR(WIFI!K16/WIFI!K17*100),\"\",WIFI!K16/WIFI!K17*100)","v":""},null,{"$f":"IF(ISERROR((E136-G136)/E136), N/A, (E136-G136)/E136)","v":{"$error":"#NAME?"}}]
[null,"WIFI Scan","Scan C-C Wireless vs Wired (%)","5 jobs",{"$f":"IF(ISERROR(WIFI!X34/WIFI!X35*100),\"\",WIFI!X34/WIFI!X35*100)","v":""},"NA",{"$f":"IF(ISERROR(WIFI!H34/WIFI!H35*100),\"\",WIFI!H34/WIFI!H35*100)","v":""},null,{"$f":"IF(ISERROR((E137-G137)/E137), N/A, (E137-G137)/E137)","v":{"$error":"#NAME?"}}]
[]
[]
[]
[]
[null,null,null,null,"Benchmark Data ","Test Device Data"]
["Complete Test Results",null,null,null,"Enter Product",{"$f":"G7","v":"Enter Product information here"}]
[null,null,null,{"$f":"D8","v":"S/w release"},{"$f":"E8","v":{"$error":"#REF!"}},{"$f":"G8","v":"0.123.0"},null,"Test Device vs. Benchmark","CQ Number"]
["Jobs to Use","# Jobs","Print to Default Tray FPOT No Banner","Measured in","Benchmark",{"$f":"$G$8","v":"0.123.0"},null,"Delta"]
["FFDS Office Color",11,"FPOT PS- Office Color","Seconds",{"$f":"'Print to Default Tray Full'!T25","v":""},{"$f":"'Print to Default Tray Full'!F25","v":""},null,{"$f":"IF(ISERROR((F146-E146)/E146), N/A, (F146-E146)/E146)","v":{"$error":"#NAME?"}}]
["FFDS Office Mono",7,"FPOT PS- Office Mono","Seconds",{"$f":"'Print to Default Tray Full'!T35","v":""},{"$f":"'Print to Default Tray Full'!F35","v":""},null,{"$f":"IF(ISERROR((F147-E147)/E147), N/A, (F147-E147)/E147)","v":{"$error":"#NAME?"}}]
["FFDS Graphic",11,"FPOT PS- Graphic","Seconds",{"$f":"'Print to Default Tray Full'!T49","v":""},{"$f":"'Print to Default Tray Full'!F49","v":""},null,{"$f":"IF(ISERROR((F148-E148)/E148), N/A, (F148-E148)/E148)","v":{"$error":"#NAME?"}}]
["FFDS Stress",4,"FPOT PS- Stress","Seconds",{"$f":"'Print to Default Tray Full'!T56","v":""},{"$f":"'Print to Default Tray Full'!F56","v":""},null,{"$f":"IF(ISERROR((F149-E149)/E149), N/A, (F149-E149)/E149)","v":{"$error":"#NAME?"}}]
["FFDS Office Color",11,"FPOT PCL6- Office Color","Seconds",{"$f":"'Print to Default Tray Full'!T72","v":""},{"$f":"'Print to Default Tray Full'!F72","v":""},null,{"$f":"IF(ISERROR((F150-E150)/E150), N/A, (F150-E150)/E150)","v":{"$error":"#NAME?"}}]
["FFDS Office Mono",7,"FPOT PCL6- Office Mono","Seconds",{"$f":"'Print to Default Tray Full'!T82","v":""},{"$f":"'Print to Default Tray Full'!F82","v":""},null,{"$f":"IF(ISERROR((F151-E151)/E151), N/A, (F151-E151)/E151)","v":{"$error":"#NAME?"}}]
["FFDS Graphic",11,"FPOT PCL6- Graphic","Seconds",{"$f":"'Print to Default Tray Full'!T96","v":""},{"$f":"'Print to Default Tray Full'!F96","v":""},null,{"$f":"IF(ISERROR((F152-E152)/E152), N/A, (F152-E152)/E152)","v":{"$error":"#NAME?"}}]
["FFDS Stress",4,"FPOT PCL6- Stress","Seconds",{"$f":"'Print to Default Tray Full'!T103","v":""},{"$f":"'Print to Default Tray Full'!F103","v":""},null,{"$f":"IF(ISERROR((F153-E153)/E153), N/A, (F153-E153)/E153)","v":{"$error":"#NAME?"}}]
["Jobs to Use","# Jobs","Print to Default Tray FPOT with Banner","Measured in","Benchmark ",{"$f":"$G$8","v":"0.123.0"},null,"Delta"]
["FFDS Office Color (Subset)",4,"FPOT PS- Office Color","Seconds",{"$f":"'Print to Default Tray Full'!T114","v":""},{"$f":"'Print to Default Tray Full'!F114","v":""},null,{"$f":"IF(ISERROR((F155-E155)/E155), N/A, (F155-E155)/E155)","v":{"$error":"#NAME?"}}]
["FFDS Office Mono (Subset)",4,"FPOT PS- Office Mono","Seconds",{"$f":"'Print to Default Tray Full'!T121","v":""},{"$f":"'Print to Default Tray Full'!F121","v":""},null,{"$f":"IF(ISERROR((F156-E156)/E156), N/A, (F156-E156)/E156)","v":{"$error":"#NAME?"}}]
["FFDS Graphic (Subset)",4,"FPOT PS- Graphic","Seconds",{"$f":"'Print to Default Tray Full'!T128","v":""},{"$f":"'Print to Default Tray Full'!F128","v":""},null,{"$f":"IF(ISERROR((F157-E157)/E157), N/A, (F157-E157)/E157)","v":{"$error":"#NAME?"}}]
["FFDS Stress",4,"FPOT PS- Stress","Seconds",{"$f":"'Print to Default Tray Full'!T135","v":""},{"$f":"'Print to Default Tray Full'!F135","v":""},null,{"$f":"IF(ISERROR((F158-E158)/E158), N/A, (F158-E158)/E158)","v":{"$error":"#NAME?"}}]
["FFDS Office Color (Subset)",4,"FPOT PCL6- Office Color","Seconds",{"$f":"'Print to Default Tray Full'!T144","v":""},{"$f":"'Print to Default Tray Full'!F144","v":""},null,{"$f":"IF(ISERROR((F159-E159)/E159), N/A, (F159-E159)/E159)","v":{"$error":"#NAME?"}}]
["FFDS Office Mono (Subset)",4,"FPOT PCL6- Office Mono","Seconds",{"$f":"'Print to Default Tray Full'!T151","v":""},{"$f":"'Print to Default Tray Full'!F151","v":""},null,{"$f":"IF(ISERROR((F160-E160)/E160), N/A, (F160-E160)/E160)","v":{"$error":"#NAME?"}}]
["FFDS Graphic (Subset)",4,"FPOT PCL6- Graphic","Seconds",{"$f":"'Print to Default Tray Full'!T159","v":""},{"$f":"'Print to Default Tray Full'!F159","v":""},null,{"$f":"IF(ISERROR((F161-E161)/E161), N/A, (F161-E161)/E161)","v":{"$error":"#NAME?"}}]
["FFDS Stress",4,"FPOT PCL6- Stress","Seconds",{"$f":"'Print to Default Tray Full'!T166","v":""},{"$f":"'Print to Default Tray Full'!F166","v":""},null,{"$f":"IF(ISERROR((F162-E162)/E162), N/A, (F162-E162)/E162)","v":{"$error":"#NAME?"}}]
["Jobs to Use","# Jobs","Print to Default Tray 2-N No Banner","Measured in","Benchmark ",{"$f":"$G$8","v":"0.123.0"},null,"Delta"]
["FFDS Office Color",11,"2-N PS- Office Color","% Rated Speed",{"$f":"'Print to Default Tray Full'!W25","v":""},{"$f":"'Print to Default Tray Full'!I25","v":""},null,{"$f":"IF(ISERROR((E164-F164)/E164), N/A, (E164-F164)/E164)","v":{"$error":"#NAME?"}}]
["FFDS Office Mono",7,"2-N PS- Office Mono","% Rated Speed",{"$f":"'Print to Default Tray Full'!W35","v":""},{"$f":"'Print to Default Tray Full'!I35","v":""},null,{"$f":"IF(ISERROR((E165-F165)/E165), N/A, (E165-F165)/E165)","v":{"$error":"#NAME?"}}]
["FFDS Graphic",11,"2-N PS- Graphic","% Rated Speed",{"$f":"'Print to Default Tray Full'!W49","v":""},{"$f":"'Print to Default Tray Full'!I49","v":""},null,{"$f":"IF(ISERROR((E166-F166)/E166), N/A, (E166-F166)/E166)","v":{"$error":"#NAME?"}}]
["FFDS Stress",4,"2-N PS- Stress","% Rated Speed",{"$f":"'Print to Default Tray Full'!W56","v":""},{"$f":"'Print to Default Tray Full'!I56","v":""},null,{"$f":"IF(ISERROR((E167-F167)/E167), N/A, (E167-F167)/E167)","v":{"$error":"#NAME?"}}]
["FFDS Office Color",11,"2-N PCL6- Office Color","% Rated Speed",{"$f":"'Print to Default Tray Full'!W72","v":""},{"$f":"'Print to Default Tray Full'!I72","v":""},null,{"$f":"IF(ISERROR((E168-F168)/E168), N/A, (E168-F168)/E168)","v":{"$error":"#NAME?"}}]
["FFDS Office Mono",7,"2-N PCL6- Office Mono","% Rated Speed",{"$f":"'Print to Default Tray Full'!W82","v":""},{"$f":"'Print to Default Tray Full'!I82","v":""},null,{"$f":"IF(ISERROR((E169-F169)/E169), N/A, (E169-F169)/E169)","v":{"$error":"#NAME?"}}]
["FFDS Graphic",11,"2-N PCL6- Graphic","% Rated Speed",{"$f":"'Print to Default Tray Full'!W96","v":""},{"$f":"'Print to Default Tray Full'!I96","v":""},null,{"$f":"IF(ISERROR((E170-F170)/E170), N/A, (E170-F170)/E170)","v":{"$error":"#NAME?"}}]
["FFDS Stress",4,"2-N PCL6- Stress","% Rated Speed",{"$f":"'Print to Default Tray Full'!W103","v":""},{"$f":"'Print to Default Tray Full'!I103","v":""},null,{"$f":"IF(ISERROR((E171-F171)/E171), N/A, (E171-F171)/E171)","v":{"$error":"#NAME?"}}]
["Jobs to Use","# Jobs","Print to default tray 2-N with banner","Measured in","Benchmark ",{"$f":"$G$8","v":"0.123.0"},null,"Delta"]
["FFDS Office Color (Subset)",4,"2-N PS- Office Color","% Rated Speed",{"$f":"'Print to Default Tray Full'!W114","v":""},{"$f":"'Print to Default Tray Full'!I114","v":""},null,{"$f":"IF(ISERROR((E173-F173)/E173), N/A, (E173-F173)/E173)","v":{"$error":"#NAME?"}}]
["FFDS Office Mono (Subset)",4,"2-N PS- Office Mono","% Rated Speed",{"$f":"'Print to Default Tray Full'!W121","v":""},{"$f":"'Print to Default Tray Full'!I121","v":""},null,{"$f":"IF(ISERROR((E174-F174)/E174), N/A, (E174-F174)/E174)","v":{"$error":"#NAME?"}}]
["FFDS Graphic (Subset)",4,"2-N PS- Graphic","% Rated Speed",{"$f":"'Print to Default Tray Full'!W128","v":""},{"$f":"'Print to Default Tray Full'!I128","v":""},null,{"$f":"IF(ISERROR((E175-F175)/E175), N/A, (E175-F175)/E175)","v":{"$error":"#NAME?"}}]
["FFDS Stress",4,"2-N PS- Stress","% Rated Speed",{"$f":"'Print to Default Tray Full'!W135","v":""},{"$f":"'Print to Default Tray Full'!I135","v":""},null,{"$f":"IF(ISERROR((E176-F176)/E176), N/A, (E176-F176)/E176)","v":{"$error":"#NAME?"}}]
["FFDS Office Color (Subset)",4,"2-N PCL6- Office Color","% Rated Speed",{"$f":"'Print to Default Tray Full'!W144","v":""},{"$f":"'Print to Default Tray Full'!I144","v":""},null,{"$f":"IF(ISERROR((E177-F177)/E177), N/A, (E177-F177)/E177)","v":{"$error":"#NAME?"}}]
["FFDS Office Mono (Subset)",4,"2-N PCL6- Office Mono","% Rated Speed",{"$f":"'Print to Default Tray Full'!W151","v":""},{"$f":"'Print to Default Tray Full'!I151","v":""},null,{"$f":"IF(ISERROR((E178-F178)/E178), N/A, (E178-F178)/E178)","v":{"$error":"#NAME?"}}]
["FFDS Graphic (Subset)",4,"2-N PCL6- Graphic","% Rated Speed",{"$f":"'Print to Default Tray Full'!W159","v":""},{"$f":"'Print to Default Tray Full'!I159","v":""},null,{"$f":"IF(ISERROR((E179-F179)/E179), N/A, (E179-F179)/E179)","v":{"$error":"#NAME?"}}]
["FFDS Stress",4,"2-N PCL6- Stress","% Rated Speed",{"$f":"'Print to Default Tray Full'!W166","v":""},{"$f":"'Print to Default Tray Full'!I166","v":""},null,{"$f":"IF(ISERROR((E180-F180)/E180), N/A, (E180-F180)/E180)","v":{"$error":"#NAME?"}}]
["Jobs to Use","# Jobs","Print to Default Tray C-C No Banner","Measured in","Benchmark ",{"$f":"$G$8","v":"0.123.0"},null,"Delta"]
["FFDS Office Color",11,"C-C PS- Office Color","% Rated Speed",{"$f":"'Print to Default Tray Full'!X25","v":""},{"$f":"'Print to Default Tray Full'!J25","v":""},null,{"$f":"IF(ISERROR((E182-F182)/E182), N/A, (E182-F182)/E182)","v":{"$error":"#NAME?"}}]
["FFDS Office Mono",7,"C-C PS- Office Mono","% Rated Speed",{"$f":"'Print to Default Tray Full'!X35","v":""},{"$f":"'Print to Default Tray Full'!J35","v":""},null,{"$f":"IF(ISERROR((E183-F183)/E183), N/A, (E183-F183)/E183)","v":{"$error":"#NAME?"}}]
["FFDS Graphic",11,"C-C PS- Graphic","% Rated Speed",{"$f":"'Print to Default Tray Full'!X49","v":""},{"$f":"'Print to Default Tray Full'!J49","v":""},null,{"$f":"IF(ISERROR((E184-F184)/E184), N/A, (E184-F184)/E184)","v":{"$error":"#NAME?"}}]
["FFDS Stress",4,"C-C PS- Stress","% Rated Speed",{"$f":"'Print to Default Tray Full'!X56","v":""},{"$f":"'Print to Default Tray Full'!J56","v":""},null,{"$f":"IF(ISERROR((E185-F185)/E185), N/A, (E185-F185)/E185)","v":{"$error":"#NAME?"}}]
["FFDS Office Color",11,"C-C PCL6- Office Color","% Rated Speed",{"$f":"'Print to Default Tray Full'!X72","v":""},{"$f":"'Print to Default Tray Full'!J72","v":""},null,{"$f":"IF(ISERROR((E186-F186)/E186), N/A, (E186-F186)/E186)","v":{"$error":"#NAME?"}}]
["FFDS Office Mono",7,"C-C PCL6- Office Mono","% Rated Speed",{"$f":"'Print to Default Tray Full'!X82","v":""},{"$f":"'Print to Default Tray Full'!J82","v":""},null,{"$f":"IF(ISERROR((E187-F187)/E187), N/A, (E187-F187)/E187)","v":{"$error":"#NAME?"}}]
["FFDS Graphic",11,"C-C PCL6- Graphic","% Rated Speed",{"$f":"'Print to Default Tray Full'!X96","v":""},{"$f":"'Print to Default Tray Full'!J96","v":""},null,{"$f":"IF(ISERROR((E188-F188)/E188), N/A, (E188-F188)/E188)","v":{"$error":"#NAME?"}}]
["FFDS Stress",4,"C-C PCL6- Stress","% Rated Speed",{"$f":"'Print to Default Tray Full'!X103","v":""},{"$f":"'Print to Default Tray Full'!J103","v":""},null,{"$f":"IF(ISERROR((E189-F189)/E189), N/A, (E189-F189)/E189)","v":{"$error":"#NAME?"}}]
["Jobs to Use","# Jobs","Print to Default Tray C-C with Banner","Measured in","Benchmark ",{"$f":"$G$8","v":"0.123.0"},null,"Delta"]
["FFDS Office Color (Subset)",4,"C-C PS- Office Color","% Rated Speed",{"$f":"'Print to Default Tray Full'!X114","v":""},{"$f":"'Print to Default Tray Full'!J114","v":""},null,{"$f":"IF(ISERROR((E191-F191)/E191), N/A, (E191-F191)/E191)","v":{"$error":"#NAME?"}}]
["FFDS Office Mono (Subset)",4,"C-C PS- Office Mono","% Rated Speed",{"$f":"'Print to Default Tray Full'!X121","v":""},{"$f":"'Print to Default Tray Full'!J121","v":""},null,{"$f":"IF(ISERROR((E192-F192)/E192), N/A, (E192-F192)/E192)","v":{"$error":"#NAME?"}}]
["FFDS Graphic (Subset)",4,"C-C PS- Graphic","% Rated Speed",{"$f":"'Print to Default Tray Full'!X128","v":""},{"$f":"'Print to Default Tray Full'!J128","v":""},null,{"$f":"IF(ISERROR((E193-F193)/E193), N/A, (E193-F193)/E193)","v":{"$error":"#NAME?"}}]
["FFDS Stress",4,"C-C PS- Stress","% Rated Speed",{"$f":"'Print to Default Tray Full'!X135","v":""},{"$f":"'Print to Default Tray Full'!J135","v":""},null,{"$f":"IF(ISERROR((E194-F194)/E194), N/A, (E194-F194)/E194)","v":{"$error":"#NAME?"}}]
["FFDS Office Color (Subset)",4,"C-C PCL6- Office Color","% Rated Speed",{"$f":"'Print to Default Tray Full'!X144","v":""},{"$f":"'Print to Default Tray Full'!J144","v":""},null,{"$f":"IF(ISERROR((E195-F195)/E195), N/A, (E195-F195)/E195)","v":{"$error":"#NAME?"}}]
["FFDS Office Mono (Subset)",4,"C-C PCL6- Office Mono","% Rated Speed",{"$f":"'Print to Default Tray Full'!X151","v":""},{"$f":"'Print to Default Tray Full'!J151","v":""},null,{"$f":"IF(ISERROR((E196-F196)/E196), N/A, (E196-F196)/E196)","v":{"$error":"#NAME?"}}]
["FFDS Graphic (Subset)",4,"C-C PCL6- Graphic","% Rated Speed",{"$f":"'Print to Default Tray Full'!X159","v":""},{"$f":"'Print to Default Tray Full'!J159","v":""},null,{"$f":"IF(ISERROR((E197-F197)/E197), N/A, (E197-F197)/E197)","v":{"$error":"#NAME?"}}]
["FFDS Stress",4,"C-C PCL6- Stress","% Rated Speed",{"$f":"'Print to Default Tray Full'!X166","v":""},{"$f":"'Print to Default Tray Full'!J166","v":""},null,{"$f":"IF(ISERROR((E198-F198)/E198), N/A, (E198-F198)/E198)","v":{"$error":"#NAME?"}}]
["Jobs to Use","# Jobs","Print Web Submission to Default Tray No Banner","Measured in","Benchmark ",{"$f":"$G$8","v":"0.123.0"},null,"Delta"]
["Web Submission PDF",2,"FPOT PDF Color","Seconds",{"$f":"'Print to Default Tray Full'!T339","v":""},{"$f":"'Print to Default Tray Full'!F339","v":""},null,{"$f":"IF(ISERROR((F200-E200)/E200), N/A, (F200-E200)/E200)","v":{"$error":"#NAME?"}}]
["Web Submission PDF",2,"FPOT PDF Mono","Seconds",{"$f":"'Print to Default Tray Full'!T344","v":""},{"$f":"'Print to Default Tray Full'!F344","v":""},null,{"$f":"IF(ISERROR((F201-E201)/E201), N/A, (F201-E201)/E201)","v":{"$error":"#NAME?"}}]
["Web Submission PRN",2,"FPOT PS PRN Color","Seconds",{"$f":"'Print to Default Tray Full'!T353","v":""},{"$f":"'Print to Default Tray Full'!F353","v":""},null,{"$f":"IF(ISERROR((F202-E202)/E202), N/A, (F202-E202)/E202)","v":{"$error":"#NAME?"}}]
["Web Submission PRN",2,"FPOT PS PRN Mono","Seconds",{"$f":"'Print to Default Tray Full'!T358","v":""},{"$f":"'Print to Default Tray Full'!F358","v":""},null,{"$f":"IF(ISERROR((F203-E203)/E203), N/A, (F203-E203)/E203)","v":{"$error":"#NAME?"}}]
["Web Submission PDF",2,"2-N PDF Color","% Rated Speed",{"$f":"'Print to Default Tray Full'!W339","v":""},{"$f":"'Print to Default Tray Full'!I339","v":""},null,{"$f":"IF(ISERROR((E204-F204)/E204), N/A, (E204-F204)/E204)","v":{"$error":"#NAME?"}}]
["Web Submission PDF",2,"2-N PDF Mono","% Rated Speed",{"$f":"'Print to Default Tray Full'!W344","v":""},{"$f":"'Print to Default Tray Full'!I344","v":""},null,{"$f":"IF(ISERROR((E205-F205)/E205), N/A, (E205-F205)/E205)","v":{"$error":"#NAME?"}}]
["Web Submission PRN",2,"2-N PS PRN Color","% Rated Speed",{"$f":"'Print to Default Tray Full'!W353","v":""},{"$f":"'Print to Default Tray Full'!I353","v":""},null,{"$f":"IF(ISERROR((E206-F206)/E206), N/A, (E206-F206)/E206)","v":{"$error":"#NAME?"}}]
["Web Submission PRN",2,"2-N PS PRN Mono","% Rated Speed",{"$f":"'Print to Default Tray Full'!W358","v":""},{"$f":"'Print to Default Tray Full'!I358","v":""},null,{"$f":"IF(ISERROR((E207-F207)/E207), N/A, (E207-F207)/E207)","v":{"$error":"#NAME?"}}]
["Web Submission PDF",2,"C-C PDF Color","% Rated Speed",{"$f":"'Print to Default Tray Full'!X339","v":""},{"$f":"'Print to Default Tray Full'!J339","v":""},null,{"$f":"IF(ISERROR((E208-F208)/E208), N/A, (E208-F208)/E208)","v":{"$error":"#NAME?"}}]
["Web Submission PDF",2,"C-C PDF Mono","% Rated Speed",{"$f":"'Print to Default Tray Full'!X344","v":""},{"$f":"'Print to Default Tray Full'!J344","v":""},null,{"$f":"IF(ISERROR((E209-F209)/E209), N/A, (E209-F209)/E209)","v":{"$error":"#NAME?"}}]
["Web Submission PRN",2,"C-C PS PRN Color","% Rated Speed",{"$f":"'Print to Default Tray Full'!X353","v":""},{"$f":"'Print to Default Tray Full'!J353","v":""},null,{"$f":"IF(ISERROR((E210-F210)/E210), N/A, (E210-F210)/E210)","v":{"$error":"#NAME?"}}]
["Web Submission PRN",2,"C-C PS PRN Mono","% Rated Speed",{"$f":"'Print to Default Tray Full'!X358","v":""},{"$f":"'Print to Default Tray Full'!J358","v":""},null,{"$f":"IF(ISERROR((E211-F211)/E211), N/A, (E211-F211)/E211)","v":{"$error":"#NAME?"}}]
["Jobs to Use","# Jobs","Print Duplex to Default Tray No Banner","Measured in","Benchmark ",{"$f":"$G$8","v":"0.123.0"},null,"Delta"]
["Print Duplex",10,"FPOT PS Color ","Seconds",{"$f":"'Print to Default Tray Full'!T184","v":""},{"$f":"'Print to Default Tray Full'!F184","v":""},null,{"$f":"IF(ISERROR((F213-E213)/E213), N/A, (F213-E213)/E213)","v":{"$error":"#NAME?"}}]
["Print Duplex",7,"FPOT PS Mono","Seconds",{"$f":"'Print to Default Tray Full'!T194","v":""},{"$f":"'Print to Default Tray Full'!F194","v":""},null,{"$f":"IF(ISERROR((F214-E214)/E214), N/A, (F214-E214)/E214)","v":{"$error":"#NAME?"}}]
["Print Duplex",10,"FPOT PCL6 Color","Seconds",{"$f":"'Print to Default Tray Full'!T209","v":""},{"$f":"'Print to Default Tray Full'!F209","v":""},null,{"$f":"IF(ISERROR((F215-E215)/E215), N/A, (F215-E215)/E215)","v":{"$error":"#NAME?"}}]
["Print Duplex",7,"FPOT PCL6 Mono","Seconds",{"$f":"'Print to Default Tray Full'!T219","v":""},{"$f":"'Print to Default Tray Full'!F219","v":""},null,{"$f":"IF(ISERROR((F216-E216)/E216), N/A, (F216-E216)/E216)","v":{"$error":"#NAME?"}}]
["Print Duplex",10,"2-N PS Color ","% Rated Speed",{"$f":"'Print to Default Tray Full'!W184","v":""},{"$f":"'Print to Default Tray Full'!I184","v":""},null,{"$f":"IF(ISERROR((E217-F217)/E217), N/A, (E217-F217)/E217)","v":{"$error":"#NAME?"}}]
["Print Duplex",7,"2-N PS Mono","% Rated Speed",{"$f":"'Print to Default Tray Full'!W194","v":""},{"$f":"'Print to Default Tray Full'!I194","v":""},null,{"$f":"IF(ISERROR((E218-F218)/E218), N/A, (E218-F218)/E218)","v":{"$error":"#NAME?"}}]
["Print Duplex",10,"2-N PCL6 Color","% Rated Speed",{"$f":"'Print to Default Tray Full'!W209","v":""},{"$f":"'Print to Default Tray Full'!I209","v":""},null,{"$f":"IF(ISERROR((E219-F219)/E219), N/A, (E219-F219)/E219)","v":{"$error":"#NAME?"}}]
["Print Duplex",7,"2-N PCL6 Mono","% Rated Speed",{"$f":"'Print to Default Tray Full'!W219","v":""},{"$f":"'Print to Default Tray Full'!I219","v":""},null,{"$f":"IF(ISERROR((E220-F220)/E220), N/A, (E220-F220)/E220)","v":{"$error":"#NAME?"}}]
["Print Duplex",10,"C-C PS Color ","% Rated Speed",{"$f":"'Print to Default Tray Full'!X184","v":""},{"$f":"'Print to Default Tray Full'!J184","v":""},null,{"$f":"IF(ISERROR((E221-F221)/E221), N/A, (E221-F221)/E221)","v":{"$error":"#NAME?"}}]
["Print Duplex",7,"C-C PS Mono","% Rated Speed",{"$f":"'Print to Default Tray Full'!X194","v":""},{"$f":"'Print to Default Tray Full'!J194","v":""},null,{"$f":"IF(ISERROR((E222-F222)/E222), N/A, (E222-F222)/E222)","v":{"$error":"#NAME?"}}]
["Print Duplex",10,"C-C PCL6 Color","% Rated Speed",{"$f":"'Print to Default Tray Full'!X209","v":""},{"$f":"'Print to Default Tray Full'!J209","v":""},null,{"$f":"IF(ISERROR((E223-F223)/E223), N/A, (E223-F223)/E223)","v":{"$error":"#NAME?"}}]
["Print Duplex",7,"C-C PCL6 Mono","% Rated Speed",{"$f":"'Print to Default Tray Full'!X219","v":""},{"$f":"'Print to Default Tray Full'!J219","v":""},null,{"$f":"IF(ISERROR((E224-F224)/E224), N/A, (E224-F224)/E224)","v":{"$error":"#NAME?"}}]
["Jobs to Use","# Jobs","Print 14 and 17 inch Output to Default Tray No Banner","Measured in","Benchmark ",{"$f":"$G$8","v":"0.123.0"},null,"Delta"]
["Iliad-14-Color",3,"FPOT PS Color ","Seconds",{"$f":"'Print to Default Tray Full'!T230","v":""},{"$f":"'Print to Default Tray Full'!F230","v":""},null,{"$f":"IF(ISERROR((F226-E226)/E226), N/A, (F226-E226)/E226)","v":{"$error":"#NAME?"}}]
["Iliad-14-Mono",3,"FPOT PS Mono","Seconds",{"$f":"'Print to Default Tray Full'!T242","v":""},{"$f":"'Print to Default Tray Full'!F242","v":""},null,{"$f":"IF(ISERROR((F227-E227)/E227), N/A, (F227-E227)/E227)","v":{"$error":"#NAME?"}}]
["Iliad-17-Color",3,"FPOT PS Color ","Seconds",{"$f":"'Print to Default Tray Full'!T236","v":""},{"$f":"'Print to Default Tray Full'!F236","v":""},null,{"$f":"IF(ISERROR((F228-E228)/E228), N/A, (F228-E228)/E228)","v":{"$error":"#NAME?"}}]
["Iliad-17-Mono",3,"FPOT PS Mono","Seconds",{"$f":"'Print to Default Tray Full'!T248","v":""},{"$f":"'Print to Default Tray Full'!F248","v":""},null,{"$f":"IF(ISERROR((F229-E229)/E229), N/A, (F229-E229)/E229)","v":{"$error":"#NAME?"}}]
["Iliad-14-Color",3,"FPOT PCL6 Color","Seconds",{"$f":"'Print to Default Tray Full'!T255","v":""},{"$f":"'Print to Default Tray Full'!F255","v":""},null,{"$f":"IF(ISERROR((F230-E230)/E230), N/A, (F230-E230)/E230)","v":{"$error":"#NAME?"}}]
["Iliad-14-Mono",3,"FPOT PCL6 Mono","Seconds",{"$f":"'Print to Default Tray Full'!T267","v":""},{"$f":"'Print to Default Tray Full'!F267","v":""},null,{"$f":"IF(ISERROR((F231-E231)/E231), N/A, (F231-E231)/E231)","v":{"$error":"#NAME?"}}]
["Iliad-17-Color",3,"FPOT PCL6 Color","Seconds",{"$f":"'Print to Default Tray Full'!T261","v":""},{"$f":"'Print to Default Tray Full'!F261","v":""},null,{"$f":"IF(ISERROR((F232-E232)/E232), N/A, (F232-E232)/E232)","v":{"$error":"#NAME?"}}]
["Iliad-17-Mono",3,"FPOT PCL6 Mono","Seconds",{"$f":"'Print to Default Tray Full'!T273","v":""},{"$f":"'Print to Default Tray Full'!F273","v":""},null,{"$f":"IF(ISERROR((F233-E233)/E233), N/A, (F233-E233)/E233)","v":{"$error":"#NAME?"}}]
["Iliad-14-Color",3,"2-N PS Color ","% Rated Speed",{"$f":"'Print to Default Tray Full'!W230","v":""},{"$f":"'Print to Default Tray Full'!I230","v":""},null,{"$f":"IF(ISERROR((E234-F234)/E234), N/A, (E234-F234)/E234)","v":{"$error":"#NAME?"}}]
["Iliad-14-Mono",3,"2-N PS Mono","% Rated Speed",{"$f":"'Print to Default Tray Full'!W242","v":""},{"$f":"'Print to Default Tray Full'!I242","v":""},null,{"$f":"IF(ISERROR((E235-F235)/E235), N/A, (E235-F235)/E235)","v":{"$error":"#NAME?"}}]
["Iliad-17-Color",3,"2-N PS Color ","% Rated Speed",{"$f":"'Print to Default Tray Full'!W236","v":""},{"$f":"'Print to Default Tray Full'!I236","v":""},null,{"$f":"IF(ISERROR((E236-F236)/E236), N/A, (E236-F236)/E236)","v":{"$error":"#NAME?"}}]
["Iliad-17-Mono",3,"2-N PS Mono","% Rated Speed",{"$f":"'Print to Default Tray Full'!W248","v":""},{"$f":"'Print to Default Tray Full'!I248","v":""},null,{"$f":"IF(ISERROR((E237-F237)/E237), N/A, (E237-F237)/E237)","v":{"$error":"#NAME?"}}]
["Iliad-14-Color",3,"2-N PCL6 Color","% Rated Speed",{"$f":"'Print to Default Tray Full'!W255","v":""},{"$f":"'Print to Default Tray Full'!I255","v":""},null,{"$f":"IF(ISERROR((E238-F238)/E238), N/A, (E238-F238)/E238)","v":{"$error":"#NAME?"}}]
["Iliad-14-Mono",3,"2-N PCL6 Mono","% Rated Speed",{"$f":"'Print to Default Tray Full'!W267","v":""},{"$f":"'Print to Default Tray Full'!I267","v":""},null,{"$f":"IF(ISERROR((E239-F239)/E239), N/A, (E239-F239)/E239)","v":{"$error":"#NAME?"}}]
["Iliad-17-Color",3,"2-N PCL6 Color","% Rated Speed",{"$f":"'Print to Default Tray Full'!W261","v":""},{"$f":"'Print to Default Tray Full'!I261","v":""},null,{"$f":"IF(ISERROR((E240-F240)/E240), N/A, (E240-F240)/E240)","v":{"$error":"#NAME?"}}]
["Iliad-17-Mono",3,"2-N PCL6 Mono","% Rated Speed",{"$f":"'Print to Default Tray Full'!W273","v":""},{"$f":"'Print to Default Tray Full'!I273","v":""},null,{"$f":"IF(ISERROR((E241-F241)/E241), N/A, (E241-F241)/E241)","v":{"$error":"#NAME?"}}]
["Iliad-14-Color",3,"C-C PS Color ","% Rated Speed",{"$f":"'Print to Default Tray Full'!X230","v":""},{"$f":"'Print to Default Tray Full'!J230","v":""},null,{"$f":"IF(ISERROR((E242-F242)/E242), N/A, (E242-F242)/E242)","v":{"$error":"#NAME?"}}]
["Iliad-14-Mono",3,"C-C PS Mono","% Rated Speed",{"$f":"'Print to Default Tray Full'!X242","v":""},{"$f":"'Print to Default Tray Full'!J242","v":""},null,{"$f":"IF(ISERROR((E243-F243)/E243), N/A, (E243-F243)/E243)","v":{"$error":"#NAME?"}}]
["Iliad-17-Color",3,"C-C PS Color ","% Rated Speed",{"$f":"'Print to Default Tray Full'!X236","v":""},{"$f":"'Print to Default Tray Full'!J236","v":""},null,{"$f":"IF(ISERROR((E244-F244)/E244), N/A, (E244-F244)/E244)","v":{"$error":"#NAME?"}}]
["Iliad-17-Mono",3,"C-C PS Mono","% Rated Speed",{"$f":"'Print to Default Tray Full'!X248","v":""},{"$f":"'Print to Default Tray Full'!J248","v":""},null,{"$f":"IF(ISERROR((E245-F245)/E245), N/A, (E245-F245)/E245)","v":{"$error":"#NAME?"}}]
["Iliad-14-Color",3,"C-C PCL6 Color","% Rated Speed",{"$f":"'Print to Default Tray Full'!X255","v":""},{"$f":"'Print to Default Tray Full'!J255","v":""},null,{"$f":"IF(ISERROR((E246-F246)/E246), N/A, (E246-F246)/E246)","v":{"$error":"#NAME?"}}]
["Iliad-14-Mono",3,"C-C PCL6 Mono","% Rated Speed",{"$f":"'Print to Default Tray Full'!X267","v":""},{"$f":"'Print to Default Tray Full'!J267","v":""},null,{"$f":"IF(ISERROR((E247-F247)/E247), N/A, (E247-F247)/E247)","v":{"$error":"#NAME?"}}]
["Iliad-17-Color",3,"C-C PCL6 Color","% Rated Speed",{"$f":"'Print to Default Tray Full'!X261","v":""},{"$f":"'Print to Default Tray Full'!J261","v":""},null,{"$f":"IF(ISERROR((E248-F248)/E248), N/A, (E248-F248)/E248)","v":{"$error":"#NAME?"}}]
["Iliad-17-Mono",3,"C-C PCL6 Mono","% Rated Speed",{"$f":"'Print to Default Tray Full'!X273","v":""},{"$f":"'Print to Default Tray Full'!J273","v":""},null,{"$f":"IF(ISERROR((E249-F249)/E249), N/A, (E249-F249)/E249)","v":{"$error":"#NAME?"}}]
["Jobs to Use","# Jobs","Print 14 and 17 inch Output to Default Tray with Banner","Measured in","Benchmark ",{"$f":"$G$8","v":"0.123.0"},null,"Delta"]
["Iliad-17-Color",3,"FPOT PS Color ","Seconds",{"$f":"'Print to Default Tray Full'!T281","v":""},{"$f":"'Print to Default Tray Full'!F281","v":""},null,{"$f":"IF(ISERROR((F251-E251)/E251), N/A, (F251-E251)/E251)","v":{"$error":"#NAME?"}}]
["Iliad-14-Mono",3,"FPOT PS Mono","Seconds",{"$f":"'Print to Default Tray Full'!T287","v":""},{"$f":"'Print to Default Tray Full'!F287","v":""},null,{"$f":"IF(ISERROR((F252-E252)/E252), N/A, (F252-E252)/E252)","v":{"$error":"#NAME?"}}]
["Iliad-17-Color",3,"FPOT PCL6 Color","Seconds",{"$f":"'Print to Default Tray Full'!T294","v":""},{"$f":"'Print to Default Tray Full'!F294","v":""},null,{"$f":"IF(ISERROR((F253-E253)/E253), N/A, (F253-E253)/E253)","v":{"$error":"#NAME?"}}]
["Iliad-14-Mono",3,"FPOT PCL6 Mono","Seconds",{"$f":"'Print to Default Tray Full'!T300","v":""},{"$f":"'Print to Default Tray Full'!F300","v":""},null,{"$f":"IF(ISERROR((F254-E254)/E254), N/A, (F254-E254)/E254)","v":{"$error":"#NAME?"}}]
["Iliad-17-Color",3,"2-N PS Color ","% Rated Speed",{"$f":"'Print to Default Tray Full'!W281","v":""},{"$f":"'Print to Default Tray Full'!I281","v":""},null,{"$f":"IF(ISERROR((E255-F255)/E255), N/A, (E255-F255)/E255)","v":{"$error":"#NAME?"}}]
["Iliad-14-Mono",3,"2-N PS Mono","% Rated Speed",{"$f":"'Print to Default Tray Full'!W287","v":""},{"$f":"'Print to Default Tray Full'!I287","v":""},null,{"$f":"IF(ISERROR((E256-F256)/E256), N/A, (E256-F256)/E256)","v":{"$error":"#NAME?"}}]
["Iliad-17-Color",3,"2-N PCL6 Color","% Rated Speed",{"$f":"'Print to Default Tray Full'!W294","v":""},{"$f":"'Print to Default Tray Full'!I294","v":""},null,{"$f":"IF(ISERROR((E257-F257)/E257), N/A, (E257-F257)/E257)","v":{"$error":"#NAME?"}}]
["Iliad-14-Mono",3,"2-N PCL6 Mono","% Rated Speed",{"$f":"'Print to Default Tray Full'!W300","v":""},{"$f":"'Print to Default Tray Full'!I300","v":""},null,{"$f":"IF(ISERROR((E258-F258)/E258), N/A, (E258-F258)/E258)","v":{"$error":"#NAME?"}}]
["Iliad-17-Color",3,"C-C PS Color ","% Rated Speed",{"$f":"'Print to Default Tray Full'!X281","v":""},{"$f":"'Print to Default Tray Full'!J281","v":""},null,{"$f":"IF(ISERROR((E259-F259)/E259), N/A, (E259-F259)/E259)","v":{"$error":"#NAME?"}}]
["Iliad-14-Mono",3,"C-C PS Mono","% Rated Speed",{"$f":"'Print to Default Tray Full'!X287","v":""},{"$f":"'Print to Default Tray Full'!J287","v":""},null,{"$f":"IF(ISERROR((E260-F260)/E260), N/A, (E260-F260)/E260)","v":{"$error":"#NAME?"}}]
["Iliad-17-Color",3,"C-C PCL6 Color","% Rated Speed",{"$f":"'Print to Default Tray Full'!X294","v":""},{"$f":"'Print to Default Tray Full'!J294","v":""},null,{"$f":"IF(ISERROR((E261-F261)/E261), N/A, (E261-F261)/E261)","v":{"$error":"#NAME?"}}]
["Iliad-14-Mono",3,"C-C PCL6 Mono","% Rated Speed",{"$f":"'Print to Default Tray Full'!X300","v":""},{"$f":"'Print to Default Tray Full'!J300","v":""},null,{"$f":"IF(ISERROR((E262-F262)/E262), N/A, (E262-F262)/E262)","v":{"$error":"#NAME?"}}]
["Jobs to Use","# Jobs","Print to Finisher 1 FPOT No Banner","Measured in","Benchmark ",{"$f":"$G$8","v":"0.123.0"},null,"Delta"]
["FFDS Office Color (Subset)",4,"FPOT PS- Office Color","Seconds",{"$f":"'Finisher 1 - Print, Stream,Copy'!T23","v":""},{"$f":"'Finisher 1 - Print, Stream,Copy'!F23","v":""},null,{"$f":"IF(ISERROR((F264-E264)/E264), N/A, (F264-E264)/E264)","v":{"$error":"#NAME?"}}]
["FFDS Office Mono (Subset)",4,"FPOT PS- Office Mono","Seconds",{"$f":"'Finisher 1 - Print, Stream,Copy'!T30","v":""},{"$f":"'Finisher 1 - Print, Stream,Copy'!F30","v":""},null,{"$f":"IF(ISERROR((F265-E265)/E265), N/A, (F265-E265)/E265)","v":{"$error":"#NAME?"}}]
["FFDS Graphic (Subset)",4,"FPOT PS- Graphic","Seconds",{"$f":"'Finisher 1 - Print, Stream,Copy'!T37","v":""},{"$f":"'Finisher 1 - Print, Stream,Copy'!F37","v":""},null,{"$f":"IF(ISERROR((F266-E266)/E266), N/A, (F266-E266)/E266)","v":{"$error":"#NAME?"}}]
["FFDS Stress",4,"FPOT PS- Stress","Seconds",{"$f":"'Finisher 1 - Print, Stream,Copy'!T44","v":""},{"$f":"'Finisher 1 - Print, Stream,Copy'!F44","v":""},null,{"$f":"IF(ISERROR((F267-E267)/E267), N/A, (F267-E267)/E267)","v":{"$error":"#NAME?"}}]
["Jobs to Use","# Jobs","Print to Finisher 2 FPOT No Banner","Measured in","Benchmark ",{"$f":"$G$8","v":"0.123.0"},null,"Delta"]
["FFDS Office Color (Subset)",4,"FPOT PS- Office Color","Seconds",{"$f":"'Finisher 2 - Print, Stream,Copy'!T23","v":""},{"$f":"'Finisher 2 - Print, Stream,Copy'!F23","v":""},null,{"$f":"IF(ISERROR((F269-E269)/E269), N/A, (F269-E269)/E269)","v":{"$error":"#NAME?"}}]
["FFDS Office Mono (Subset)",4,"FPOT PS- Office Mono","Seconds",{"$f":"'Finisher 2 - Print, Stream,Copy'!T30","v":""},{"$f":"'Finisher 2 - Print, Stream,Copy'!F30","v":""},null,{"$f":"IF(ISERROR((F270-E270)/E270), N/A, (F270-E270)/E270)","v":{"$error":"#NAME?"}}]
["FFDS Graphic (Subset)",4,"FPOT PS- Graphic","Seconds",{"$f":"'Finisher 2 - Print, Stream,Copy'!T37","v":""},{"$f":"'Finisher 2 - Print, Stream,Copy'!F37","v":""},null,{"$f":"IF(ISERROR((F271-E271)/E271), N/A, (F271-E271)/E271)","v":{"$error":"#NAME?"}}]
["FFDS Stress",4,"FPOT PS- Stress","Seconds",{"$f":"'Finisher 2 - Print, Stream,Copy'!T44","v":""},{"$f":"'Finisher 2 - Print, Stream,Copy'!F44","v":""},null,{"$f":"IF(ISERROR((F272-E272)/E272), N/A, (F272-E272)/E272)","v":{"$error":"#NAME?"}}]
["Jobs to Use","# Jobs","Print to Finisher 1 2-N No Banner","Measured in","Benchmark ",{"$f":"$G$8","v":"0.123.0"},null,"Delta"]
["FFDS Office Color (Subset)",4,"2-N PS- Office Color","% Rated Speed",{"$f":"'Finisher 1 - Print, Stream,Copy'!W23","v":""},{"$f":"'Finisher 1 - Print, Stream,Copy'!I23","v":""},null,{"$f":"IF(ISERROR((E274-F274)/E274), N/A, (E274-F274)/E274)","v":{"$error":"#NAME?"}}]
["FFDS Office Mono (Subset)",4,"2-N PS- Office Mono","% Rated Speed",{"$f":"'Finisher 1 - Print, Stream,Copy'!W30","v":""},{"$f":"'Finisher 1 - Print, Stream,Copy'!I30","v":""},null,{"$f":"IF(ISERROR((E275-F275)/E275), N/A, (E275-F275)/E275)","v":{"$error":"#NAME?"}}]
["FFDS Graphic (Subset)",4,"2-N PS- Graphic","% Rated Speed",{"$f":"'Finisher 1 - Print, Stream,Copy'!W37","v":""},{"$f":"'Finisher 1 - Print, Stream,Copy'!I37","v":""},null,{"$f":"IF(ISERROR((E276-F276)/E276), N/A, (E276-F276)/E276)","v":{"$error":"#NAME?"}}]
["FFDS Stress",4,"2-N PS- Stress","% Rated Speed",{"$f":"'Finisher 1 - Print, Stream,Copy'!W44","v":""},{"$f":"'Finisher 1 - Print, Stream,Copy'!I44","v":""},null,{"$f":"IF(ISERROR((E277-F277)/E277), N/A, (E277-F277)/E277)","v":{"$error":"#NAME?"}}]
["Jobs to Use","# Jobs","Print to Finisher 2 2-N No Banner","Measured in","Benchmark ",{"$f":"$G$8","v":"0.123.0"},null,"Delta"]
["FFDS Office Color (Subset)",4,"2-N PS- Office Color","% Rated Speed",{"$f":"'Finisher 2 - Print, Stream,Copy'!W23","v":""},{"$f":"'Finisher 2 - Print, Stream,Copy'!I23","v":""},null,{"$f":"IF(ISERROR((E279-F279)/E279), N/A, (E279-F279)/E279)","v":{"$error":"#NAME?"}}]
["FFDS Office Mono (Subset)",4,"2-N PS- Office Mono","% Rated Speed",{"$f":"'Finisher 2 - Print, Stream,Copy'!W30","v":""},{"$f":"'Finisher 2 - Print, Stream,Copy'!I30","v":""},null,{"$f":"IF(ISERROR((E280-F280)/E280), N/A, (E280-F280)/E280)","v":{"$error":"#NAME?"}}]
["FFDS Graphic (Subset)",4,"2-N PS- Graphic","% Rated Speed",{"$f":"'Finisher 2 - Print, Stream,Copy'!W37","v":""},{"$f":"'Finisher 2 - Print, Stream,Copy'!I37","v":""},null,{"$f":"IF(ISERROR((E281-F281)/E281), N/A, (E281-F281)/E281)","v":{"$error":"#NAME?"}}]
["FFDS Stress",4,"2-N PS- Stress","% Rated Speed",{"$f":"'Finisher 2 - Print, Stream,Copy'!W44","v":""},{"$f":"'Finisher 2 - Print, Stream,Copy'!I44","v":""},null,{"$f":"IF(ISERROR((E282-F282)/E282), N/A, (E282-F282)/E282)","v":{"$error":"#NAME?"}}]
["Jobs to Use","# Jobs","Print to Finisher 1 C-C No Banner","Measured in","Benchmark ",{"$f":"$G$8","v":"0.123.0"},null,"Delta"]
["FFDS Office Color (Subset)",4,"C-C PS- Office Color","% Rated Speed",{"$f":"'Finisher 1 - Print, Stream,Copy'!X23","v":""},{"$f":"'Finisher 1 - Print, Stream,Copy'!J23","v":""},null,{"$f":"IF(ISERROR((E284-F284)/E284), N/A, (E284-F284)/E284)","v":{"$error":"#NAME?"}}]
["FFDS Office Mono (Subset)",4,"C-C PS- Office Mono","% Rated Speed",{"$f":"'Finisher 1 - Print, Stream,Copy'!X30","v":""},{"$f":"'Finisher 1 - Print, Stream,Copy'!J30","v":""},null,{"$f":"IF(ISERROR((E285-F285)/E285), N/A, (E285-F285)/E285)","v":{"$error":"#NAME?"}}]
["FFDS Graphic (Subset)",4,"C-C PS- Graphic","% Rated Speed",{"$f":"'Finisher 1 - Print, Stream,Copy'!X37","v":""},{"$f":"'Finisher 1 - Print, Stream,Copy'!J37","v":""},null,{"$f":"IF(ISERROR((E286-F286)/E286), N/A, (E286-F286)/E286)","v":{"$error":"#NAME?"}}]
["FFDS Stress (Subset)",4,"C-C PS- Stress","% Rated Speed",{"$f":"'Finisher 1 - Print, Stream,Copy'!X44","v":""},{"$f":"'Finisher 1 - Print, Stream,Copy'!J44","v":""},null,{"$f":"IF(ISERROR((E287-F287)/E287), N/A, (E287-F287)/E287)","v":{"$error":"#NAME?"}}]
["Jobs to Use","# Jobs","Print to Finisher 2 C-C No Banner","Measured in","Benchmark ",{"$f":"$G$8","v":"0.123.0"},null,"Delta"]
["FFDS Office Color (Subset)",4,"C-C PS- Office Color","% Rated Speed",{"$f":"'Finisher 2 - Print, Stream,Copy'!X23","v":""},{"$f":"'Finisher 2 - Print, Stream,Copy'!J23","v":""},null,{"$f":"IF(ISERROR((E289-F289)/E289), N/A, (E289-F289)/E289)","v":{"$error":"#NAME?"}}]
["FFDS Office Mono (Subset)",4,"C-C PS- Office Mono","% Rated Speed",{"$f":"'Finisher 2 - Print, Stream,Copy'!X30","v":""},{"$f":"'Finisher 2 - Print, Stream,Copy'!J30","v":""},null,{"$f":"IF(ISERROR((E290-F290)/E290), N/A, (E290-F290)/E290)","v":{"$error":"#NAME?"}}]
["FFDS Graphic (Subset)",4,"C-C PS- Graphic","% Rated Speed",{"$f":"'Finisher 2 - Print, Stream,Copy'!X37","v":""},{"$f":"'Finisher 2 - Print, Stream,Copy'!J37","v":""},null,{"$f":"IF(ISERROR((E291-F291)/E291), N/A, (E291-F291)/E291)","v":{"$error":"#NAME?"}}]
["FFDS Stress",4,"C-C PS- Stress","% Rated Speed",{"$f":"'Finisher 2 - Print, Stream,Copy'!X44","v":""},{"$f":"'Finisher 2 - Print, Stream,Copy'!J44","v":""},null,{"$f":"IF(ISERROR((E292-F292)/E292), N/A, (E292-F292)/E292)","v":{"$error":"#NAME?"}}]
["Jobs to Use","# Jobs","Print 14 and 17 inch Output to Finisher 1 No Banner","Measured in","Benchmark ",{"$f":"$G$8","v":"0.123.0"},null,"Delta"]
["Iliad-17-Color",3,"FPOT PS Color ","Seconds",{"$f":"'Finisher 1 - Print, Stream,Copy'!T55","v":""},{"$f":"'Finisher 1 - Print, Stream,Copy'!F55","v":""},null,{"$f":"IF(ISERROR((F294-E294)/E294), N/A, (F294-E294)/E294)","v":{"$error":"#NAME?"}}]
["Iliad-14-Mono",3,"FPOT PS Mono","Seconds",{"$f":"'Finisher 1 - Print, Stream,Copy'!T61","v":""},{"$f":"'Finisher 1 - Print, Stream,Copy'!F61","v":""},null,{"$f":"IF(ISERROR((F295-E295)/E295), N/A, (F295-E295)/E295)","v":{"$error":"#NAME?"}}]
["Iliad-17-Color",3,"2-N PS Color ","% Rated Speed",{"$f":"'Finisher 1 - Print, Stream,Copy'!W55","v":""},{"$f":"'Finisher 1 - Print, Stream,Copy'!I55","v":""},null,{"$f":"IF(ISERROR((E296-F296)/E296), N/A, (E296-F296)/E296)","v":{"$error":"#NAME?"}}]
["Iliad-14-Mono",3,"2-N PS Mono","% Rated Speed",{"$f":"'Finisher 1 - Print, Stream,Copy'!W61","v":""},{"$f":"'Finisher 1 - Print, Stream,Copy'!I61","v":""},null,{"$f":"IF(ISERROR((E297-F297)/E297), N/A, (E297-F297)/E297)","v":{"$error":"#NAME?"}}]
["Iliad-17-Color",3,"C-C PS Color ","% Rated Speed",{"$f":"'Finisher 1 - Print, Stream,Copy'!X55","v":""},{"$f":"'Finisher 1 - Print, Stream,Copy'!J55","v":""},null,{"$f":"IF(ISERROR((E298-F298)/E298), N/A, (E298-F298)/E298)","v":{"$error":"#NAME?"}}]
["Iliad-14-Mono",3,"C-C PS Mono","% Rated Speed",{"$f":"'Finisher 1 - Print, Stream,Copy'!X61","v":""},{"$f":"'Finisher 1 - Print, Stream,Copy'!J61","v":""},null,{"$f":"IF(ISERROR((E299-F299)/E299), N/A, (E299-F299)/E299)","v":{"$error":"#NAME?"}}]
["Jobs to Use","# Jobs","Print 14 and 17 inch Output to Finisher 2 No Banner","Measured in","Benchmark ",{"$f":"$G$8","v":"0.123.0"},null,"Delta"]
["Iliad-17-Color",3,"FPOT PS Color ","Seconds",{"$f":"'Finisher 2 - Print, Stream,Copy'!T55","v":""},{"$f":"'Finisher 2 - Print, Stream,Copy'!F55","v":""},null,{"$f":"IF(ISERROR((F301-E301)/E301), N/A, (F301-E301)/E301)","v":{"$error":"#NAME?"}}]
["Iliad-14-Mono",3,"FPOT PS Mono","Seconds",{"$f":"'Finisher 2 - Print, Stream,Copy'!T61","v":""},{"$f":"'Finisher 2 - Print, Stream,Copy'!F61","v":""},null,{"$f":"IF(ISERROR((F302-E302)/E302), N/A, (F302-E302)/E302)","v":{"$error":"#NAME?"}}]
["Iliad-17-Color",3,"2-N PS Color ","% Rated Speed",{"$f":"'Finisher 2 - Print, Stream,Copy'!W55","v":""},{"$f":"'Finisher 2 - Print, Stream,Copy'!I55","v":""},null,{"$f":"IF(ISERROR((E303-F303)/E303), N/A, (E303-F303)/E303)","v":{"$error":"#NAME?"}}]
["Iliad-14-Mono",3,"2-N PS Mono","% Rated Speed",{"$f":"'Finisher 2 - Print, Stream,Copy'!W61","v":""},{"$f":"'Finisher 2 - Print, Stream,Copy'!I61","v":""},null,{"$f":"IF(ISERROR((E304-F304)/E304), N/A, (E304-F304)/E304)","v":{"$error":"#NAME?"}}]
["Iliad-17-Color",3,"C-C PS Color ","% Rated Speed",{"$f":"'Finisher 2 - Print, Stream,Copy'!X55","v":""},{"$f":"'Finisher 2 - Print, Stream,Copy'!J55","v":""},null,{"$f":"IF(ISERROR((E305-F305)/E305), N/A, (E305-F305)/E305)","v":{"$error":"#NAME?"}}]
["Iliad-14-Mono",3,"C-C PS Mono","% Rated Speed",{"$f":"'Finisher 2 - Print, Stream,Copy'!X61","v":""},{"$f":"'Finisher 2 - Print, Stream,Copy'!J61","v":""},null,{"$f":"IF(ISERROR((E306-F306)/E306), N/A, (E306-F306)/E306)","v":{"$error":"#NAME?"}}]
["Jobs to Use","# Jobs","Finisher Job Stream - PCL6 ONLY","Measured in","Benchmark ",{"$f":"$G$8","v":"0.123.0"},null,"Delta"]
["Finisher Job Stream",15,"Finisher 1 Color No Banner","% Rated Speed",{"$f":"'Finisher 1 - Print, Stream,Copy'!U69","v":""},{"$f":"'Finisher 1 - Print, Stream,Copy'!G69","v":""},null,{"$f":"IF(ISERROR((E308-F308)/E308), N/A, (E308-F308)/E308)","v":{"$error":"#NAME?"}}]
["Finisher Job Stream",15,"Finisher 1 Mono No Banner","% Rated Speed",{"$f":"'Finisher 1 - Print, Stream,Copy'!U70","v":""},{"$f":"'Finisher 1 - Print, Stream,Copy'!G70","v":""},null,{"$f":"IF(ISERROR((E309-F309)/E309), N/A, (E309-F309)/E309)","v":{"$error":"#NAME?"}}]
["Finisher Job Stream",15,"Finisher 1 Color with Banner","% Rated Speed",{"$f":"'Finisher 1 - Print, Stream,Copy'!U71","v":""},{"$f":"'Finisher 1 - Print, Stream,Copy'!G71","v":""},null,{"$f":"IF(ISERROR((E310-F310)/E310), N/A, (E310-F310)/E310)","v":{"$error":"#NAME?"}}]
["Finisher Job Stream",15,"Finisher 1 Mono with Banner","% Rated Speed",{"$f":"'Finisher 1 - Print, Stream,Copy'!U72","v":""},{"$f":"'Finisher 1 - Print, Stream,Copy'!G72","v":""},null,{"$f":"IF(ISERROR((E311-F311)/E311), N/A, (E311-F311)/E311)","v":{"$error":"#NAME?"}}]
["Finisher Job Stream",15,"Finisher 2 Color No Banner","% Rated Speed",{"$f":"'Finisher 2 - Print, Stream,Copy'!U69","v":""},{"$f":"'Finisher 2 - Print, Stream,Copy'!G69","v":""},null,{"$f":"IF(ISERROR((E312-F312)/E312), N/A, (E312-F312)/E312)","v":{"$error":"#NAME?"}}]
["Finisher Job Stream",15,"Finisher 2 Mono No Banner","% Rated Speed",{"$f":"'Finisher 2 - Print, Stream,Copy'!U70","v":""},{"$f":"'Finisher 2 - Print, Stream,Copy'!G70","v":""},null,{"$f":"IF(ISERROR((E313-F313)/E313), N/A, (E313-F313)/E313)","v":{"$error":"#NAME?"}}]
["Finisher Job Stream",15,"Finisher 2 Color with Banner","% Rated Speed",{"$f":"'Finisher 2 - Print, Stream,Copy'!U71","v":""},{"$f":"'Finisher 2 - Print, Stream,Copy'!G71","v":""},null,{"$f":"IF(ISERROR((E314-F314)/E314), N/A, (E314-F314)/E314)","v":{"$error":"#NAME?"}}]
["Finisher Job Stream",15,"Finisher 2 Mono with Banner","% Rated Speed",{"$f":"'Finisher 2 - Print, Stream,Copy'!U72","v":""},{"$f":"'Finisher 2 - Print, Stream,Copy'!G72","v":""},null,{"$f":"IF(ISERROR((E315-F315)/E315), N/A, (E315-F315)/E315)","v":{"$error":"#NAME?"}}]
["Jobs to Use","# Jobs","Copy to Finisher 1 Single Page FCOT","Measured in","Benchmark ",{"$f":"$G$8","v":"0.123.0"},null,"Delta"]
["ISO Letter Copy",6,"Platen FCOT- Auto (Color)","Seconds",{"$f":"'Finisher 1 - Print, Stream,Copy'!Q91","v":""},{"$f":"'Finisher 1 - Print, Stream,Copy'!C91","v":""},null,{"$f":"IF(ISERROR((F317-E317)/E317), N/A, (F317-E317)/E317)","v":{"$error":"#NAME?"}}]
["ISO Letter Copy",6,"Platen FCOT- Auto (Mono)","Seconds",{"$f":"'Finisher 1 - Print, Stream,Copy'!P91","v":""},{"$f":"'Finisher 1 - Print, Stream,Copy'!B91","v":""},null,{"$f":"IF(ISERROR((F318-E318)/E318), N/A, (F318-E318)/E318)","v":{"$error":"#NAME?"}}]
["ISO Letter Copy",6,"DADF FCOT- Auto (Color)","Seconds",{"$f":"'Finisher 1 - Print, Stream,Copy'!S91","v":""},{"$f":"'Finisher 1 - Print, Stream,Copy'!E91","v":""},null,{"$f":"IF(ISERROR((F319-E319)/E319), N/A, (F319-E319)/E319)","v":{"$error":"#NAME?"}}]
["ISO Letter Copy",6,"DADF FCOT- Auto (Mono)","Seconds",{"$f":"'Finisher 1 - Print, Stream,Copy'!R91","v":""},{"$f":"'Finisher 1 - Print, Stream,Copy'!D91","v":""},null,{"$f":"IF(ISERROR((F320-E320)/E320), N/A, (F320-E320)/E320)","v":{"$error":"#NAME?"}}]
["Jobs to Use","# Jobs","Copy to Finisher 2 Single Page FCOT","Measured in","Benchmark ",{"$f":"$G$8","v":"0.123.0"},null,"Delta"]
["ISO Letter Copy",6,"Platen FCOT- Auto (Color)","Seconds",{"$f":"'Finisher 2 - Print, Stream,Copy'!Q91","v":""},{"$f":"'Finisher 2 - Print, Stream,Copy'!C91","v":""},null,{"$f":"IF(ISERROR((F322-E322)/E322), N/A, (F322-E322)/E322)","v":{"$error":"#NAME?"}}]
["ISO Letter Copy",6,"Platen FCOT- Auto (Mono)","Seconds",{"$f":"'Finisher 2 - Print, Stream,Copy'!P91","v":""},{"$f":"'Finisher 2 - Print, Stream,Copy'!B91","v":""},null,{"$f":"IF(ISERROR((F323-E323)/E323), N/A, (F323-E323)/E323)","v":{"$error":"#NAME?"}}]
["ISO Letter Copy",6,"DADF FCOT- Auto (Color)","Seconds",{"$f":"'Finisher 2 - Print, Stream,Copy'!S91","v":""},{"$f":"'Finisher 2 - Print, Stream,Copy'!E91","v":""},null,{"$f":"IF(ISERROR((F324-E324)/E324), N/A, (F324-E324)/E324)","v":{"$error":"#NAME?"}}]
["ISO Letter Copy",6,"DADF FCOT- Auto (Mono)","Seconds",{"$f":"'Finisher 2 - Print, Stream,Copy'!R91","v":""},{"$f":"'Finisher 2 - Print, Stream,Copy'!D91","v":""},null,{"$f":"IF(ISERROR((F325-E325)/E325), N/A, (F325-E325)/E325)","v":{"$error":"#NAME?"}}]
["Jobs to Use","# Jobs","Copy to Default Tray Single Page FCOT","Measured in","Benchmark ",{"$f":"$G$8","v":"0.123.0"},null,"Delta"]
["ISO Letter Copy",6,"Platen FCOT- Color ","Seconds",{"$f":"Copy!O25","v":""},{"$f":"Copy!C25","v":""},null,{"$f":"IF(ISERROR((F327-E327)/E327), N/A, (F327-E327)/E327)","v":{"$error":"#NAME?"}}]
["ISO Letter Copy",6,"Platen FCOT- Mono ","Seconds",{"$f":"Copy!N25","v":""},{"$f":"Copy!B25","v":""},null,{"$f":"IF(ISERROR((F328-E328)/E328), N/A, (F328-E328)/E328)","v":{"$error":"#NAME?"}}]
["ISO Letter Copy",6,"Platen FCOT- Auto (Color)","Seconds",{"$f":"Copy!S25","v":""},{"$f":"Copy!G25","v":""},null,{"$f":"IF(ISERROR((F329-E329)/E329), N/A, (F329-E329)/E329)","v":{"$error":"#NAME?"}}]
["ISO Letter Copy",6,"Platen FCOT- Auto (Mono)","Seconds",{"$f":"Copy!R25","v":""},{"$f":"Copy!F25","v":""},null,{"$f":"IF(ISERROR((F330-E330)/E330), N/A, (F330-E330)/E330)","v":{"$error":"#NAME?"}}]
["ISO Letter Copy",6,"DADF FCOT- Color ","Seconds",{"$f":"Copy!O41","v":""},{"$f":"Copy!C41","v":""},null,{"$f":"IF(ISERROR((F331-E331)/E331), N/A, (F331-E331)/E331)","v":{"$error":"#NAME?"}}]
["ISO Letter Copy",6,"DADF FCOT- Mono ","Seconds",{"$f":"Copy!N41","v":""},{"$f":"Copy!B41","v":""},null,{"$f":"IF(ISERROR((F332-E332)/E332), N/A, (F332-E332)/E332)","v":{"$error":"#NAME?"}}]
["ISO Letter Copy",6,"DADF FCOT- Auto (Color)","Seconds",{"$f":"Copy!S41","v":""},{"$f":"Copy!G41","v":""},null,{"$f":"IF(ISERROR((F333-E333)/E333), N/A, (F333-E333)/E333)","v":{"$error":"#NAME?"}}]
["ISO Letter Copy",6,"DADF FCOT- Auto (Mono)","Seconds",{"$f":"Copy!R41","v":""},{"$f":"Copy!F41","v":""},null,{"$f":"IF(ISERROR((F334-E334)/E334), N/A, (F334-E334)/E334)","v":{"$error":"#NAME?"}}]
["ISO Letter Copy Duplex",6,"DADF Duplex FCOT- Color ","Seconds",{"$f":"Copy!O57","v":""},{"$f":"Copy!C57","v":""},null,{"$f":"IF(ISERROR((F335-E335)/E335), N/A, (F335-E335)/E335)","v":{"$error":"#NAME?"}}]
["ISO Letter Copy Duplex",6,"DADF Duplex FCOT- Mono ","Seconds",{"$f":"Copy!N57","v":""},{"$f":"Copy!B57","v":""},null,{"$f":"IF(ISERROR((F336-E336)/E336), N/A, (F336-E336)/E336)","v":{"$error":"#NAME?"}}]
["ISO Letter Copy Duplex",6,"DADF Duplex FCOT- Auto (Color)","Seconds",{"$f":"Copy!S57","v":""},{"$f":"Copy!G57","v":""},null,{"$f":"IF(ISERROR((F337-E337)/E337), N/A, (F337-E337)/E337)","v":{"$error":"#NAME?"}}]
["ISO Letter Copy Duplex",6,"DADF Duplex FCOT- Auto (Mono)","Seconds",{"$f":"Copy!R57","v":""},{"$f":"Copy!F57","v":""},null,{"$f":"IF(ISERROR((F338-E338)/E338), N/A, (F338-E338)/E338)","v":{"$error":"#NAME?"}}]
["Jobs to Use","# Jobs","Copy from DADF to Default Tray Multiple Page FCOT","Measured in","Benchmark ",{"$f":"$G$8","v":"0.123.0"},null,"Delta"]
["ISO Letter Copy",1,"Simplex-Simplex Color 11 inch FCOT","Seconds",{"$f":"IF(Copy!R65=0, \"\", Copy!R65)","v":""},{"$f":"IF(Copy!F65=0, \"\", Copy!F65)","v":""},null,{"$f":"IF(ISERROR((F340-E340)/E340), N/A, (F340-E340)/E340)","v":{"$error":"#NAME?"}}]
["ISO Letter Copy",1,"Simplex-Simplex Mono 11 inch FCOT","Seconds",{"$f":"IF(Copy!R66=0, \"\", Copy!R66)","v":""},{"$f":"IF(Copy!F66=0, \"\", Copy!F66)","v":""},null,{"$f":"IF(ISERROR((F341-E341)/E341), N/A, (F341-E341)/E341)","v":{"$error":"#NAME?"}}]
["ISO Legal Copy",1,"Simplex-Simplex Color 14 inch FCOT","Seconds",{"$f":"IF(Copy!R67=0, \"\", Copy!R67)","v":""},{"$f":"IF(Copy!F67=0, \"\", Copy!F67)","v":""},null,{"$f":"IF(ISERROR((F342-E342)/E342), N/A, (F342-E342)/E342)","v":{"$error":"#NAME?"}}]
["ISO Tabloid Copy",1,"Simplex-Simplex Color 17 inch FCOT","Seconds",{"$f":"IF(Copy!R68=0, \"\", Copy!R68)","v":""},{"$f":"IF(Copy!F68=0, \"\", Copy!F68)","v":""},null,{"$f":"IF(ISERROR((F343-E343)/E343), N/A, (F343-E343)/E343)","v":{"$error":"#NAME?"}}]
["ISO Letter Copy",1,"Simplex-Duplex Color 11 inch FCOT","Seconds",{"$f":"IF(Copy!R70=0, \"\", Copy!R70)","v":""},{"$f":"IF(Copy!F70=0, \"\", Copy!F70)","v":""},null,{"$f":"IF(ISERROR((F344-E344)/E344), N/A, (F344-E344)/E344)","v":{"$error":"#NAME?"}}]
["ISO Letter Copy",1,"Simplex-Duplex Mono 11 inch FCOT","Seconds",{"$f":"IF(Copy!R71=0, \"\", Copy!R71)","v":""},{"$f":"IF(Copy!F71=0, \"\", Copy!F71)","v":""},null,{"$f":"IF(ISERROR((F345-E345)/E345), N/A, (F345-E345)/E345)","v":{"$error":"#NAME?"}}]
["ISO Legal Copy",1,"Simplex-Duplex Color 14 inch FCOT","Seconds",{"$f":"IF(Copy!R72=0, \"\", Copy!R72)","v":""},{"$f":"IF(Copy!F72=0, \"\", Copy!F72)","v":""},null,{"$f":"IF(ISERROR((F346-E346)/E346), N/A, (F346-E346)/E346)","v":{"$error":"#NAME?"}}]
["ISO Legal Copy",1,"Simplex-Duplex Mono 14 inch FCOT","Seconds",{"$f":"IF(Copy!R73=0, \"\", Copy!R73)","v":""},{"$f":"IF(Copy!F73=0, \"\", Copy!F73)","v":""},null,{"$f":"IF(ISERROR((F347-E347)/E347), N/A, (F347-E347)/E347)","v":{"$error":"#NAME?"}}]
["ISO Tabloid Copy",1,"Simplex-Duplex Color 17 inch FCOT","Seconds",{"$f":"IF(Copy!R74=0, \"\", Copy!R74)","v":""},{"$f":"IF(Copy!F74=0, \"\", Copy!F74)","v":""},null,{"$f":"IF(ISERROR((F348-E348)/E348), N/A, (F348-E348)/E348)","v":{"$error":"#NAME?"}}]
["ISO Tabloid Copy",1,"Simplex-Duplex Mono 17 inch FCOT","Seconds",{"$f":"IF(Copy!R75=0, \"\", Copy!R75)","v":""},{"$f":"IF(Copy!F75=0, \"\", Copy!F75)","v":""},null,{"$f":"IF(ISERROR((F349-E349)/E349), N/A, (F349-E349)/E349)","v":{"$error":"#NAME?"}}]
["ISO Letter Copy",1,"Duplex-Duplex Color 11 inch FCOT","Seconds",{"$f":"IF(Copy!R77=0, \"\", Copy!R77)","v":""},{"$f":"IF(Copy!F77=0, \"\", Copy!F77)","v":""},null,{"$f":"IF(ISERROR((F350-E350)/E350), N/A, (F350-E350)/E350)","v":{"$error":"#NAME?"}}]
["ISO Letter Copy",1,"Duplex-Duplex Mono 11 inch FCOT","Seconds",{"$f":"IF(Copy!R78=0, \"\", Copy!R78)","v":""},{"$f":"IF(Copy!F78=0, \"\", Copy!F78)","v":""},null,{"$f":"IF(ISERROR((F351-E351)/E351), N/A, (F351-E351)/E351)","v":{"$error":"#NAME?"}}]
["ISO Legal Copy",1,"Duplex-Duplex Color 14 inch FCOT","Seconds",{"$f":"IF(Copy!R79=0, \"\", Copy!R79)","v":""},{"$f":"IF(Copy!F79=0, \"\", Copy!F79)","v":""},null,{"$f":"IF(ISERROR((F352-E352)/E352), N/A, (F352-E352)/E352)","v":{"$error":"#NAME?"}}]
["ISO Tabloid Copy",1,"Duplex-Duplex Color 17 inch FCOT","Seconds",{"$f":"IF(Copy!R80=0, \"\", Copy!R80)","v":""},{"$f":"IF(Copy!F80=0, \"\", Copy!F80)","v":""},null,{"$f":"IF(ISERROR((F353-E353)/E353), N/A, (F353-E353)/E353)","v":{"$error":"#NAME?"}}]
["Jobs to Use","# Jobs","Copy from DADF to Default Tray Multiple Page 2-N","Measured in","Benchmark ",{"$f":"$G$8","v":"0.123.0"},null,"Delta"]
["ISO Letter Copy",1,"Simplex-Simplex Color 11 inch 2-N","% Rated Speed",{"$f":"Copy!U65","v":""},{"$f":"Copy!I65","v":""},null,{"$f":"IF(ISERROR((E355-F355)/E355), N/A, (E355-F355)/E355)","v":{"$error":"#NAME?"}}]
["ISO Letter Copy",1,"Simplex-Simplex Mono 11 inch 2-N","% Rated Speed",{"$f":"Copy!U66","v":""},{"$f":"Copy!I66","v":""},null,{"$f":"IF(ISERROR((E356-F356)/E356), N/A, (E356-F356)/E356)","v":{"$error":"#NAME?"}}]
["ISO Legal Copy",1,"Simplex-Simplex Color 14 inch 2-N","% Rated Speed",{"$f":"Copy!U67","v":""},{"$f":"Copy!I67","v":""},null,{"$f":"IF(ISERROR((E357-F357)/E357), N/A, (E357-F357)/E357)","v":{"$error":"#NAME?"}}]
["ISO Tabloid Copy",1,"Simplex-Simplex Color 17 inch 2-N","% Rated Speed",{"$f":"Copy!U68","v":""},{"$f":"Copy!I68","v":""},null,{"$f":"IF(ISERROR((E358-F358)/E358), N/A, (E358-F358)/E358)","v":{"$error":"#NAME?"}}]
["ISO Letter Copy",1,"Simplex-Duplex Color 11 inch 2-N","% Rated Speed",{"$f":"Copy!U70","v":""},{"$f":"Copy!I70","v":""},null,{"$f":"IF(ISERROR((E359-F359)/E359), N/A, (E359-F359)/E359)","v":{"$error":"#NAME?"}}]
["ISO Letter Copy",1,"Simplex-Duplex Mono 11 inch 2-N","% Rated Speed",{"$f":"Copy!U71","v":""},{"$f":"Copy!I71","v":""},null,{"$f":"IF(ISERROR((E360-F360)/E360), N/A, (E360-F360)/E360)","v":{"$error":"#NAME?"}}]
["ISO Legal Copy",1,"Simplex-Duplex Color 14 inch 2-N","% Rated Speed",{"$f":"Copy!U72","v":""},{"$f":"Copy!I72","v":""},null,{"$f":"IF(ISERROR((E361-F361)/E361), N/A, (E361-F361)/E361)","v":{"$error":"#NAME?"}}]
["ISO Legal Copy",1,"Simplex-Duplex Mono 14 inch 2-N","% Rated Speed",{"$f":"Copy!U73","v":""},{"$f":"Copy!I73","v":""},null,{"$f":"IF(ISERROR((E362-F362)/E362), N/A, (E362-F362)/E362)","v":{"$error":"#NAME?"}}]
["ISO Tabloid Copy",1,"Simplex-Duplex Color 17 inch 2-N","% Rated Speed",{"$f":"Copy!U74","v":""},{"$f":"Copy!I74","v":""},null,{"$f":"IF(ISERROR((E363-F363)/E363), N/A, (E363-F363)/E363)","v":{"$error":"#NAME?"}}]
["ISO Tabloid Copy",1,"Simplex-Duplex Mono 17 inch 2-N","% Rated Speed",{"$f":"Copy!U75","v":""},{"$f":"Copy!I75","v":""},null,{"$f":"IF(ISERROR((E364-F364)/E364), N/A, (E364-F364)/E364)","v":{"$error":"#NAME?"}}]
["ISO Letter Copy",1,"Duplex-Duplex Color 11 inch 2-N","% Rated Speed",{"$f":"Copy!U77","v":""},{"$f":"Copy!I77","v":""},null,{"$f":"IF(ISERROR((E365-F365)/E365), N/A, (E365-F365)/E365)","v":{"$error":"#NAME?"}}]
["ISO Letter Copy",1,"Duplex-Duplex Mono 11 inch 2-N","% Rated Speed",{"$f":"Copy!U78","v":""},{"$f":"Copy!I78","v":""},null,{"$f":"IF(ISERROR((E366-F366)/E366), N/A, (E366-F366)/E366)","v":{"$error":"#NAME?"}}]
["ISO Legal Copy",1,"Duplex-Duplex Color 14 inch 2-N","% Rated Speed",{"$f":"Copy!U79","v":""},{"$f":"Copy!I79","v":""},null,{"$f":"IF(ISERROR((E367-F367)/E367), N/A, (E367-F367)/E367)","v":{"$error":"#NAME?"}}]
["ISO Tabloid Copy",1,"Duplex-Duplex Color 17 inch 2-N","% Rated Speed",{"$f":"Copy!U80","v":""},{"$f":"Copy!I80","v":""},null,{"$f":"IF(ISERROR((E368-F368)/E368), N/A, (E368-F368)/E368)","v":{"$error":"#NAME?"}}]
["Jobs to Use","# Jobs","Copy from DADF to Default Tray Multiple Page C-C","Measured in","Benchmark ",{"$f":"$G$8","v":"0.123.0"},null,"Delta"]
["ISO Letter Copy",1,"Simplex-Simplex Color 11 inch C-C","% Rated Speed",{"$f":"Copy!V65","v":""},{"$f":"Copy!J65","v":""},null,{"$f":"IF(ISERROR((E370-F370)/E370), N/A, (E370-F370)/E370)","v":{"$error":"#NAME?"}}]
["ISO Letter Copy",1,"Simplex-Simplex Mono 11 inch C-C","% Rated Speed",{"$f":"Copy!V66","v":""},{"$f":"Copy!J66","v":""},null,{"$f":"IF(ISERROR((E371-F371)/E371), N/A, (E371-F371)/E371)","v":{"$error":"#NAME?"}}]
["ISO Legal Copy",1,"Simplex-Simplex Color 14 inch C-C","% Rated Speed",{"$f":"Copy!V67","v":""},{"$f":"Copy!J67","v":""},null,{"$f":"IF(ISERROR((E372-F372)/E372), N/A, (E372-F372)/E372)","v":{"$error":"#NAME?"}}]
["ISO Tabloid Copy",1,"Simplex-Simplex Color 17 inch C-C","% Rated Speed",{"$f":"Copy!V68","v":""},{"$f":"Copy!J68","v":""},null,{"$f":"IF(ISERROR((E373-F373)/E373), N/A, (E373-F373)/E373)","v":{"$error":"#NAME?"}}]
["ISO Letter Copy",1,"Simplex-Duplex Color 11 inch C-C","% Rated Speed",{"$f":"Copy!V70","v":""},{"$f":"Copy!J70","v":""},null,{"$f":"IF(ISERROR((E374-F374)/E374), N/A, (E374-F374)/E374)","v":{"$error":"#NAME?"}}]
["ISO Letter Copy",1,"Simplex-Duplex Mono 11 inch C-C","% Rated Speed",{"$f":"Copy!V71","v":""},{"$f":"Copy!J71","v":""},null,{"$f":"IF(ISERROR((E375-F375)/E375), N/A, (E375-F375)/E375)","v":{"$error":"#NAME?"}}]
["ISO Legal Copy",1,"Simplex-Duplex Color 14 inch C-C","% Rated Speed",{"$f":"Copy!V72","v":""},{"$f":"Copy!J72","v":""},null,{"$f":"IF(ISERROR((E376-F376)/E376), N/A, (E376-F376)/E376)","v":{"$error":"#NAME?"}}]
["ISO Legal Copy",1,"Simplex-Duplex Mono 14 inch C-C","% Rated Speed",{"$f":"Copy!V73","v":""},{"$f":"Copy!J73","v":""},null,{"$f":"IF(ISERROR((E377-F377)/E377), N/A, (E377-F377)/E377)","v":{"$error":"#NAME?"}}]
["ISO Tabloid Copy",1,"Simplex-Duplex Color 17 inch C-C","% Rated Speed",{"$f":"Copy!V74","v":""},{"$f":"Copy!J74","v":""},null,{"$f":"IF(ISERROR((E378-F378)/E378), N/A, (E378-F378)/E378)","v":{"$error":"#NAME?"}}]
["ISO Tabloid Copy",1,"Simplex-Duplex Mono 17 inch C-C","% Rated Speed",{"$f":"Copy!V75","v":""},{"$f":"Copy!J75","v":""},null,{"$f":"IF(ISERROR((E379-F379)/E379), N/A, (E379-F379)/E379)","v":{"$error":"#NAME?"}}]
["ISO Letter Copy",1,"Duplex-Duplex Color 11 inch C-C","% Rated Speed",{"$f":"Copy!V77","v":""},{"$f":"Copy!J77","v":""},null,{"$f":"IF(ISERROR((E380-F380)/E380), N/A, (E380-F380)/E380)","v":{"$error":"#NAME?"}}]
["ISO Letter Copy",1,"Duplex-Duplex Mono 11 inch C-C","% Rated Speed",{"$f":"Copy!V78","v":""},{"$f":"Copy!J78","v":""},null,{"$f":"IF(ISERROR((E381-F381)/E381), N/A, (E381-F381)/E381)","v":{"$error":"#NAME?"}}]
["ISO Legal Copy",1,"Duplex-Duplex Color 14 inch C-C","% Rated Speed",{"$f":"Copy!V79","v":""},{"$f":"Copy!J79","v":""},null,{"$f":"IF(ISERROR((E382-F382)/E382), N/A, (E382-F382)/E382)","v":{"$error":"#NAME?"}}]
["ISO Tabloid Copy",1,"Duplex-Duplex Color 17 inch C-C","% Rated Speed",{"$f":"Copy!V80","v":""},{"$f":"Copy!J80","v":""},null,{"$f":"IF(ISERROR((E383-F383)/E383), N/A, (E383-F383)/E383)","v":{"$error":"#NAME?"}}]
["Jobs to Use","# Jobs","Scan to Server DADF - Speed ","Measured in","Benchmark ",{"$f":"$G$8","v":"0.123.0"},null,"Delta"]
["PScan10",1,"PDF 200 dpi                   Mono","PPM",{"$f":"Scan!AC19","v":""},{"$f":"Scan!M19","v":""},null,{"$f":"IF(ISERROR((E385-F385)/E385), N/A, (E385-F385)/E385)","v":{"$error":"#NAME?"}}]
["PScan10",1,"PDF 200 dpi                   Grayscale","PPM",{"$f":"Scan!AC20","v":""},{"$f":"Scan!M20","v":""},null,{"$f":"IF(ISERROR((E386-F386)/E386), N/A, (E386-F386)/E386)","v":{"$error":"#NAME?"}}]
["PScan10",1,"PDF 200 dpi                   Color","PPM",{"$f":"Scan!AC21","v":""},{"$f":"Scan!M21","v":""},null,{"$f":"IF(ISERROR((E387-F387)/E387), N/A, (E387-F387)/E387)","v":{"$error":"#NAME?"}}]
["PScan10",1,"PDF 200 dpi                   Auto","PPM",{"$f":"Scan!AC22","v":""},{"$f":"Scan!M22","v":""},null,{"$f":"IF(ISERROR((E388-F388)/E388), N/A, (E388-F388)/E388)","v":{"$error":"#NAME?"}}]
["PScan10",1,"PDF 300 dpi                   Mono","PPM",{"$f":"Scan!AC25","v":""},{"$f":"Scan!M25","v":""},null,{"$f":"IF(ISERROR((E389-F389)/E389), N/A, (E389-F389)/E389)","v":{"$error":"#NAME?"}}]
["PScan10",1,"PDF 300 dpi                   Grayscale","PPM",{"$f":"Scan!AC26","v":""},{"$f":"Scan!M26","v":""},null,{"$f":"IF(ISERROR((E390-F390)/E390), N/A, (E390-F390)/E390)","v":{"$error":"#NAME?"}}]
["PScan10",1,"PDF 300 dpi                   Color","PPM",{"$f":"Scan!AC27","v":""},{"$f":"Scan!M27","v":""},null,{"$f":"IF(ISERROR((E391-F391)/E391), N/A, (E391-F391)/E391)","v":{"$error":"#NAME?"}}]
["PScan10",1,"PDF 300 dpi                   Auto","PPM",{"$f":"Scan!AC28","v":""},{"$f":"Scan!M28","v":""},null,{"$f":"IF(ISERROR((E392-F392)/E392), N/A, (E392-F392)/E392)","v":{"$error":"#NAME?"}}]
["PScan10",1,"PDF 600 dpi                   Mono","PPM",{"$f":"Scan!AC31","v":""},{"$f":"Scan!M31","v":""},null,{"$f":"IF(ISERROR((E393-F393)/E393), N/A, (E393-F393)/E393)","v":{"$error":"#NAME?"}}]
["PScan10",1,"PDF 600 dpi                   Grayscale","PPM",{"$f":"Scan!AC32","v":""},{"$f":"Scan!M32","v":""},null,{"$f":"IF(ISERROR((E394-F394)/E394), N/A, (E394-F394)/E394)","v":{"$error":"#NAME?"}}]
["PScan10",1,"PDF 600 dpi                   Color","PPM",{"$f":"Scan!AC33","v":""},{"$f":"Scan!M33","v":""},null,{"$f":"IF(ISERROR((E395-F395)/E395), N/A, (E395-F395)/E395)","v":{"$error":"#NAME?"}}]
["PScan10",1,"PDF 600 dpi                   Auto","PPM",{"$f":"Scan!AC34","v":""},{"$f":"Scan!M34","v":""},null,{"$f":"IF(ISERROR((E396-F396)/E396), N/A, (E396-F396)/E396)","v":{"$error":"#NAME?"}}]
["PScan10",1,"PDF/ OCR 200 dpi          Mono","PPM",{"$f":"Scan!AD39","v":""},{"$f":"Scan!N39","v":""},null,{"$f":"IF(ISERROR((E397-F397)/E397), N/A, (E397-F397)/E397)","v":{"$error":"#NAME?"}}]
["PScan10",1,"PDF/ OCR 200 dpi          Color","PPM",{"$f":"Scan!AD40","v":""},{"$f":"Scan!N40","v":""},null,{"$f":"IF(ISERROR((E398-F398)/E398), N/A, (E398-F398)/E398)","v":{"$error":"#NAME?"}}]
["PScan10",1,"PDF/ OCR 300 dpi          Mono","PPM",{"$f":"Scan!AD43","v":""},{"$f":"Scan!N43","v":""},null,{"$f":"IF(ISERROR((E399-F399)/E399), N/A, (E399-F399)/E399)","v":{"$error":"#NAME?"}}]
["PScan10",1,"PDF/ OCR 300 dpi          Color","PPM",{"$f":"Scan!AD44","v":""},{"$f":"Scan!N44","v":""},null,{"$f":"IF(ISERROR((E400-F400)/E400), N/A, (E400-F400)/E400)","v":{"$error":"#NAME?"}}]
["PScan10",1,"MTIFF 200 dpi                 Mono","PPM",{"$f":"Scan!AC49","v":""},{"$f":"Scan!M49","v":""},null,{"$f":"IF(ISERROR((E401-F401)/E401), N/A, (E401-F401)/E401)","v":{"$error":"#NAME?"}}]
["PScan10",1,"MTIFF 200 dpi                 Grayscale","PPM",{"$f":"Scan!AC50","v":""},{"$f":"Scan!M50","v":""},null,{"$f":"IF(ISERROR((E402-F402)/E402), N/A, (E402-F402)/E402)","v":{"$error":"#NAME?"}}]
["PScan10",1,"MTIFF 200 dpi                 Color","PPM",{"$f":"Scan!AC51","v":""},{"$f":"Scan!M51","v":""},null,{"$f":"IF(ISERROR((E403-F403)/E403), N/A, (E403-F403)/E403)","v":{"$error":"#NAME?"}}]
["PScan10",1,"MTIFF 600 dpi                 Mono","PPM",{"$f":"Scan!AC54","v":""},{"$f":"Scan!M54","v":""},null,{"$f":"IF(ISERROR((E404-F404)/E404), N/A, (E404-F404)/E404)","v":{"$error":"#NAME?"}}]
["PScan10",1,"MTIFF 600 dpi                 Grayscale","PPM",{"$f":"Scan!AC55","v":""},{"$f":"Scan!M55","v":""},null,{"$f":"IF(ISERROR((E405-F405)/E405), N/A, (E405-F405)/E405)","v":{"$error":"#NAME?"}}]
["PScan10",1,"MTIFF 600 dpi                 Color","PPM",{"$f":"Scan!AC56","v":""},{"$f":"Scan!M56","v":""},null,{"$f":"IF(ISERROR((E406-F406)/E406), N/A, (E406-F406)/E406)","v":{"$error":"#NAME?"}}]
["PScan10",1,"MTIFF 600 dpi                 Color Quality Highest","PPM",{"$f":"Scan!AC59","v":""},{"$f":"Scan!M59","v":""},null,{"$f":"IF(ISERROR((E407-F407)/E407), N/A, (E407-F407)/E407)","v":{"$error":"#NAME?"}}]
["Jobs to Use","# Jobs","Scan to Server - File Size","Measured in"," ",{"$f":"$G$8","v":"0.123.0"},null,"Delta"]
["PScan10",1,"PDF 200 dpi                   Mono","Bytes",{"$f":"IF(Scan!AB19=0, \"\",Scan!AB19)","v":""},{"$f":"IF(Scan!L19=0, \"\",Scan!L19)","v":""},null,{"$f":"IF(ISERROR((F409-E409)/E409), N/A, (F409-E409)/E409)","v":{"$error":"#NAME?"}}]
["PScan10",1,"PDF 200 dpi                   Grayscale","Bytes",{"$f":"IF(Scan!AB20=0, \"\",Scan!AB20)","v":""},{"$f":"IF(Scan!L20=0, \"\",Scan!L20)","v":""},null,{"$f":"IF(ISERROR((F410-E410)/E410), N/A, (F410-E410)/E410)","v":{"$error":"#NAME?"}}]
["PScan10",1,"PDF 200 dpi                   Color","Bytes",{"$f":"IF(Scan!AB21=0, \"\",Scan!AB21)","v":""},{"$f":"IF(Scan!L21=0, \"\",Scan!L21)","v":""},null,{"$f":"IF(ISERROR((F411-E411)/E411), N/A, (F411-E411)/E411)","v":{"$error":"#NAME?"}}]
["PScan10",1,"PDF 200 dpi                   Auto","Bytes",{"$f":"IF(Scan!AB22=0, \"\",Scan!AB22)","v":""},{"$f":"IF(Scan!L22=0, \"\",Scan!L22)","v":""},null,{"$f":"IF(ISERROR((F412-E412)/E412), N/A, (F412-E412)/E412)","v":{"$error":"#NAME?"}}]
["PScan10",1,"PDF 300 dpi                   Mono","Bytes",{"$f":"IF(Scan!AB25=0, \"\",Scan!AB25)","v":""},{"$f":"IF(Scan!L25=0, \"\",Scan!L25)","v":""},null,{"$f":"IF(ISERROR((F413-E413)/E413), N/A, (F413-E413)/E413)","v":{"$error":"#NAME?"}}]
["PScan10",1,"PDF 300 dpi                   Grayscale","Bytes",{"$f":"IF(Scan!AB26=0, \"\",Scan!AB26)","v":""},{"$f":"IF(Scan!L26=0, \"\",Scan!L26)","v":""},null,{"$f":"IF(ISERROR((F414-E414)/E414), N/A, (F414-E414)/E414)","v":{"$error":"#NAME?"}}]
["PScan10",1,"PDF 300 dpi                   Color","Bytes",{"$f":"IF(Scan!AB27=0, \"\",Scan!AB27)","v":""},{"$f":"IF(Scan!L27=0, \"\",Scan!L27)","v":""},null,{"$f":"IF(ISERROR((F415-E415)/E415), N/A, (F415-E415)/E415)","v":{"$error":"#NAME?"}}]
["PScan10",1,"PDF 300 dpi                   Auto","Bytes",{"$f":"IF(Scan!AB28=0, \"\",Scan!AB28)","v":""},{"$f":"IF(Scan!L28=0, \"\",Scan!L28)","v":""},null,{"$f":"IF(ISERROR((F416-E416)/E416), N/A, (F416-E416)/E416)","v":{"$error":"#NAME?"}}]
["PScan10",1,"PDF 600 dpi                   Mono","Bytes",{"$f":"IF(Scan!AB31=0, \"\",Scan!AB31)","v":""},{"$f":"IF(Scan!L31=0, \"\",Scan!L31)","v":""},null,{"$f":"IF(ISERROR((F417-E417)/E417), N/A, (F417-E417)/E417)","v":{"$error":"#NAME?"}}]
["PScan10",1,"PDF 600 dpi                   Grayscale","Bytes",{"$f":"IF(Scan!AB32=0, \"\",Scan!AB32)","v":""},{"$f":"IF(Scan!L32=0, \"\",Scan!L32)","v":""},null,{"$f":"IF(ISERROR((F418-E418)/E418), N/A, (F418-E418)/E418)","v":{"$error":"#NAME?"}}]
["PScan10",1,"PDF 600 dpi                   Color","Bytes",{"$f":"IF(Scan!AB33=0, \"\",Scan!AB33)","v":""},{"$f":"IF(Scan!L33=0, \"\",Scan!L33)","v":""},null,{"$f":"IF(ISERROR((F419-E419)/E419), N/A, (F419-E419)/E419)","v":{"$error":"#NAME?"}}]
["PScan10",1,"PDF 600 dpi                   Auto","Bytes",{"$f":"IF(Scan!AB34=0, \"\",Scan!AB34)","v":""},{"$f":"IF(Scan!L34=0, \"\",Scan!L34)","v":""},null,{"$f":"IF(ISERROR((F420-E420)/E420), N/A, (F420-E420)/E420)","v":{"$error":"#NAME?"}}]
["PScan10",1,"PDF/ OCR 200 dpi          Mono","Bytes",{"$f":"IF(Scan!AB39=0, \"\",Scan!AB39)","v":""},{"$f":"IF(Scan!L39=0, \"\",Scan!L39)","v":""},null,{"$f":"IF(ISERROR((F421-E421)/E421), N/A, (F421-E421)/E421)","v":{"$error":"#NAME?"}}]
["PScan10",1,"PDF/ OCR 200 dpi          Color","Bytes",{"$f":"IF(Scan!AB40=0, \"\",Scan!AB40)","v":""},{"$f":"IF(Scan!L40=0, \"\",Scan!L40)","v":""},null,{"$f":"IF(ISERROR((F422-E422)/E422), N/A, (F422-E422)/E422)","v":{"$error":"#NAME?"}}]
["PScan10",1,"PDF/ OCR 300 dpi          Mono","Bytes",{"$f":"IF(Scan!AB43=0, \"\",Scan!AB43)","v":""},{"$f":"IF(Scan!L43=0, \"\",Scan!L43)","v":""},null,{"$f":"IF(ISERROR((F423-E423)/E423), N/A, (F423-E423)/E423)","v":{"$error":"#NAME?"}}]
["PScan10",1,"PDF/ OCR 300 dpi          Color","Bytes",{"$f":"IF(Scan!AB44=0, \"\",Scan!AB44)","v":""},{"$f":"IF(Scan!L44=0, \"\",Scan!L44)","v":""},null,{"$f":"IF(ISERROR((F424-E424)/E424), N/A, (F424-E424)/E424)","v":{"$error":"#NAME?"}}]
["PScan10",1,"MTIFF 200 dpi                 Mono","Bytes",{"$f":"IF(Scan!AB49=0, \"\",Scan!AB49)","v":""},{"$f":"IF(Scan!L49=0, \"\",Scan!L49)","v":""},null,{"$f":"IF(ISERROR((F425-E425)/E425), N/A, (F425-E425)/E425)","v":{"$error":"#NAME?"}}]
["PScan10",1,"MTIFF 200 dpi                 Grayscale","Bytes",{"$f":"IF(Scan!AB50=0, \"\",Scan!AB50)","v":""},{"$f":"IF(Scan!L50=0, \"\",Scan!L50)","v":""},null,{"$f":"IF(ISERROR((F426-E426)/E426), N/A, (F426-E426)/E426)","v":{"$error":"#NAME?"}}]
["PScan10",1,"MTIFF 200 dpi                 Color","Bytes",{"$f":"IF(Scan!AB51=0, \"\",Scan!AB51)","v":""},{"$f":"IF(Scan!L51=0, \"\",Scan!L51)","v":""},null,{"$f":"IF(ISERROR((F427-E427)/E427), N/A, (F427-E427)/E427)","v":{"$error":"#NAME?"}}]
["PScan10",1,"MTIFF 600 dpi                 Mono","Bytes",{"$f":"IF(Scan!AB54=0, \"\",Scan!AB54)","v":""},{"$f":"IF(Scan!L54=0, \"\",Scan!L54)","v":""},null,{"$f":"IF(ISERROR((F428-E428)/E428), N/A, (F428-E428)/E428)","v":{"$error":"#NAME?"}}]
["PScan10",1,"MTIFF 600 dpi                 Grayscale","Bytes",{"$f":"IF(Scan!AB55=0, \"\",Scan!AB55)","v":""},{"$f":"IF(Scan!L55=0, \"\",Scan!L55)","v":""},null,{"$f":"IF(ISERROR((F429-E429)/E429), N/A, (F429-E429)/E429)","v":{"$error":"#NAME?"}}]
["PScan10",1,"MTIFF 600 dpi                 Color","Bytes",{"$f":"IF(Scan!AB56=0, \"\",Scan!AB56)","v":""},{"$f":"IF(Scan!L56=0, \"\",Scan!L56)","v":""},null,{"$f":"IF(ISERROR((F430-E430)/E430), N/A, (F430-E430)/E430)","v":{"$error":"#NAME?"}}]
["PScan10",1,"MTIFF 600 dpi                 Color Quality Highest","Bytes",{"$f":"IF(Scan!AB59=0, \"\",Scan!AB59)","v":""},{"$f":"IF(Scan!L59=0, \"\",Scan!L59)","v":""},null,{"$f":"IF(ISERROR((F431-E431)/E431), N/A, (F431-E431)/E431)","v":{"$error":"#NAME?"}}]
["FlowerGirl",1,"JPG 200 dpi                    Auto","Bytes",{"$f":"IF(Scan!Z63=0, \"\",Scan!Z63)","v":""},{"$f":"IF(Scan!J63=0, \"\",Scan!J63)","v":""},null,{"$f":"IF(ISERROR((F432-E432)/E432), N/A, (F432-E432)/E432)","v":{"$error":"#NAME?"}}]
["FlowerGirl",1,"JPG 300 dpi                    Auto","Bytes",{"$f":"IF(Scan!Z64=0, \"\",Scan!Z64)","v":""},{"$f":"IF(Scan!J64=0, \"\",Scan!J64)","v":""},null,{"$f":"IF(ISERROR((F433-E433)/E433), N/A, (F433-E433)/E433)","v":{"$error":"#NAME?"}}]
["FlowerGirl",1,"JPG 600 dpi                    Auto","Bytes",{"$f":"IF(Scan!Z65=0, \"\",Scan!Z65)","v":""},{"$f":"IF(Scan!J65=0, \"\",Scan!J65)","v":""},null,{"$f":"IF(ISERROR((F434-E434)/E434), N/A, (F434-E434)/E434)","v":{"$error":"#NAME?"}}]
["Jobs to Use","# Jobs","Scan to Server - Click to Files on Server","Measured in","Benchmark ",{"$f":"$G$8","v":"0.123.0"},null,"Delta"]
["PScan10",1,"PDF 200 dpi                   Mono","Seconds",{"$f":"IF(Scan!Z19=0, \"\",Scan!Z19)","v":""},{"$f":"IF(Scan!J19=0, \"\",Scan!J19)","v":""},null,{"$f":"IF(ISERROR((F436-E436)/E436), N/A, (F436-E436)/E436)","v":{"$error":"#NAME?"}}]
["PScan10",1,"PDF 200 dpi                   Grayscale","Seconds",{"$f":"IF(Scan!Z20=0, \"\",Scan!Z20)","v":""},{"$f":"IF(Scan!J20=0, \"\",Scan!J20)","v":""},null,{"$f":"IF(ISERROR((F437-E437)/E437), N/A, (F437-E437)/E437)","v":{"$error":"#NAME?"}}]
["PScan10",1,"PDF 200 dpi                   Color","Seconds",{"$f":"IF(Scan!Z21=0, \"\",Scan!Z21)","v":""},{"$f":"IF(Scan!J21=0, \"\",Scan!J21)","v":""},null,{"$f":"IF(ISERROR((F438-E438)/E438), N/A, (F438-E438)/E438)","v":{"$error":"#NAME?"}}]
["PScan10",1,"PDF 200 dpi                   Auto","Seconds",{"$f":"IF(Scan!Z22=0, \"\",Scan!Z22)","v":""},{"$f":"IF(Scan!J22=0, \"\",Scan!J22)","v":""},null,{"$f":"IF(ISERROR((F439-E439)/E439), N/A, (F439-E439)/E439)","v":{"$error":"#NAME?"}}]
["PScan10",1,"PDF 300 dpi                   Mono","Seconds",{"$f":"IF(Scan!Z25=0, \"\",Scan!Z25)","v":""},{"$f":"IF(Scan!J25=0, \"\",Scan!J25)","v":""},null,{"$f":"IF(ISERROR((F440-E440)/E440), N/A, (F440-E440)/E440)","v":{"$error":"#NAME?"}}]
["PScan10",1,"PDF 300 dpi                   Grayscale","Seconds",{"$f":"IF(Scan!Z26=0, \"\",Scan!Z26)","v":""},{"$f":"IF(Scan!J26=0, \"\",Scan!J26)","v":""},null,{"$f":"IF(ISERROR((F441-E441)/E441), N/A, (F441-E441)/E441)","v":{"$error":"#NAME?"}}]
["PScan10",1,"PDF 300 dpi                   Color","Seconds",{"$f":"IF(Scan!Z27=0, \"\",Scan!Z27)","v":""},{"$f":"IF(Scan!J27=0, \"\",Scan!J27)","v":""},null,{"$f":"IF(ISERROR((F442-E442)/E442), N/A, (F442-E442)/E442)","v":{"$error":"#NAME?"}}]
["PScan10",1,"PDF 300 dpi                   Auto","Seconds",{"$f":"IF(Scan!Z28=0, \"\",Scan!Z28)","v":""},{"$f":"IF(Scan!J28=0, \"\",Scan!J28)","v":""},null,{"$f":"IF(ISERROR((F443-E443)/E443), N/A, (F443-E443)/E443)","v":{"$error":"#NAME?"}}]
["PScan10",1,"PDF 600 dpi                   Mono","Seconds",{"$f":"IF(Scan!Z31=0, \"\",Scan!Z31)","v":""},{"$f":"IF(Scan!J31=0, \"\",Scan!J31)","v":""},null,{"$f":"IF(ISERROR((F444-E444)/E444), N/A, (F444-E444)/E444)","v":{"$error":"#NAME?"}}]
["PScan10",1,"PDF 600 dpi                   Grayscale","Seconds",{"$f":"IF(Scan!Z32=0, \"\",Scan!Z32)","v":""},{"$f":"IF(Scan!J32=0, \"\",Scan!J32)","v":""},null,{"$f":"IF(ISERROR((F445-E445)/E445), N/A, (F445-E445)/E445)","v":{"$error":"#NAME?"}}]
["PScan10",1,"PDF 600 dpi                   Color","Seconds",{"$f":"IF(Scan!Z33=0, \"\",Scan!Z33)","v":""},{"$f":"IF(Scan!J33=0, \"\",Scan!J33)","v":""},null,{"$f":"IF(ISERROR((F446-E446)/E446), N/A, (F446-E446)/E446)","v":{"$error":"#NAME?"}}]
["PScan10",1,"PDF 600 dpi                   Auto","Seconds",{"$f":"IF(Scan!Z34=0, \"\",Scan!Z34)","v":""},{"$f":"IF(Scan!J34=0, \"\",Scan!J34)","v":""},null,{"$f":"IF(ISERROR((F447-E447)/E447), N/A, (F447-E447)/E447)","v":{"$error":"#NAME?"}}]
["PScan10",1,"PDF/ OCR 200 dpi          Mono","Seconds",{"$f":"IF(Scan!Z39=0, \"\",Scan!Z39)","v":""},{"$f":"IF(Scan!J39=0, \"\",Scan!J39)","v":""},null,{"$f":"IF(ISERROR((F448-E448)/E448), N/A, (F448-E448)/E448)","v":{"$error":"#NAME?"}}]
["PScan10",1,"PDF/ OCR 200 dpi          Color","Seconds",{"$f":"IF(Scan!Z40=0, \"\",Scan!Z40)","v":""},{"$f":"IF(Scan!J40=0, \"\",Scan!J40)","v":""},null,{"$f":"IF(ISERROR((F449-E449)/E449), N/A, (F449-E449)/E449)","v":{"$error":"#NAME?"}}]
["PScan10",1,"PDF/ OCR 300 dpi          Mono","Seconds",{"$f":"IF(Scan!Z43=0, \"\",Scan!Z43)","v":""},{"$f":"IF(Scan!J43=0, \"\",Scan!J43)","v":""},null,{"$f":"IF(ISERROR((F450-E450)/E450), N/A, (F450-E450)/E450)","v":{"$error":"#NAME?"}}]
["PScan10",1,"PDF/ OCR 300 dpi          Color","Seconds",{"$f":"IF(Scan!Z44=0, \"\",Scan!Z44)","v":""},{"$f":"IF(Scan!J44=0, \"\",Scan!J44)","v":""},null,{"$f":"IF(ISERROR((F451-E451)/E451), N/A, (F451-E451)/E451)","v":{"$error":"#NAME?"}}]
["PScan10",1,"MTIFF 200 dpi                 Mono","Seconds",{"$f":"IF(Scan!Z49=0, \"\",Scan!Z49)","v":""},{"$f":"IF(Scan!J49=0, \"\",Scan!J49)","v":""},null,{"$f":"IF(ISERROR((F452-E452)/E452), N/A, (F452-E452)/E452)","v":{"$error":"#NAME?"}}]
["PScan10",1,"MTIFF 200 dpi                 Grayscale","Seconds",{"$f":"IF(Scan!Z50=0, \"\",Scan!Z50)","v":""},{"$f":"IF(Scan!J50=0, \"\",Scan!J50)","v":""},null,{"$f":"IF(ISERROR((F453-E453)/E453), N/A, (F453-E453)/E453)","v":{"$error":"#NAME?"}}]
["PScan10",1,"MTIFF 200 dpi                 Color","Seconds",{"$f":"IF(Scan!Z51=0, \"\",Scan!Z51)","v":""},{"$f":"IF(Scan!J51=0, \"\",Scan!J51)","v":""},null,{"$f":"IF(ISERROR((F454-E454)/E454), N/A, (F454-E454)/E454)","v":{"$error":"#NAME?"}}]
["PScan10",1,"MTIFF 600 dpi                 Mono","Seconds",{"$f":"IF(Scan!Z54=0, \"\",Scan!Z54)","v":""},{"$f":"IF(Scan!J54=0, \"\",Scan!J54)","v":""},null,{"$f":"IF(ISERROR((F455-E455)/E455), N/A, (F455-E455)/E455)","v":{"$error":"#NAME?"}}]
["PScan10",1,"MTIFF 600 dpi                 Grayscale","Seconds",{"$f":"IF(Scan!Z55=0, \"\",Scan!Z55)","v":""},{"$f":"IF(Scan!J55=0, \"\",Scan!J55)","v":""},null,{"$f":"IF(ISERROR((F456-E456)/E456), N/A, (F456-E456)/E456)","v":{"$error":"#NAME?"}}]
["PScan10",1,"MTIFF 600 dpi                 Color","Seconds",{"$f":"IF(Scan!Z56=0, \"\",Scan!Z56)","v":""},{"$f":"IF(Scan!J56=0, \"\",Scan!J56)","v":""},null,{"$f":"IF(ISERROR((F457-E457)/E457), N/A, (F457-E457)/E457)","v":{"$error":"#NAME?"}}]
["PScan10",1,"MTIFF 600 dpi                 Color Quality Highest","Seconds",{"$f":"IF(Scan!Z59=0, \"\",Scan!Z59)","v":""},{"$f":"IF(Scan!J59=0, \"\",Scan!J59)","v":""},null,{"$f":"IF(ISERROR((F458-E458)/E458), N/A, (F458-E458)/E458)","v":{"$error":"#NAME?"}}]
["FlowerGirl",1,"JPG 200 dpi                    Auto","Seconds",{"$f":"IF(Scan!X63=0, \"\",Scan!X63)","v":""},{"$f":"IF(Scan!H63=0, \"\",Scan!H63)","v":""},null,{"$f":"IF(ISERROR((F459-E459)/E459), N/A, (F459-E459)/E459)","v":{"$error":"#NAME?"}}]
["FlowerGirl",1,"JPG 300 dpi                    Auto","Seconds",{"$f":"IF(Scan!X64=0, \"\",Scan!X64)","v":""},{"$f":"IF(Scan!H64=0, \"\",Scan!H64)","v":""},null,{"$f":"IF(ISERROR((F460-E460)/E460), N/A, (F460-E460)/E460)","v":{"$error":"#NAME?"}}]
["FlowerGirl",1,"JPG 600 dpi                    Auto","Seconds",{"$f":"IF(Scan!X65=0, \"\",Scan!X65)","v":""},{"$f":"IF(Scan!H65=0, \"\",Scan!H65)","v":""},null,{"$f":"IF(ISERROR((F461-E461)/E461), N/A, (F461-E461)/E461)","v":{"$error":"#NAME?"}}]
["Jobs to Use","# Jobs","Scan From Platen - Click to File Displayed ","Measured in","Benchmark ","Enter",null,"Delta"]
["Flowergirl",1,"To Email","Seconds",{"$f":"IF(Scan!Z84=0, \"\", Scan!Z84)","v":12.96},{"$f":"IF(Scan!J84=0, \"\", Scan!J84)","v":11.75},null,{"$f":"IF(ISERROR((F463-E463)/E463), N/A, (F463-E463)/E463)","v":-9.3364197530864251E-2}]
[null,1,"To PC via USB","Seconds",{"$f":"IF(Scan!Z85=0, \"\", Scan!Z85)","v":"NA"},{"$f":"IF(Scan!J85=0, \"\", Scan!J85)","v":" NA"},null,{"$f":"IF(ISERROR((F464-E464)/E464), N/A, (F464-E464)/E464)","v":{"$error":"#NAME?"}}]
[null,1,"To PC via network","Seconds",{"$f":"IF(Scan!Z86=0, \"\", Scan!Z86)","v":12.46},{"$f":"IF(Scan!J86=0, \"\", Scan!J86)","v":" NA"},null,{"$f":"IF(ISERROR((F465-E465)/E465), N/A, (F465-E465)/E465)","v":{"$error":"#NAME?"}}]
["Jobs to Use","# Jobs","Scan From DADF - Click to File Displayed ","Measured in","Benchmark ","Enter",null,"Delta"]
["Pscan10",1,"To Email","Seconds",{"$f":"IF(Scan!AB91=0, \"\", Scan!AB91)","v":26.59},{"$f":"IF(Scan!L91=0, \"\", Scan!L91)","v":24.97},null,{"$f":"IF(ISERROR((F467-E467)/E467), N/A, (F467-E467)/E467)","v":-6.0925159834524296E-2}]
[null,1,"To PC via USB","Seconds",{"$f":"IF(Scan!AB92=0, \"\", Scan!AB92)","v":"NA"},{"$f":"IF(Scan!L92=0, \"\", Scan!L92)","v":"NA"},null,{"$f":"IF(ISERROR((F468-E468)/E468), N/A, (F468-E468)/E468)","v":{"$error":"#NAME?"}}]
[null,1,"To PC via network","Seconds",{"$f":"IF(Scan!AB93=0, \"\", Scan!AB93)","v":22.61},{"$f":"IF(Scan!L93=0, \"\", Scan!L93)","v":"NA"},null,{"$f":"IF(ISERROR((F469-E469)/E469), N/A, (F469-E469)/E469)","v":{"$error":"#NAME?"}}]
["Jobs to Use","# Jobs","DADF Speed PPM","Measured in","Benchmark ","Enter",null,"Delta"]
["Pscan10",1,"To USB Thumbdrive","PPM",{"$f":"IF(Scan!AE90=0, \"\", Scan!AE90)","v":46.471600688468158},{"$f":"IF(Scan!O90=0, \"\", Scan!O90)","v":50.561797752808992},null,{"$f":"IF(ISERROR((E471-F471)/E471), N/A, (E471-F471)/E471)","v":-8.801498127340833E-2}]
[null,1,"To Email","PPM",{"$f":"IF(Scan!AE91=0, \"\", Scan!AE91)","v":55.555555555555564},{"$f":"IF(Scan!O91=0, \"\", Scan!O91)","v":55.327868852459012},null,{"$f":"IF(ISERROR((E472-F472)/E472), N/A, (E472-F472)/E472)","v":4.0983606557379341E-3}]
[null,1,"To PC via USB","PPM",{"$f":"IF(Scan!AE92=0, \"\", Scan!AE92)","v":"NA"},{"$f":"IF(Scan!O92=0, \"\", Scan!O92)","v":"NA"},null,{"$f":"IF(ISERROR((E473-F473)/E473), N/A, (E473-F473)/E473)","v":{"$error":"#NAME?"}}]
[null,1,"To PC via network","PPM",{"$f":"IF(Scan!AE93=0, \"\", Scan!AE93)","v":46.551724137931032},{"$f":"IF(Scan!O93=0, \"\", Scan!O93)","v":"NA"},null,{"$f":"IF(ISERROR((E474-F474)/E474), N/A, (E474-F474)/E474)","v":{"$error":"#NAME?"}}]
["Jobs to Use","# Jobs","Scan From Platen - File Size ","Measured in","Benchmark ","Enter",null,"Delta"]
["Flowergirl",1,"To USB Thumbdrive","Bytes",{"$f":"IF(Scan!AB83=0, \"\", Scan!AB83)","v":454879},{"$f":"IF(Scan!L83=0, \"\", Scan!L83)","v":402066},null,{"$f":"IF(ISERROR((F476-E476)/E476), N/A, (F476-E476)/E476)","v":-0.11610340332264185}]
[null,1,"To Email","Bytes",{"$f":"IF(Scan!AB84=0, \"\", Scan!AB84)","v":445382},{"$f":"IF(Scan!L84=0, \"\", Scan!L84)","v":402139},null,{"$f":"IF(ISERROR((F477-E477)/E477), N/A, (F477-E477)/E477)","v":-9.7091934564037169E-2}]
[null,1,"To PC via USB","Bytes",{"$f":"IF(Scan!AB85=0, \"\", Scan!AB85)","v":"NA"},{"$f":"IF(Scan!L85=0, \"\", Scan!L85)","v":" NA"},null,{"$f":"IF(ISERROR((F478-E478)/E478), N/A, (F478-E478)/E478)","v":{"$error":"#NAME?"}}]
[null,1,"To PC via network","Bytes",{"$f":"IF(Scan!AB86=0, \"\", Scan!AB86)","v":451960},{"$f":"IF(Scan!L86=0, \"\", Scan!L86)","v":" NA"},null,{"$f":"IF(ISERROR((F479-E479)/E479), N/A, (F479-E479)/E479)","v":{"$error":"#NAME?"}}]
["Jobs to Use","# Jobs","Scan From DADF - File Size","Measured in","Benchmark ","Enter",null,"Delta"]
["Pscan10",1,"To USB Thumbdrive","Bytes",{"$f":"IF(Scan!AD90=0, \"\", Scan!AD90)","v":4004614},{"$f":"IF(Scan!N90=0, \"\", Scan!N90)","v":3956614},null,{"$f":"IF(ISERROR((F481-E481)/E481), N/A, (F481-E481)/E481)","v":-1.1986173948350578E-2}]
[null,1,"To Email","Bytes",{"$f":"IF(Scan!AD91=0, \"\", Scan!AD91)","v":3965271},{"$f":"IF(Scan!N91=0, \"\", Scan!N91)","v":3702774},null,{"$f":"IF(ISERROR((F482-E482)/E482), N/A, (F482-E482)/E482)","v":-6.6199006322644777E-2}]
[null,1,"To PC via USB","Bytes",{"$f":"IF(Scan!AD92=0, \"\", Scan!AD92)","v":"NA"},{"$f":"IF(Scan!N92=0, \"\", Scan!N92)","v":"NA"},null,{"$f":"IF(ISERROR((F483-E483)/E483), N/A, (F483-E483)/E483)","v":{"$error":"#NAME?"}}]
[null,1,"To PC via network","Bytes",{"$f":"IF(Scan!AD93=0, \"\", Scan!AD93)","v":3936396},{"$f":"IF(Scan!N93=0, \"\", Scan!N93)","v":"NA"},null,{"$f":"IF(ISERROR((F484-E484)/E484), N/A, (F484-E484)/E484)","v":{"$error":"#NAME?"}}]
["Jobs to Use","# Jobs","Concurrency","Delta Seconds % between Solo & Concurrent","Benchmark ",{"$f":"$G$8","v":"0.123.0"}]
["Print Solo",1,"C-C print time of Sisters.cdr 12 pgs","Solo Time in Seconds",{"$f":"IF('Concurrency, Power'!P13=0, \"\", 'Concurrency, Power'!P13)","v":""},{"$f":"IF('Concurrency, Power'!D13=0, \"\", 'Concurrency, Power'!D13)","v":""}]
["Print Concurrent",1,"C-C print time while copying America 15 pgs","Added Delta in Percent",{"$f":"'Concurrency, Power'!Q14","v":""},{"$f":"'Concurrency, Power'!E14","v":""}]
["Print Concurrent",1,"C-C print time while scanning Pscan10 10pgs","Added Delta in Percent",{"$f":"'Concurrency, Power'!Q15","v":""},{"$f":"'Concurrency, Power'!E15","v":""}]
["Scan Solo",1,"C-C scan time for PScan10 10 pgs","Solo Time in Seconds",{"$f":"IF('Concurrency, Power'!P18=0, \"\", 'Concurrency, Power'!P18)","v":""},{"$f":"IF('Concurrency, Power'!D18=0, \"\", 'Concurrency, Power'!D18)","v":""}]
["Scan Concurrent",1,"C-C scan time while copying America 15 pgs","Added Delta in Percent",{"$f":"'Concurrency, Power'!Q19","v":""},{"$f":"'Concurrency, Power'!E19","v":""}]
["Scan Concurrent",1,"C-C scan time while printing Sisters.cdr 12 pgs","Added Delta in Percent",{"$f":"'Concurrency, Power'!Q21","v":""},{"$f":"'Concurrency, Power'!E21","v":""}]
["Copy Solo",1,"C-C copy time of America 15 pgs","Solo Time in Seconds",{"$f":"IF('Concurrency, Power'!P23=0, \"\", 'Concurrency, Power'!P23)","v":""},{"$f":"IF('Concurrency, Power'!D23=0, \"\", 'Concurrency, Power'!D23)","v":""}]
["Copy Concurrent",1,"C-C copy time while printing Sisters.cdr 12 pgs","Added Delta in Percent",{"$f":"'Concurrency, Power'!Q24","v":""},{"$f":"'Concurrency, Power'!E24","v":""}]
["Jobs to Use","# Jobs","Power Up and Wake Up ","Measured in","Benchmark ",{"$f":"$G$8","v":"0.123.0"},null,"Delta"]
["Power On",null,"Power on machine from cold state","Seconds",{"$f":"IF(ISERROR('Concurrency, Power'!C87), \"\", 'Concurrency, Power'!C87)","v":""},{"$f":"IF(ISERROR('Concurrency, Power'!B87), \"\", 'Concurrency, Power'!B87)","v":""},null,{"$f":"IF(ISERROR((F495-E495)/E495), N/A, (F495-E495)/E495)","v":{"$error":"#NAME?"}}]
["Power On",null,"Power on machine from warm state","Seconds",{"$f":"IF('Concurrency, Power'!Q74=0, \"\", 'Concurrency, Power'!Q74)","v":""},{"$f":"IF('Concurrency, Power'!E74=0, \"\", 'Concurrency, Power'!E74)","v":""},null,{"$f":"IF(ISERROR((F496-E496)/E496), N/A, (F496-E496)/E496)","v":{"$error":"#NAME?"}}]
["Power On",null,"Power on warm to config sheet printed","Seconds",{"$f":"IF('Concurrency, Power'!Q75=0, \"\", 'Concurrency, Power'!Q75)","v":""},{"$f":"IF('Concurrency, Power'!E75=0, \"\", 'Concurrency, Power'!E75)","v":""},null,{"$f":"IF(ISERROR((F497-E497)/E497), N/A, (F497-E497)/E497)","v":{"$error":"#NAME?"}}]
["Wake Up",null,"Wake up machine from Low Power Mode","Seconds",{"$f":"IF('Concurrency, Power'!Q67=0, \"\", 'Concurrency, Power'!Q67)","v":""},{"$f":"IF('Concurrency, Power'!E67=0, \"\", 'Concurrency, Power'!E67)","v":""},null,{"$f":"IF(ISERROR((F498-E498)/E498), N/A, (F498-E498)/E498)","v":{"$error":"#NAME?"}}]
["Wake Up",null,"Wake up machine from Sleep Mode","Seconds",{"$f":"IF('Concurrency, Power'!Q68=0, \"\", 'Concurrency, Power'!Q68)","v":""},{"$f":"IF('Concurrency, Power'!E68=0, \"\", 'Concurrency, Power'!E68)","v":""},null,{"$f":"IF(ISERROR((F499-E499)/E499), N/A, (F499-E499)/E499)","v":{"$error":"#NAME?"}}]
["Wake Up",null,"Wake up from overnight Sleep Mode","Seconds",{"$f":"IF('Concurrency, Power'!Q69=0, \"\", 'Concurrency, Power'!Q69)","v":""},{"$f":"IF('Concurrency, Power'!E69=0, \"\", 'Concurrency, Power'!E69)","v":""},null,{"$f":"IF(ISERROR((F500-E500)/E500), N/A, (F500-E500)/E500)","v":{"$error":"#NAME?"}}]
["Power Off",null,"Power off machine from ready state","Seconds",{"$f":"IF('Concurrency, Power'!Q70=0, \"\", 'Concurrency, Power'!Q70)","v":""},{"$f":"IF('Concurrency, Power'!E70=0, \"\", 'Concurrency, Power'!E70)","v":""},null,{"$f":"IF(ISERROR((F501-E501)/E501), N/A, (F501-E501)/E501)","v":{"$error":"#NAME?"}}]
["Power Off",null,"Power off machine from Low Power Mode","Seconds",{"$f":"IF('Concurrency, Power'!Q71=0, \"\", 'Concurrency, Power'!Q71)","v":""},{"$f":"IF('Concurrency, Power'!E71=0, \"\", 'Concurrency, Power'!E71)","v":""},null,{"$f":"IF(ISERROR((F502-E502)/E502), N/A, (F502-E502)/E502)","v":{"$error":"#NAME?"}}]
["Power Off",null,"Power off machine from Sleep","Seconds",{"$f":"IF('Concurrency, Power'!Q72=0, \"\", 'Concurrency, Power'!Q72)","v":""},{"$f":"IF('Concurrency, Power'!E72=0, \"\", 'Concurrency, Power'!E72)","v":""},null,{"$f":"IF(ISERROR((F503-E503)/E503), N/A, (F503-E503)/E503)","v":{"$error":"#NAME?"}}]
["PointChart (1pg)",1,"C-C print job whole machine is awake","Seconds",{"$f":"IF('Concurrency, Power'!Q63=0, \"\", 'Concurrency, Power'!Q63)","v":""}]
["PointChart (1pg)",1,"C-C print job whole machine is in Low Power Mode","Seconds",{"$f":"IF('Concurrency, Power'!Q64=0, \"\", 'Concurrency, Power'!Q64)","v":""},{"$f":"IF('Concurrency, Power'!E64=0, \"\", 'Concurrency, Power'!E64)","v":""}]
["PointChart (1pg)",1,"C-C print job whole machine is in Sleep Mode","Seconds",{"$f":"IF('Concurrency, Power'!Q65=0, \"\", 'Concurrency, Power'!Q65)","v":""},{"$f":"IF('Concurrency, Power'!E65=0, \"\", 'Concurrency, Power'!E65)","v":""}]
["Jobs to Use","# Jobs","Print Multiple Page Word File to Default Tray No Banner","Measured in","Benchmark ",{"$f":"$G$8","v":"0.123.0"},null,"Delta"]
["Simple 5pg Word Doc",1,"FPOT PS Color","Seconds",{"$f":"IF('Print to Default Tray Full'!S308=0, \"\", 'Print to Default Tray Full'!S308)","v":""},{"$f":"IF('Print to Default Tray Full'!E308=0, \"\", 'Print to Default Tray Full'!E308)","v":""},null,{"$f":"IF(ISERROR((F508-E508)/E508), N/A, (F508-E508)/E508)","v":{"$error":"#NAME?"}}]
["Simple 10pg Word Doc",1,"FPOT PS Color","Seconds",{"$f":"IF('Print to Default Tray Full'!S309=0, \"\", 'Print to Default Tray Full'!S309)","v":""},{"$f":"IF('Print to Default Tray Full'!E309=0, \"\", 'Print to Default Tray Full'!E309)","v":""},null,{"$f":"IF(ISERROR((F509-E509)/E509), N/A, (F509-E509)/E509)","v":{"$error":"#NAME?"}}]
["Simple 30pg Word Doc",1,"FPOT PS Color","Seconds",{"$f":"IF('Print to Default Tray Full'!S310=0, \"\", 'Print to Default Tray Full'!S310)","v":""},{"$f":"IF('Print to Default Tray Full'!E310=0, \"\", 'Print to Default Tray Full'!E310)","v":""},null,{"$f":"IF(ISERROR((F510-E510)/E510), N/A, (F510-E510)/E510)","v":{"$error":"#NAME?"}}]
["Simple 5pg Word Doc",1,"FPOT PCL6 Color","Seconds",{"$f":"IF('Print to Default Tray Full'!S313=0, \"\", 'Print to Default Tray Full'!S313)","v":""},{"$f":"IF('Print to Default Tray Full'!E313=0, \"\", 'Print to Default Tray Full'!E313)","v":""},null,{"$f":"IF(ISERROR((F511-E511)/E511), N/A, (F511-E511)/E511)","v":{"$error":"#NAME?"}}]
["Simple 10pg Word Doc",1,"FPOT PCL6 Color","Seconds",{"$f":"IF('Print to Default Tray Full'!S314=0, \"\", 'Print to Default Tray Full'!S314)","v":""},{"$f":"IF('Print to Default Tray Full'!E314=0, \"\", 'Print to Default Tray Full'!E314)","v":""},null,{"$f":"IF(ISERROR((F512-E512)/E512), N/A, (F512-E512)/E512)","v":{"$error":"#NAME?"}}]
["Simple 30pg Word Doc",1,"FPOT PCL6 Color","Seconds",{"$f":"IF('Print to Default Tray Full'!S315=0, \"\", 'Print to Default Tray Full'!S315)","v":""},{"$f":"IF('Print to Default Tray Full'!E315=0, \"\", 'Print to Default Tray Full'!E315)","v":""},null,{"$f":"IF(ISERROR((F513-E513)/E513), N/A, (F513-E513)/E513)","v":{"$error":"#NAME?"}}]
["Simple 5pg Word Doc",1,"2-N PS Color ","% Rated Speed",{"$f":"'Print to Default Tray Full'!V308","v":""},{"$f":"'Print to Default Tray Full'!H308","v":""},null,{"$f":"IF(ISERROR((E514-F514)/E514), N/A, (E514-F514)/E514)","v":{"$error":"#NAME?"}}]
["Simple 10pg Word Doc",1,"2-N PS Color ","% Rated Speed",{"$f":"'Print to Default Tray Full'!V309","v":""},{"$f":"'Print to Default Tray Full'!H309","v":""},null,{"$f":"IF(ISERROR((E515-F515)/E515), N/A, (E515-F515)/E515)","v":{"$error":"#NAME?"}}]
["Simple 30pg Word Doc",1,"2-N PS Color ","% Rated Speed",{"$f":"'Print to Default Tray Full'!V310","v":""},{"$f":"'Print to Default Tray Full'!H310","v":""},null,{"$f":"IF(ISERROR((E516-F516)/E516), N/A, (E516-F516)/E516)","v":{"$error":"#NAME?"}}]
["Simple 5pg Word Doc",1,"2-N PCL6 Color ","% Rated Speed",{"$f":"'Print to Default Tray Full'!V313","v":""},{"$f":"'Print to Default Tray Full'!H313","v":""},null,{"$f":"IF(ISERROR((E517-F517)/E517), N/A, (E517-F517)/E517)","v":{"$error":"#NAME?"}}]
["Simple 10pg Word Doc",1,"2-N PCL6 Color ","% Rated Speed",{"$f":"'Print to Default Tray Full'!V314","v":""},{"$f":"'Print to Default Tray Full'!H314","v":""},null,{"$f":"IF(ISERROR((E518-F518)/E518), N/A, (E518-F518)/E518)","v":{"$error":"#NAME?"}}]
["Simple 30pg Word Doc",1,"2-N PCL6 Color ","% Rated Speed",{"$f":"'Print to Default Tray Full'!V315","v":""},{"$f":"'Print to Default Tray Full'!H315","v":""},null,{"$f":"IF(ISERROR((E519-F519)/E519), N/A, (E519-F519)/E519)","v":{"$error":"#NAME?"}}]
["Jobs to Use","# Jobs","Print Consecutive Single Page Word Files to Default Tray No Banner","Measured in","Benchmark ",{"$f":"$G$8","v":"0.123.0"},null,"Delta"]
["Simple 1pg Word Doc",5,"FPOT PS Color","Seconds",{"$f":"IF('Print to Default Tray Full'!T322=0, \"\", 'Print to Default Tray Full'!T322)","v":""},{"$f":"IF('Print to Default Tray Full'!F322=0, \"\", 'Print to Default Tray Full'!F322)","v":""},null,{"$f":"IF(ISERROR((F521-E521)/E521), N/A, (F521-E521)/E521)","v":{"$error":"#NAME?"}}]
["Simple 1pg Word Doc",10,"FPOT PS Color","Seconds",{"$f":"IF('Print to Default Tray Full'!T323=0, \"\", 'Print to Default Tray Full'!T323)","v":""},{"$f":"IF('Print to Default Tray Full'!F323=0, \"\", 'Print to Default Tray Full'!F323)","v":""},null,{"$f":"IF(ISERROR((F522-E522)/E522), N/A, (F522-E522)/E522)","v":{"$error":"#NAME?"}}]
["Simple 1pg Word Doc",30,"FPOT PS Color","Seconds",{"$f":"IF('Print to Default Tray Full'!T324=0, \"\", 'Print to Default Tray Full'!T324)","v":""},{"$f":"IF('Print to Default Tray Full'!F324=0, \"\", 'Print to Default Tray Full'!F324)","v":""},null,{"$f":"IF(ISERROR((F523-E523)/E523), N/A, (F523-E523)/E523)","v":{"$error":"#NAME?"}}]
["Simple 1pg Word Doc",5,"FPOT PCL6 Color","Seconds",{"$f":"IF('Print to Default Tray Full'!T327=0, \"\", 'Print to Default Tray Full'!T327)","v":""},{"$f":"IF('Print to Default Tray Full'!F327=0, \"\", 'Print to Default Tray Full'!F327)","v":""},null,{"$f":"IF(ISERROR((F524-E524)/E524), N/A, (F524-E524)/E524)","v":{"$error":"#NAME?"}}]
["Simple 1pg Word Doc",10,"FPOT PCL6 Color","Seconds",{"$f":"IF('Print to Default Tray Full'!T328=0, \"\", 'Print to Default Tray Full'!T328)","v":""},{"$f":"IF('Print to Default Tray Full'!F328=0, \"\", 'Print to Default Tray Full'!F328)","v":""},null,{"$f":"IF(ISERROR((F525-E525)/E525), N/A, (F525-E525)/E525)","v":{"$error":"#NAME?"}}]
["Simple 1pg Word Doc",30,"FPOT PS Color","Seconds",{"$f":"IF('Print to Default Tray Full'!T329=0, \"\", 'Print to Default Tray Full'!T329)","v":""},{"$f":"IF('Print to Default Tray Full'!F329=0, \"\", 'Print to Default Tray Full'!F329)","v":""},null,{"$f":"IF(ISERROR((F526-E526)/E526), N/A, (F526-E526)/E526)","v":{"$error":"#NAME?"}}]
["Simple 1pg Word Doc",5,"2-N PS Color ","% Rated Speed",{"$f":"'Print to Default Tray Full'!W322","v":""},{"$f":"'Print to Default Tray Full'!I322","v":""},null,{"$f":"IF(ISERROR((E527-F527)/E527), N/A, (E527-F527)/E527)","v":{"$error":"#NAME?"}}]
["Simple 1pg Word Doc",10,"2-N PS Color ","% Rated Speed",{"$f":"'Print to Default Tray Full'!W323","v":""},{"$f":"'Print to Default Tray Full'!I323","v":""},null,{"$f":"IF(ISERROR((E528-F528)/E528), N/A, (E528-F528)/E528)","v":{"$error":"#NAME?"}}]
["Simple 1pg Word Doc",30,"2-N PS Color ","% Rated Speed",{"$f":"'Print to Default Tray Full'!W324","v":""},{"$f":"'Print to Default Tray Full'!I324","v":""},null,{"$f":"IF(ISERROR((E529-F529)/E529), N/A, (E529-F529)/E529)","v":{"$error":"#NAME?"}}]
["Simple 1pg Word Doc",5,"2-N PCL6 Color ","% Rated Speed",{"$f":"'Print to Default Tray Full'!W327","v":""},{"$f":"'Print to Default Tray Full'!I327","v":""},null,{"$f":"IF(ISERROR((E530-F530)/E530), N/A, (E530-F530)/E530)","v":{"$error":"#NAME?"}}]
["Simple 1pg Word Doc",10,"2-N PCL6 Color ","% Rated Speed",{"$f":"'Print to Default Tray Full'!W328","v":""},{"$f":"'Print to Default Tray Full'!I328","v":""},null,{"$f":"IF(ISERROR((E531-F531)/E531), N/A, (E531-F531)/E531)","v":{"$error":"#NAME?"}}]
["Simple 1pg Word Doc",30,"2-N PCL6 Color ","% Rated Speed",{"$f":"'Print to Default Tray Full'!W329","v":""},{"$f":"'Print to Default Tray Full'!I329","v":""},null,{"$f":"IF(ISERROR((E532-F532)/E532), N/A, (E532-F532)/E532)","v":{"$error":"#NAME?"}}]
["Complex Job - Default Reolution",7,"FPOT ","Seconds",{"$f":"'Complex Print Jobs'!F16","v":27.207142857142859},{"$f":"'Complex Print Jobs'!I16","v":24.638571428571428},null,{"$f":"IF(ISERROR((F533-E533)/E533), N/A, (F533-E533)/E533)","v":-9.4407981097400978E-2}]
[null,7,"2-N ppm (Default Driver)","PPM",{"$f":"'Complex Print Jobs'!H16","v":14.835084491971703},{"$f":"'Complex Print Jobs'!K16","v":18.037581089470045},null,{"$f":"IF(ISERROR((E534-F534)/E534), N/A, (E534-F534)/E534)","v":-0.21587316197837877}]
[null,7,"C-C","Seconds",{"$f":"'Complex Print Jobs'!G16","v":80.498000000000005},{"$f":"'Complex Print Jobs'!J16","v":72.414000000000001},null,{"$f":"IF(ISERROR((F535-E535)/E535), N/A, (F535-E535)/E535)","v":-0.10042485527590751}]
["Complex Job for Hi Resolution",7,"FPOT ","Seconds",{"$f":"'Complex Print Jobs'!T16","v":27.191428571428567},{"$f":"'Complex Print Jobs'!W16","v":25.621428571428574},null,{"$f":"IF(ISERROR((F536-E536)/E536), N/A, (F536-E536)/E536)","v":-5.7738783230009215E-2}]
[null,7,"2-N ppm (Default Driver)","PPM",{"$f":"'Complex Print Jobs'!V16","v":11.58434131213245},{"$f":"'Complex Print Jobs'!Y16","v":12.028950609464925},null,{"$f":"IF(ISERROR((E537-F537)/E537), N/A, (E537-F537)/E537)","v":-3.8380196625148563E-2}]
[null,7,"C-C","Seconds",{"$f":"'Complex Print Jobs'!U16","v":93.04},{"$f":"'Complex Print Jobs'!X16","v":88.597999999999999},null,{"$f":"IF(ISERROR((F538-E538)/E538), N/A, (F538-E538)/E538)","v":-4.7742906276870237E-2}]
["Jobs to Use","# Jobs","LUI Response","Measured in","Benchmark ",{"$f":"$G$8","v":"0.123.0"},null,"Delta"]
["UI response",8,"Feature First time after reboot","Seconds",{"$f":"UI!$I$17","v":""},{"$f":"UI!$H$17","v":""},null,{"$f":"IF(ISERROR((F540-E540)/E540), N/A, (F540-E540)/E540)","v":{"$error":"#NAME?"}}]
["UI response",8,"Feature Ready","Seconds",{"$f":"UI!$I$30","v":""},{"$f":"UI!$H$30","v":""},null,{"$f":"IF(ISERROR((F541-E541)/E541), N/A, (F541-E541)/E541)","v":{"$error":"#NAME?"}}]
["UI response",8,"Feature access while device is printing","Seconds",{"$f":"UI!$I$42","v":""},{"$f":"UI!$H$42","v":""},null,{"$f":"IF(ISERROR((F542-E542)/E542), N/A, (F542-E542)/E542)","v":{"$error":"#NAME?"}}]
["UI response",3,"Option Button","Seconds",{"$f":"UI!$I$58","v":""},{"$f":"UI!$H$58","v":""},null,{"$f":"IF(ISERROR((F543-E543)/E543), N/A, (F543-E543)/E543)","v":{"$error":"#NAME?"}}]
["UI response",3,"Window bearing button","Seconds",{"$f":"UI!$I$49","v":""},{"$f":"UI!$H$49","v":""},null,{"$f":"IF(ISERROR((F544-E544)/E544), N/A, (F544-E544)/E544)","v":{"$error":"#NAME?"}}]
["UI response",3,"On/off button","Seconds",{"$f":"UI!$I$66","v":""},{"$f":"UI!$H$66","v":""},null,{"$f":"IF(ISERROR((F545-E545)/E545), N/A, (F545-E545)/E545)","v":{"$error":"#NAME?"}}]
["UI response",3,"Increment button","Seconds",{"$f":"UI!$I$73","v":""},{"$f":"UI!$H$73","v":""},null,{"$f":"IF(ISERROR((F546-E546)/E546), N/A, (F546-E546)/E546)","v":{"$error":"#NAME?"}}]
["UI response",3,"Slider button","Seconds",{"$f":"UI!$I$80","v":""},{"$f":"UI!$H$80","v":""},null,{"$f":"IF(ISERROR((F547-E547)/E547), N/A, (F547-E547)/E547)","v":{"$error":"#NAME?"}}]
["UI response",3,"Reset button","Seconds",{"$f":"UI!$I$87","v":""},{"$f":"UI!$H$87","v":""},null,{"$f":"IF(ISERROR((F548-E548)/E548), N/A, (F548-E548)/E548)","v":{"$error":"#NAME?"}}]
["UI response",4,"Pop up","Seconds",{"$f":"UI!$I$96","v":""},{"$f":"UI!$H$96","v":""},null,{"$f":"IF(ISERROR((F549-E549)/E549), N/A, (F549-E549)/E549)","v":{"$error":"#NAME?"}}]
["UI response",3,"Pop over","Seconds",{"$f":"UI!$I$103","v":""},{"$f":"UI!$H$103","v":""},null,{"$f":"IF(ISERROR((F550-E550)/E550), N/A, (F550-E550)/E550)","v":{"$error":"#NAME?"}}]
["UI response",1,"Keyboard","Seconds",{"$f":"UI!$I$108","v":0},{"$f":"UI!$H$108","v":""},null,{"$f":"IF(ISERROR((F551-E551)/E551), N/A, (F551-E551)/E551)","v":{"$error":"#NAME?"}}]
["UI response",1,"Key status while device is printing","Seconds",{"$f":"F551","v":""},{"$f":"UI!$H$113","v":""},null,{"$f":"IF(ISERROR((F552-E552)/E552), N/A, (F552-E552)/E552)","v":{"$error":"#NAME?"}}]
["UI response",1,"Machine status","Seconds",{"$f":"UI!$I$117","v":0},{"$f":"UI!$H$117","v":""},null,{"$f":"IF(ISERROR((F553-E553)/E553), N/A, (F553-E553)/E553)","v":{"$error":"#NAME?"}}]
["UI response",1,"Machine status while device is printing","Seconds",{"$f":"F553","v":""},{"$f":"UI!$H$118","v":""},null,{"$f":"IF(ISERROR((F554-E554)/E554), N/A, (F554-E554)/E554)","v":{"$error":"#NAME?"}}]
["UI response",1,"Open Device Address book of 50 users","Seconds",{"$f":"UI!$I$123","v":0},{"$f":"UI!$H$123","v":""},null,{"$f":"IF(ISERROR((F555-E555)/E555), N/A, (F555-E555)/E555)","v":{"$error":"#NAME?"}}]
["UI response",1,"Open Device Address book of 500 users","Seconds",{"$f":"UI!$I$128","v":0},{"$f":"UI!$H$128","v":""},null,{"$f":"IF(ISERROR((F556-E556)/E556), N/A, (F556-E556)/E556)","v":{"$error":"#NAME?"}}]
["UI response",1,"Open Device Address book of 5000users","Seconds",{"$f":"UI!$I$133","v":0},{"$f":"UI!$H$134","v":""},null,{"$f":"IF(ISERROR((F557-E557)/E557), N/A, (F557-E557)/E557)","v":{"$error":"#NAME?"}}]
["UI response",1,"Open Device Address book with group of 100 contacts ","Seconds",{"$f":"UI!$I$138","v":0},{"$f":"UI!$H$139","v":""},null,{"$f":"IF(ISERROR((F558-E558)/E558), N/A, (F558-E558)/E558)","v":{"$error":"#NAME?"}}]
["UI response",1,"Add a manual contact to Email","Seconds",{"$f":"UI!$I$143","v":0},{"$f":"UI!$H$143","v":""},null,{"$f":"IF(ISERROR((F559-E559)/E559), N/A, (F559-E559)/E559)","v":{"$error":"#NAME?"}}]
["UI response",3,"Print From USB","Seconds",{"$f":"UI!$I$156","v":""},{"$f":"UI!$H$156","v":""},null,{"$f":"IF(ISERROR((F560-E560)/E560), N/A, (F560-E560)/E560)","v":{"$error":"#NAME?"}}]
["UI response",4,"Secure Print","Seconds",{"$f":"UI!$I$175","v":""},{"$f":"UI!$H$175","v":""},null,{"$f":"IF(ISERROR((F561-E561)/E561), N/A, (F561-E561)/E561)","v":{"$error":"#NAME?"}}]
["UI response",4,"Secure Print while device is printing","Seconds",{"$f":"F561","v":""},{"$f":"UI!$H$184","v":""},null,{"$f":"IF(ISERROR((F562-E562)/E562), N/A, (F562-E562)/E562)","v":{"$error":"#NAME?"}}]

{"sheet":"Test Info","index":2,"n_rows":59,"n_cols":27,"rows_kept":59,"cut":false,"hidden":false,"merged":[[3,11,3,12],[2,8,2,9],[2,11,2,12],[4,27,5,27],[1,27,2,27],[7,27,8,27],[51,8,51,15],[52,8,53,9],[52,10,53,13],[52,14,53,15],[18,16,19,16],[20,8,20,16],[24,13,24,14],[23,13,23,14],[24,8,24,9],[21,8,21,9],[21,10,21,12],[21,13,21,14],[22,8,22,9],[22,10,22,12],[22,13,22,14],[27,8,27,9],[27,10,27,12],[18,15,19,15],[23,8,23,9],[23,10,23,12],[25,0,25,6],[37,8,39,14],[37,15,39,15],[47,8,49,14],[47,15,49,15],[41,15,42,15],[29,0,35,6],[26,0,28,6],[25,10,25,12],[25,13,25,14],[23,1,23,6],[24,1,24,6],[25,8,25,9],[50,8,50,15],[46,8,46,15],[43,8,45,14],[30,13,30,14],[41,8,42,14],[35,10,35,12],[35,13,35,14],[28,8,28,16],[26,8,26,9],[26,10,26,12],[26,13,26,14],[33,8,33,9],[33,10,33,12],[33,13,33,14],[27,13,27,14],[17,1,17,6],[19,1,19,6],[22,1,22,6],[43,15,45,15],[32,13,32,14],[30,8,30,9],[35,8,35,9],[31,8,31,9],[31,10,31,12],[40,8,40,15],[36,8,36,15],[30,10,30,12],[29,8,29,9],[29,10,29,12],[29,13,29,14],[34,8,34,9],[34,10,34,12],[34,13,34,14],[31,13,31,14],[32,8,32,9],[32,10,32,12],[20,1,20,6],[18,8,19,14],[24,10,24,12],[11,10,11,12],[11,13,11,14],[14,8,14,9],[14,10,14,12],[14,13,14,14],[16,10,16,12],[12,8,12,9],[16,13,16,14],[15,8,15,16],[3,1,3,6],[7,1,7,6],[11,1,11,6],[10,1,10,6],[2,1,2,2],[2,5,2,6],[2,3,2,4],[5,1,5,6],[8,1,8,6],[9,1,9,6],[6,1,6,6],[4,1,4,2],[4,3,4,4],[4,5,4,6],[0,0,0,6],[3,8,3,9],[15,1,15,6],[11,8,11,9],[14,1,14,6],[12,1,12,6],[18,1,18,6],[16,1,16,6],[9,8,9,9],[8,8,8,16],[9,10,9,12],[17,8,17,9],[17,10,17,12],[17,13,17,14],[16,8,16,9],[7,8,7,16],[13,8,13,9],[13,13,13,14],[13,10,13,12],[9,13,9,14],[12,10,12,12],[12,13,12,14],[10,8,10,16],[1,1,1,6]]}
["Samudra MFP High B0",null,null,null,null,null,null,null,null,null,null,null,null,null,null,null,null,null,null,null,null,null,null,null,null,null,"Data Enteries for Lists"]
["Release: ","0.123.0"]
["Test Start Date:","2017-09-11",null,"Test End Date:",null,"13/11/2017",null,null,"Test Device",null,null,"Benchmark "]
["Benchmark:","Samudra Low MFP",null,null,null,null,null,null,"Engine Speed",null,null,"Engine Speed"]
["Benchmark Start Date:","Enter",null,"Benchmark End Date:",null,"Enter at End of Test",null,null,"Color","Mono",null,"Color","Mono"]
[]
["Template Version 1",null,null,null,null,null,null,null,"NOTE: Verify all possible options on test device config sheet are set to equal config sheet of benchmark device."]
["Test Device","Samudra MFP High",null,null,null,null,null,null,"SETUP CHECKLIST"]
["System Software:","0.123.0",null,null,null,null,null,null,"Check the following items and set to Required Test Setting if applicable.",null,null,null,null,null,null,null,null,null,null,null,null,null,null,null,null,null,"Select"]
["PS Driver Version:","5.588.0.0N",null,null,null,null,null,null,"Heading",null,"Item",null,null,"Required Test Setting",null,"✔","N/A",null,null,null,null,null,null,null,null,null,"T1=N/A"]
["PCL6 Driver Version:","5.588.0.0n",null,null,null,null,null,null,"Check on Device (See Configuration Report)",null,null,null,null,null,null,null,null,null,null,null,null,null,null,null,null,null,"T1=Empty"]
["Finisher 1 type","NA",null,null,null,null,null,null,"Raw IP Printing",null,"Port 9100 Bidirectional",null,null,"Disabled",null,2,{"$f":"P12","v":2},null,null,null,null,null,null,null,null,null,"T1=17\" SEF"]
["Finisher 2 type","NA",null,null,null,null,null,null,"Security",null,"Image overwrite:Immediate",null,null,"Installed/Disabled",null,1,{"$f":"P13","v":1},null,null,null,null,null,null,null,null,null,"T1=14\" SEF"]
["Tray Configuration:","T1=11\" LEF \n      14\" SEF \n      17\" SEF\n     A4 LEF","T2=Empty","T3=Empty","T4=Empty","T5=N/A","T6=N/A",null,"Security",null,"FIPS 140-2",null,null,"Installed/Disabled",null,0,{"$f":"P14","v":0},null,null,null,null,null,null,null,null,null,"T1=11\" LEF"]
[null,null,null,null,null,null,null,null,"Security",null,"User Data Encryption",null,null,"Installed/Enabled",null,0,{"$f":"P15","v":0},null,null,null,null,null,null,null,null,null,"T1=11\" SEF"]
["Benchmark Device","Samudra Low MFP",null,null,null,null,null,null,"Check on Device (LocalUI)",null,null,null,null,null,null,null,null,null,null,null,null,null,null,null,null,null,"Not Listed: See Notes"]
["System Software:","V 1.10.4N",null,null,null,null,null,null,"Energy Saver",null,"Low Power Mode",null,null,"Enter time",null,0,{"$f":"P17","v":0}]
["PS Driver Version:","5.528.2.0N",null,null,null,null,null,null,"Energy Saver",null,"Sleep Mode",null,null,"Enter time",null,0,{"$f":"P18","v":0},null,null,null,null,null,null,null,null,null,"Select"]
["PCL6 Driver Version:","5.528.2.0N",null,null,null,null,null,null,"Solid Ink Jet Products Note: Make sure to disable both options for \"Automatic Light Lines Fix\" in Troubleshooting Menu on Local UI.  ",null,null,null,null,null,null,0,{"$f":"P19","v":0},null,null,null,null,null,null,null,null,null,"T2=N/A"]
["Finisher 1 type","NA",null,null,null,null,null,null,null,null,null,null,null,null,null,null,null,null,null,null,null,null,null,null,null,null,"T2=Empty"]
["Finisher 2 type","NA",null,null,null,null,null,null,"Check PS Driver",null,null,null,null,null,null,null,null,null,null,null,null,null,null,null,null,null,"T2=17\" SEF"]
["Tray Configuration:","T1=11\" LEF \n      14\" SEF \n      17\" SEF\n     A4 LEF","T2=Empty","T3=Empty","T4=Empty","T5=N/A","T6=N/A",null,"Paper/Output Tab",null,"Paper: Size",null,null,"Letter (8.5 x 11\")",null,0,{"$f":"P22","v":0},null,null,null,null,null,null,null,null,null,"T2=14\" SEF"]
["Test Engineer","Mythra.B",null,null,null,null,null,null,"Paper/Output Tab",null,"Paper: Color",null,null,"White",null,0,0,null,null,null,null,null,null,null,null,null,"T2=11\" LEF"]
["Test Location","ETA 3 LAB1 R6",null,null,null,null,null,null,"Paper/Output Tab",null,"Paper: Type",null,null,"Printer Default Type",null,0,0,null,null,null,null,null,null,null,null,null,"T2=11\" SEF"]
[null,null,null,null,null,null,null,null,"Paper/Output Tab",null,"Paper: Tray",null,null,"Automatically Select",null,0,0,null,null,null,null,null,null,null,null,null,"Not Listed: See Notes"]
["TEST PURPOSE/ NOTES",null,null,null,null,null,null,null,"Paper/Output Tab",null,"2-Sided Printing",null,null,"1-Sided Print",null,0,0]
["e.g. TEST PURPOSE: Routine SPT, SPT to test changed/new features (give specifics)...\ne.g. NOTES: Tray Configuration different from above setup, mono device, no Fax, only 1 Finisher…\n***Note if device is being tested in Metric or Inches***",null,null,null,null,null,null,null,"Color Options Tab",null,"Color Options",null,null,"Automatic Color",null,0,0,null,null,null,null,null,null,null,null,null,"Select"]
[null,null,null,null,null,null,null,null,"Advanced Tab: Paper/Output",null,"Job Identification (Banner Sheet)",null,null,"Disable Job ID (Off)",null,0,{"$f":"P28","v":0},null,null,null,null,null,null,null,null,null,"T3=N/A"]
[null,null,null,null,null,null,null,null,"Check PCL6 Driver",null,null,null,null,null,null,null,null,null,null,null,null,null,null,null,null,null,"T3=Empty"]
["Enter",null,null,null,null,null,null,null,"Paper/Output Tab",null,"Paper: Size",null,null,"Letter (8.5 x 11\")",null,0,{"$f":"P30","v":0},null,null,null,null,null,null,null,null,null,"T3=17\" SEF"]
[null,null,null,null,null,null,null,null,"Paper/Output Tab",null,"Paper: Color",null,null,"White",null,0,0,null,null,null,null,null,null,null,null,null,"T3=14\" SEF"]
[null,null,null,null,null,null,null,null,"Paper/Output Tab",null,"Paper: Type",null,null,"Printer Default Type",null,0,0,null,null,null,null,null,null,null,null,null,"T3=11\" LEF"]
[null,null,null,null,null,null,null,null,"Paper/Output Tab",null,"Paper: Tray",null,null,"Automatically Select",null,0,0,null,null,null,null,null,null,null,null,null,"T3=11\" SEF"]
[null,null,null,null,null,null,null,null,"Paper/Output Tab",null,"2-Sided Printing",null,null,"1-Sided Print",null,0,{"$f":"P34","v":0},null,null,null,null,null,null,null,null,null,"Not Listed: See Notes"]
[null,null,null,null,null,null,null,null,"Color Options Tab",null,"Color Options",null,null,"Color",null,0,{"$f":"P35","v":0}]
[null,null,null,null,null,null,null,null,"Advanced Tab: Paper/Output",null,"Job Identification (Banner Sheet)",null,null,"Disable Job ID (Off)",null,0,0,null,null,null,null,null,null,null,null,null,"Select"]
[null,null,null,null,null,null,null,null,"Load Paper in Device",null,null,null,null,null,null,null,null,null,null,null,null,null,null,null,null,null,"T4=N/A"]
[null,null,null,null,null,null,null,null,"Load paper in device to reflect the Tray Configuration specified in the chart to the left (Cells B14:G14).  All trays shall be configured for [size]/ Plain/ White.  Only make changes to the selections if the specified configuration is not possible.  ",null,null,null,null,null,null,0,null,null,null,null,null,null,null,null,null,null,"T4=Empty"]
[null,null,null,null,null,null,null,null,null,null,null,null,null,null,null,null,null,null,null,null,null,null,null,null,null,null,"T4=17\" SEF"]
[null,null,null,null,null,null,null,null,null,null,null,null,null,null,null,null,null,null,null,null,null,null,null,null,null,null,"T4=14\" SEF"]
[null,null,null,null,null,null,null,null,"SPT Config Sheet Tab",null,null,null,null,null,null,null,null,null,null,null,null,null,null,null,null,null,"T4=11\" LEF"]
[null,null,null,null,null,null,null,null,"Attach Config Sheet: With device setup per above settings, print a new Configuration Report, scan (all sides and sheets) and attach PDF object to last tab of this SPT (Config Sheet Tab).  ",null,null,null,null,null,null,0,null,null,null,null,null,null,null,null,null,null,"T4=11\" SEF"]
[null,null,null,null,null,null,null,null,null,null,null,null,null,null,null,null,null,null,null,null,null,null,null,null,null,null,"Not Listed: See Notes"]
[null,null,null,null,null,null,null,null,"Attach Screenshot of Driver About Window: With Drivers setup per the settings above, take a screenshot (alt+Print Screen) of About Window (only needed from 1 driver; unless they are different). Paste this on the last tab of this SPT (Config Sheet Tab).   ",null,null,null,null,null,null,0]
[null,null,null,null,null,null,null,null,null,null,null,null,null,null,null,null,null,null,null,null,null,null,null,null,null,null,"Select"]
[null,null,null,null,null,null,null,null,null,null,null,null,null,null,null,null,null,null,null,null,null,null,null,null,null,null,"T5=N/A"]
[null,null,null,null,null,null,null,null,"SPT Excel Workbook Naming Convention",null,null,null,null,null,null,null,null,null,null,null,null,null,null,null,null,null,"T5=Empty"]
[null,null,null,null,null,null,null,null,"Rename this workbook: [Product Name] [Last 5 digits of Release] SPT Results\n(e.g. Northwood Hi 20700 SPT Results).  If there is something special about the test put that in the name as well (special BM, different Hardware, different settings…)",null,null,null,null,null,null,0,null,null,null,null,null,null,null,null,null,null,"T5=17\" SEF"]
[null,null,null,null,null,null,null,null,null,null,null,null,null,null,null,null,null,null,null,null,null,null,null,null,null,null,"T5=14\" SEF"]
[null,null,null,null,null,null,null,null,null,null,null,null,null,null,null,null,null,null,null,null,null,null,null,null,null,null,"T5=11\" LEF"]
[null,null,null,null,null,null,null,null,"Browse to \"SPT Data Collection Files\" Folder",null,null,null,null,null,null,null,null,null,null,null,null,null,null,null,null,null,"T5=11\" SEF"]
[null,null,null,null,null,null,null,null,"Select the \"Browse\" button to set the root folder path for test files (i.e. \"D:\\SPT Data Collection Files\")",null,null,null,null,null,null,null,null,null,null,null,null,null,null,null,null,null,"Not Listed: See Notes"]
[null,null,null,null,null,null,null,null,"Selected Root Folder Path:",null,"D:\\SPT Data Collection Files"]
[]
[null,null,null,null,null,null,null,null,null,null,null,null,null,null,null,null,null,null,null,null,null,null,null,null,null,null,"T6=17\" SEF"]
[null,null,null,null,null,null,null,null,null,null,null,null,null,null,null,null,null,null,null,null,null,null,null,null,null,null,"T6=14\" SEF"]
[null,null,null,null,null,null,null,null,null,null,null,null,null,null,null,null,null,null,null,null,null,null,null,null,null,null,"T6=11\" LEF"]
[null,null,null,null,null,null,null,null,null,null,null,null,null,null,null,null,null,null,null,null,null,null,null,null,null,null,"T6=11\" SEF"]
[null,null,null,null,null,null,null,null,null,null,null,null,null,null,null,null,null,null,null,null,null,null,null,null,null,null,"Not Listed: See Notes"]

{"sheet":"Print to Default Tray Full","index":3,"n_rows":379,"n_cols":24,"rows_kept":379,"cut":false,"hidden":true,"merged":[[359,19,359,20],[295,19,295,20],[305,18,305,19],[311,18,311,19],[319,19,319,20],[325,19,325,20],[262,19,262,20],[268,19,268,20],[275,19,275,20],[282,19,282,20],[289,19,289,20],[231,19,231,20],[237,19,237,20],[243,19,243,20],[250,19,250,20],[256,19,256,20],[171,19,171,20],[185,19,185,20],[196,19,196,20],[210,19,210,20],[224,19,224,20],[129,19,129,20],[137,19,137,20],[145,19,145,20],[153,19,153,20],[160,19,160,20],[83,19,83,20],[97,19,97,20],[107,19,107,20],[115,19,115,20],[122,19,122,20],[9,14,9,15],[11,19,11,20],[26,14,26,16],[26,19,26,20],[73,5,73,6],[36,19,36,20],[50,19,50,20],[58,19,58,20],[73,19,73,20],[129,5,129,6],[137,5,137,6],[36,5,36,6],[3,9,3,11],[58,5,58,6],[83,5,83,6],[97,5,97,6],[107,5,107,6],[115,5,115,6],[122,5,122,6],[9,0,9,1],[26,0,26,2],[11,5,11,6],[26,5,26,6],[50,5,50,6],[153,5,153,6],[160,5,160,6],[171,5,171,6],[185,5,185,6],[145,5,145,6],[311,4,311,5],[319,5,319,6],[262,5,262,6],[289,5,289,6],[295,5,295,6],[305,4,305,5],[243,5,243,6],[256,5,256,6],[275,5,275,6],[282,5,282,6],[268,5,268,6],[250,5,250,6],[196,5,196,6],[210,5,210,6],[224,5,224,6],[237,5,237,6],[231,5,231,6],[372,5,372,6],[372,19,372,20],[325,5,325,6],[348,5,348,6],[354,5,354,6],[365,5,365,6],[359,5,359,6],[347,5,347,6],[340,5,340,6],[334,5,334,6],[334,19,334,20],[365,19,365,20],[340,19,340,20],[347,19,347,20],[348,19,348,20],[354,19,354,20]]}
[{"$f":"'Test Info'!A1","v":"Samudra MFP High B0"},null,null,null,null,null,null,null,null,null,null,null,null,null,{"$f":"'Test Info'!B16","v":"Samudra Low MFP"}]
[{"$f":"'Test Info'!A2","v":"Release: "},null,{"$f":"'Test Info'!B2","v":"0.123.0"},null,null,null,null,null,null,null,null,null,null,null,"Release",null,{"$f":"'Test Info'!B17","v":"V 1.10.4N"}]
["Test Duration:",null,{"$f":"CONCATENATE(TEXT('Test Info'!B3, \"m/d/yyyy\"), \" - \", TEXT(EndDate, \"m/d/yyyy\"))","v":"9/11/2017 - 13/11/2017"},null,null,null,null,null,null,null,null,null,null,null,"Test Duration:",null,{"$f":"CONCATENATE(TEXT('Test Info'!B5, \"d/m/yyyy\"),\"-\", TEXT('Test Info'!F5,\"d/m/yyyy\"))","v":"Enter-Enter at End of Test"}]
[null,null,null,null,null,null,null,null,null,"Time Conversion Tool"]
["Note: Both Color & Mono jobs need to be printed on Mono device.",null,null,null,null,null,null,null,null,"Enter","Enter","Calculated"]
[null,null,null,null,null,null,null,null,null,"Minutes","Seconds","Seconds"]
["Print to Default Tray",null,null,null,null,null,null,null,null,null,null,{"$f":"J7*60+K7","v":0},null,null,"Print to Default Tray"]
["Print 11 inch Output",null,null,null,null,null,null,null,null,null,null,null,null,null,"Print 11 inch Output"]
[]
["FFDS",null,null,null,null,null,null,null,null,null,null,null,null,null,"FFDS"]
["PS- No Banner",null,null,null,null,null,null,null,null,null,null,null,null,null,"PS- No Banner"]
["Office Color- No Banner",null,null,null,null,null,null,null,null,null,null,null,null,null,"Office Color- No Banner"]
["Type","Mode","Job","Application","Pages","FPOT Measured\nin Seconds","C-C Measured\nin Seconds","2-N PPM Calculated","2-N % Rated Speed Calculated","C-C % Rated Speed Calculated",null,null,null,null,"Type","Mode","Job","Application","Pages","FPOT Measured\nin Seconds","C-C Measured\nin Seconds","2-N PPM Calculated","2-N % Rated Speed Calculated","C-C % Rated Speed Calculated"]
["PS","Color","Jewelry","Powerpoint",12,null,null,{"$f":"IF(OR(G14=\"NA\", G14=\"FAILED\"), G14, (IF(ISERROR((E14-1)/(G14-F14)*60), \"\", (E14-1)/(G14-F14)*60)))","v":""},{"$f":"IF(OR(G14=\"NA\", G14=\"FAILED\"), G14, (IF(ISERROR(H14/'Test Info'!$I$6*100), \"\", H14/'Test Info'!$I$6*100)))","v":""},{"$f":"IF(OR(G14=\"NA\", G14=\"FAILED\"), G14, (IF(ISERROR(E14/G14/'Test Info'!$I$6*6000), \"\", E14/G14/'Test Info'!$I$6*6000)))","v":""},null,null,null,null,"PS","Color","Jewelry","Powerpoint",12,null,null,{"$f":"IF(OR(U14=\"NA\", U14=\"FAILED\"), U14, (IF(ISERROR((S14-1)/(U14-T14)*60), \"\", (S14-1)/(U14-T14)*60)))","v":""},{"$f":"IF(OR(U14=\"NA\", U14=\"FAILED\"), U14, (IF(ISERROR(V14/'Test Info'!$I$6*100), \"\", V14/'Test Info'!$I$6*100)))","v":""},{"$f":"IF(OR(U14=\"NA\", U14=\"FAILED\"), U14, (IF(ISERROR(S14/U14/'Test Info'!$I$6*6000), \"\", S14/U14/'Test Info'!$I$6*6000)))","v":""}]
["PS","Color","Inpatient","Excel",3,null,null,{"$f":"IF(OR(G15=\"NA\", G15=\"FAILED\"), G15, (IF(ISERROR((E15-1)/(G15-F15)*60), \"\", (E15-1)/(G15-F15)*60)))","v":""},{"$f":"IF(OR(G15=\"NA\", G15=\"FAILED\"), G15, (IF(ISERROR(H15/'Test Info'!$I$6*100), \"\", H15/'Test Info'!$I$6*100)))","v":""},{"$f":"IF(OR(G15=\"NA\", G15=\"FAILED\"), G15, (IF(ISERROR(E15/G15/'Test Info'!$I$6*6000), \"\", E15/G15/'Test Info'!$I$6*6000)))","v":""},null,null,null,null,"PS","Color","Inpatient","Excel",3,null,null,{"$f":"IF(OR(U15=\"NA\", U15=\"FAILED\"), U15, (IF(ISERROR((S15-1)/(U15-T15)*60), \"\", (S15-1)/(U15-T15)*60)))","v":""},{"$f":"IF(OR(U15=\"NA\", U15=\"FAILED\"), U15, (IF(ISERROR(V15/'Test Info'!$I$6*100), \"\", V15/'Test Info'!$I$6*100)))","v":""},{"$f":"IF(OR(U15=\"NA\", U15=\"FAILED\"), U15, (IF(ISERROR(S15/U15/'Test Info'!$I$6*6000), \"\", S15/U15/'Test Info'!$I$6*6000)))","v":""}]
["PS","Color","Rain year","Excel",2,null,null,"",{"$f":"IF(OR(G16=\"NA\", G16=\"FAILED\"), G16, (IF(ISERROR(H16/'Test Info'!$I$6*100), \"\", H16/'Test Info'!$I$6*100)))","v":""},{"$f":"IF(OR(G16=\"NA\", G16=\"FAILED\"), G16, (IF(ISERROR(E16/G16/'Test Info'!$I$6*6000), \"\", E16/G16/'Test Info'!$I$6*6000)))","v":""},null,null,null,null,"PS","Color","Rain year","Excel",2,null,null,"",{"$f":"IF(OR(U16=\"NA\", U16=\"FAILED\"), U16, (IF(ISERROR(V16/'Test Info'!$I$6*100), \"\", V16/'Test Info'!$I$6*100)))","v":""},{"$f":"IF(OR(U16=\"NA\", U16=\"FAILED\"), U16, (IF(ISERROR(S16/U16/'Test Info'!$I$6*6000), \"\", S16/U16/'Test Info'!$I$6*6000)))","v":""}]
["PS","Color","Troutman","Quark",4,null,null,"",{"$f":"IF(OR(G17=\"NA\", G17=\"FAILED\"), G17, (IF(ISERROR(H17/'Test Info'!$I$6*100), \"\", H17/'Test Info'!$I$6*100)))","v":""},{"$f":"IF(OR(G17=\"NA\", G17=\"FAILED\"), G17, (IF(ISERROR(E17/G17/'Test Info'!$I$6*6000), \"\", E17/G17/'Test Info'!$I$6*6000)))","v":""},null,null,null,null,"PS","Color","Troutman","Quark",4,null,null,"",{"$f":"IF(OR(U17=\"NA\", U17=\"FAILED\"), U17, (IF(ISERROR(V17/'Test Info'!$I$6*100), \"\", V17/'Test Info'!$I$6*100)))","v":""},{"$f":"IF(OR(U17=\"NA\", U17=\"FAILED\"), U17, (IF(ISERROR(S17/U17/'Test Info'!$I$6*6000), \"\", S17/U17/'Test Info'!$I$6*6000)))","v":""}]
["PS","Color","Volcanoes","Access",7,null,null,"",{"$f":"IF(OR(G18=\"NA\", G18=\"FAILED\"), G18, (IF(ISERROR(H18/'Test Info'!$I$6*100), \"\", H18/'Test Info'!$I$6*100)))","v":""},{"$f":"IF(OR(G18=\"NA\", G18=\"FAILED\"), G18, (IF(ISERROR(E18/G18/'Test Info'!$I$6*6000), \"\", E18/G18/'Test Info'!$I$6*6000)))","v":""},null,null,null,null,"PS","Color","Volcanoes","Access",7,null,null,"",{"$f":"IF(OR(U18=\"NA\", U18=\"FAILED\"), U18, (IF(ISERROR(V18/'Test Info'!$I$6*100), \"\", V18/'Test Info'!$I$6*100)))","v":""},{"$f":"IF(OR(U18=\"NA\", U18=\"FAILED\"), U18, (IF(ISERROR(S18/U18/'Test Info'!$I$6*6000), \"\", S18/U18/'Test Info'!$I$6*6000)))","v":""}]
["PS","Color","Progress","Powerpoint",4,null,null,"",{"$f":"IF(OR(G19=\"NA\", G19=\"FAILED\"), G19, (IF(ISERROR(H19/'Test Info'!$I$6*100), \"\", H19/'Test Info'!$I$6*100)))","v":""},{"$f":"IF(OR(G19=\"NA\", G19=\"FAILED\"), G19, (IF(ISERROR(E19/G19/'Test Info'!$I$6*6000), \"\", E19/G19/'Test Info'!$I$6*6000)))","v":""},null,null,null,null,"PS","Color","Progress","Powerpoint",4,null,null,"",{"$f":"IF(OR(U19=\"NA\", U19=\"FAILED\"), U19, (IF(ISERROR(V19/'Test Info'!$I$6*100), \"\", V19/'Test Info'!$I$6*100)))","v":""},{"$f":"IF(OR(U19=\"NA\", U19=\"FAILED\"), U19, (IF(ISERROR(S19/U19/'Test Info'!$I$6*6000), \"\", S19/U19/'Test Info'!$I$6*6000)))","v":""}]
["PS","Color","Contents","Word",12,null,null,"",{"$f":"IF(OR(G20=\"NA\", G20=\"FAILED\"), G20, (IF(ISERROR(H20/'Test Info'!$I$6*100), \"\", H20/'Test Info'!$I$6*100)))","v":""},{"$f":"IF(OR(G20=\"NA\", G20=\"FAILED\"), G20, (IF(ISERROR(E20/G20/'Test Info'!$I$6*6000), \"\", E20/G20/'Test Info'!$I$6*6000)))","v":""},null,null,null,null,"PS","Color","Contents","Word",12,null,null,"",{"$f":"IF(OR(U20=\"NA\", U20=\"FAILED\"), U20, (IF(ISERROR(V20/'Test Info'!$I$6*100), \"\", V20/'Test Info'!$I$6*100)))","v":""},{"$f":"IF(OR(U20=\"NA\", U20=\"FAILED\"), U20, (IF(ISERROR(S20/U20/'Test Info'!$I$6*6000), \"\", S20/U20/'Test Info'!$I$6*6000)))","v":""}]
["PS","Color","Blue sky","Quark",12,null,null,{"$f":"IF(OR(G21=\"NA\", G21=\"FAILED\"), G21, (IF(ISERROR((E21-1)/(G21-F21)*60), \"\", (E21-1)/(G21-F21)*60)))","v":""},{"$f":"IF(OR(G21=\"NA\", G21=\"FAILED\"), G21, (IF(ISERROR(H21/'Test Info'!$I$6*100), \"\", H21/'Test Info'!$I$6*100)))","v":""},{"$f":"IF(OR(G21=\"NA\", G21=\"FAILED\"), G21, (IF(ISERROR(E21/G21/'Test Info'!$I$6*6000), \"\", E21/G21/'Test Info'!$I$6*6000)))","v":""},null,null,null,null,"PS","Color","Blue sky","Quark",12,null,null,{"$f":"IF(OR(U21=\"NA\", U21=\"FAILED\"), U21, (IF(ISERROR((S21-1)/(U21-T21)*60), \"\", (S21-1)/(U21-T21)*60)))","v":""},{"$f":"IF(OR(U21=\"NA\", U21=\"FAILED\"), U21, (IF(ISERROR(V21/'Test Info'!$I$6*100), \"\", V21/'Test Info'!$I$6*100)))","v":""},{"$f":"IF(OR(U21=\"NA\", U21=\"FAILED\"), U21, (IF(ISERROR(S21/U21/'Test Info'!$I$6*6000), \"\", S21/U21/'Test Info'!$I$6*6000)))","v":""}]
["PS","Color","The blue fairy book 4","Corel Draw",4,null,null,{"$f":"IF(OR(G22=\"NA\", G22=\"FAILED\"), G22, (IF(ISERROR((E22-1)/(G22-F22)*60), \"\", (E22-1)/(G22-F22)*60)))","v":""},{"$f":"IF(OR(G22=\"NA\", G22=\"FAILED\"), G22, (IF(ISERROR(H22/'Test Info'!$I$6*100), \"\", H22/'Test Info'!$I$6*100)))","v":""},{"$f":"IF(OR(G22=\"NA\", G22=\"FAILED\"), G22, (IF(ISERROR(E22/G22/'Test Info'!$I$6*6000), \"\", E22/G22/'Test Info'!$I$6*6000)))","v":""},null,null,null,null,"PS","Color","The blue fairy book 4","Corel Draw",4,null,null,{"$f":"IF(OR(U22=\"NA\", U22=\"FAILED\"), U22, (IF(ISERROR((S22-1)/(U22-T22)*60), \"\", (S22-1)/(U22-T22)*60)))","v":""},{"$f":"IF(OR(U22=\"NA\", U22=\"FAILED\"), U22, (IF(ISERROR(V22/'Test Info'!$I$6*100), \"\", V22/'Test Info'!$I$6*100)))","v":""},{"$f":"IF(OR(U22=\"NA\", U22=\"FAILED\"), U22, (IF(ISERROR(S22/U22/'Test Info'!$I$6*6000), \"\", S22/U22/'Test Info'!$I$6*6000)))","v":""}]
["PS","Color","Salary","Excel",12,null,null,"",{"$f":"IF(OR(G23=\"NA\", G23=\"FAILED\"), G23, (IF(ISERROR(H23/'Test Info'!$I$6*100), \"\", H23/'Test Info'!$I$6*100)))","v":""},{"$f":"IF(OR(G23=\"NA\", G23=\"FAILED\"), G23, (IF(ISERROR(E23/G23/'Test Info'!$I$6*6000), \"\", E23/G23/'Test Info'!$I$6*6000)))","v":""},null,null,null,null,"PS","Color","Salary","Excel",12,null,null,{"$f":"IF(OR(U23=\"NA\", U23=\"FAILED\"), U23, (IF(ISERROR((S23-1)/(U23-T23)*60), \"\", (S23-1)/(U23-T23)*60)))","v":""},{"$f":"IF(OR(U23=\"NA\", U23=\"FAILED\"), U23, (IF(ISERROR(V23/'Test Info'!$I$6*100), \"\", V23/'Test Info'!$I$6*100)))","v":""},{"$f":"IF(OR(U23=\"NA\", U23=\"FAILED\"), U23, (IF(ISERROR(S23/U23/'Test Info'!$I$6*6000), \"\", S23/U23/'Test Info'!$I$6*6000)))","v":""}]
["PS","Color","Puzzle","Powerpoint",4,null,null,"",{"$f":"IF(OR(G24=\"NA\", G24=\"FAILED\"), G24, (IF(ISERROR(H24/'Test Info'!$I$6*100), \"\", H24/'Test Info'!$I$6*100)))","v":""},{"$f":"IF(OR(G24=\"NA\", G24=\"FAILED\"), G24, (IF(ISERROR(E24/G24/'Test Info'!$I$6*6000), \"\", E24/G24/'Test Info'!$I$6*6000)))","v":""},null,null,null,null,"PS","Color","Puzzle","Powerpoint",4,null,null,{"$f":"IF(OR(U24=\"NA\", U24=\"FAILED\"), U24, (IF(ISERROR((S24-1)/(U24-T24)*60), \"\", (S24-1)/(U24-T24)*60)))","v":""},{"$f":"IF(OR(U24=\"NA\", U24=\"FAILED\"), U24, (IF(ISERROR(V24/'Test Info'!$I$6*100), \"\", V24/'Test Info'!$I$6*100)))","v":""},{"$f":"IF(OR(U24=\"NA\", U24=\"FAILED\"), U24, (IF(ISERROR(S24/U24/'Test Info'!$I$6*6000), \"\", S24/U24/'Test Info'!$I$6*6000)))","v":""}]
[null,null,null,"Average",{"$f":"AVERAGE(E14:E24)","v":6.9090909090909092},{"$f":"IF(F24=\"NA\", F24, (IF(ISERROR(AVERAGE(F14:F24)), \"\", AVERAGE(F14:F24))))","v":""},{"$f":"IF(G24=\"NA\", G24, (IF(ISERROR(AVERAGE(G14:G24)), \"\", AVERAGE(G14:G24))))","v":""},{"$f":"IF(H24=\"NA\", H24, (IF(ISERROR(AVERAGE(H14:H24)), \"\", AVERAGE(H14:H24))))","v":""},{"$f":"IF(I24=\"NA\", I24, (IF(ISERROR(AVERAGE(I14:I24)), \"\", AVERAGE(I14:I24))))","v":""},{"$f":"IF(J24=\"NA\", J24, (IF(ISERROR(AVERAGE(J14:J24)), \"\", AVERAGE(J14:J24))))","v":""},null,null,null,null,null,null,null,"Average",{"$f":"AVERAGE(S14:S24)","v":6.9090909090909092},{"$f":"IF(T24=\"NA\", T24, (IF(ISERROR(AVERAGE(T14:T24)), \"\", AVERAGE(T14:T24))))","v":""},{"$f":"IF(U24=\"NA\", U24, (IF(ISERROR(AVERAGE(U14:U24)), \"\", AVERAGE(U14:U24))))","v":""},{"$f":"IF(V24=\"NA\", V24, (IF(ISERROR(AVERAGE(V14:V24)), \"\", AVERAGE(V14:V24))))","v":""},{"$f":"IF(W24=\"NA\", W24, (IF(ISERROR(AVERAGE(W14:W24)), \"\", AVERAGE(W14:W24))))","v":""},{"$f":"IF(X24=\"NA\", X24, (IF(ISERROR(AVERAGE(X14:X24)), \"\", AVERAGE(X14:X24))))","v":""}]
[]
["Office Mono- No Banner",null,null,null,null,null,null,null,null,null,null,null,null,null,"Office Mono- No Banner"]
["PS","Mono","Classifieds","Chrome",13,null,null,{"$f":"IF(OR(G28=\"NA\",G28=\"FAILED\"),G28,(IF(ISERROR((E28-1)/(G28-F28)*60),\"\",(E28-1)/(G28-F28)*60)))","v":""},{"$f":"IF(OR(G28=\"NA\",G28=\"FAILED\"),G28, (IF(ISERROR(H28/'Test Info'!$J$6*100), \"\", H28/'Test Info'!$J$6*100)))","v":""},{"$f":"IF(OR(G28=\"NA\",G28=\"FAILED\"),G28, (IF(ISERROR(E28/G28/'Test Info'!$J$6*6000), \"\", E28/G28/'Test Info'!$J$6*6000)))","v":""},null,null,null,null,"PS","Mono","Classifieds","Chrome",13,null,null,{"$f":"IF(OR(U28=\"NA\",U28=\"FAILED\"),U28,(IF(ISERROR((S28-1)/(U28-T28)*60),\"\",(S28-1)/(U28-T28)*60)))","v":""},{"$f":"IF(OR(U28=\"NA\",U28=\"FAILED\"),U28, (IF(ISERROR(V28/'Test Info'!$J$6*100), \"\", V28/'Test Info'!$J$6*100)))","v":""},{"$f":"IF(OR(U28=\"NA\",U28=\"FAILED\"),U28, (IF(ISERROR(S28/U28/'Test Info'!$J$6*6000), \"\", S28/U28/'Test Info'!$J$6*6000)))","v":""}]
["PS","Mono","Gold","Powerpoint",8,null,null,{"$f":"IF(OR(G29=\"NA\",G29=\"FAILED\"),G29,(IF(ISERROR((E29-1)/(G29-F29)*60),\"\",(E29-1)/(G29-F29)*60)))","v":""},{"$f":"IF(OR(G29=\"NA\",G29=\"FAILED\"),G29, (IF(ISERROR(H29/'Test Info'!$J$6*100), \"\", H29/'Test Info'!$J$6*100)))","v":""},{"$f":"IF(OR(G29=\"NA\",G29=\"FAILED\"),G29, (IF(ISERROR(E29/G29/'Test Info'!$J$6*6000), \"\", E29/G29/'Test Info'!$J$6*6000)))","v":""},null,null,null,null,"PS","Mono","Gold","Powerpoint",8,null,null,{"$f":"IF(OR(U29=\"NA\",U29=\"FAILED\"),U29,(IF(ISERROR((S29-1)/(U29-T29)*60),\"\",(S29-1)/(U29-T29)*60)))","v":""},{"$f":"IF(OR(U29=\"NA\",U29=\"FAILED\"),U29, (IF(ISERROR(V29/'Test Info'!$J$6*100), \"\", V29/'Test Info'!$J$6*100)))","v":""},{"$f":"IF(OR(U29=\"NA\",U29=\"FAILED\"),U29, (IF(ISERROR(S29/U29/'Test Info'!$J$6*6000), \"\", S29/U29/'Test Info'!$J$6*6000)))","v":""}]
["PS","Mono","Pain at the pump","Chrome",3,null,null,{"$f":"IF(OR(G30=\"NA\",G30=\"FAILED\"),G30,(IF(ISERROR((E30-1)/(G30-F30)*60),\"\",(E30-1)/(G30-F30)*60)))","v":""},{"$f":"IF(OR(G30=\"NA\",G30=\"FAILED\"),G30, (IF(ISERROR(H30/'Test Info'!$J$6*100), \"\", H30/'Test Info'!$J$6*100)))","v":""},{"$f":"IF(OR(G30=\"NA\",G30=\"FAILED\"),G30, (IF(ISERROR(E30/G30/'Test Info'!$J$6*6000), \"\", E30/G30/'Test Info'!$J$6*6000)))","v":""},null,null,null,null,"PS","Mono","Pain at the pump","Chrome",3,null,null,{"$f":"IF(OR(U30=\"NA\",U30=\"FAILED\"),U30,(IF(ISERROR((S30-1)/(U30-T30)*60),\"\",(S30-1)/(U30-T30)*60)))","v":""},{"$f":"IF(OR(U30=\"NA\",U30=\"FAILED\"),U30, (IF(ISERROR(V30/'Test Info'!$J$6*100), \"\", V30/'Test Info'!$J$6*100)))","v":""},{"$f":"IF(OR(U30=\"NA\",U30=\"FAILED\"),U30, (IF(ISERROR(S30/U30/'Test Info'!$J$6*6000), \"\", S30/U30/'Test Info'!$J$6*6000)))","v":""}]
["PS","Mono","Lincoln 2","Word",2,null,null,{"$f":"IF(OR(G31=\"NA\",G31=\"FAILED\"),G31,(IF(ISERROR((E31-1)/(G31-F31)*60),\"\",(E31-1)/(G31-F31)*60)))","v":""},{"$f":"IF(OR(G31=\"NA\",G31=\"FAILED\"),G31, (IF(ISERROR(H31/'Test Info'!$J$6*100), \"\", H31/'Test Info'!$J$6*100)))","v":""},{"$f":"IF(OR(G31=\"NA\",G31=\"FAILED\"),G31, (IF(ISERROR(E31/G31/'Test Info'!$J$6*6000), \"\", E31/G31/'Test Info'!$J$6*6000)))","v":""},null,null,null,null,"PS","Mono","Lincoln 2","Word",2,null,null,{"$f":"IF(OR(U31=\"NA\",U31=\"FAILED\"),U31,(IF(ISERROR((S31-1)/(U31-T31)*60),\"\",(S31-1)/(U31-T31)*60)))","v":""},{"$f":"IF(OR(U31=\"NA\",U31=\"FAILED\"),U31, (IF(ISERROR(V31/'Test Info'!$J$6*100), \"\", V31/'Test Info'!$J$6*100)))","v":""},{"$f":"IF(OR(U31=\"NA\",U31=\"FAILED\"),U31, (IF(ISERROR(S31/U31/'Test Info'!$J$6*6000), \"\", S31/U31/'Test Info'!$J$6*6000)))","v":""}]
["PS","Mono","Mountains","Word",25,null,null,{"$f":"IF(OR(G32=\"NA\",G32=\"FAILED\"),G32,(IF(ISERROR((E32-1)/(G32-F32)*60),\"\",(E32-1)/(G32-F32)*60)))","v":""},{"$f":"IF(OR(G32=\"NA\",G32=\"FAILED\"),G32, (IF(ISERROR(H32/'Test Info'!$J$6*100), \"\", H32/'Test Info'!$J$6*100)))","v":""},{"$f":"IF(OR(G32=\"NA\",G32=\"FAILED\"),G32, (IF(ISERROR(E32/G32/'Test Info'!$J$6*6000), \"\", E32/G32/'Test Info'!$J$6*6000)))","v":""},null,null,null,null,"PS","Mono","Mountains","Word",25,null,null,{"$f":"IF(OR(U32=\"NA\",U32=\"FAILED\"),U32,(IF(ISERROR((S32-1)/(U32-T32)*60),\"\",(S32-1)/(U32-T32)*60)))","v":""},{"$f":"IF(OR(U32=\"NA\",U32=\"FAILED\"),U32, (IF(ISERROR(V32/'Test Info'!$J$6*100), \"\", V32/'Test Info'!$J$6*100)))","v":""},{"$f":"IF(OR(U32=\"NA\",U32=\"FAILED\"),U32, (IF(ISERROR(S32/U32/'Test Info'!$J$6*6000), \"\", S32/U32/'Test Info'!$J$6*6000)))","v":""}]
["PS","Mono","Oberan 1","Illustrator",1,null,null,null,null,{"$f":"IF(OR(G33=\"NA\",G33=\"FAILED\"),G33, (IF(ISERROR(E33/G33/'Test Info'!$J$6*6000), \"\", E33/G33/'Test Info'!$J$6*6000)))","v":""},null,null,null,null,"PS","Mono","Oberan 1","Illustrator",1,null,null,null,null,{"$f":"IF(OR(U33=\"NA\",U33=\"FAILED\"),U33, (IF(ISERROR(S33/U33/'Test Info'!$J$6*6000), \"\", S33/U33/'Test Info'!$J$6*6000)))","v":""}]
["PS","Mono","Budget","Excel",1,null,null,null,null,{"$f":"IF(OR(G34=\"NA\",G34=\"FAILED\"),G34, (IF(ISERROR(E34/G34/'Test Info'!$J$6*6000), \"\", E34/G34/'Test Info'!$J$6*6000)))","v":""},null,null,null,null,"PS","Mono","Budget","Excel",1,null,null,null,null,{"$f":"IF(OR(U34=\"NA\",U34=\"FAILED\"),U34, (IF(ISERROR(S34/U34/'Test Info'!$J$6*6000), \"\", S34/U34/'Test Info'!$J$6*6000)))","v":""}]
[null,null,null,"Average",{"$f":"AVERAGE(E28:E34)","v":7.5714285714285712},{"$f":"IF(F34=\"NA\", F34, (IF(ISERROR(AVERAGE(F28:F34)), \"\", AVERAGE(F28:F34))))","v":""},{"$f":"IF(G34=\"NA\", G34, (IF(ISERROR(AVERAGE(G28:G34)), \"\", AVERAGE(G28:G34))))","v":""},{"$f":"IF(G34=\"NA\", G34, (IF(ISERROR(AVERAGE(H28:H34)), \"\", AVERAGE(H28:H34))))","v":""},{"$f":"IF(G34=\"NA\", G34, (IF(ISERROR(AVERAGE(I28:I34)), \"\", AVERAGE(I28:I34))))","v":""},{"$f":"IF(J34=\"NA\", J34, (IF(ISERROR(AVERAGE(J28:J34)), \"\", AVERAGE(J28:J34))))","v":""},null,null,null,null,null,null,null,"Average",{"$f":"AVERAGE(S28:S34)","v":7.5714285714285712},{"$f":"IF(T34=\"NA\", T34, (IF(ISERROR(AVERAGE(T28:T34)), \"\", AVERAGE(T28:T34))))","v":""},{"$f":"IF(U34=\"NA\", U34, (IF(ISERROR(AVERAGE(U28:U34)), \"\", AVERAGE(U28:U34))))","v":""},{"$f":"IF(U34=\"NA\", U34, (IF(ISERROR(AVERAGE(V28:V34)), \"\", AVERAGE(V28:V34))))","v":""},{"$f":"IF(U34=\"NA\", U34, (IF(ISERROR(AVERAGE(W28:W34)), \"\", AVERAGE(W28:W34))))","v":""},{"$f":"IF(X34=\"NA\", X34, (IF(ISERROR(AVERAGE(X28:X34)), \"\", AVERAGE(X28:X34))))","v":""}]
[]
["Graphic- No Banner",null,null,null,null,null,null,null,null,null,null,null,null,null,"Graphic- No Banner"]
["PS","Color","Join MSA us","Acrobat",5,null,null,{"$f":"IF(OR(G38=\"NA\", G38=\"FAILED\"), G38, (IF(ISERROR((E38-1)/(G38-F38)*60), \"\", (E38-1)/(G38-F38)*60)))","v":""},{"$f":"IF(OR(G38=\"NA\", G38=\"FAILED\"), G38, (IF(ISERROR(H38/'Test Info'!$I$6*100), \"\", H38/'Test Info'!$I$6*100)))","v":""},{"$f":"IF(OR(G38=\"NA\", G38=\"FAILED\"), G38, (IF(ISERROR(E38/G38/'Test Info'!$I$6*6000), \"\", E38/G38/'Test Info'!$I$6*6000)))","v":""},null,null,null,null,"PS","Color","Join MSA us","Acrobat",5,null,null,{"$f":"IF(OR(U38=\"NA\", U38=\"FAILED\"), U38, (IF(ISERROR((S38-1)/(U38-T38)*60), \"\", (S38-1)/(U38-T38)*60)))","v":""},{"$f":"IF(OR(U38=\"NA\", U38=\"FAILED\"), U38, (IF(ISERROR(V38/'Test Info'!$I$6*100), \"\", V38/'Test Info'!$I$6*100)))","v":""},{"$f":"IF(OR(U38=\"NA\", U38=\"FAILED\"), U38, (IF(ISERROR(S38/U38/'Test Info'!$I$6*6000), \"\", S38/U38/'Test Info'!$I$6*6000)))","v":""}]
["PS","Color","Oberan 4","Illustrator",4,null,null,{"$f":"IF(OR(G39=\"NA\", G39=\"FAILED\"), G39, (IF(ISERROR((E39-1)/(G39-F39)*60), \"\", (E39-1)/(G39-F39)*60)))","v":""},{"$f":"IF(OR(G39=\"NA\", G39=\"FAILED\"), G39, (IF(ISERROR(H39/'Test Info'!$I$6*100), \"\", H39/'Test Info'!$I$6*100)))","v":""},{"$f":"IF(OR(G39=\"NA\", G39=\"FAILED\"), G39, (IF(ISERROR(E39/G39/'Test Info'!$I$6*6000), \"\", E39/G39/'Test Info'!$I$6*6000)))","v":""},null,null,null,null,"PS","Color","Oberan 4","Illustrator",4,null,null,{"$f":"IF(OR(U39=\"NA\", U39=\"FAILED\"), U39, (IF(ISERROR((S39-1)/(U39-T39)*60), \"\", (S39-1)/(U39-T39)*60)))","v":""},{"$f":"IF(OR(U39=\"NA\", U39=\"FAILED\"), U39, (IF(ISERROR(V39/'Test Info'!$I$6*100), \"\", V39/'Test Info'!$I$6*100)))","v":""},{"$f":"IF(OR(U39=\"NA\", U39=\"FAILED\"), U39, (IF(ISERROR(S39/U39/'Test Info'!$I$6*6000), \"\", S39/U39/'Test Info'!$I$6*6000)))","v":""}]
["PS","Color","Moorpark","Acrobat",4,null,null,{"$f":"IF(OR(G40=\"NA\", G40=\"FAILED\"), G40, (IF(ISERROR((E40-1)/(G40-F40)*60), \"\", (E40-1)/(G40-F40)*60)))","v":""},{"$f":"IF(OR(G40=\"NA\", G40=\"FAILED\"), G40, (IF(ISERROR(H40/'Test Info'!$I$6*100), \"\", H40/'Test Info'!$I$6*100)))","v":""},{"$f":"IF(OR(G40=\"NA\", G40=\"FAILED\"), G40, (IF(ISERROR(E40/G40/'Test Info'!$I$6*6000), \"\", E40/G40/'Test Info'!$I$6*6000)))","v":""},null,null,null,null,"PS","Color","Moorpark","Acrobat",4,null,null,{"$f":"IF(OR(U40=\"NA\", U40=\"FAILED\"), U40, (IF(ISERROR((S40-1)/(U40-T40)*60), \"\", (S40-1)/(U40-T40)*60)))","v":""},{"$f":"IF(OR(U40=\"NA\", U40=\"FAILED\"), U40, (IF(ISERROR(V40/'Test Info'!$I$6*100), \"\", V40/'Test Info'!$I$6*100)))","v":""},{"$f":"IF(OR(U40=\"NA\", U40=\"FAILED\"), U40, (IF(ISERROR(S40/U40/'Test Info'!$I$6*6000), \"\", S40/U40/'Test Info'!$I$6*6000)))","v":""}]
["PS","Color","MSA","Acrobat",3,null,null,{"$f":"IF(OR(G41=\"NA\", G41=\"FAILED\"), G41, (IF(ISERROR((E41-1)/(G41-F41)*60), \"\", (E41-1)/(G41-F41)*60)))","v":""},{"$f":"IF(OR(G41=\"NA\", G41=\"FAILED\"), G41, (IF(ISERROR(H41/'Test Info'!$I$6*100), \"\", H41/'Test Info'!$I$6*100)))","v":""},{"$f":"IF(OR(G41=\"NA\", G41=\"FAILED\"), G41, (IF(ISERROR(E41/G41/'Test Info'!$I$6*6000), \"\", E41/G41/'Test Info'!$I$6*6000)))","v":""},null,null,null,null,"PS","Color","MSA","Acrobat",3,null,null,{"$f":"IF(OR(U41=\"NA\", U41=\"FAILED\"), U41, (IF(ISERROR((S41-1)/(U41-T41)*60), \"\", (S41-1)/(U41-T41)*60)))","v":""},{"$f":"IF(OR(U41=\"NA\", U41=\"FAILED\"), U41, (IF(ISERROR(V41/'Test Info'!$I$6*100), \"\", V41/'Test Info'!$I$6*100)))","v":""},{"$f":"IF(OR(U41=\"NA\", U41=\"FAILED\"), U41, (IF(ISERROR(S41/U41/'Test Info'!$I$6*6000), \"\", S41/U41/'Test Info'!$I$6*6000)))","v":""}]
["PS","Color","Calendar","Publisher",12,null,null,{"$f":"IF(OR(G42=\"NA\", G42=\"FAILED\"), G42, (IF(ISERROR((E42-1)/(G42-F42)*60), \"\", (E42-1)/(G42-F42)*60)))","v":""},{"$f":"IF(OR(G42=\"NA\", G42=\"FAILED\"), G42, (IF(ISERROR(H42/'Test Info'!$I$6*100), \"\", H42/'Test Info'!$I$6*100)))","v":""},{"$f":"IF(OR(G42=\"NA\", G42=\"FAILED\"), G42, (IF(ISERROR(E42/G42/'Test Info'!$I$6*6000), \"\", E42/G42/'Test Info'!$I$6*6000)))","v":""},null,null,null,null,"PS","Color","Calendar","Publisher",12,null,null,{"$f":"IF(OR(U42=\"NA\", U42=\"FAILED\"), U42, (IF(ISERROR((S42-1)/(U42-T42)*60), \"\", (S42-1)/(U42-T42)*60)))","v":""},{"$f":"IF(OR(U42=\"NA\", U42=\"FAILED\"), U42, (IF(ISERROR(V42/'Test Info'!$I$6*100), \"\", V42/'Test Info'!$I$6*100)))","v":""},{"$f":"IF(OR(U42=\"NA\", U42=\"FAILED\"), U42, (IF(ISERROR(S42/U42/'Test Info'!$I$6*6000), \"\", S42/U42/'Test Info'!$I$6*6000)))","v":""}]
["PS","Color","BWW","Publisher",4,null,null,{"$f":"IF(OR(G43=\"NA\", G43=\"FAILED\"), G43, (IF(ISERROR((E43-1)/(G43-F43)*60), \"\", (E43-1)/(G43-F43)*60)))","v":""},{"$f":"IF(OR(G43=\"NA\", G43=\"FAILED\"), G43, (IF(ISERROR(H43/'Test Info'!$I$6*100), \"\", H43/'Test Info'!$I$6*100)))","v":""},{"$f":"IF(OR(G43=\"NA\", G43=\"FAILED\"), G43, (IF(ISERROR(E43/G43/'Test Info'!$I$6*6000), \"\", E43/G43/'Test Info'!$I$6*6000)))","v":""},null,null,null,null,"PS","Color","BWW","Publisher",4,null,null,{"$f":"IF(OR(U43=\"NA\", U43=\"FAILED\"), U43, (IF(ISERROR((S43-1)/(U43-T43)*60), \"\", (S43-1)/(U43-T43)*60)))","v":""},{"$f":"IF(OR(U43=\"NA\", U43=\"FAILED\"), U43, (IF(ISERROR(V43/'Test Info'!$I$6*100), \"\", V43/'Test Info'!$I$6*100)))","v":""},{"$f":"IF(OR(U43=\"NA\", U43=\"FAILED\"), U43, (IF(ISERROR(S43/U43/'Test Info'!$I$6*6000), \"\", S43/U43/'Test Info'!$I$6*6000)))","v":""}]
["PS","Color","Architectural","Chrome",5,null,null,"",{"$f":"IF(OR(G44=\"NA\", G44=\"FAILED\"), G44, (IF(ISERROR(H44/'Test Info'!$I$6*100), \"\", H44/'Test Info'!$I$6*100)))","v":""},{"$f":"IF(OR(G44=\"NA\", G44=\"FAILED\"), G44, (IF(ISERROR(E44/G44/'Test Info'!$I$6*6000), \"\", E44/G44/'Test Info'!$I$6*6000)))","v":""},null,null,null,null,"PS","Color","Architectural","Chrome",5,null,null,"",{"$f":"IF(OR(U44=\"NA\", U44=\"FAILED\"), U44, (IF(ISERROR(V44/'Test Info'!$I$6*100), \"\", V44/'Test Info'!$I$6*100)))","v":""},{"$f":"IF(OR(U44=\"NA\", U44=\"FAILED\"), U44, (IF(ISERROR(S44/U44/'Test Info'!$I$6*6000), \"\", S44/U44/'Test Info'!$I$6*6000)))","v":""}]
["PS","Color","Outcast","Acrobat",12,null,null,"",{"$f":"IF(OR(G45=\"NA\", G45=\"FAILED\"), G45, (IF(ISERROR(H45/'Test Info'!$I$6*100), \"\", H45/'Test Info'!$I$6*100)))","v":""},{"$f":"IF(OR(G45=\"NA\", G45=\"FAILED\"), G45, (IF(ISERROR(E45/G45/'Test Info'!$I$6*6000), \"\", E45/G45/'Test Info'!$I$6*6000)))","v":""},null,null,null,null,"PS","Color","Outcast","Acrobat",12,null,null,"",{"$f":"IF(OR(U45=\"NA\", U45=\"FAILED\"), U45, (IF(ISERROR(V45/'Test Info'!$I$6*100), \"\", V45/'Test Info'!$I$6*100)))","v":""},{"$f":"IF(OR(U45=\"NA\", U45=\"FAILED\"), U45, (IF(ISERROR(S45/U45/'Test Info'!$I$6*6000), \"\", S45/U45/'Test Info'!$I$6*6000)))","v":""}]
["PS","Color","Valentines day","Powerpoint",40,null,null,"",{"$f":"IF(OR(G46=\"NA\", G46=\"FAILED\"), G46, (IF(ISERROR(H46/'Test Info'!$I$6*100), \"\", H46/'Test Info'!$I$6*100)))","v":""},{"$f":"IF(OR(G46=\"NA\", G46=\"FAILED\"), G46, (IF(ISERROR(E46/G46/'Test Info'!$I$6*6000), \"\", E46/G46/'Test Info'!$I$6*6000)))","v":""},null,null,null,null,"PS","Color","Valentines day","Powerpoint",40,null,null,"",{"$f":"IF(OR(U46=\"NA\", U46=\"FAILED\"), U46, (IF(ISERROR(V46/'Test Info'!$I$6*100), \"\", V46/'Test Info'!$I$6*100)))","v":""},{"$f":"IF(OR(U46=\"NA\", U46=\"FAILED\"), U46, (IF(ISERROR(S46/U46/'Test Info'!$I$6*6000), \"\", S46/U46/'Test Info'!$I$6*6000)))","v":""}]
["PS","Color","Rainfall","Excel",7,null,null,"",{"$f":"IF(OR(G47=\"NA\", G47=\"FAILED\"), G47, (IF(ISERROR(H47/'Test Info'!$I$6*100), \"\", H47/'Test Info'!$I$6*100)))","v":""},{"$f":"IF(OR(G47=\"NA\", G47=\"FAILED\"), G47, (IF(ISERROR(E47/G47/'Test Info'!$I$6*6000), \"\", E47/G47/'Test Info'!$I$6*6000)))","v":""},null,null,null,null,"PS","Color","Rainfall","Excel",7,null,null,"",{"$f":"IF(OR(U47=\"NA\", U47=\"FAILED\"), U47, (IF(ISERROR(V47/'Test Info'!$I$6*100), \"\", V47/'Test Info'!$I$6*100)))","v":""},{"$f":"IF(OR(U47=\"NA\", U47=\"FAILED\"), U47, (IF(ISERROR(S47/U47/'Test Info'!$I$6*6000), \"\", S47/U47/'Test Info'!$I$6*6000)))","v":""}]
["PS","Color","The blue fairy book 40","Corel Draw",40,null,null,"",{"$f":"IF(OR(G48=\"NA\", G48=\"FAILED\"), G48, (IF(ISERROR(H48/'Test Info'!$I$6*100), \"\", H48/'Test Info'!$I$6*100)))","v":""},{"$f":"IF(OR(G48=\"NA\", G48=\"FAILED\"), G48, (IF(ISERROR(E48/G48/'Test Info'!$I$6*6000), \"\", E48/G48/'Test Info'!$I$6*6000)))","v":""},null,null,null,null,"PS","Color","The blue fairy book 40","Corel Draw",40,null,null,"",{"$f":"IF(OR(U48=\"NA\", U48=\"FAILED\"), U48, (IF(ISERROR(V48/'Test Info'!$I$6*100), \"\", V48/'Test Info'!$I$6*100)))","v":""},{"$f":"IF(OR(U48=\"NA\", U48=\"FAILED\"), U48, (IF(ISERROR(S48/U48/'Test Info'!$I$6*6000), \"\", S48/U48/'Test Info'!$I$6*6000)))","v":""}]
[null,null,null,"Average",{"$f":"AVERAGE(E38:E48)","v":12.363636363636363},{"$f":"IF(F48=\"NA\", F48, (IF(ISERROR(AVERAGE(F38:F48)), \"\", AVERAGE(F38:F48))))","v":""},{"$f":"IF(G48=\"NA\", G48, (IF(ISERROR(AVERAGE(G38:G48)), \"\", AVERAGE(G38:G48))))","v":""},{"$f":"IF(H48=\"NA\", H48, (IF(ISERROR(AVERAGE(H38:H48)), \"\", AVERAGE(H38:H48))))","v":""},{"$f":"IF(I48=\"NA\", I48, (IF(ISERROR(AVERAGE(I38:I48)), \"\", AVERAGE(I38:I48))))","v":""},{"$f":"IF(J48=\"NA\", J48, (IF(ISERROR(AVERAGE(J38:J48)), \"\", AVERAGE(J38:J48))))","v":""},null,null,null,null,null,null,null,"Average",{"$f":"AVERAGE(S38:S48)","v":12.363636363636363},{"$f":"IF(T48=\"NA\", T48, (IF(ISERROR(AVERAGE(T38:T48)), \"\", AVERAGE(T38:T48))))","v":""},{"$f":"IF(U48=\"NA\", U48, (IF(ISERROR(AVERAGE(U38:U48)), \"\", AVERAGE(U38:U48))))","v":""},{"$f":"IF(V48=\"NA\", V48, (IF(ISERROR(AVERAGE(V38:V48)), \"\", AVERAGE(V38:V48))))","v":""},{"$f":"IF(W48=\"NA\", W48, (IF(ISERROR(AVERAGE(W38:W48)), \"\", AVERAGE(W38:W48))))","v":""},{"$f":"IF(X48=\"NA\", X48, (IF(ISERROR(AVERAGE(X38:X48)), \"\", AVERAGE(X38:X48))))","v":""}]
[]
["Stress- No Banner",null,null,null,null,null,null,null,null,null,null,null,null,null,"Stress- No Banner"]
["PS","Color","Begin with things","Corel Draw",4,null,null,{"$f":"IF(OR(G52=\"NA\", G52=\"FAILED\"), G52, (IF(ISERROR((E52-1)/(G52-F52)*60), \"\", (E52-1)/(G52-F52)*60)))","v":""},{"$f":"IF(OR(G52=\"NA\", G52=\"FAILED\"), G52, (IF(ISERROR(H52/'Test Info'!$I$6*100), \"\", H52/'Test Info'!$I$6*100)))","v":""},{"$f":"IF(OR(G52=\"NA\", G52=\"FAILED\"), G52, (IF(ISERROR(E52/G52/'Test Info'!$I$6*6000), \"\", E52/G52/'Test Info'!$I$6*6000)))","v":""},null,null,null,null,"PS","Color","Begin with things","Corel Draw",4,null,null,{"$f":"IF(OR(U52=\"NA\", U52=\"FAILED\"), U52, (IF(ISERROR((S52-1)/(U52-T52)*60), \"\", (S52-1)/(U52-T52)*60)))","v":""},{"$f":"IF(OR(U52=\"NA\", U52=\"FAILED\"), U52, (IF(ISERROR(V52/'Test Info'!$I$6*100), \"\", V52/'Test Info'!$I$6*100)))","v":""},{"$f":"IF(OR(U52=\"NA\", U52=\"FAILED\"), U52, (IF(ISERROR(S52/U52/'Test Info'!$I$6*6000), \"\", S52/U52/'Test Info'!$I$6*6000)))","v":""}]
["PS","Color","Lincoln 6","Word",6,null,null,{"$f":"IF(OR(G53=\"NA\", G53=\"FAILED\"), G53, (IF(ISERROR((E53-1)/(G53-F53)*60), \"\", (E53-1)/(G53-F53)*60)))","v":""},{"$f":"IF(OR(G53=\"NA\", G53=\"FAILED\"), G53, (IF(ISERROR(H53/'Test Info'!$I$6*100), \"\", H53/'Test Info'!$I$6*100)))","v":""},{"$f":"IF(OR(G53=\"NA\", G53=\"FAILED\"), G53, (IF(ISERROR(E53/G53/'Test Info'!$I$6*6000), \"\", E53/G53/'Test Info'!$I$6*6000)))","v":""},null,null,null,null,"PS","Color","Lincoln 6","Word",6,null,null,{"$f":"IF(OR(U53=\"NA\", U53=\"FAILED\"), U53, (IF(ISERROR((S53-1)/(U53-T53)*60), \"\", (S53-1)/(U53-T53)*60)))","v":""},{"$f":"IF(OR(U53=\"NA\", U53=\"FAILED\"), U53, (IF(ISERROR(V53/'Test Info'!$I$6*100), \"\", V53/'Test Info'!$I$6*100)))","v":""},{"$f":"IF(OR(U53=\"NA\", U53=\"FAILED\"), U53, (IF(ISERROR(S53/U53/'Test Info'!$I$6*6000), \"\", S53/U53/'Test Info'!$I$6*6000)))","v":""}]
["PS","Color","Sisters","Corel Draw",12,null,null,{"$f":"IF(OR(G54=\"NA\", G54=\"FAILED\"), G54, (IF(ISERROR((E54-1)/(G54-F54)*60), \"\", (E54-1)/(G54-F54)*60)))","v":""},{"$f":"IF(OR(G54=\"NA\", G54=\"FAILED\"), G54, (IF(ISERROR(H54/'Test Info'!$I$6*100), \"\", H54/'Test Info'!$I$6*100)))","v":""},{"$f":"IF(OR(G54=\"NA\", G54=\"FAILED\"), G54, (IF(ISERROR(E54/G54/'Test Info'!$I$6*6000), \"\", E54/G54/'Test Info'!$I$6*6000)))","v":""},null,null,null,null,"PS","Color","Sisters","Corel Draw",12,null,null,{"$f":"IF(OR(U54=\"NA\", U54=\"FAILED\"), U54, (IF(ISERROR((S54-1)/(U54-T54)*60), \"\", (S54-1)/(U54-T54)*60)))","v":""},{"$f":"IF(OR(U54=\"NA\", U54=\"FAILED\"), U54, (IF(ISERROR(V54/'Test Info'!$I$6*100), \"\", V54/'Test Info'!$I$6*100)))","v":""},{"$f":"IF(OR(U54=\"NA\", U54=\"FAILED\"), U54, (IF(ISERROR(S54/U54/'Test Info'!$I$6*6000), \"\", S54/U54/'Test Info'!$I$6*6000)))","v":""}]
["PS","Color","Turtle Island","Photoshop",1,null,null,null,null,{"$f":"IF(OR(G55=\"NA\", G55=\"FAILED\"), G55, (IF(ISERROR(E55/G55/'Test Info'!$I$6*6000), \"\", E55/G55/'Test Info'!$I$6*6000)))","v":""},null,null,null,null,"PS","Color","Turtle Island","Photoshop",1,null,null,null,null,{"$f":"IF(OR(U55=\"NA\", U55=\"FAILED\"), U55, (IF(ISERROR(S55/U55/'Test Info'!$I$6*6000), \"\", S55/U55/'Test Info'!$I$6*6000)))","v":""}]
[null,null,null,"Average",{"$f":"AVERAGE(E52:E55)","v":5.75},{"$f":"IF(F55=\"NA\", F55, (IF(ISERROR(AVERAGE(F52:F55)), \"\", AVERAGE(F52:F55))))","v":""},{"$f":"IF(G55=\"NA\", G55, (IF(ISERROR(AVERAGE(G52:G55)), \"\", AVERAGE(G52:G55))))","v":""},{"$f":"IF(H55=\"NA\", H55, (IF(ISERROR(AVERAGE(H52:H55)), \"\", AVERAGE(H52:H55))))","v":""},{"$f":"IF(I55=\"NA\", I55, (IF(ISERROR(AVERAGE(I52:I55)), \"\", AVERAGE(I52:I55))))","v":""},{"$f":"IF(J55=\"NA\", J55, (IF(ISERROR(AVERAGE(J52:J55)), \"\", AVERAGE(J52:J55))))","v":""},null,null,null,null,null,null,null,"Average",{"$f":"AVERAGE(S52:S55)","v":5.75},{"$f":"IF(T55=\"NA\", T55, (IF(ISERROR(AVERAGE(T52:T55)), \"\", AVERAGE(T52:T55))))","v":""},{"$f":"IF(U55=\"NA\", U55, (IF(ISERROR(AVERAGE(U52:U55)), \"\", AVERAGE(U52:U55))))","v":""},{"$f":"IF(V55=\"NA\", V55, (IF(ISERROR(AVERAGE(V52:V55)), \"\", AVERAGE(V52:V55))))","v":""},{"$f":"IF(W55=\"NA\", W55, (IF(ISERROR(AVERAGE(W52:W55)), \"\", AVERAGE(W52:W55))))","v":""},{"$f":"IF(X55=\"NA\", X55, (IF(ISERROR(AVERAGE(X52:X55)), \"\", AVERAGE(X52:X55))))","v":""}]
[]
["PCL6- No Banner",null,null,null,null,null,null,null,null,null,null,null,null,null,"PCL6- No Banner"]
["Office Color- No Banner",null,null,null,null,null,null,null,null,null,null,null,null,null,"Office Color- No Banner"]
["Type","Mode","Job","Application","Pages","FPOT Measured\nin Seconds","C-C Measured\nin Seconds","2-N PPM Calculated","2-N % Rated Speed Calculated","C-C % Rated Speed Calculated",null,null,null,null,"Type","Mode","Job","Application","Pages","FPOT Measured\nin Seconds","C-C Measured\nin Seconds","2-N PPM Calculated","2-N % Rated Speed Calculated","C-C % Rated Speed Calculated"]
["PCL6","Color","Jewelry","Powerpoint",12,null,null,{"$f":"IF(OR(G61=\"NA\", G61=\"FAILED\"), G61, (IF(ISERROR((E61-1)/(G61-F61)*60), \"\", (E61-1)/(G61-F61)*60)))","v":""},{"$f":"IF(OR(G61=\"NA\", G61=\"FAILED\"), G61, (IF(ISERROR(H61/'Test Info'!$I$6*100), \"\", H61/'Test Info'!$I$6*100)))","v":""},{"$f":"IF(OR(G61=\"NA\", G61=\"FAILED\"), G61, (IF(ISERROR(E61/G61/'Test Info'!$I$6*6000), \"\", E61/G61/'Test Info'!$I$6*6000)))","v":""},null,null,null,null,"PCL6","Color","Jewelry","Powerpoint",12,null,null,{"$f":"IF(OR(U61=\"NA\", U61=\"FAILED\"), U61, (IF(ISERROR((S61-1)/(U61-T61)*60), \"\", (S61-1)/(U61-T61)*60)))","v":""},{"$f":"IF(OR(U61=\"NA\", U61=\"FAILED\"), U61, (IF(ISERROR(V61/'Test Info'!$I$6*100), \"\", V61/'Test Info'!$I$6*100)))","v":""},{"$f":"IF(OR(U61=\"NA\", U61=\"FAILED\"), U61, (IF(ISERROR(S61/U61/'Test Info'!$I$6*6000), \"\", S61/U61/'Test Info'!$I$6*6000)))","v":""}]
["PCL6","Color","Inpatient","Excel",3,null,null,{"$f":"IF(OR(G62=\"NA\", G62=\"FAILED\"), G62, (IF(ISERROR((E62-1)/(G62-F62)*60), \"\", (E62-1)/(G62-F62)*60)))","v":""},{"$f":"IF(OR(G62=\"NA\", G62=\"FAILED\"), G62, (IF(ISERROR(H62/'Test Info'!$I$6*100), \"\", H62/'Test Info'!$I$6*100)))","v":""},{"$f":"IF(OR(G62=\"NA\", G62=\"FAILED\"), G62, (IF(ISERROR(E62/G62/'Test Info'!$I$6*6000), \"\", E62/G62/'Test Info'!$I$6*6000)))","v":""},null,null,null,null,"PCL6","Color","Inpatient","Excel",3,null,null,{"$f":"IF(OR(U62=\"NA\", U62=\"FAILED\"), U62, (IF(ISERROR((S62-1)/(U62-T62)*60), \"\", (S62-1)/(U62-T62)*60)))","v":""},{"$f":"IF(OR(U62=\"NA\", U62=\"FAILED\"), U62, (IF(ISERROR(V62/'Test Info'!$I$6*100), \"\", V62/'Test Info'!$I$6*100)))","v":""},{"$f":"IF(OR(U62=\"NA\", U62=\"FAILED\"), U62, (IF(ISERROR(S62/U62/'Test Info'!$I$6*6000), \"\", S62/U62/'Test Info'!$I$6*6000)))","v":""}]
["PCL6","Color","Rain year","Excel",2,null,null,"",{"$f":"IF(OR(G63=\"NA\", G63=\"FAILED\"), G63, (IF(ISERROR(H63/'Test Info'!$I$6*100), \"\", H63/'Test Info'!$I$6*100)))","v":""},{"$f":"IF(OR(G63=\"NA\", G63=\"FAILED\"), G63, (IF(ISERROR(E63/G63/'Test Info'!$I$6*6000), \"\", E63/G63/'Test Info'!$I$6*6000)))","v":""},null,null,null,null,"PCL6","Color","Rain year","Excel",2,null,null,"",{"$f":"IF(OR(U63=\"NA\", U63=\"FAILED\"), U63, (IF(ISERROR(V63/'Test Info'!$I$6*100), \"\", V63/'Test Info'!$I$6*100)))","v":""},{"$f":"IF(OR(U63=\"NA\", U63=\"FAILED\"), U63, (IF(ISERROR(S63/U63/'Test Info'!$I$6*6000), \"\", S63/U63/'Test Info'!$I$6*6000)))","v":""}]
["PCL6","Color","Troutman","Quark",4,null,null,"",{"$f":"IF(OR(G64=\"NA\", G64=\"FAILED\"), G64, (IF(ISERROR(H64/'Test Info'!$I$6*100), \"\", H64/'Test Info'!$I$6*100)))","v":""},{"$f":"IF(OR(G64=\"NA\", G64=\"FAILED\"), G64, (IF(ISERROR(E64/G64/'Test Info'!$I$6*6000), \"\", E64/G64/'Test Info'!$I$6*6000)))","v":""},null,null,null,null,"PCL6","Color","Troutman","Quark",4,null,null,"",{"$f":"IF(OR(U64=\"NA\", U64=\"FAILED\"), U64, (IF(ISERROR(V64/'Test Info'!$I$6*100), \"\", V64/'Test Info'!$I$6*100)))","v":""},{"$f":"IF(OR(U64=\"NA\", U64=\"FAILED\"), U64, (IF(ISERROR(S64/U64/'Test Info'!$I$6*6000), \"\", S64/U64/'Test Info'!$I$6*6000)))","v":""}]
["PCL6","Color","Volcanoes","Access",7,null,null,"",{"$f":"IF(OR(G65=\"NA\", G65=\"FAILED\"), G65, (IF(ISERROR(H65/'Test Info'!$I$6*100), \"\", H65/'Test Info'!$I$6*100)))","v":""},{"$f":"IF(OR(G65=\"NA\", G65=\"FAILED\"), G65, (IF(ISERROR(E65/G65/'Test Info'!$I$6*6000), \"\", E65/G65/'Test Info'!$I$6*6000)))","v":""},null,null,null,null,"PCL6","Color","Volcanoes","Access",7,null,null,"",{"$f":"IF(OR(U65=\"NA\", U65=\"FAILED\"), U65, (IF(ISERROR(V65/'Test Info'!$I$6*100), \"\", V65/'Test Info'!$I$6*100)))","v":""},{"$f":"IF(OR(U65=\"NA\", U65=\"FAILED\"), U65, (IF(ISERROR(S65/U65/'Test Info'!$I$6*6000), \"\", S65/U65/'Test Info'!$I$6*6000)))","v":""}]
["PCL6","Color","Progress","Powerpoint",4,null,null,"",{"$f":"IF(OR(G66=\"NA\", G66=\"FAILED\"), G66, (IF(ISERROR(H66/'Test Info'!$I$6*100), \"\", H66/'Test Info'!$I$6*100)))","v":""},{"$f":"IF(OR(G66=\"NA\", G66=\"FAILED\"), G66, (IF(ISERROR(E66/G66/'Test Info'!$I$6*6000), \"\", E66/G66/'Test Info'!$I$6*6000)))","v":""},null,null,null,null,"PCL6","Color","Progress","Powerpoint",4,null,null,"",{"$f":"IF(OR(U66=\"NA\", U66=\"FAILED\"), U66, (IF(ISERROR(V66/'Test Info'!$I$6*100), \"\", V66/'Test Info'!$I$6*100)))","v":""},{"$f":"IF(OR(U66=\"NA\", U66=\"FAILED\"), U66, (IF(ISERROR(S66/U66/'Test Info'!$I$6*6000), \"\", S66/U66/'Test Info'!$I$6*6000)))","v":""}]
["PCL6","Color","Contents","Word",12,null,null,"",{"$f":"IF(OR(G67=\"NA\", G67=\"FAILED\"), G67, (IF(ISERROR(H67/'Test Info'!$I$6*100), \"\", H67/'Test Info'!$I$6*100)))","v":""},{"$f":"IF(OR(G67=\"NA\", G67=\"FAILED\"), G67, (IF(ISERROR(E67/G67/'Test Info'!$I$6*6000), \"\", E67/G67/'Test Info'!$I$6*6000)))","v":""},null,null,null,null,"PCL6","Color","Contents","Word",12,null,null,"",{"$f":"IF(OR(U67=\"NA\", U67=\"FAILED\"), U67, (IF(ISERROR(V67/'Test Info'!$I$6*100), \"\", V67/'Test Info'!$I$6*100)))","v":""},{"$f":"IF(OR(U67=\"NA\", U67=\"FAILED\"), U67, (IF(ISERROR(S67/U67/'Test Info'!$I$6*6000), \"\", S67/U67/'Test Info'!$I$6*6000)))","v":""}]
["PCL6","Color","Blue sky","Quark",12,null,null,"",{"$f":"IF(OR(G68=\"NA\", G68=\"FAILED\"), G68, (IF(ISERROR(H68/'Test Info'!$I$6*100), \"\", H68/'Test Info'!$I$6*100)))","v":""},{"$f":"IF(OR(G68=\"NA\", G68=\"FAILED\"), G68, (IF(ISERROR(E68/G68/'Test Info'!$I$6*6000), \"\", E68/G68/'Test Info'!$I$6*6000)))","v":""},null,null,null,null,"PCL6","Color","Blue sky","Quark",12,null,null,"",{"$f":"IF(OR(U68=\"NA\", U68=\"FAILED\"), U68, (IF(ISERROR(V68/'Test Info'!$I$6*100), \"\", V68/'Test Info'!$I$6*100)))","v":""},{"$f":"IF(OR(U68=\"NA\", U68=\"FAILED\"), U68, (IF(ISERROR(S68/U68/'Test Info'!$I$6*6000), \"\", S68/U68/'Test Info'!$I$6*6000)))","v":""}]
["PCL6","Color","The blue fairy book 4","Corel Draw",4,null,null,{"$f":"IF(OR(G69=\"NA\", G69=\"FAILED\"), G69, (IF(ISERROR((E69-1)/(G69-F69)*60), \"\", (E69-1)/(G69-F69)*60)))","v":""},{"$f":"IF(OR(G69=\"NA\", G69=\"FAILED\"), G69, (IF(ISERROR(H69/'Test Info'!$I$6*100), \"\", H69/'Test Info'!$I$6*100)))","v":""},{"$f":"IF(OR(G69=\"NA\", G69=\"FAILED\"), G69, (IF(ISERROR(E69/G69/'Test Info'!$I$6*6000), \"\", E69/G69/'Test Info'!$I$6*6000)))","v":""},null,null,null,null,"PCL6","Color","The blue fairy book 4","Corel Draw",4,null,null,{"$f":"IF(OR(U69=\"NA\", U69=\"FAILED\"), U69, (IF(ISERROR((S69-1)/(U69-T69)*60), \"\", (S69-1)/(U69-T69)*60)))","v":""},{"$f":"IF(OR(U69=\"NA\", U69=\"FAILED\"), U69, (IF(ISERROR(V69/'Test Info'!$I$6*100), \"\", V69/'Test Info'!$I$6*100)))","v":""},{"$f":"IF(OR(U69=\"NA\", U69=\"FAILED\"), U69, (IF(ISERROR(S69/U69/'Test Info'!$I$6*6000), \"\", S69/U69/'Test Info'!$I$6*6000)))","v":""}]
["PCL6","Color","Salary","Excel",12,null,null,{"$f":"IF(OR(G70=\"NA\", G70=\"FAILED\"), G70, (IF(ISERROR((E70-1)/(G70-F70)*60), \"\", (E70-1)/(G70-F70)*60)))","v":""},{"$f":"IF(OR(G70=\"NA\", G70=\"FAILED\"), G70, (IF(ISERROR(H70/'Test Info'!$I$6*100), \"\", H70/'Test Info'!$I$6*100)))","v":""},{"$f":"IF(OR(G70=\"NA\", G70=\"FAILED\"), G70, (IF(ISERROR(E70/G70/'Test Info'!$I$6*6000), \"\", E70/G70/'Test Info'!$I$6*6000)))","v":""},null,null,null,null,"PCL6","Color","Salary","Excel",12,null,null,{"$f":"IF(OR(U70=\"NA\", U70=\"FAILED\"), U70, (IF(ISERROR((S70-1)/(U70-T70)*60), \"\", (S70-1)/(U70-T70)*60)))","v":""},{"$f":"IF(OR(U70=\"NA\", U70=\"FAILED\"), U70, (IF(ISERROR(V70/'Test Info'!$I$6*100), \"\", V70/'Test Info'!$I$6*100)))","v":""},{"$f":"IF(OR(U70=\"NA\", U70=\"FAILED\"), U70, (IF(ISERROR(S70/U70/'Test Info'!$I$6*6000), \"\", S70/U70/'Test Info'!$I$6*6000)))","v":""}]
["PCL6","Color","Puzzle","Powerpoint",4,null,null,{"$f":"IF(OR(G71=\"NA\", G71=\"FAILED\"), G71, (IF(ISERROR((E71-1)/(G71-F71)*60), \"\", (E71-1)/(G71-F71)*60)))","v":""},{"$f":"IF(OR(G71=\"NA\", G71=\"FAILED\"), G71, (IF(ISERROR(H71/'Test Info'!$I$6*100), \"\", H71/'Test Info'!$I$6*100)))","v":""},{"$f":"IF(OR(G71=\"NA\", G71=\"FAILED\"), G71, (IF(ISERROR(E71/G71/'Test Info'!$I$6*6000), \"\", E71/G71/'Test Info'!$I$6*6000)))","v":""},null,null,null,null,"PCL6","Color","Puzzle","Powerpoint",4,null,null,{"$f":"IF(OR(U71=\"NA\", U71=\"FAILED\"), U71, (IF(ISERROR((S71-1)/(U71-T71)*60), \"\", (S71-1)/(U71-T71)*60)))","v":""},{"$f":"IF(OR(U71=\"NA\", U71=\"FAILED\"), U71, (IF(ISERROR(V71/'Test Info'!$I$6*100), \"\", V71/'Test Info'!$I$6*100)))","v":""},{"$f":"IF(OR(U71=\"NA\", U71=\"FAILED\"), U71, (IF(ISERROR(S71/U71/'Test Info'!$I$6*6000), \"\", S71/U71/'Test Info'!$I$6*6000)))","v":""}]
[null,null,null,"Average",{"$f":"AVERAGE(E61:E71)","v":6.9090909090909092},{"$f":"IF(F71=\"NA\", F71, (IF(ISERROR(AVERAGE(F61:F71)), \"\", AVERAGE(F61:F71))))","v":""},{"$f":"IF(G71=\"NA\", G71, (IF(ISERROR(AVERAGE(G61:G71)), \"\", AVERAGE(G61:G71))))","v":""},{"$f":"IF(H71=\"NA\", H71, (IF(ISERROR(AVERAGE(H61:H71)), \"\", AVERAGE(H61:H71))))","v":""},{"$f":"IF(I71=\"NA\", I71, (IF(ISERROR(AVERAGE(I61:I71)), \"\", AVERAGE(I61:I71))))","v":""},{"$f":"IF(J71=\"NA\", J71, (IF(ISERROR(AVERAGE(J61:J71)), \"\", AVERAGE(J61:J71))))","v":""},null,null,null,null,null,null,null,"Average",{"$f":"AVERAGE(S61:S71)","v":6.9090909090909092},{"$f":"IF(T71=\"NA\", T71, (IF(ISERROR(AVERAGE(T61:T71)), \"\", AVERAGE(T61:T71))))","v":""},{"$f":"IF(U71=\"NA\", U71, (IF(ISERROR(AVERAGE(U61:U71)), \"\", AVERAGE(U61:U71))))","v":""},{"$f":"IF(V71=\"NA\", V71, (IF(ISERROR(AVERAGE(V61:V71)), \"\", AVERAGE(V61:V71))))","v":""},{"$f":"IF(W71=\"NA\", W71, (IF(ISERROR(AVERAGE(W61:W71)), \"\", AVERAGE(W61:W71))))","v":""},{"$f":"IF(X71=\"NA\", X71, (IF(ISERROR(AVERAGE(X61:X71)), \"\", AVERAGE(X61:X71))))","v":""}]
[]
["Office Mono- No Banner",null,null,null,null,null,null,null,null,null,null,null,null,null,"Office Mono- No Banner"]
["PCL6","Mono","Classifieds","Chrome",13,null,null,{"$f":"IF(OR(G75=\"NA\",G75=\"FAILED\"),G75,(IF(ISERROR((E75-1)/(G75-F75)*60),\"\",(E75-1)/(G75-F75)*60)))","v":""},{"$f":"IF(OR(G75=\"NA\",G75=\"FAILED\"),G75, (IF(ISERROR(H75/'Test Info'!$J$6*100), \"\", H75/'Test Info'!$J$6*100)))","v":""},{"$f":"IF(OR(G75=\"NA\",G75=\"FAILED\"),G75, (IF(ISERROR(E75/G75/'Test Info'!$J$6*6000), \"\", E75/G75/'Test Info'!$J$6*6000)))","v":""},null,null,null,null,"PCL6","Mono","Classifieds","Chrome",13,null,null,{"$f":"IF(OR(U75=\"NA\",U75=\"FAILED\"),U75,(IF(ISERROR((S75-1)/(U75-T75)*60),\"\",(S75-1)/(U75-T75)*60)))","v":""},{"$f":"IF(OR(U75=\"NA\",U75=\"FAILED\"),U75, (IF(ISERROR(V75/'Test Info'!$J$6*100), \"\", V75/'Test Info'!$J$6*100)))","v":""},{"$f":"IF(OR(U75=\"NA\",U75=\"FAILED\"),U75, (IF(ISERROR(S75/U75/'Test Info'!$J$6*6000), \"\", S75/U75/'Test Info'!$J$6*6000)))","v":""}]
["PCL6","Mono","Gold","Powerpoint",8,null,null,{"$f":"IF(OR(G76=\"NA\",G76=\"FAILED\"),G76,(IF(ISERROR((E76-1)/(G76-F76)*60),\"\",(E76-1)/(G76-F76)*60)))","v":""},{"$f":"IF(OR(G76=\"NA\",G76=\"FAILED\"),G76, (IF(ISERROR(H76/'Test Info'!$J$6*100), \"\", H76/'Test Info'!$J$6*100)))","v":""},{"$f":"IF(OR(G76=\"NA\",G76=\"FAILED\"),G76, (IF(ISERROR(E76/G76/'Test Info'!$J$6*6000), \"\", E76/G76/'Test Info'!$J$6*6000)))","v":""},null,null,null,null,"PCL6","Mono","Gold","Powerpoint",8,null,null,{"$f":"IF(OR(U76=\"NA\",U76=\"FAILED\"),U76,(IF(ISERROR((S76-1)/(U76-T76)*60),\"\",(S76-1)/(U76-T76)*60)))","v":""},{"$f":"IF(OR(U76=\"NA\",U76=\"FAILED\"),U76, (IF(ISERROR(V76/'Test Info'!$J$6*100), \"\", V76/'Test Info'!$J$6*100)))","v":""},{"$f":"IF(OR(U76=\"NA\",U76=\"FAILED\"),U76, (IF(ISERROR(S76/U76/'Test Info'!$J$6*6000), \"\", S76/U76/'Test Info'!$J$6*6000)))","v":""}]
["PCL6","Mono","Pain at the pump","Chrome",3,null,null,{"$f":"IF(OR(G77=\"NA\",G77=\"FAILED\"),G77,(IF(ISERROR((E77-1)/(G77-F77)*60),\"\",(E77-1)/(G77-F77)*60)))","v":""},{"$f":"IF(OR(G77=\"NA\",G77=\"FAILED\"),G77, (IF(ISERROR(H77/'Test Info'!$J$6*100), \"\", H77/'Test Info'!$J$6*100)))","v":""},{"$f":"IF(OR(G77=\"NA\",G77=\"FAILED\"),G77, (IF(ISERROR(E77/G77/'Test Info'!$J$6*6000), \"\", E77/G77/'Test Info'!$J$6*6000)))","v":""},null,null,null,null,"PCL6","Mono","Pain at the pump","Chrome",3,null,null,{"$f":"IF(OR(U77=\"NA\",U77=\"FAILED\"),U77,(IF(ISERROR((S77-1)/(U77-T77)*60),\"\",(S77-1)/(U77-T77)*60)))","v":""},{"$f":"IF(OR(U77=\"NA\",U77=\"FAILED\"),U77, (IF(ISERROR(V77/'Test Info'!$J$6*100), \"\", V77/'Test Info'!$J$6*100)))","v":""},{"$f":"IF(OR(U77=\"NA\",U77=\"FAILED\"),U77, (IF(ISERROR(S77/U77/'Test Info'!$J$6*6000), \"\", S77/U77/'Test Info'!$J$6*6000)))","v":""}]
["PCL6","Mono","Lincoln 2","Word",2,null,null,{"$f":"IF(OR(G78=\"NA\",G78=\"FAILED\"),G78,(IF(ISERROR((E78-1)/(G78-F78)*60),\"\",(E78-1)/(G78-F78)*60)))","v":""},{"$f":"IF(OR(G78=\"NA\",G78=\"FAILED\"),G78, (IF(ISERROR(H78/'Test Info'!$J$6*100), \"\", H78/'Test Info'!$J$6*100)))","v":""},{"$f":"IF(OR(G78=\"NA\",G78=\"FAILED\"),G78, (IF(ISERROR(E78/G78/'Test Info'!$J$6*6000), \"\", E78/G78/'Test Info'!$J$6*6000)))","v":""},null,null,null,null,"PCL6","Mono","Lincoln 2","Word",2,null,null,{"$f":"IF(OR(U78=\"NA\",U78=\"FAILED\"),U78,(IF(ISERROR((S78-1)/(U78-T78)*60),\"\",(S78-1)/(U78-T78)*60)))","v":""},{"$f":"IF(OR(U78=\"NA\",U78=\"FAILED\"),U78, (IF(ISERROR(V78/'Test Info'!$J$6*100), \"\", V78/'Test Info'!$J$6*100)))","v":""},{"$f":"IF(OR(U78=\"NA\",U78=\"FAILED\"),U78, (IF(ISERROR(S78/U78/'Test Info'!$J$6*6000), \"\", S78/U78/'Test Info'!$J$6*6000)))","v":""}]
["PCL6","Mono","Mountains","Word",25,null,null,{"$f":"IF(OR(G79=\"NA\",G79=\"FAILED\"),G79,(IF(ISERROR((E79-1)/(G79-F79)*60),\"\",(E79-1)/(G79-F79)*60)))","v":""},{"$f":"IF(OR(G79=\"NA\",G79=\"FAILED\"),G79, (IF(ISERROR(H79/'Test Info'!$J$6*100), \"\", H79/'Test Info'!$J$6*100)))","v":""},{"$f":"IF(OR(G79=\"NA\",G79=\"FAILED\"),G79, (IF(ISERROR(E79/G79/'Test Info'!$J$6*6000), \"\", E79/G79/'Test Info'!$J$6*6000)))","v":""},null,null,null,null,"PCL6","Mono","Mountains","Word",25,null,null,{"$f":"IF(OR(U79=\"NA\",U79=\"FAILED\"),U79,(IF(ISERROR((S79-1)/(U79-T79)*60),\"\",(S79-1)/(U79-T79)*60)))","v":""},{"$f":"IF(OR(U79=\"NA\",U79=\"FAILED\"),U79, (IF(ISERROR(V79/'Test Info'!$J$6*100), \"\", V79/'Test Info'!$J$6*100)))","v":""},{"$f":"IF(OR(U79=\"NA\",U79=\"FAILED\"),U79, (IF(ISERROR(S79/U79/'Test Info'!$J$6*6000), \"\", S79/U79/'Test Info'!$J$6*6000)))","v":""}]
["PCL6","Mono","Oberan 1","Illustrator",1,null,null,null,null,{"$f":"IF(OR(G80=\"NA\",G80=\"FAILED\"),G80, (IF(ISERROR(E80/G80/'Test Info'!$J$6*6000), \"\", E80/G80/'Test Info'!$J$6*6000)))","v":""},null,null,null,null,"PCL6","Mono","Oberan 1","Illustrator",1,null,null,null,null,{"$f":"IF(OR(U80=\"NA\",U80=\"FAILED\"),U80, (IF(ISERROR(S80/U80/'Test Info'!$J$6*6000), \"\", S80/U80/'Test Info'!$J$6*6000)))","v":""}]
["PCL6","Mono","Budget","Excel",1,null,null,null,null,{"$f":"IF(OR(G81=\"NA\",G81=\"FAILED\"),G81, (IF(ISERROR(E81/G81/'Test Info'!$J$6*6000), \"\", E81/G81/'Test Info'!$J$6*6000)))","v":""},null,null,null,null,"PCL6","Mono","Budget","Excel",1,null,null,null,null,{"$f":"IF(OR(U81=\"NA\",U81=\"FAILED\"),U81, (IF(ISERROR(S81/U81/'Test Info'!$J$6*6000), \"\", S81/U81/'Test Info'!$J$6*6000)))","v":""}]
[null,null,null,"Average",{"$f":"AVERAGE(E75:E81)","v":7.5714285714285712},{"$f":"IF(F81=\"NA\", F81, (IF(ISERROR(AVERAGE(F75:F81)), \"\", AVERAGE(F75:F81))))","v":""},{"$f":"IF(G81=\"NA\", G81, (IF(ISERROR(AVERAGE(G75:G81)), \"\", AVERAGE(G75:G81))))","v":""},{"$f":"IF(G81=\"NA\", G81, (IF(ISERROR(AVERAGE(H75:H81)), \"\", AVERAGE(H75:H81))))","v":""},{"$f":"IF(G81=\"NA\", G81, (IF(ISERROR(AVERAGE(I75:I81)), \"\", AVERAGE(I75:I81))))","v":""},{"$f":"IF(J81=\"NA\", J81, (IF(ISERROR(AVERAGE(J75:J81)), \"\", AVERAGE(J75:J81))))","v":""},null,null,null,null,null,null,null,"Average",{"$f":"AVERAGE(S75:S81)","v":7.5714285714285712},{"$f":"IF(T81=\"NA\", T81, (IF(ISERROR(AVERAGE(T75:T81)), \"\", AVERAGE(T75:T81))))","v":""},{"$f":"IF(U81=\"NA\", U81, (IF(ISERROR(AVERAGE(U75:U81)), \"\", AVERAGE(U75:U81))))","v":""},{"$f":"IF(U81=\"NA\", U81, (IF(ISERROR(AVERAGE(V75:V81)), \"\", AVERAGE(V75:V81))))","v":""},{"$f":"IF(U81=\"NA\", U81, (IF(ISERROR(AVERAGE(W75:W81)), \"\", AVERAGE(W75:W81))))","v":""},{"$f":"IF(X81=\"NA\", X81, (IF(ISERROR(AVERAGE(X75:X81)), \"\", AVERAGE(X75:X81))))","v":""}]
[]
["Graphic- No Banner",null,null,null,null,null,null,null,null,null,null,null,null,null,"Graphic- No Banner"]
["PCL6","Color","Join MSA us","Acrobat",5,null,null,{"$f":"IF(OR(G85=\"NA\", G85=\"FAILED\"), G85, (IF(ISERROR((E85-1)/(G85-F85)*60), \"\", (E85-1)/(G85-F85)*60)))","v":""},{"$f":"IF(OR(G85=\"NA\", G85=\"FAILED\"), G85, (IF(ISERROR(H85/'Test Info'!$I$6*100), \"\", H85/'Test Info'!$I$6*100)))","v":""},{"$f":"IF(OR(G85=\"NA\", G85=\"FAILED\"), G85, (IF(ISERROR(E85/G85/'Test Info'!$I$6*6000), \"\", E85/G85/'Test Info'!$I$6*6000)))","v":""},null,null,null,null,"PCL6","Color","Join MSA us","Acrobat",5,null,null,{"$f":"IF(OR(U85=\"NA\", U85=\"FAILED\"), U85, (IF(ISERROR((S85-1)/(U85-T85)*60), \"\", (S85-1)/(U85-T85)*60)))","v":""},{"$f":"IF(OR(U85=\"NA\", U85=\"FAILED\"), U85, (IF(ISERROR(V85/'Test Info'!$I$6*100), \"\", V85/'Test Info'!$I$6*100)))","v":""},{"$f":"IF(OR(U85=\"NA\", U85=\"FAILED\"), U85, (IF(ISERROR(S85/U85/'Test Info'!$I$6*6000), \"\", S85/U85/'Test Info'!$I$6*6000)))","v":""}]
["PCL6","Color","Oberan 4","Illustrator",4,null,null,{"$f":"IF(OR(G86=\"NA\", G86=\"FAILED\"), G86, (IF(ISERROR((E86-1)/(G86-F86)*60), \"\", (E86-1)/(G86-F86)*60)))","v":""},{"$f":"IF(OR(G86=\"NA\", G86=\"FAILED\"), G86, (IF(ISERROR(H86/'Test Info'!$I$6*100), \"\", H86/'Test Info'!$I$6*100)))","v":""},{"$f":"IF(OR(G86=\"NA\", G86=\"FAILED\"), G86, (IF(ISERROR(E86/G86/'Test Info'!$I$6*6000), \"\", E86/G86/'Test Info'!$I$6*6000)))","v":""},null,null,null,null,"PCL6","Color","Oberan 4","Illustrator",4,null,null,{"$f":"IF(OR(U86=\"NA\", U86=\"FAILED\"), U86, (IF(ISERROR((S86-1)/(U86-T86)*60), \"\", (S86-1)/(U86-T86)*60)))","v":""},{"$f":"IF(OR(U86=\"NA\", U86=\"FAILED\"), U86, (IF(ISERROR(V86/'Test Info'!$I$6*100), \"\", V86/'Test Info'!$I$6*100)))","v":""},{"$f":"IF(OR(U86=\"NA\", U86=\"FAILED\"), U86, (IF(ISERROR(S86/U86/'Test Info'!$I$6*6000), \"\", S86/U86/'Test Info'!$I$6*6000)))","v":""}]
["PCL6","Color","Moorpark","Acrobat",4,null,null,{"$f":"IF(OR(G87=\"NA\", G87=\"FAILED\"), G87, (IF(ISERROR((E87-1)/(G87-F87)*60), \"\", (E87-1)/(G87-F87)*60)))","v":""},{"$f":"IF(OR(G87=\"NA\", G87=\"FAILED\"), G87, (IF(ISERROR(H87/'Test Info'!$I$6*100), \"\", H87/'Test Info'!$I$6*100)))","v":""},{"$f":"IF(OR(G87=\"NA\", G87=\"FAILED\"), G87, (IF(ISERROR(E87/G87/'Test Info'!$I$6*6000), \"\", E87/G87/'Test Info'!$I$6*6000)))","v":""},null,null,null,null,"PCL6","Color","Moorpark","Acrobat",4,null,null,{"$f":"IF(OR(U87=\"NA\", U87=\"FAILED\"), U87, (IF(ISERROR((S87-1)/(U87-T87)*60), \"\", (S87-1)/(U87-T87)*60)))","v":""},{"$f":"IF(OR(U87=\"NA\", U87=\"FAILED\"), U87, (IF(ISERROR(V87/'Test Info'!$I$6*100), \"\", V87/'Test Info'!$I$6*100)))","v":""},{"$f":"IF(OR(U87=\"NA\", U87=\"FAILED\"), U87, (IF(ISERROR(S87/U87/'Test Info'!$I$6*6000), \"\", S87/U87/'Test Info'!$I$6*6000)))","v":""}]
["PCL6","Color","MSA","Acrobat",3,null,null,{"$f":"IF(OR(G88=\"NA\", G88=\"FAILED\"), G88, (IF(ISERROR((E88-1)/(G88-F88)*60), \"\", (E88-1)/(G88-F88)*60)))","v":""},{"$f":"IF(OR(G88=\"NA\", G88=\"FAILED\"), G88, (IF(ISERROR(H88/'Test Info'!$I$6*100), \"\", H88/'Test Info'!$I$6*100)))","v":""},{"$f":"IF(OR(G88=\"NA\", G88=\"FAILED\"), G88, (IF(ISERROR(E88/G88/'Test Info'!$I$6*6000), \"\", E88/G88/'Test Info'!$I$6*6000)))","v":""},null,null,null,null,"PCL6","Color","MSA","Acrobat",3,null,null,{"$f":"IF(OR(U88=\"NA\", U88=\"FAILED\"), U88, (IF(ISERROR((S88-1)/(U88-T88)*60), \"\", (S88-1)/(U88-T88)*60)))","v":""},{"$f":"IF(OR(U88=\"NA\", U88=\"FAILED\"), U88, (IF(ISERROR(V88/'Test Info'!$I$6*100), \"\", V88/'Test Info'!$I$6*100)))","v":""},{"$f":"IF(OR(U88=\"NA\", U88=\"FAILED\"), U88, (IF(ISERROR(S88/U88/'Test Info'!$I$6*6000), \"\", S88/U88/'Test Info'!$I$6*6000)))","v":""}]
["PCL6","Color","Calendar","Publisher",12,null,null,{"$f":"IF(OR(G89=\"NA\", G89=\"FAILED\"), G89, (IF(ISERROR((E89-1)/(G89-F89)*60), \"\", (E89-1)/(G89-F89)*60)))","v":""},{"$f":"IF(OR(G89=\"NA\", G89=\"FAILED\"), G89, (IF(ISERROR(H89/'Test Info'!$I$6*100), \"\", H89/'Test Info'!$I$6*100)))","v":""},{"$f":"IF(OR(G89=\"NA\", G89=\"FAILED\"), G89, (IF(ISERROR(E89/G89/'Test Info'!$I$6*6000), \"\", E89/G89/'Test Info'!$I$6*6000)))","v":""},null,null,null,null,"PCL6","Color","Calendar","Publisher",12,null,null,{"$f":"IF(OR(U89=\"NA\", U89=\"FAILED\"), U89, (IF(ISERROR((S89-1)/(U89-T89)*60), \"\", (S89-1)/(U89-T89)*60)))","v":""},{"$f":"IF(OR(U89=\"NA\", U89=\"FAILED\"), U89, (IF(ISERROR(V89/'Test Info'!$I$6*100), \"\", V89/'Test Info'!$I$6*100)))","v":""},{"$f":"IF(OR(U89=\"NA\", U89=\"FAILED\"), U89, (IF(ISERROR(S89/U89/'Test Info'!$I$6*6000), \"\", S89/U89/'Test Info'!$I$6*6000)))","v":""}]
["PCL6","Color","BWW","Publisher",4,null,null,{"$f":"IF(OR(G90=\"NA\", G90=\"FAILED\"), G90, (IF(ISERROR((E90-1)/(G90-F90)*60), \"\", (E90-1)/(G90-F90)*60)))","v":""},{"$f":"IF(OR(G90=\"NA\", G90=\"FAILED\"), G90, (IF(ISERROR(H90/'Test Info'!$I$6*100), \"\", H90/'Test Info'!$I$6*100)))","v":""},{"$f":"IF(OR(G90=\"NA\", G90=\"FAILED\"), G90, (IF(ISERROR(E90/G90/'Test Info'!$I$6*6000), \"\", E90/G90/'Test Info'!$I$6*6000)))","v":""},null,null,null,null,"PCL6","Color","BWW","Publisher",4,null,null,{"$f":"IF(OR(U90=\"NA\", U90=\"FAILED\"), U90, (IF(ISERROR((S90-1)/(U90-T90)*60), \"\", (S90-1)/(U90-T90)*60)))","v":""},{"$f":"IF(OR(U90=\"NA\", U90=\"FAILED\"), U90, (IF(ISERROR(V90/'Test Info'!$I$6*100), \"\", V90/'Test Info'!$I$6*100)))","v":""},{"$f":"IF(OR(U90=\"NA\", U90=\"FAILED\"), U90, (IF(ISERROR(S90/U90/'Test Info'!$I$6*6000), \"\", S90/U90/'Test Info'!$I$6*6000)))","v":""}]
["PCL6","Color","Architectural","Chrome",5,null,null,"",{"$f":"IF(OR(G91=\"NA\", G91=\"FAILED\"), G91, (IF(ISERROR(H91/'Test Info'!$I$6*100), \"\", H91/'Test Info'!$I$6*100)))","v":""},{"$f":"IF(OR(G91=\"NA\", G91=\"FAILED\"), G91, (IF(ISERROR(E91/G91/'Test Info'!$I$6*6000), \"\", E91/G91/'Test Info'!$I$6*6000)))","v":""},null,null,null,null,"PCL6","Color","Architectural","Chrome",5,null,null,"",{"$f":"IF(OR(U91=\"NA\", U91=\"FAILED\"), U91, (IF(ISERROR(V91/'Test Info'!$I$6*100), \"\", V91/'Test Info'!$I$6*100)))","v":""},{"$f":"IF(OR(U91=\"NA\", U91=\"FAILED\"), U91, (IF(ISERROR(S91/U91/'Test Info'!$I$6*6000), \"\", S91/U91/'Test Info'!$I$6*6000)))","v":""}]
["PCL6","Color","Outcast","Acrobat",12,null,null,"",{"$f":"IF(OR(G92=\"NA\", G92=\"FAILED\"), G92, (IF(ISERROR(H92/'Test Info'!$I$6*100), \"\", H92/'Test Info'!$I$6*100)))","v":""},{"$f":"IF(OR(G92=\"NA\", G92=\"FAILED\"), G92, (IF(ISERROR(E92/G92/'Test Info'!$I$6*6000), \"\", E92/G92/'Test Info'!$I$6*6000)))","v":""},null,null,null,null,"PCL6","Color","Outcast","Acrobat",12,null,null,"",{"$f":"IF(OR(U92=\"NA\", U92=\"FAILED\"), U92, (IF(ISERROR(V92/'Test Info'!$I$6*100), \"\", V92/'Test Info'!$I$6*100)))","v":""},{"$f":"IF(OR(U92=\"NA\", U92=\"FAILED\"), U92, (IF(ISERROR(S92/U92/'Test Info'!$I$6*6000), \"\", S92/U92/'Test Info'!$I$6*6000)))","v":""}]
["PCL6","Color","Valentines day","Powerpoint",40,null,null,"",{"$f":"IF(OR(G93=\"NA\", G93=\"FAILED\"), G93, (IF(ISERROR(H93/'Test Info'!$I$6*100), \"\", H93/'Test Info'!$I$6*100)))","v":""},{"$f":"IF(OR(G93=\"NA\", G93=\"FAILED\"), G93, (IF(ISERROR(E93/G93/'Test Info'!$I$6*6000), \"\", E93/G93/'Test Info'!$I$6*6000)))","v":""},null,null,null,null,"PCL6","Color","Valentines day","Powerpoint",40,null,null,"",{"$f":"IF(OR(U93=\"NA\", U93=\"FAILED\"), U93, (IF(ISERROR(V93/'Test Info'!$I$6*100), \"\", V93/'Test Info'!$I$6*100)))","v":""},{"$f":"IF(OR(U93=\"NA\", U93=\"FAILED\"), U93, (IF(ISERROR(S93/U93/'Test Info'!$I$6*6000), \"\", S93/U93/'Test Info'!$I$6*6000)))","v":""}]
["PCL6","Color","Rainfall","Excel",7,null,null,"",{"$f":"IF(OR(G94=\"NA\", G94=\"FAILED\"), G94, (IF(ISERROR(H94/'Test Info'!$I$6*100), \"\", H94/'Test Info'!$I$6*100)))","v":""},{"$f":"IF(OR(G94=\"NA\", G94=\"FAILED\"), G94, (IF(ISERROR(E94/G94/'Test Info'!$I$6*6000), \"\", E94/G94/'Test Info'!$I$6*6000)))","v":""},null,null,null,null,"PCL6","Color","Rainfall","Excel",7,null,null,"",{"$f":"IF(OR(U94=\"NA\", U94=\"FAILED\"), U94, (IF(ISERROR(V94/'Test Info'!$I$6*100), \"\", V94/'Test Info'!$I$6*100)))","v":""},{"$f":"IF(OR(U94=\"NA\", U94=\"FAILED\"), U94, (IF(ISERROR(S94/U94/'Test Info'!$I$6*6000), \"\", S94/U94/'Test Info'!$I$6*6000)))","v":""}]
["PCL6","Color","The blue fairy book 40","Corel Draw",40,null,null,"",{"$f":"IF(OR(G95=\"NA\", G95=\"FAILED\"), G95, (IF(ISERROR(H95/'Test Info'!$I$6*100), \"\", H95/'Test Info'!$I$6*100)))","v":""},{"$f":"IF(OR(G95=\"NA\", G95=\"FAILED\"), G95, (IF(ISERROR(E95/G95/'Test Info'!$I$6*6000), \"\", E95/G95/'Test Info'!$I$6*6000)))","v":""},null,null,null,null,"PCL6","Color","The blue fairy book 40","Corel Draw",40,null,null,"",{"$f":"IF(OR(U95=\"NA\", U95=\"FAILED\"), U95, (IF(ISERROR(V95/'Test Info'!$I$6*100), \"\", V95/'Test Info'!$I$6*100)))","v":""},{"$f":"IF(OR(U95=\"NA\", U95=\"FAILED\"), U95, (IF(ISERROR(S95/U95/'Test Info'!$I$6*6000), \"\", S95/U95/'Test Info'!$I$6*6000)))","v":""}]
[null,null,null,"Average",{"$f":"AVERAGE(E85:E95)","v":12.363636363636363},{"$f":"IF(F95=\"NA\", F95, (IF(ISERROR(AVERAGE(F85:F95)), \"\", AVERAGE(F85:F95))))","v":""},{"$f":"IF(G95=\"NA\", G95, (IF(ISERROR(AVERAGE(G85:G95)), \"\", AVERAGE(G85:G95))))","v":""},{"$f":"IF(H95=\"NA\", H95, (IF(ISERROR(AVERAGE(H85:H95)), \"\", AVERAGE(H85:H95))))","v":""},{"$f":"IF(I95=\"NA\", I95, (IF(ISERROR(AVERAGE(I85:I95)), \"\", AVERAGE(I85:I95))))","v":""},{"$f":"IF(J95=\"NA\", J95, (IF(ISERROR(AVERAGE(J85:J95)), \"\", AVERAGE(J85:J95))))","v":""},null,null,null,null,null,null,null,"Average",{"$f":"AVERAGE(S85:S95)","v":12.363636363636363},{"$f":"IF(T95=\"NA\", T95, (IF(ISERROR(AVERAGE(T85:T95)), \"\", AVERAGE(T85:T95))))","v":""},{"$f":"IF(U95=\"NA\", U95, (IF(ISERROR(AVERAGE(U85:U95)), \"\", AVERAGE(U85:U95))))","v":""},{"$f":"IF(V95=\"NA\", V95, (IF(ISERROR(AVERAGE(V85:V95)), \"\", AVERAGE(V85:V95))))","v":""},{"$f":"IF(W95=\"NA\", W95, (IF(ISERROR(AVERAGE(W85:W95)), \"\", AVERAGE(W85:W95))))","v":""},{"$f":"IF(X95=\"NA\", X95, (IF(ISERROR(AVERAGE(X85:X95)), \"\", AVERAGE(X85:X95))))","v":""}]
[]
["Stress- No Banner",null,null,null,null,null,null,null,null,null,null,null,null,null,"Stress- No Banner"]
["PCL6","Color","Begin with things","Corel Draw",4,null,null,{"$f":"IF(OR(G99=\"NA\", G99=\"FAILED\"), G99, (IF(ISERROR((E99-1)/(G99-F99)*60), \"\", (E99-1)/(G99-F99)*60)))","v":""},{"$f":"IF(OR(G99=\"NA\", G99=\"FAILED\"), G99, (IF(ISERROR(H99/'Test Info'!$I$6*100), \"\", H99/'Test Info'!$I$6*100)))","v":""},{"$f":"IF(OR(G99=\"NA\", G99=\"FAILED\"), G99, (IF(ISERROR(E99/G99/'Test Info'!$I$6*6000), \"\", E99/G99/'Test Info'!$I$6*6000)))","v":""},null,null,null,null,"PCL6","Color","Begin with things","Corel Draw",4,null,null,{"$f":"IF(OR(U99=\"NA\", U99=\"FAILED\"), U99, (IF(ISERROR((S99-1)/(U99-T99)*60), \"\", (S99-1)/(U99-T99)*60)))","v":""},{"$f":"IF(OR(U99=\"NA\", U99=\"FAILED\"), U99, (IF(ISERROR(V99/'Test Info'!$I$6*100), \"\", V99/'Test Info'!$I$6*100)))","v":""},{"$f":"IF(OR(U99=\"NA\", U99=\"FAILED\"), U99, (IF(ISERROR(S99/U99/'Test Info'!$I$6*6000), \"\", S99/U99/'Test Info'!$I$6*6000)))","v":""}]
["PCL6","Color","Lincoln 6","Word",6,null,null,{"$f":"IF(OR(G100=\"NA\", G100=\"FAILED\"), G100, (IF(ISERROR((E100-1)/(G100-F100)*60), \"\", (E100-1)/(G100-F100)*60)))","v":""},{"$f":"IF(OR(G100=\"NA\", G100=\"FAILED\"), G100, (IF(ISERROR(H100/'Test Info'!$I$6*100), \"\", H100/'Test Info'!$I$6*100)))","v":""},{"$f":"IF(OR(G100=\"NA\", G100=\"FAILED\"), G100, (IF(ISERROR(E100/G100/'Test Info'!$I$6*6000), \"\", E100/G100/'Test Info'!$I$6*6000)))","v":""},null,null,null,null,"PCL6","Color","Lincoln 6","Word",6,null,null,{"$f":"IF(OR(U100=\"NA\", U100=\"FAILED\"), U100, (IF(ISERROR((S100-1)/(U100-T100)*60), \"\", (S100-1)/(U100-T100)*60)))","v":""},{"$f":"IF(OR(U100=\"NA\", U100=\"FAILED\"), U100, (IF(ISERROR(V100/'Test Info'!$I$6*100), \"\", V100/'Test Info'!$I$6*100)))","v":""},{"$f":"IF(OR(U100=\"NA\", U100=\"FAILED\"), U100, (IF(ISERROR(S100/U100/'Test Info'!$I$6*6000), \"\", S100/U100/'Test Info'!$I$6*6000)))","v":""}]
["PCL6","Color","Sisters","Corel Draw",12,null,null,{"$f":"IF(OR(G101=\"NA\", G101=\"FAILED\"), G101, (IF(ISERROR((E101-1)/(G101-F101)*60), \"\", (E101-1)/(G101-F101)*60)))","v":""},{"$f":"IF(OR(G101=\"NA\", G101=\"FAILED\"), G101, (IF(ISERROR(H101/'Test Info'!$I$6*100), \"\", H101/'Test Info'!$I$6*100)))","v":""},{"$f":"IF(OR(G101=\"NA\", G101=\"FAILED\"), G101, (IF(ISERROR(E101/G101/'Test Info'!$I$6*6000), \"\", E101/G101/'Test Info'!$I$6*6000)))","v":""},null,null,null,null,"PCL6","Color","Sisters","Corel Draw",12,null,null,{"$f":"IF(OR(U101=\"NA\", U101=\"FAILED\"), U101, (IF(ISERROR((S101-1)/(U101-T101)*60), \"\", (S101-1)/(U101-T101)*60)))","v":""},{"$f":"IF(OR(U101=\"NA\", U101=\"FAILED\"), U101, (IF(ISERROR(V101/'Test Info'!$I$6*100), \"\", V101/'Test Info'!$I$6*100)))","v":""},{"$f":"IF(OR(U101=\"NA\", U101=\"FAILED\"), U101, (IF(ISERROR(S101/U101/'Test Info'!$I$6*6000), \"\", S101/U101/'Test Info'!$I$6*6000)))","v":""}]
["PCL6","Color","Turtle Island","Photoshop",1,null,null,null,null,{"$f":"IF(OR(G102=\"NA\", G102=\"FAILED\"), G102, (IF(ISERROR(E102/G102/'Test Info'!$I$6*6000), \"\", E102/G102/'Test Info'!$I$6*6000)))","v":""},null,null,null,null,"PCL6","Color","Turtle Island","Photoshop",1,null,null,null,null,{"$f":"IF(OR(U102=\"NA\", U102=\"FAILED\"), U102, (IF(ISERROR(S102/U102/'Test Info'!$I$6*6000), \"\", S102/U102/'Test Info'!$I$6*6000)))","v":""}]
[null,null,null,"Average",{"$f":"AVERAGE(E99:E102)","v":5.75},{"$f":"IF(F102=\"NA\", F102, (IF(ISERROR(AVERAGE(F99:F102)), \"\", AVERAGE(F99:F102))))","v":""},{"$f":"IF(G102=\"NA\", G102, (IF(ISERROR(AVERAGE(G99:G102)), \"\", AVERAGE(G99:G102))))","v":""},{"$f":"IF(H102=\"NA\", H102, (IF(ISERROR(AVERAGE(H99:H102)), \"\", AVERAGE(H99:H102))))","v":""},{"$f":"IF(I102=\"NA\", I102, (IF(ISERROR(AVERAGE(I99:I102)), \"\", AVERAGE(I99:I102))))","v":""},{"$f":"IF(J102=\"NA\", J102, (IF(ISERROR(AVERAGE(J99:J102)), \"\", AVERAGE(J99:J102))))","v":""},null,null,null,null,null,null,null,"Average",{"$f":"AVERAGE(S99:S102)","v":5.75},{"$f":"IF(T102=\"NA\", T102, (IF(ISERROR(AVERAGE(T99:T102)), \"\", AVERAGE(T99:T102))))","v":""},{"$f":"IF(U102=\"NA\", U102, (IF(ISERROR(AVERAGE(U99:U102)), \"\", AVERAGE(U99:U102))))","v":""},{"$f":"IF(V102=\"NA\", V102, (IF(ISERROR(AVERAGE(V99:V102)), \"\", AVERAGE(V99:V102))))","v":""},{"$f":"IF(W102=\"NA\", W102, (IF(ISERROR(AVERAGE(W99:W102)), \"\", AVERAGE(W99:W102))))","v":""},{"$f":"IF(X102=\"NA\", X102, (IF(ISERROR(AVERAGE(X99:X102)), \"\", AVERAGE(X99:X102))))","v":""}]
[]
[]
[]
["PS- Banner",null,null,null,null,null,null,null,null,null,null,null,null,null,"PS- Banner"]
["Office Color- Banner",null,null,null,null,null,null,null,null,null,null,null,null,null,"Office Color- Banner"]
["Type","Mode","Job","Application","Pages","FPOT Measured\nin Seconds","C-C Measured\nin Seconds","2-N PPM Calculated","2-N % Rated Speed Calculated","C-C % Rated Speed Calculated",null,null,null,null,"Type","Mode","Job","Application","Pages","FPOT Measured\nin Seconds","C-C Measured\nin Seconds","2-N PPM Calculated","2-N % Rated Speed Calculated","C-C % Rated Speed Calculated"]
["PS","Color","The blue fairy book 4","Corel Draw",5,null,null,{"$f":"IF(OR(G110=\"NA\", G110=\"FAILED\"), G110, (IF(ISERROR((E110-1)/(G110-F110)*60), \"\", (E110-1)/(G110-F110)*60)))","v":""},{"$f":"IF(OR(G110=\"NA\", G110=\"FAILED\"), G110, (IF(ISERROR(H110/'Test Info'!$I$6*100), \"\", H110/'Test Info'!$I$6*100)))","v":""},{"$f":"IF(OR(G110=\"NA\", G110=\"FAILED\"), G110, (IF(ISERROR(E110/G110/'Test Info'!$I$6*6000), \"\", E110/G110/'Test Info'!$I$6*6000)))","v":""},null,null,null,null,"PS","Color","The blue fairy book 4","Corel Draw",5,null,null,{"$f":"IF(OR(U110=\"NA\", U110=\"FAILED\"), U110, (IF(ISERROR((S110-1)/(U110-T110)*60), \"\", (S110-1)/(U110-T110)*60)))","v":""},{"$f":"IF(OR(U110=\"NA\", U110=\"FAILED\"), U110, (IF(ISERROR(V110/'Test Info'!$I$6*100), \"\", V110/'Test Info'!$I$6*100)))","v":""},{"$f":"IF(OR(U110=\"NA\", U110=\"FAILED\"), U110, (IF(ISERROR(S110/U110/'Test Info'!$I$6*6000), \"\", S110/U110/'Test Info'!$I$6*6000)))","v":""}]
["PS","Color","Contents","Word",13,null,null,{"$f":"IF(OR(G111=\"NA\", G111=\"FAILED\"), G111, (IF(ISERROR((E111-1)/(G111-F111)*60), \"\", (E111-1)/(G111-F111)*60)))","v":""},{"$f":"IF(OR(G111=\"NA\", G111=\"FAILED\"), G111, (IF(ISERROR(H111/'Test Info'!$I$6*100), \"\", H111/'Test Info'!$I$6*100)))","v":""},{"$f":"IF(OR(G111=\"NA\", G111=\"FAILED\"), G111, (IF(ISERROR(E111/G111/'Test Info'!$I$6*6000), \"\", E111/G111/'Test Info'!$I$6*6000)))","v":""},null,null,null,null,"PS","Color","Contents","Word",13,null,null,{"$f":"IF(OR(U111=\"NA\", U111=\"FAILED\"), U111, (IF(ISERROR((S111-1)/(U111-T111)*60), \"\", (S111-1)/(U111-T111)*60)))","v":""},{"$f":"IF(OR(U111=\"NA\", U111=\"FAILED\"), U111, (IF(ISERROR(V111/'Test Info'!$I$6*100), \"\", V111/'Test Info'!$I$6*100)))","v":""},{"$f":"IF(OR(U111=\"NA\", U111=\"FAILED\"), U111, (IF(ISERROR(S111/U111/'Test Info'!$I$6*6000), \"\", S111/U111/'Test Info'!$I$6*6000)))","v":""}]
["PS","Color","Jewelry","Powerpoint",13,null,null,{"$f":"IF(OR(G112=\"NA\", G112=\"FAILED\"), G112, (IF(ISERROR((E112-1)/(G112-F112)*60), \"\", (E112-1)/(G112-F112)*60)))","v":""},{"$f":"IF(OR(G112=\"NA\", G112=\"FAILED\"), G112, (IF(ISERROR(H112/'Test Info'!$I$6*100), \"\", H112/'Test Info'!$I$6*100)))","v":""},{"$f":"IF(OR(G112=\"NA\", G112=\"FAILED\"), G112, (IF(ISERROR(E112/G112/'Test Info'!$I$6*6000), \"\", E112/G112/'Test Info'!$I$6*6000)))","v":""},null,null,null,null,"PS","Color","Jewelry","Powerpoint",13,null,null,{"$f":"IF(OR(U112=\"NA\", U112=\"FAILED\"), U112, (IF(ISERROR((S112-1)/(U112-T112)*60), \"\", (S112-1)/(U112-T112)*60)))","v":""},{"$f":"IF(OR(U112=\"NA\", U112=\"FAILED\"), U112, (IF(ISERROR(V112/'Test Info'!$I$6*100), \"\", V112/'Test Info'!$I$6*100)))","v":""},{"$f":"IF(OR(U112=\"NA\", U112=\"FAILED\"), U112, (IF(ISERROR(S112/U112/'Test Info'!$I$6*6000), \"\", S112/U112/'Test Info'!$I$6*6000)))","v":""}]
["PS","Color","Rain year","Excel",3,null,null,{"$f":"IF(OR(G113=\"NA\", G113=\"FAILED\"), G113, (IF(ISERROR((E113-1)/(G113-F113)*60), \"\", (E113-1)/(G113-F113)*60)))","v":""},{"$f":"IF(OR(G113=\"NA\", G113=\"FAILED\"), G113, (IF(ISERROR(H113/'Test Info'!$I$6*100), \"\", H113/'Test Info'!$I$6*100)))","v":""},{"$f":"IF(OR(G113=\"NA\", G113=\"FAILED\"), G113, (IF(ISERROR(E113/G113/'Test Info'!$I$6*6000), \"\", E113/G113/'Test Info'!$I$6*6000)))","v":""},null,null,null,null,"PS","Color","Rain year","Excel",3,null,null,{"$f":"IF(OR(U113=\"NA\", U113=\"FAILED\"), U113, (IF(ISERROR((S113-1)/(U113-T113)*60), \"\", (S113-1)/(U113-T113)*60)))","v":""},{"$f":"IF(OR(U113=\"NA\", U113=\"FAILED\"), U113, (IF(ISERROR(V113/'Test Info'!$I$6*100), \"\", V113/'Test Info'!$I$6*100)))","v":""},{"$f":"IF(OR(U113=\"NA\", U113=\"FAILED\"), U113, (IF(ISERROR(S113/U113/'Test Info'!$I$6*6000), \"\", S113/U113/'Test Info'!$I$6*6000)))","v":""}]
[null,null,null,"Average",{"$f":"AVERAGE(E110:E113)","v":8.5},{"$f":"IF(F113=\"NA\", F113, (IF(ISERROR(AVERAGE(F110:F113)), \"\", AVERAGE(F110:F113))))","v":""},{"$f":"IF(G113=\"NA\", G113, (IF(ISERROR(AVERAGE(G110:G113)), \"\", AVERAGE(G110:G113))))","v":""},{"$f":"IF(H113=\"NA\", H113, (IF(ISERROR(AVERAGE(H110:H113)), \"\", AVERAGE(H110:H113))))","v":""},{"$f":"IF(I113=\"NA\", I113, (IF(ISERROR(AVERAGE(I110:I113)), \"\", AVERAGE(I110:I113))))","v":""},{"$f":"IF(J113=\"NA\", J113, (IF(ISERROR(AVERAGE(J110:J113)), \"\", AVERAGE(J110:J113))))","v":""},null,null,null,null,null,null,null,"Average",{"$f":"AVERAGE(S110:S113)","v":8.5},{"$f":"IF(T113=\"NA\", T113, (IF(ISERROR(AVERAGE(T110:T113)), \"\", AVERAGE(T110:T113))))","v":""},{"$f":"IF(U113=\"NA\", U113, (IF(ISERROR(AVERAGE(U110:U113)), \"\", AVERAGE(U110:U113))))","v":""},{"$f":"IF(V113=\"NA\", V113, (IF(ISERROR(AVERAGE(V110:V113)), \"\", AVERAGE(V110:V113))))","v":""},{"$f":"IF(W113=\"NA\", W113, (IF(ISERROR(AVERAGE(W110:W113)), \"\", AVERAGE(W110:W113))))","v":""},{"$f":"IF(X113=\"NA\", X113, (IF(ISERROR(AVERAGE(X110:X113)), \"\", AVERAGE(X110:X113))))","v":""}]
[]
["Office Mono- Banner",null,null,null,null,null,null,null,null,null,null,null,null,null,"Office Mono- Banner"]
["PS","Mono","Gold","Powerpoint",9,null,null,{"$f":"IF(OR(G117=\"NA\",G117=\"FAILED\"),G117,(IF(ISERROR((E117-1)/(G117-F117)*60),\"\",(E117-1)/(G117-F117)*60)))","v":""},{"$f":"IF(OR(G117=\"NA\",G117=\"FAILED\"),G117, (IF(ISERROR(H117/'Test Info'!$J$6*100), \"\", H117/'Test Info'!$J$6*100)))","v":""},{"$f":"IF(OR(G117=\"NA\",G117=\"FAILED\"),G117, (IF(ISERROR(E117/G117/'Test Info'!$J$6*6000), \"\", E117/G117/'Test Info'!$J$6*6000)))","v":""},null,null,null,null,"PS","Mono","Gold","Powerpoint",9,null,null,{"$f":"IF(OR(U117=\"NA\",U117=\"FAILED\"),U117,(IF(ISERROR((S117-1)/(U117-T117)*60),\"\",(S117-1)/(U117-T117)*60)))","v":""},{"$f":"IF(OR(U117=\"NA\",U117=\"FAILED\"),U117, (IF(ISERROR(V117/'Test Info'!$J$6*100), \"\", V117/'Test Info'!$J$6*100)))","v":""},{"$f":"IF(OR(U117=\"NA\",U117=\"FAILED\"),U117, (IF(ISERROR(S117/U117/'Test Info'!$J$6*6000), \"\", S117/U117/'Test Info'!$J$6*6000)))","v":""}]
["PS","Mono","Pain at the pump","Chrome",4,null,null,{"$f":"IF(OR(G118=\"NA\",G118=\"FAILED\"),G118,(IF(ISERROR((E118-1)/(G118-F118)*60),\"\",(E118-1)/(G118-F118)*60)))","v":""},{"$f":"IF(OR(G118=\"NA\",G118=\"FAILED\"),G118, (IF(ISERROR(H118/'Test Info'!$J$6*100), \"\", H118/'Test Info'!$J$6*100)))","v":""},{"$f":"IF(OR(G118=\"NA\",G118=\"FAILED\"),G118, (IF(ISERROR(E118/G118/'Test Info'!$J$6*6000), \"\", E118/G118/'Test Info'!$J$6*6000)))","v":""},null,null,null,null,"PS","Mono","Pain at the pump","Chrome",4,null,null,{"$f":"IF(OR(U118=\"NA\",U118=\"FAILED\"),U118,(IF(ISERROR((S118-1)/(U118-T118)*60),\"\",(S118-1)/(U118-T118)*60)))","v":""},{"$f":"IF(OR(U118=\"NA\",U118=\"FAILED\"),U118, (IF(ISERROR(V118/'Test Info'!$J$6*100), \"\", V118/'Test Info'!$J$6*100)))","v":""},{"$f":"IF(OR(U118=\"NA\",U118=\"FAILED\"),U118, (IF(ISERROR(S118/U118/'Test Info'!$J$6*6000), \"\", S118/U118/'Test Info'!$J$6*6000)))","v":""}]
["PS","Mono","Lincoln 2","Word",3,null,null,{"$f":"IF(OR(G119=\"NA\",G119=\"FAILED\"),G119,(IF(ISERROR((E119-1)/(G119-F119)*60),\"\",(E119-1)/(G119-F119)*60)))","v":""},{"$f":"IF(OR(G119=\"NA\",G119=\"FAILED\"),G119, (IF(ISERROR(H119/'Test Info'!$J$6*100), \"\", H119/'Test Info'!$J$6*100)))","v":""},{"$f":"IF(OR(G119=\"NA\",G119=\"FAILED\"),G119, (IF(ISERROR(E119/G119/'Test Info'!$J$6*6000), \"\", E119/G119/'Test Info'!$J$6*6000)))","v":""},null,null,null,null,"PS","Mono","Lincoln 2","Word",3,null,null,{"$f":"IF(OR(U119=\"NA\",U119=\"FAILED\"),U119,(IF(ISERROR((S119-1)/(U119-T119)*60),\"\",(S119-1)/(U119-T119)*60)))","v":""},{"$f":"IF(OR(U119=\"NA\",U119=\"FAILED\"),U119, (IF(ISERROR(V119/'Test Info'!$J$6*100), \"\", V119/'Test Info'!$J$6*100)))","v":""},{"$f":"IF(OR(U119=\"NA\",U119=\"FAILED\"),U119, (IF(ISERROR(S119/U119/'Test Info'!$J$6*6000), \"\", S119/U119/'Test Info'!$J$6*6000)))","v":""}]
["PS","Mono","Budget","Excel",2,null,null,{"$f":"IF(OR(G120=\"NA\",G120=\"FAILED\"),G120,(IF(ISERROR((E120-1)/(G120-F120)*60),\"\",(E120-1)/(G120-F120)*60)))","v":""},{"$f":"IF(OR(G120=\"NA\",G120=\"FAILED\"),G120, (IF(ISERROR(H120/'Test Info'!$J$6*100), \"\", H120/'Test Info'!$J$6*100)))","v":""},{"$f":"IF(OR(G120=\"NA\",G120=\"FAILED\"),G120, (IF(ISERROR(E120/G120/'Test Info'!$J$6*6000), \"\", E120/G120/'Test Info'!$J$6*6000)))","v":""},null,null,null,null,"PS","Mono","Budget","Excel",2,null,null,{"$f":"IF(OR(U120=\"NA\",U120=\"FAILED\"),U120,(IF(ISERROR((S120-1)/(U120-T120)*60),\"\",(S120-1)/(U120-T120)*60)))","v":""},{"$f":"IF(OR(U120=\"NA\",U120=\"FAILED\"),U120, (IF(ISERROR(V120/'Test Info'!$J$6*100), \"\", V120/'Test Info'!$J$6*100)))","v":""},{"$f":"IF(OR(U120=\"NA\",U120=\"FAILED\"),U120, (IF(ISERROR(S120/U120/'Test Info'!$J$6*6000), \"\", S120/U120/'Test Info'!$J$6*6000)))","v":""}]
[null,null,null,"Average",{"$f":"AVERAGE(E117:E120)","v":4.5},{"$f":"IF(F120=\"NA\", F120, (IF(ISERROR(AVERAGE(F117:F120)), \"\", AVERAGE(F117:F120))))","v":""},{"$f":"IF(G120=\"NA\", G120, (IF(ISERROR(AVERAGE(G117:G120)), \"\", AVERAGE(G117:G120))))","v":""},{"$f":"IF(H120=\"NA\", H120, (IF(ISERROR(AVERAGE(H117:H120)), \"\", AVERAGE(H117:H120))))","v":""},{"$f":"IF(I120=\"NA\", I120, (IF(ISERROR(AVERAGE(I117:I120)), \"\", AVERAGE(I117:I120))))","v":""},{"$f":"IF(J120=\"NA\", J120, (IF(ISERROR(AVERAGE(J117:J120)), \"\", AVERAGE(J117:J120))))","v":""},null,null,null,null,null,null,null,"Average",{"$f":"AVERAGE(S117:S120)","v":4.5},{"$f":"IF(T120=\"NA\", T120, (IF(ISERROR(AVERAGE(T117:T120)), \"\", AVERAGE(T117:T120))))","v":""},{"$f":"IF(U120=\"NA\", U120, (IF(ISERROR(AVERAGE(U117:U120)), \"\", AVERAGE(U117:U120))))","v":""},{"$f":"IF(V120=\"NA\", V120, (IF(ISERROR(AVERAGE(V117:V120)), \"\", AVERAGE(V117:V120))))","v":""},{"$f":"IF(W120=\"NA\", W120, (IF(ISERROR(AVERAGE(W117:W120)), \"\", AVERAGE(W117:W120))))","v":""},{"$f":"IF(X120=\"NA\", X120, (IF(ISERROR(AVERAGE(X117:X120)), \"\", AVERAGE(X117:X120))))","v":""}]
[]
["Graphic- Banner",null,null,null,null,null,null,null,null,null,null,null,null,null,"Graphic- Banner"]
["PS","Color","Architectural","Chrome",6,null,null,{"$f":"IF(OR(G124=\"NA\", G124=\"FAILED\"), G124, (IF(ISERROR((E124-1)/(G124-F124)*60), \"\", (E124-1)/(G124-F124)*60)))","v":""},{"$f":"IF(OR(G124=\"NA\", G124=\"FAILED\"), G124, (IF(ISERROR(H124/'Test Info'!$I$6*100), \"\", H124/'Test Info'!$I$6*100)))","v":""},{"$f":"IF(OR(G124=\"NA\", G124=\"FAILED\"), G124, (IF(ISERROR(E124/G124/'Test Info'!$I$6*6000), \"\", E124/G124/'Test Info'!$I$6*6000)))","v":""},null,null,null,null,"PS","Color","Architectural","Chrome",6,null,null,{"$f":"IF(OR(U124=\"NA\", U124=\"FAILED\"), U124, (IF(ISERROR((S124-1)/(U124-T124)*60), \"\", (S124-1)/(U124-T124)*60)))","v":""},{"$f":"IF(OR(U124=\"NA\", U124=\"FAILED\"), U124, (IF(ISERROR(V124/'Test Info'!$I$6*100), \"\", V124/'Test Info'!$I$6*100)))","v":""},{"$f":"IF(OR(U124=\"NA\", U124=\"FAILED\"), U124, (IF(ISERROR(S124/U124/'Test Info'!$I$6*6000), \"\", S124/U124/'Test Info'!$I$6*6000)))","v":""}]
["PS","Color","Outcast","Acrobat",13,null,null,{"$f":"IF(OR(G125=\"NA\", G125=\"FAILED\"), G125, (IF(ISERROR((E125-1)/(G125-F125)*60), \"\", (E125-1)/(G125-F125)*60)))","v":""},{"$f":"IF(OR(G125=\"NA\", G125=\"FAILED\"), G125, (IF(ISERROR(H125/'Test Info'!$I$6*100), \"\", H125/'Test Info'!$I$6*100)))","v":""},{"$f":"IF(OR(G125=\"NA\", G125=\"FAILED\"), G125, (IF(ISERROR(E125/G125/'Test Info'!$I$6*6000), \"\", E125/G125/'Test Info'!$I$6*6000)))","v":""},null,null,null,null,"PS","Color","Outcast","Acrobat",13,null,null,{"$f":"IF(OR(U125=\"NA\", U125=\"FAILED\"), U125, (IF(ISERROR((S125-1)/(U125-T125)*60), \"\", (S125-1)/(U125-T125)*60)))","v":""},{"$f":"IF(OR(U125=\"NA\", U125=\"FAILED\"), U125, (IF(ISERROR(V125/'Test Info'!$I$6*100), \"\", V125/'Test Info'!$I$6*100)))","v":""},{"$f":"IF(OR(U125=\"NA\", U125=\"FAILED\"), U125, (IF(ISERROR(S125/U125/'Test Info'!$I$6*6000), \"\", S125/U125/'Test Info'!$I$6*6000)))","v":""}]
["PS","Color","Valentines day","Powerpoint",41,null,null,{"$f":"IF(OR(G126=\"NA\", G126=\"FAILED\"), G126, (IF(ISERROR((E126-1)/(G126-F126)*60), \"\", (E126-1)/(G126-F126)*60)))","v":""},{"$f":"IF(OR(G126=\"NA\", G126=\"FAILED\"), G126, (IF(ISERROR(H126/'Test Info'!$I$6*100), \"\", H126/'Test Info'!$I$6*100)))","v":""},{"$f":"IF(OR(G126=\"NA\", G126=\"FAILED\"), G126, (IF(ISERROR(E126/G126/'Test Info'!$I$6*6000), \"\", E126/G126/'Test Info'!$I$6*6000)))","v":""},null,null,null,null,"PS","Color","Valentines day","Powerpoint",41,null,null,{"$f":"IF(OR(U126=\"NA\", U126=\"FAILED\"), U126, (IF(ISERROR((S126-1)/(U126-T126)*60), \"\", (S126-1)/(U126-T126)*60)))","v":""},{"$f":"IF(OR(U126=\"NA\", U126=\"FAILED\"), U126, (IF(ISERROR(V126/'Test Info'!$I$6*100), \"\", V126/'Test Info'!$I$6*100)))","v":""},{"$f":"IF(OR(U126=\"NA\", U126=\"FAILED\"), U126, (IF(ISERROR(S126/U126/'Test Info'!$I$6*6000), \"\", S126/U126/'Test Info'!$I$6*6000)))","v":""}]
["PS","Color","Rainfall","Excel",8,null,null,{"$f":"IF(OR(G127=\"NA\", G127=\"FAILED\"), G127, (IF(ISERROR((E127-1)/(G127-F127)*60), \"\", (E127-1)/(G127-F127)*60)))","v":""},{"$f":"IF(OR(G127=\"NA\", G127=\"FAILED\"), G127, (IF(ISERROR(H127/'Test Info'!$I$6*100), \"\", H127/'Test Info'!$I$6*100)))","v":""},{"$f":"IF(OR(G127=\"NA\", G127=\"FAILED\"), G127, (IF(ISERROR(E127/G127/'Test Info'!$I$6*6000), \"\", E127/G127/'Test Info'!$I$6*6000)))","v":""},null,null,null,null,"PS","Color","Rainfall","Excel",8,null,null,{"$f":"IF(OR(U127=\"NA\", U127=\"FAILED\"), U127, (IF(ISERROR((S127-1)/(U127-T127)*60), \"\", (S127-1)/(U127-T127)*60)))","v":""},{"$f":"IF(OR(U127=\"NA\", U127=\"FAILED\"), U127, (IF(ISERROR(V127/'Test Info'!$I$6*100), \"\", V127/'Test Info'!$I$6*100)))","v":""},{"$f":"IF(OR(U127=\"NA\", U127=\"FAILED\"), U127, (IF(ISERROR(S127/U127/'Test Info'!$I$6*6000), \"\", S127/U127/'Test Info'!$I$6*6000)))","v":""}]
[null,null,null,"Average",{"$f":"AVERAGE(E124:E127)","v":17},{"$f":"IF(F127=\"NA\", F127, (IF(ISERROR(AVERAGE(F124:F127)), \"\", AVERAGE(F124:F127))))","v":""},{"$f":"IF(G127=\"NA\", G127, (IF(ISERROR(AVERAGE(G124:G127)), \"\", AVERAGE(G124:G127))))","v":""},{"$f":"IF(H127=\"NA\", H127, (IF(ISERROR(AVERAGE(H124:H127)), \"\", AVERAGE(H124:H127))))","v":""},{"$f":"IF(I127=\"NA\", I127, (IF(ISERROR(AVERAGE(I124:I127)), \"\", AVERAGE(I124:I127))))","v":""},{"$f":"IF(J127=\"NA\", J127, (IF(ISERROR(AVERAGE(J124:J127)), \"\", AVERAGE(J124:J127))))","v":""},null,null,null,null,null,null,null,"Average",{"$f":"AVERAGE(S124:S127)","v":17},{"$f":"IF(T127=\"NA\", T127, (IF(ISERROR(AVERAGE(T124:T127)), \"\", AVERAGE(T124:T127))))","v":""},{"$f":"IF(U127=\"NA\", U127, (IF(ISERROR(AVERAGE(U124:U127)), \"\", AVERAGE(U124:U127))))","v":""},{"$f":"IF(V127=\"NA\", V127, (IF(ISERROR(AVERAGE(V124:V127)), \"\", AVERAGE(V124:V127))))","v":""},{"$f":"IF(W127=\"NA\", W127, (IF(ISERROR(AVERAGE(W124:W127)), \"\", AVERAGE(W124:W127))))","v":""},{"$f":"IF(X127=\"NA\", X127, (IF(ISERROR(AVERAGE(X124:X127)), \"\", AVERAGE(X124:X127))))","v":""}]
[]
["Stress- Banner",null,null,null,null,null,null,null,null,null,null,null,null,null,"Stress- Banner"]
["PS","Color","Begin with things","Corel Draw",5,null,null,{"$f":"IF(OR(G131=\"NA\", G131=\"FAILED\"), G131, (IF(ISERROR((E131-1)/(G131-F131)*60), \"\", (E131-1)/(G131-F131)*60)))","v":""},{"$f":"IF(OR(G131=\"NA\", G131=\"FAILED\"), G131, (IF(ISERROR(H131/'Test Info'!$I$6*100), \"\", H131/'Test Info'!$I$6*100)))","v":""},{"$f":"IF(OR(G131=\"NA\", G131=\"FAILED\"), G131, (IF(ISERROR(E131/G131/'Test Info'!$I$6*6000), \"\", E131/G131/'Test Info'!$I$6*6000)))","v":""},null,null,null,null,"PS","Color","Begin with things","Corel Draw",5,null,null,{"$f":"IF(OR(U131=\"NA\", U131=\"FAILED\"), U131, (IF(ISERROR((S131-1)/(U131-T131)*60), \"\", (S131-1)/(U131-T131)*60)))","v":""},{"$f":"IF(OR(U131=\"NA\", U131=\"FAILED\"), U131, (IF(ISERROR(V131/'Test Info'!$I$6*100), \"\", V131/'Test Info'!$I$6*100)))","v":""},{"$f":"IF(OR(U131=\"NA\", U131=\"FAILED\"), U131, (IF(ISERROR(S131/U131/'Test Info'!$I$6*6000), \"\", S131/U131/'Test Info'!$I$6*6000)))","v":""}]
["PS","Color","Lincoln 6","Word",7,null,null,{"$f":"IF(OR(G132=\"NA\", G132=\"FAILED\"), G132, (IF(ISERROR((E132-1)/(G132-F132)*60), \"\", (E132-1)/(G132-F132)*60)))","v":""},{"$f":"IF(OR(G132=\"NA\", G132=\"FAILED\"), G132, (IF(ISERROR(H132/'Test Info'!$I$6*100), \"\", H132/'Test Info'!$I$6*100)))","v":""},{"$f":"IF(OR(G132=\"NA\", G132=\"FAILED\"), G132, (IF(ISERROR(E132/G132/'Test Info'!$I$6*6000), \"\", E132/G132/'Test Info'!$I$6*6000)))","v":""},null,null,null,null,"PS","Color","Lincoln 6","Word",7,null,null,{"$f":"IF(OR(U132=\"NA\", U132=\"FAILED\"), U132, (IF(ISERROR((S132-1)/(U132-T132)*60), \"\", (S132-1)/(U132-T132)*60)))","v":""},{"$f":"IF(OR(U132=\"NA\", U132=\"FAILED\"), U132, (IF(ISERROR(V132/'Test Info'!$I$6*100), \"\", V132/'Test Info'!$I$6*100)))","v":""},{"$f":"IF(OR(U132=\"NA\", U132=\"FAILED\"), U132, (IF(ISERROR(S132/U132/'Test Info'!$I$6*6000), \"\", S132/U132/'Test Info'!$I$6*6000)))","v":""}]
["PS","Color","Sisters","Corel Draw",13,null,null,{"$f":"IF(OR(G133=\"NA\", G133=\"FAILED\"), G133, (IF(ISERROR((E133-1)/(G133-F133)*60), \"\", (E133-1)/(G133-F133)*60)))","v":""},{"$f":"IF(OR(G133=\"NA\", G133=\"FAILED\"), G133, (IF(ISERROR(H133/'Test Info'!$I$6*100), \"\", H133/'Test Info'!$I$6*100)))","v":""},{"$f":"IF(OR(G133=\"NA\", G133=\"FAILED\"), G133, (IF(ISERROR(E133/G133/'Test Info'!$I$6*6000), \"\", E133/G133/'Test Info'!$I$6*6000)))","v":""},null,null,null,null,"PS","Color","Sisters","Corel Draw",13,null,null,{"$f":"IF(OR(U133=\"NA\", U133=\"FAILED\"), U133, (IF(ISERROR((S133-1)/(U133-T133)*60), \"\", (S133-1)/(U133-T133)*60)))","v":""},{"$f":"IF(OR(U133=\"NA\", U133=\"FAILED\"), U133, (IF(ISERROR(V133/'Test Info'!$I$6*100), \"\", V133/'Test Info'!$I$6*100)))","v":""},{"$f":"IF(OR(U133=\"NA\", U133=\"FAILED\"), U133, (IF(ISERROR(S133/U133/'Test Info'!$I$6*6000), \"\", S133/U133/'Test Info'!$I$6*6000)))","v":""}]
["PS","Color","Turtle Island","Photoshop",2,null,null,{"$f":"IF(OR(G134=\"NA\", G134=\"FAILED\"), G134, (IF(ISERROR((E134-1)/(G134-F134)*60), \"\", (E134-1)/(G134-F134)*60)))","v":""},{"$f":"IF(OR(G134=\"NA\", G134=\"FAILED\"), G134, (IF(ISERROR(H134/'Test Info'!$I$6*100), \"\", H134/'Test Info'!$I$6*100)))","v":""},{"$f":"IF(OR(G134=\"NA\", G134=\"FAILED\"), G134, (IF(ISERROR(E134/G134/'Test Info'!$I$6*6000), \"\", E134/G134/'Test Info'!$I$6*6000)))","v":""},null,null,null,null,"PS","Color","Turtle Island","Photoshop",2,null,null,{"$f":"IF(OR(U134=\"NA\", U134=\"FAILED\"), U134, (IF(ISERROR((S134-1)/(U134-T134)*60), \"\", (S134-1)/(U134-T134)*60)))","v":""},{"$f":"IF(OR(U134=\"NA\", U134=\"FAILED\"), U134, (IF(ISERROR(V134/'Test Info'!$I$6*100), \"\", V134/'Test Info'!$I$6*100)))","v":""},{"$f":"IF(OR(U134=\"NA\", U134=\"FAILED\"), U134, (IF(ISERROR(S134/U134/'Test Info'!$I$6*6000), \"\", S134/U134/'Test Info'!$I$6*6000)))","v":""}]
[null,null,null,"Average",{"$f":"AVERAGE(E131:E134)","v":6.75},{"$f":"IF(F134=\"NA\", F134, (IF(ISERROR(AVERAGE(F131:F134)), \"\", AVERAGE(F131:F134))))","v":""},{"$f":"IF(G134=\"NA\", G134, (IF(ISERROR(AVERAGE(G131:G134)), \"\", AVERAGE(G131:G134))))","v":""},{"$f":"IF(H134=\"NA\", H134, (IF(ISERROR(AVERAGE(H131:H134)), \"\", AVERAGE(H131:H134))))","v":""},{"$f":"IF(I134=\"NA\", I134, (IF(ISERROR(AVERAGE(I131:I134)), \"\", AVERAGE(I131:I134))))","v":""},{"$f":"IF(J134=\"NA\", J134, (IF(ISERROR(AVERAGE(J131:J134)), \"\", AVERAGE(J131:J134))))","v":""},null,null,null,null,null,null,null,"Average",{"$f":"AVERAGE(S131:S134)","v":6.75},{"$f":"IF(T134=\"NA\", T134, (IF(ISERROR(AVERAGE(T131:T134)), \"\", AVERAGE(T131:T134))))","v":""},{"$f":"IF(U134=\"NA\", U134, (IF(ISERROR(AVERAGE(U131:U134)), \"\", AVERAGE(U131:U134))))","v":""},{"$f":"IF(V134=\"NA\", V134, (IF(ISERROR(AVERAGE(V131:V134)), \"\", AVERAGE(V131:V134))))","v":""},{"$f":"IF(W134=\"NA\", W134, (IF(ISERROR(AVERAGE(W131:W134)), \"\", AVERAGE(W131:W134))))","v":""},{"$f":"IF(X134=\"NA\", X134, (IF(ISERROR(AVERAGE(X131:X134)), \"\", AVERAGE(X131:X134))))","v":""}]
[]
["PCL6- Banner",null,null,null,null,null,null,null,null,null,null,null,null,null,"PCL6- Banner"]
["Office Color- Banner",null,null,null,null,null,null,null,null,null,null,null,null,null,"Office Color- Banner"]
["Type","Mode","Job","Application","Pages","FPOT Measured\nin Seconds","C-C Measured\nin Seconds","2-N PPM Calculated","2-N % Rated Speed Calculated","C-C % Rated Speed Calculated",null,null,null,null,"Type","Mode","Job","Application","Pages","FPOT Measured\nin Seconds","C-C Measured\nin Seconds","2-N PPM Calculated","2-N % Rated Speed Calculated","C-C % Rated Speed Calculated"]
["PCL6","Color","The blue fairy book 4","Corel Draw",5,null,null,{"$f":"IF(OR(G140=\"NA\", G140=\"FAILED\"), G140, (IF(ISERROR((E140-1)/(G140-F140)*60), \"\", (E140-1)/(G140-F140)*60)))","v":""},{"$f":"IF(OR(G140=\"NA\", G140=\"FAILED\"), G140, (IF(ISERROR(H140/'Test Info'!$I$6*100), \"\", H140/'Test Info'!$I$6*100)))","v":""},{"$f":"IF(OR(G140=\"NA\", G140=\"FAILED\"), G140, (IF(ISERROR(E140/G140/'Test Info'!$I$6*6000), \"\", E140/G140/'Test Info'!$I$6*6000)))","v":""},null,null,null,null,"PCL6","Color","The blue fairy book 4","Corel Draw",5,null,null,{"$f":"IF(OR(U140=\"NA\", U140=\"FAILED\"), U140, (IF(ISERROR((S140-1)/(U140-T140)*60), \"\", (S140-1)/(U140-T140)*60)))","v":""},{"$f":"IF(OR(U140=\"NA\", U140=\"FAILED\"), U140, (IF(ISERROR(V140/'Test Info'!$I$6*100), \"\", V140/'Test Info'!$I$6*100)))","v":""},{"$f":"IF(OR(U140=\"NA\", U140=\"FAILED\"), U140, (IF(ISERROR(S140/U140/'Test Info'!$I$6*6000), \"\", S140/U140/'Test Info'!$I$6*6000)))","v":""}]
["PCL6","Color","Contents","Word",13,null,null,{"$f":"IF(OR(G141=\"NA\", G141=\"FAILED\"), G141, (IF(ISERROR((E141-1)/(G141-F141)*60), \"\", (E141-1)/(G141-F141)*60)))","v":""},{"$f":"IF(OR(G141=\"NA\", G141=\"FAILED\"), G141, (IF(ISERROR(H141/'Test Info'!$I$6*100), \"\", H141/'Test Info'!$I$6*100)))","v":""},{"$f":"IF(OR(G141=\"NA\", G141=\"FAILED\"), G141, (IF(ISERROR(E141/G141/'Test Info'!$I$6*6000), \"\", E141/G141/'Test Info'!$I$6*6000)))","v":""},null,null,null,null,"PCL6","Color","Contents","Word",13,null,null,{"$f":"IF(OR(U141=\"NA\", U141=\"FAILED\"), U141, (IF(ISERROR((S141-1)/(U141-T141)*60), \"\", (S141-1)/(U141-T141)*60)))","v":""},{"$f":"IF(OR(U141=\"NA\", U141=\"FAILED\"), U141, (IF(ISERROR(V141/'Test Info'!$I$6*100), \"\", V141/'Test Info'!$I$6*100)))","v":""},{"$f":"IF(OR(U141=\"NA\", U141=\"FAILED\"), U141, (IF(ISERROR(S141/U141/'Test Info'!$I$6*6000), \"\", S141/U141/'Test Info'!$I$6*6000)))","v":""}]
["PCL6","Color","Jewelry","Powerpoint",13,null,null,{"$f":"IF(OR(G142=\"NA\", G142=\"FAILED\"), G142, (IF(ISERROR((E142-1)/(G142-F142)*60), \"\", (E142-1)/(G142-F142)*60)))","v":""},{"$f":"IF(OR(G142=\"NA\", G142=\"FAILED\"), G142, (IF(ISERROR(H142/'Test Info'!$I$6*100), \"\", H142/'Test Info'!$I$6*100)))","v":""},{"$f":"IF(OR(G142=\"NA\", G142=\"FAILED\"), G142, (IF(ISERROR(E142/G142/'Test Info'!$I$6*6000), \"\", E142/G142/'Test Info'!$I$6*6000)))","v":""},null,null,null,null,"PCL6","Color","Jewelry","Powerpoint",13,null,null,{"$f":"IF(OR(U142=\"NA\", U142=\"FAILED\"), U142, (IF(ISERROR((S142-1)/(U142-T142)*60), \"\", (S142-1)/(U142-T142)*60)))","v":""},{"$f":"IF(OR(U142=\"NA\", U142=\"FAILED\"), U142, (IF(ISERROR(V142/'Test Info'!$I$6*100), \"\", V142/'Test Info'!$I$6*100)))","v":""},{"$f":"IF(OR(U142=\"NA\", U142=\"FAILED\"), U142, (IF(ISERROR(S142/U142/'Test Info'!$I$6*6000), \"\", S142/U142/'Test Info'!$I$6*6000)))","v":""}]
["PCL6","Color","Rain year","Excel",3,null,null,{"$f":"IF(OR(G143=\"NA\", G143=\"FAILED\"), G143, (IF(ISERROR((E143-1)/(G143-F143)*60), \"\", (E143-1)/(G143-F143)*60)))","v":""},{"$f":"IF(OR(G143=\"NA\", G143=\"FAILED\"), G143, (IF(ISERROR(H143/'Test Info'!$I$6*100), \"\", H143/'Test Info'!$I$6*100)))","v":""},{"$f":"IF(OR(G143=\"NA\", G143=\"FAILED\"), G143, (IF(ISERROR(E143/G143/'Test Info'!$I$6*6000), \"\", E143/G143/'Test Info'!$I$6*6000)))","v":""},null,null,null,null,"PCL6","Color","Rain year","Excel",3,null,null,{"$f":"IF(OR(U143=\"NA\", U143=\"FAILED\"), U143, (IF(ISERROR((S143-1)/(U143-T143)*60), \"\", (S143-1)/(U143-T143)*60)))","v":""},{"$f":"IF(OR(U143=\"NA\", U143=\"FAILED\"), U143, (IF(ISERROR(V143/'Test Info'!$I$6*100), \"\", V143/'Test Info'!$I$6*100)))","v":""},{"$f":"IF(OR(U143=\"NA\", U143=\"FAILED\"), U143, (IF(ISERROR(S143/U143/'Test Info'!$I$6*6000), \"\", S143/U143/'Test Info'!$I$6*6000)))","v":""}]
[null,null,null,"Average",{"$f":"AVERAGE(E140:E143)","v":8.5},{"$f":"IF(F143=\"NA\", F143, (IF(ISERROR(AVERAGE(F140:F143)), \"\", AVERAGE(F140:F143))))","v":""},{"$f":"IF(G143=\"NA\", G143, (IF(ISERROR(AVERAGE(G140:G143)), \"\", AVERAGE(G140:G143))))","v":""},{"$f":"IF(H143=\"NA\", H143, (IF(ISERROR(AVERAGE(H140:H143)), \"\", AVERAGE(H140:H143))))","v":""},{"$f":"IF(I143=\"NA\", I143, (IF(ISERROR(AVERAGE(I140:I143)), \"\", AVERAGE(I140:I143))))","v":""},{"$f":"IF(J143=\"NA\", J143, (IF(ISERROR(AVERAGE(J140:J143)), \"\", AVERAGE(J140:J143))))","v":""},null,null,null,null,null,null,null,"Average",{"$f":"AVERAGE(S140:S143)","v":8.5},{"$f":"IF(T143=\"NA\", T143, (IF(ISERROR(AVERAGE(T140:T143)), \"\", AVERAGE(T140:T143))))","v":""},{"$f":"IF(U143=\"NA\", U143, (IF(ISERROR(AVERAGE(U140:U143)), \"\", AVERAGE(U140:U143))))","v":""},{"$f":"IF(V143=\"NA\", V143, (IF(ISERROR(AVERAGE(V140:V143)), \"\", AVERAGE(V140:V143))))","v":""},{"$f":"IF(W143=\"NA\", W143, (IF(ISERROR(AVERAGE(W140:W143)), \"\", AVERAGE(W140:W143))))","v":""},{"$f":"IF(X143=\"NA\", X143, (IF(ISERROR(AVERAGE(X140:X143)), \"\", AVERAGE(X140:X143))))","v":""}]
[]
["Office Mono- Banner",null,null,null,null,null,null,null,null,null,null,null,null,null,"Office Mono- Banner"]
["PCL6","Mono","Gold","Powerpoint",9,null,null,{"$f":"IF(OR(G147=\"NA\",G147=\"FAILED\"),G147,(IF(ISERROR((E147-1)/(G147-F147)*60),\"\",(E147-1)/(G147-F147)*60)))","v":""},{"$f":"IF(OR(G147=\"NA\",G147=\"FAILED\"),G147, (IF(ISERROR(H147/'Test Info'!$J$6*100), \"\", H147/'Test Info'!$J$6*100)))","v":""},{"$f":"IF(OR(G147=\"NA\",G147=\"FAILED\"),G147, (IF(ISERROR(E147/G147/'Test Info'!$J$6*6000), \"\", E147/G147/'Test Info'!$J$6*6000)))","v":""},null,null,null,null,"PCL6","Mono","Gold","Powerpoint",9,null,null,{"$f":"IF(OR(U147=\"NA\",U147=\"FAILED\"),U147,(IF(ISERROR((S147-1)/(U147-T147)*60),\"\",(S147-1)/(U147-T147)*60)))","v":""},{"$f":"IF(OR(U147=\"NA\",U147=\"FAILED\"),U147, (IF(ISERROR(V147/'Test Info'!$J$6*100), \"\", V147/'Test Info'!$J$6*100)))","v":""},{"$f":"IF(OR(U147=\"NA\",U147=\"FAILED\"),U147, (IF(ISERROR(S147/U147/'Test Info'!$J$6*6000), \"\", S147/U147/'Test Info'!$J$6*6000)))","v":""}]
["PCL6","Mono","Pain at the pump","Chrome",4,null,null,{"$f":"IF(OR(G148=\"NA\",G148=\"FAILED\"),G148,(IF(ISERROR((E148-1)/(G148-F148)*60),\"\",(E148-1)/(G148-F148)*60)))","v":""},{"$f":"IF(OR(G148=\"NA\",G148=\"FAILED\"),G148, (IF(ISERROR(H148/'Test Info'!$J$6*100), \"\", H148/'Test Info'!$J$6*100)))","v":""},{"$f":"IF(OR(G148=\"NA\",G148=\"FAILED\"),G148, (IF(ISERROR(E148/G148/'Test Info'!$J$6*6000), \"\", E148/G148/'Test Info'!$J$6*6000)))","v":""},null,null,null,null,"PCL6","Mono","Pain at the pump","Chrome",4,null,null,{"$f":"IF(OR(U148=\"NA\",U148=\"FAILED\"),U148,(IF(ISERROR((S148-1)/(U148-T148)*60),\"\",(S148-1)/(U148-T148)*60)))","v":""},{"$f":"IF(OR(U148=\"NA\",U148=\"FAILED\"),U148, (IF(ISERROR(V148/'Test Info'!$J$6*100), \"\", V148/'Test Info'!$J$6*100)))","v":""},{"$f":"IF(OR(U148=\"NA\",U148=\"FAILED\"),U148, (IF(ISERROR(S148/U148/'Test Info'!$J$6*6000), \"\", S148/U148/'Test Info'!$J$6*6000)))","v":""}]
["PCL6","Mono","Lincoln 2","Word",3,null,null,{"$f":"IF(OR(G149=\"NA\",G149=\"FAILED\"),G149,(IF(ISERROR((E149-1)/(G149-F149)*60),\"\",(E149-1)/(G149-F149)*60)))","v":""},{"$f":"IF(OR(G149=\"NA\",G149=\"FAILED\"),G149, (IF(ISERROR(H149/'Test Info'!$J$6*100), \"\", H149/'Test Info'!$J$6*100)))","v":""},{"$f":"IF(OR(G149=\"NA\",G149=\"FAILED\"),G149, (IF(ISERROR(E149/G149/'Test Info'!$J$6*6000), \"\", E149/G149/'Test Info'!$J$6*6000)))","v":""},null,null,null,null,"PCL6","Mono","Lincoln 2","Word",3,null,null,{"$f":"IF(OR(U149=\"NA\",U149=\"FAILED\"),U149,(IF(ISERROR((S149-1)/(U149-T149)*60),\"\",(S149-1)/(U149-T149)*60)))","v":""},{"$f":"IF(OR(U149=\"NA\",U149=\"FAILED\"),U149, (IF(ISERROR(V149/'Test Info'!$J$6*100), \"\", V149/'Test Info'!$J$6*100)))","v":""},{"$f":"IF(OR(U149=\"NA\",U149=\"FAILED\"),U149, (IF(ISERROR(S149/U149/'Test Info'!$J$6*6000), \"\", S149/U149/'Test Info'!$J$6*6000)))","v":""}]
["PCL6","Mono","Budget","Excel",2,null,null,{"$f":"IF(OR(G150=\"NA\",G150=\"FAILED\"),G150,(IF(ISERROR((E150-1)/(G150-F150)*60),\"\",(E150-1)/(G150-F150)*60)))","v":""},{"$f":"IF(OR(G150=\"NA\",G150=\"FAILED\"),G150, (IF(ISERROR(H150/'Test Info'!$J$6*100), \"\", H150/'Test Info'!$J$6*100)))","v":""},{"$f":"IF(OR(G150=\"NA\",G150=\"FAILED\"),G150, (IF(ISERROR(E150/G150/'Test Info'!$J$6*6000), \"\", E150/G150/'Test Info'!$J$6*6000)))","v":""},null,null,null,null,"PCL6","Mono","Budget","Excel",2,null,null,{"$f":"IF(OR(U150=\"NA\",U150=\"FAILED\"),U150,(IF(ISERROR((S150-1)/(U150-T150)*60),\"\",(S150-1)/(U150-T150)*60)))","v":""},{"$f":"IF(OR(U150=\"NA\",U150=\"FAILED\"),U150, (IF(ISERROR(V150/'Test Info'!$J$6*100), \"\", V150/'Test Info'!$J$6*100)))","v":""},{"$f":"IF(OR(U150=\"NA\",U150=\"FAILED\"),U150, (IF(ISERROR(S150/U150/'Test Info'!$J$6*6000), \"\", S150/U150/'Test Info'!$J$6*6000)))","v":""}]
[null,null,null,"Average",{"$f":"AVERAGE(E147:E150)","v":4.5},{"$f":"IF(F150=\"NA\", F150, (IF(ISERROR(AVERAGE(F147:F150)), \"\", AVERAGE(F147:F150))))","v":""},{"$f":"IF(G150=\"NA\", G150, (IF(ISERROR(AVERAGE(G147:G150)), \"\", AVERAGE(G147:G150))))","v":""},{"$f":"IF(H150=\"NA\", H150, (IF(ISERROR(AVERAGE(H147:H150)), \"\", AVERAGE(H147:H150))))","v":""},{"$f":"IF(I150=\"NA\", I150, (IF(ISERROR(AVERAGE(I147:I150)), \"\", AVERAGE(I147:I150))))","v":""},{"$f":"IF(J150=\"NA\", J150, (IF(ISERROR(AVERAGE(J147:J150)), \"\", AVERAGE(J147:J150))))","v":""},null,null,null,null,null,null,null,"Average",{"$f":"AVERAGE(S147:S150)","v":4.5},{"$f":"IF(T150=\"NA\", T150, (IF(ISERROR(AVERAGE(T147:T150)), \"\", AVERAGE(T147:T150))))","v":""},{"$f":"IF(U150=\"NA\", U150, (IF(ISERROR(AVERAGE(U147:U150)), \"\", AVERAGE(U147:U150))))","v":""},{"$f":"IF(V150=\"NA\", V150, (IF(ISERROR(AVERAGE(V147:V150)), \"\", AVERAGE(V147:V150))))","v":""},{"$f":"IF(W150=\"NA\", W150, (IF(ISERROR(AVERAGE(W147:W150)), \"\", AVERAGE(W147:W150))))","v":""},{"$f":"IF(X150=\"NA\", X150, (IF(ISERROR(AVERAGE(X147:X150)), \"\", AVERAGE(X147:X150))))","v":""}]
[]
[]
["Graphic- Banner",null,null,null,null,null,null,null,null,null,null,null,null,null,"Graphic- Banner"]
["PCL6","Color","Architectural","Chrome",6,null,null,{"$f":"IF(OR(G155=\"NA\", G155=\"FAILED\"), G155, (IF(ISERROR((E155-1)/(G155-F155)*60), \"\", (E155-1)/(G155-F155)*60)))","v":""},{"$f":"IF(OR(G155=\"NA\", G155=\"FAILED\"), G155, (IF(ISERROR(H155/'Test Info'!$I$6*100), \"\", H155/'Test Info'!$I$6*100)))","v":""},{"$f":"IF(OR(G155=\"NA\", G155=\"FAILED\"), G155, (IF(ISERROR(E155/G155/'Test Info'!$I$6*6000), \"\", E155/G155/'Test Info'!$I$6*6000)))","v":""},null,null,null,null,"PCL6","Color","Architectural","Chrome",6,null,null,{"$f":"IF(OR(U155=\"NA\", U155=\"FAILED\"), U155, (IF(ISERROR((S155-1)/(U155-T155)*60), \"\", (S155-1)/(U155-T155)*60)))","v":""},{"$f":"IF(OR(U155=\"NA\", U155=\"FAILED\"), U155, (IF(ISERROR(V155/'Test Info'!$I$6*100), \"\", V155/'Test Info'!$I$6*100)))","v":""},{"$f":"IF(OR(U155=\"NA\", U155=\"FAILED\"), U155, (IF(ISERROR(S155/U155/'Test Info'!$I$6*6000), \"\", S155/U155/'Test Info'!$I$6*6000)))","v":""}]
["PCL6","Color","Outcast","Acrobat",13,null,null,{"$f":"IF(OR(G156=\"NA\", G156=\"FAILED\"), G156, (IF(ISERROR((E156-1)/(G156-F156)*60), \"\", (E156-1)/(G156-F156)*60)))","v":""},{"$f":"IF(OR(G156=\"NA\", G156=\"FAILED\"), G156, (IF(ISERROR(H156/'Test Info'!$I$6*100), \"\", H156/'Test Info'!$I$6*100)))","v":""},{"$f":"IF(OR(G156=\"NA\", G156=\"FAILED\"), G156, (IF(ISERROR(E156/G156/'Test Info'!$I$6*6000), \"\", E156/G156/'Test Info'!$I$6*6000)))","v":""},null,null,null,null,"PCL6","Color","Outcast","Acrobat",13,null,null,{"$f":"IF(OR(U156=\"NA\", U156=\"FAILED\"), U156, (IF(ISERROR((S156-1)/(U156-T156)*60), \"\", (S156-1)/(U156-T156)*60)))","v":""},{"$f":"IF(OR(U156=\"NA\", U156=\"FAILED\"), U156, (IF(ISERROR(V156/'Test Info'!$I$6*100), \"\", V156/'Test Info'!$I$6*100)))","v":""},{"$f":"IF(OR(U156=\"NA\", U156=\"FAILED\"), U156, (IF(ISERROR(S156/U156/'Test Info'!$I$6*6000), \"\", S156/U156/'Test Info'!$I$6*6000)))","v":""}]
["PCL6","Color","Valentines day","Powerpoint",41,null,null,{"$f":"IF(OR(G157=\"NA\", G157=\"FAILED\"), G157, (IF(ISERROR((E157-1)/(G157-F157)*60), \"\", (E157-1)/(G157-F157)*60)))","v":""},{"$f":"IF(OR(G157=\"NA\", G157=\"FAILED\"), G157, (IF(ISERROR(H157/'Test Info'!$I$6*100), \"\", H157/'Test Info'!$I$6*100)))","v":""},{"$f":"IF(OR(G157=\"NA\", G157=\"FAILED\"), G157, (IF(ISERROR(E157/G157/'Test Info'!$I$6*6000), \"\", E157/G157/'Test Info'!$I$6*6000)))","v":""},null,null,null,null,"PCL6","Color","Valentines day","Powerpoint",41,null,null,{"$f":"IF(OR(U157=\"NA\", U157=\"FAILED\"), U157, (IF(ISERROR((S157-1)/(U157-T157)*60), \"\", (S157-1)/(U157-T157)*60)))","v":""},{"$f":"IF(OR(U157=\"NA\", U157=\"FAILED\"), U157, (IF(ISERROR(V157/'Test Info'!$I$6*100), \"\", V157/'Test Info'!$I$6*100)))","v":""},{"$f":"IF(OR(U157=\"NA\", U157=\"FAILED\"), U157, (IF(ISERROR(S157/U157/'Test Info'!$I$6*6000), \"\", S157/U157/'Test Info'!$I$6*6000)))","v":""}]
["PCL6","Color","Rainfall","Excel",8,null,null,{"$f":"IF(OR(G158=\"NA\", G158=\"FAILED\"), G158, (IF(ISERROR((E158-1)/(G158-F158)*60), \"\", (E158-1)/(G158-F158)*60)))","v":""},{"$f":"IF(OR(G158=\"NA\", G158=\"FAILED\"), G158, (IF(ISERROR(H158/'Test Info'!$I$6*100), \"\", H158/'Test Info'!$I$6*100)))","v":""},{"$f":"IF(OR(G158=\"NA\", G158=\"FAILED\"), G158, (IF(ISERROR(E158/G158/'Test Info'!$I$6*6000), \"\", E158/G158/'Test Info'!$I$6*6000)))","v":""},null,null,null,null,"PCL6","Color","Rainfall","Excel",8,null,null,{"$f":"IF(OR(U158=\"NA\", U158=\"FAILED\"), U158, (IF(ISERROR((S158-1)/(U158-T158)*60), \"\", (S158-1)/(U158-T158)*60)))","v":""},{"$f":"IF(OR(U158=\"NA\", U158=\"FAILED\"), U158, (IF(ISERROR(V158/'Test Info'!$I$6*100), \"\", V158/'Test Info'!$I$6*100)))","v":""},{"$f":"IF(OR(U158=\"NA\", U158=\"FAILED\"), U158, (IF(ISERROR(S158/U158/'Test Info'!$I$6*6000), \"\", S158/U158/'Test Info'!$I$6*6000)))","v":""}]
[null,null,null,"Average",{"$f":"AVERAGE(E155:E158)","v":17},{"$f":"IF(F158=\"NA\", F158, (IF(ISERROR(AVERAGE(F155:F158)), \"\", AVERAGE(F155:F158))))","v":""},{"$f":"IF(G158=\"NA\", G158, (IF(ISERROR(AVERAGE(G155:G158)), \"\", AVERAGE(G155:G158))))","v":""},{"$f":"IF(H158=\"NA\", H158, (IF(ISERROR(AVERAGE(H155:H158)), \"\", AVERAGE(H155:H158))))","v":""},{"$f":"IF(I158=\"NA\", I158, (IF(ISERROR(AVERAGE(I155:I158)), \"\", AVERAGE(I155:I158))))","v":""},{"$f":"IF(J158=\"NA\", J158, (IF(ISERROR(AVERAGE(J155:J158)), \"\", AVERAGE(J155:J158))))","v":""},null,null,null,null,null,null,null,"Average",{"$f":"AVERAGE(S155:S158)","v":17},{"$f":"IF(T158=\"NA\", T158, (IF(ISERROR(AVERAGE(T155:T158)), \"\", AVERAGE(T155:T158))))","v":""},{"$f":"IF(U158=\"NA\", U158, (IF(ISERROR(AVERAGE(U155:U158)), \"\", AVERAGE(U155:U158))))","v":""},{"$f":"IF(V158=\"NA\", V158, (IF(ISERROR(AVERAGE(V155:V158)), \"\", AVERAGE(V155:V158))))","v":""},{"$f":"IF(W158=\"NA\", W158, (IF(ISERROR(AVERAGE(W155:W158)), \"\", AVERAGE(W155:W158))))","v":""},{"$f":"IF(X158=\"NA\", X158, (IF(ISERROR(AVERAGE(X155:X158)), \"\", AVERAGE(X155:X158))))","v":""}]
[]
["Stress- Banner",null,null,null,null,null,null,null,null,null,null,null,null,null,"Stress- Banner"]
["PCL6","Color","Begin with things","Corel Draw",5,null,null,{"$f":"IF(OR(G162=\"NA\", G162=\"FAILED\"), G162, (IF(ISERROR((E162-1)/(G162-F162)*60), \"\", (E162-1)/(G162-F162)*60)))","v":""},{"$f":"IF(OR(G162=\"NA\", G162=\"FAILED\"), G162, (IF(ISERROR(H162/'Test Info'!$I$6*100), \"\", H162/'Test Info'!$I$6*100)))","v":""},{"$f":"IF(OR(G162=\"NA\", G162=\"FAILED\"), G162, (IF(ISERROR(E162/G162/'Test Info'!$I$6*6000), \"\", E162/G162/'Test Info'!$I$6*6000)))","v":""},null,null,null,null,"PCL6","Color","Begin with things","Corel Draw",5,null,null,{"$f":"IF(OR(U162=\"NA\", U162=\"FAILED\"), U162, (IF(ISERROR((S162-1)/(U162-T162)*60), \"\", (S162-1)/(U162-T162)*60)))","v":""},{"$f":"IF(OR(U162=\"NA\", U162=\"FAILED\"), U162, (IF(ISERROR(V162/'Test Info'!$I$6*100), \"\", V162/'Test Info'!$I$6*100)))","v":""},{"$f":"IF(OR(U162=\"NA\", U162=\"FAILED\"), U162, (IF(ISERROR(S162/U162/'Test Info'!$I$6*6000), \"\", S162/U162/'Test Info'!$I$6*6000)))","v":""}]
["PCL6","Color","Lincoln 6","Word",7,null,null,{"$f":"IF(OR(G163=\"NA\", G163=\"FAILED\"), G163, (IF(ISERROR((E163-1)/(G163-F163)*60), \"\", (E163-1)/(G163-F163)*60)))","v":""},{"$f":"IF(OR(G163=\"NA\", G163=\"FAILED\"), G163, (IF(ISERROR(H163/'Test Info'!$I$6*100), \"\", H163/'Test Info'!$I$6*100)))","v":""},{"$f":"IF(OR(G163=\"NA\", G163=\"FAILED\"), G163, (IF(ISERROR(E163/G163/'Test Info'!$I$6*6000), \"\", E163/G163/'Test Info'!$I$6*6000)))","v":""},null,null,null,null,"PCL6","Color","Lincoln 6","Word",7,null,null,{"$f":"IF(OR(U163=\"NA\", U163=\"FAILED\"), U163, (IF(ISERROR((S163-1)/(U163-T163)*60), \"\", (S163-1)/(U163-T163)*60)))","v":""},{"$f":"IF(OR(U163=\"NA\", U163=\"FAILED\"), U163, (IF(ISERROR(V163/'Test Info'!$I$6*100), \"\", V163/'Test Info'!$I$6*100)))","v":""},{"$f":"IF(OR(U163=\"NA\", U163=\"FAILED\"), U163, (IF(ISERROR(S163/U163/'Test Info'!$I$6*6000), \"\", S163/U163/'Test Info'!$I$6*6000)))","v":""}]
["PCL6","Color","Sisters","Corel Draw",13,null,null,{"$f":"IF(OR(G164=\"NA\", G164=\"FAILED\"), G164, (IF(ISERROR((E164-1)/(G164-F164)*60), \"\", (E164-1)/(G164-F164)*60)))","v":""},{"$f":"IF(OR(G164=\"NA\", G164=\"FAILED\"), G164, (IF(ISERROR(H164/'Test Info'!$I$6*100), \"\", H164/'Test Info'!$I$6*100)))","v":""},{"$f":"IF(OR(G164=\"NA\", G164=\"FAILED\"), G164, (IF(ISERROR(E164/G164/'Test Info'!$I$6*6000), \"\", E164/G164/'Test Info'!$I$6*6000)))","v":""},null,null,null,null,"PCL6","Color","Sisters","Corel Draw",13,null,null,{"$f":"IF(OR(U164=\"NA\", U164=\"FAILED\"), U164, (IF(ISERROR((S164-1)/(U164-T164)*60), \"\", (S164-1)/(U164-T164)*60)))","v":""},{"$f":"IF(OR(U164=\"NA\", U164=\"FAILED\"), U164, (IF(ISERROR(V164/'Test Info'!$I$6*100), \"\", V164/'Test Info'!$I$6*100)))","v":""},{"$f":"IF(OR(U164=\"NA\", U164=\"FAILED\"), U164, (IF(ISERROR(S164/U164/'Test Info'!$I$6*6000), \"\", S164/U164/'Test Info'!$I$6*6000)))","v":""}]
["PCL6","Color","Turtle Island","Photoshop",2,null,null,{"$f":"IF(OR(G165=\"NA\", G165=\"FAILED\"), G165, (IF(ISERROR((E165-1)/(G165-F165)*60), \"\", (E165-1)/(G165-F165)*60)))","v":""},{"$f":"IF(OR(G165=\"NA\", G165=\"FAILED\"), G165, (IF(ISERROR(H165/'Test Info'!$I$6*100), \"\", H165/'Test Info'!$I$6*100)))","v":""},{"$f":"IF(OR(G165=\"NA\", G165=\"FAILED\"), G165, (IF(ISERROR(E165/G165/'Test Info'!$I$6*6000), \"\", E165/G165/'Test Info'!$I$6*6000)))","v":""},null,null,null,null,"PCL6","Color","Turtle Island","Photoshop",2,null,null,{"$f":"IF(OR(U165=\"NA\", U165=\"FAILED\"), U165, (IF(ISERROR((S165-1)/(U165-T165)*60), \"\", (S165-1)/(U165-T165)*60)))","v":""},{"$f":"IF(OR(U165=\"NA\", U165=\"FAILED\"), U165, (IF(ISERROR(V165/'Test Info'!$I$6*100), \"\", V165/'Test Info'!$I$6*100)))","v":""},{"$f":"IF(OR(U165=\"NA\", U165=\"FAILED\"), U165, (IF(ISERROR(S165/U165/'Test Info'!$I$6*6000), \"\", S165/U165/'Test Info'!$I$6*6000)))","v":""}]
[null,null,null,"Average",{"$f":"AVERAGE(E162:E165)","v":6.75},{"$f":"IF(F165=\"NA\", F165, (IF(ISERROR(AVERAGE(F162:F165)), \"\", AVERAGE(F162:F165))))","v":""},{"$f":"IF(G165=\"NA\", G165, (IF(ISERROR(AVERAGE(G162:G165)), \"\", AVERAGE(G162:G165))))","v":""},{"$f":"IF(H165=\"NA\", H165, (IF(ISERROR(AVERAGE(H162:H165)), \"\", AVERAGE(H162:H165))))","v":""},{"$f":"IF(I165=\"NA\", I165, (IF(ISERROR(AVERAGE(I162:I165)), \"\", AVERAGE(I162:I165))))","v":""},{"$f":"IF(J165=\"NA\", J165, (IF(ISERROR(AVERAGE(J162:J165)), \"\", AVERAGE(J162:J165))))","v":""},null,null,null,null,null,null,null,"Average",{"$f":"AVERAGE(S162:S165)","v":6.75},{"$f":"IF(T165=\"NA\", T165, (IF(ISERROR(AVERAGE(T162:T165)), \"\", AVERAGE(T162:T165))))","v":""},{"$f":"IF(U165=\"NA\", U165, (IF(ISERROR(AVERAGE(U162:U165)), \"\", AVERAGE(U162:U165))))","v":""},{"$f":"IF(V165=\"NA\", V165, (IF(ISERROR(AVERAGE(V162:V165)), \"\", AVERAGE(V162:V165))))","v":""},{"$f":"IF(W165=\"NA\", W165, (IF(ISERROR(AVERAGE(W162:W165)), \"\", AVERAGE(W162:W165))))","v":""},{"$f":"IF(X165=\"NA\", X165, (IF(ISERROR(AVERAGE(X162:X165)), \"\", AVERAGE(X162:X165))))","v":""}]
[]
[]
[]
["Print Duplex",null,null,null,null,null,null,null,null,null,null,null,null,null,"Print Duplex"]
["PS- No Banner",null,null,null,null,null,null,null,null,null,null,null,null,null,"PS- No Banner"]
["Color- No Banner",null,null,null,null,null,null,null,null,null,null,null,null,null,"Color- No Banner"]
["Type","Mode","Job","Application","Pages Printed","FPOT Measured\nin Seconds","C-C  Measured\nin Seconds","2-N PPM Calculated","2-N % Rated Speed Calculated","C-C % Rated Speed Calculated",null,null,null,null,"Type","Mode","Job","Application","Pages Printed","FPOT Measured\nin Seconds","C-C  Measured\nin Seconds","2-N PPM Calculated","2-N % Rated Speed Calculated","C-C % Rated Speed Calculated"]
["PS","Color","Jewelry","Powerpoint",6,null,null,{"$f":"IF(OR(G174=\"NA\", G174=\"FAILED\"), G174, (IF(ISERROR((E174-1)/(G174-F174)*60), \"\", (E174-1)/(G174-F174)*60)))","v":""},{"$f":"IF(OR(G174=\"NA\", G174=\"FAILED\"), G174, (IF(ISERROR(H174/'Test Info'!$I$6*100), \"\", H174/'Test Info'!$I$6*100)))","v":""},{"$f":"IF(OR(G174=\"NA\", G174=\"FAILED\"), G174, (IF(ISERROR(E174/G174/'Test Info'!$I$6*6000), \"\", E174/G174/'Test Info'!$I$6*6000)))","v":""},null,null,null,null,"PS","Color","Jewelry","Powerpoint",6,null,null,{"$f":"IF(OR(U174=\"NA\", U174=\"FAILED\"), U174, (IF(ISERROR((S174-1)/(U174-T174)*60), \"\", (S174-1)/(U174-T174)*60)))","v":""},{"$f":"IF(OR(U174=\"NA\", U174=\"FAILED\"), U174, (IF(ISERROR(V174/'Test Info'!$I$6*100), \"\", V174/'Test Info'!$I$6*100)))","v":""},{"$f":"IF(OR(U174=\"NA\", U174=\"FAILED\"), U174, (IF(ISERROR(S174/U174/'Test Info'!$I$6*6000), \"\", S174/U174/'Test Info'!$I$6*6000)))","v":""}]
["PS","Color","Inpatient","Excel",2,null,null,"",{"$f":"IF(OR(G175=\"NA\", G175=\"FAILED\"), G175, (IF(ISERROR(H175/'Test Info'!$I$6*100), \"\", H175/'Test Info'!$I$6*100)))","v":""},{"$f":"IF(OR(G175=\"NA\", G175=\"FAILED\"), G175, (IF(ISERROR(E175/G175/'Test Info'!$I$6*6000), \"\", E175/G175/'Test Info'!$I$6*6000)))","v":""},null,null,null,null,"PS","Color","Inpatient","Excel",2,null,null,{"$f":"IF(OR(U175=\"NA\", U175=\"FAILED\"), U175, (IF(ISERROR((S175-1)/(U175-T175)*60), \"\", (S175-1)/(U175-T175)*60)))","v":""},{"$f":"IF(OR(U175=\"NA\", U175=\"FAILED\"), U175, (IF(ISERROR(V175/'Test Info'!$I$6*100), \"\", V175/'Test Info'!$I$6*100)))","v":""},{"$f":"IF(OR(U175=\"NA\", U175=\"FAILED\"), U175, (IF(ISERROR(S175/U175/'Test Info'!$I$6*6000), \"\", S175/U175/'Test Info'!$I$6*6000)))","v":""}]
["PS","Color","Rain year","Excel",1,null,null,null,null,{"$f":"IF(OR(G176=\"NA\", G176=\"FAILED\"), G176, (IF(ISERROR(E176/G176/'Test Info'!$I$6*6000), \"\", E176/G176/'Test Info'!$I$6*6000)))","v":""},null,null,null,null,"PS","Color","Rain year","Excel",1,null,null,null,null,{"$f":"IF(OR(U176=\"NA\", U176=\"FAILED\"), U176, (IF(ISERROR(S176/U176/'Test Info'!$I$6*6000), \"\", S176/U176/'Test Info'!$I$6*6000)))","v":""}]
["PS","Color","Troutman","Quark",2,null,null,"",{"$f":"IF(OR(G177=\"NA\", G177=\"FAILED\"), G177, (IF(ISERROR(H177/'Test Info'!$I$6*100), \"\", H177/'Test Info'!$I$6*100)))","v":""},{"$f":"IF(OR(G177=\"NA\", G177=\"FAILED\"), G177, (IF(ISERROR(E177/G177/'Test Info'!$I$6*6000), \"\", E177/G177/'Test Info'!$I$6*6000)))","v":""},null,null,null,null,"PS","Color","Troutman","Quark",2,null,null,{"$f":"IF(OR(U177=\"NA\", U177=\"FAILED\"), U177, (IF(ISERROR((S177-1)/(U177-T177)*60), \"\", (S177-1)/(U177-T177)*60)))","v":""},{"$f":"IF(OR(U177=\"NA\", U177=\"FAILED\"), U177, (IF(ISERROR(V177/'Test Info'!$I$6*100), \"\", V177/'Test Info'!$I$6*100)))","v":""},{"$f":"IF(OR(U177=\"NA\", U177=\"FAILED\"), U177, (IF(ISERROR(S177/U177/'Test Info'!$I$6*6000), \"\", S177/U177/'Test Info'!$I$6*6000)))","v":""}]
["PS","Color","Volcanoes","Access",4,null,null,"",{"$f":"IF(OR(G178=\"NA\", G178=\"FAILED\"), G178, (IF(ISERROR(H178/'Test Info'!$I$6*100), \"\", H178/'Test Info'!$I$6*100)))","v":""},{"$f":"IF(OR(G178=\"NA\", G178=\"FAILED\"), G178, (IF(ISERROR(E178/G178/'Test Info'!$I$6*6000), \"\", E178/G178/'Test Info'!$I$6*6000)))","v":""},null,null,null,null,"PS","Color","Volcanoes","Access",4,null,null,"",{"$f":"IF(OR(U178=\"NA\", U178=\"FAILED\"), U178, (IF(ISERROR(V178/'Test Info'!$I$6*100), \"\", V178/'Test Info'!$I$6*100)))","v":""},{"$f":"IF(OR(U178=\"NA\", U178=\"FAILED\"), U178, (IF(ISERROR(S178/U178/'Test Info'!$I$6*6000), \"\", S178/U178/'Test Info'!$I$6*6000)))","v":""}]
["PS","Color","Progress","Powerpoint",2,null,null,"",{"$f":"IF(OR(G179=\"NA\", G179=\"FAILED\"), G179, (IF(ISERROR(H179/'Test Info'!$I$6*100), \"\", H179/'Test Info'!$I$6*100)))","v":""},{"$f":"IF(OR(G179=\"NA\", G179=\"FAILED\"), G179, (IF(ISERROR(E179/G179/'Test Info'!$I$6*6000), \"\", E179/G179/'Test Info'!$I$6*6000)))","v":""},null,null,null,null,"PS","Color","Progress","Powerpoint",2,null,null,"",{"$f":"IF(OR(U179=\"NA\", U179=\"FAILED\"), U179, (IF(ISERROR(V179/'Test Info'!$I$6*100), \"\", V179/'Test Info'!$I$6*100)))","v":""},{"$f":"IF(OR(U179=\"NA\", U179=\"FAILED\"), U179, (IF(ISERROR(S179/U179/'Test Info'!$I$6*6000), \"\", S179/U179/'Test Info'!$I$6*6000)))","v":""}]
["PS","Color","Contents","Word",6,null,null,"",{"$f":"IF(OR(G180=\"NA\", G180=\"FAILED\"), G180, (IF(ISERROR(H180/'Test Info'!$I$6*100), \"\", H180/'Test Info'!$I$6*100)))","v":""},{"$f":"IF(OR(G180=\"NA\", G180=\"FAILED\"), G180, (IF(ISERROR(E180/G180/'Test Info'!$I$6*6000), \"\", E180/G180/'Test Info'!$I$6*6000)))","v":""},null,null,null,null,"PS","Color","Contents","Word",6,null,null,"",{"$f":"IF(OR(U180=\"NA\", U180=\"FAILED\"), U180, (IF(ISERROR(V180/'Test Info'!$I$6*100), \"\", V180/'Test Info'!$I$6*100)))","v":""},{"$f":"IF(OR(U180=\"NA\", U180=\"FAILED\"), U180, (IF(ISERROR(S180/U180/'Test Info'!$I$6*6000), \"\", S180/U180/'Test Info'!$I$6*6000)))","v":""}]
["PS","Color","Blue sky","Quark",6,null,null,"",{"$f":"IF(OR(G181=\"NA\", G181=\"FAILED\"), G181, (IF(ISERROR(H181/'Test Info'!$I$6*100), \"\", H181/'Test Info'!$I$6*100)))","v":""},{"$f":"IF(OR(G181=\"NA\", G181=\"FAILED\"), G181, (IF(ISERROR(E181/G181/'Test Info'!$I$6*6000), \"\", E181/G181/'Test Info'!$I$6*6000)))","v":""},null,null,null,null,"PS","Color","Blue sky","Quark",6,null,null,"",{"$f":"IF(OR(U181=\"NA\", U181=\"FAILED\"), U181, (IF(ISERROR(V181/'Test Info'!$I$6*100), \"\", V181/'Test Info'!$I$6*100)))","v":""},{"$f":"IF(OR(U181=\"NA\", U181=\"FAILED\"), U181, (IF(ISERROR(S181/U181/'Test Info'!$I$6*6000), \"\", S181/U181/'Test Info'!$I$6*6000)))","v":""}]
["PS","Color","The blue fairy book 4","Corel Draw",2,null,null,"",{"$f":"IF(OR(G182=\"NA\", G182=\"FAILED\"), G182, (IF(ISERROR(H182/'Test Info'!$I$6*100), \"\", H182/'Test Info'!$I$6*100)))","v":""},{"$f":"IF(OR(G182=\"NA\", G182=\"FAILED\"), G182, (IF(ISERROR(E182/G182/'Test Info'!$I$6*6000), \"\", E182/G182/'Test Info'!$I$6*6000)))","v":""},null,null,null,null,"PS","Color","The blue fairy book 4","Corel Draw",2,null,null,"",{"$f":"IF(OR(U182=\"NA\", U182=\"FAILED\"), U182, (IF(ISERROR(V182/'Test Info'!$I$6*100), \"\", V182/'Test Info'!$I$6*100)))","v":""},{"$f":"IF(OR(U182=\"NA\", U182=\"FAILED\"), U182, (IF(ISERROR(S182/U182/'Test Info'!$I$6*6000), \"\", S182/U182/'Test Info'!$I$6*6000)))","v":""}]
["PS","Color","Salary","Excel",6,null,null,"",{"$f":"IF(OR(G183=\"NA\", G183=\"FAILED\"), G183, (IF(ISERROR(H183/'Test Info'!$I$6*100), \"\", H183/'Test Info'!$I$6*100)))","v":""},{"$f":"IF(OR(G183=\"NA\", G183=\"FAILED\"), G183, (IF(ISERROR(E183/G183/'Test Info'!$I$6*6000), \"\", E183/G183/'Test Info'!$I$6*6000)))","v":""},null,null,null,null,"PS","Color","Salary","Excel",6,null,null,"",{"$f":"IF(OR(U183=\"NA\", U183=\"FAILED\"), U183, (IF(ISERROR(V183/'Test Info'!$I$6*100), \"\", V183/'Test Info'!$I$6*100)))","v":""},{"$f":"IF(OR(U183=\"NA\", U183=\"FAILED\"), U183, (IF(ISERROR(S183/U183/'Test Info'!$I$6*6000), \"\", S183/U183/'Test Info'!$I$6*6000)))","v":""}]
[null,null,null,"Average",{"$f":"AVERAGE(E174:E183)","v":3.7},{"$f":"IF(F183=\"NA\", F183, (IF(ISERROR(AVERAGE(F174:F183)), \"\", AVERAGE(F174:F183))))","v":""},{"$f":"IF(G183=\"NA\", G183, (IF(ISERROR(AVERAGE(G174:G183)), \"\", AVERAGE(G174:G183))))","v":""},{"$f":"IF(H183=\"NA\", H183, (IF(ISERROR(AVERAGE(H174:H183)), \"\", AVERAGE(H174:H183))))","v":""},{"$f":"IF(I183=\"NA\", I183, (IF(ISERROR(AVERAGE(I174:I183)), \"\", AVERAGE(I174:I183))))","v":""},{"$f":"IF(J183=\"NA\", J183, (IF(ISERROR(AVERAGE(J174:J183)), \"\", AVERAGE(J174:J183))))","v":""},null,null,null,null,null,null,null,"Average",{"$f":"AVERAGE(S174:S183)","v":3.7},{"$f":"IF(T183=\"NA\", T183, (IF(ISERROR(AVERAGE(T174:T183)), \"\", AVERAGE(T174:T183))))","v":""},{"$f":"IF(U183=\"NA\", U183, (IF(ISERROR(AVERAGE(U174:U183)), \"\", AVERAGE(U174:U183))))","v":""},{"$f":"IF(V183=\"NA\", V183, (IF(ISERROR(AVERAGE(V174:V183)), \"\", AVERAGE(V174:V183))))","v":""},{"$f":"IF(W183=\"NA\", W183, (IF(ISERROR(AVERAGE(W174:W183)), \"\", AVERAGE(W174:W183))))","v":""},{"$f":"IF(X183=\"NA\", X183, (IF(ISERROR(AVERAGE(X174:X183)), \"\", AVERAGE(X174:X183))))","v":""}]
[]
["Mono- No Banner",null,null,null,null,null,null,null,null,null,null,null,null,null,"Mono- No Banner"]
["PS","Mono","Classifieds","Chrome",7,null,null,{"$f":"IF(OR(G187=\"NA\",G187=\"FAILED\"),G187,(IF(ISERROR((E187-1)/(G187-F187)*60),\"\",(E187-1)/(G187-F187)*60)))","v":""},{"$f":"IF(OR(G187=\"NA\",G187=\"FAILED\"),G187, (IF(ISERROR(H187/'Test Info'!$J$6*100), \"\", H187/'Test Info'!$J$6*100)))","v":""},{"$f":"IF(OR(G187=\"NA\",G187=\"FAILED\"),G187, (IF(ISERROR(E187/G187/'Test Info'!$J$6*6000), \"\", E187/G187/'Test Info'!$J$6*6000)))","v":""},null,null,null,null,"PS","Mono","Classifieds","Chrome",7,null,null,{"$f":"IF(OR(U187=\"NA\",U187=\"FAILED\"),U187,(IF(ISERROR((S187-1)/(U187-T187)*60),\"\",(S187-1)/(U187-T187)*60)))","v":""},{"$f":"IF(OR(U187=\"NA\",U187=\"FAILED\"),U187, (IF(ISERROR(V187/'Test Info'!$J$6*100), \"\", V187/'Test Info'!$J$6*100)))","v":""},{"$f":"IF(OR(U187=\"NA\",U187=\"FAILED\"),U187, (IF(ISERROR(S187/U187/'Test Info'!$J$6*6000), \"\", S187/U187/'Test Info'!$J$6*6000)))","v":""}]
["PS","Mono","Gold","Powerpoint",4,null,null,{"$f":"IF(OR(G188=\"NA\",G188=\"FAILED\"),G188,(IF(ISERROR((E188-1)/(G188-F188)*60),\"\",(E188-1)/(G188-F188)*60)))","v":""},{"$f":"IF(OR(G188=\"NA\",G188=\"FAILED\"),G188, (IF(ISERROR(H188/'Test Info'!$J$6*100), \"\", H188/'Test Info'!$J$6*100)))","v":""},{"$f":"IF(OR(G188=\"NA\",G188=\"FAILED\"),G188, (IF(ISERROR(E188/G188/'Test Info'!$J$6*6000), \"\", E188/G188/'Test Info'!$J$6*6000)))","v":""},null,null,null,null,"PS","Mono","Gold","Powerpoint",4,null,null,{"$f":"IF(OR(U188=\"NA\",U188=\"FAILED\"),U188,(IF(ISERROR((S188-1)/(U188-T188)*60),\"\",(S188-1)/(U188-T188)*60)))","v":""},{"$f":"IF(OR(U188=\"NA\",U188=\"FAILED\"),U188, (IF(ISERROR(V188/'Test Info'!$J$6*100), \"\", V188/'Test Info'!$J$6*100)))","v":""},{"$f":"IF(OR(U188=\"NA\",U188=\"FAILED\"),U188, (IF(ISERROR(S188/U188/'Test Info'!$J$6*6000), \"\", S188/U188/'Test Info'!$J$6*6000)))","v":""}]
["PS","Mono","Pain at the pump","Chrome",2,null,null,{"$f":"IF(OR(G189=\"NA\",G189=\"FAILED\"),G189,(IF(ISERROR((E189-1)/(G189-F189)*60),\"\",(E189-1)/(G189-F189)*60)))","v":""},{"$f":"IF(OR(G189=\"NA\",G189=\"FAILED\"),G189, (IF(ISERROR(H189/'Test Info'!$J$6*100), \"\", H189/'Test Info'!$J$6*100)))","v":""},{"$f":"IF(OR(G189=\"NA\",G189=\"FAILED\"),G189, (IF(ISERROR(E189/G189/'Test Info'!$J$6*6000), \"\", E189/G189/'Test Info'!$J$6*6000)))","v":""},null,null,null,null,"PS","Mono","Pain at the pump","Chrome",2,null,null,{"$f":"IF(OR(U189=\"NA\",U189=\"FAILED\"),U189,(IF(ISERROR((S189-1)/(U189-T189)*60),\"\",(S189-1)/(U189-T189)*60)))","v":""},{"$f":"IF(OR(U189=\"NA\",U189=\"FAILED\"),U189, (IF(ISERROR(V189/'Test Info'!$J$6*100), \"\", V189/'Test Info'!$J$6*100)))","v":""},{"$f":"IF(OR(U189=\"NA\",U189=\"FAILED\"),U189, (IF(ISERROR(S189/U189/'Test Info'!$J$6*6000), \"\", S189/U189/'Test Info'!$J$6*6000)))","v":""}]
["PS","Mono","Lincoln 2","Word",1,null,null,null,null,{"$f":"IF(OR(G190=\"NA\",G190=\"FAILED\"),G190, (IF(ISERROR(E190/G190/'Test Info'!$J$6*6000), \"\", E190/G190/'Test Info'!$J$6*6000)))","v":""},null,null,null,null,"PS","Mono","Lincoln 2","Word",1,null,null,null,null,{"$f":"IF(OR(U190=\"NA\",U190=\"FAILED\"),U190, (IF(ISERROR(S190/U190/'Test Info'!$J$6*6000), \"\", S190/U190/'Test Info'!$J$6*6000)))","v":""}]
["PS","Mono","Mountains","Word",13,null,null,{"$f":"IF(OR(G191=\"NA\",G191=\"FAILED\"),G191,(IF(ISERROR((E191-1)/(G191-F191)*60),\"\",(E191-1)/(G191-F191)*60)))","v":""},{"$f":"IF(OR(G191=\"NA\",G191=\"FAILED\"),G191, (IF(ISERROR(H191/'Test Info'!$J$6*100), \"\", H191/'Test Info'!$J$6*100)))","v":""},{"$f":"IF(OR(G191=\"NA\",G191=\"FAILED\"),G191, (IF(ISERROR(E191/G191/'Test Info'!$J$6*6000), \"\", E191/G191/'Test Info'!$J$6*6000)))","v":""},null,null,null,null,"PS","Mono","Mountains","Word",13,null,null,{"$f":"IF(OR(U191=\"NA\",U191=\"FAILED\"),U191,(IF(ISERROR((S191-1)/(U191-T191)*60),\"\",(S191-1)/(U191-T191)*60)))","v":""},{"$f":"IF(OR(U191=\"NA\",U191=\"FAILED\"),U191, (IF(ISERROR(V191/'Test Info'!$J$6*100), \"\", V191/'Test Info'!$J$6*100)))","v":""},{"$f":"IF(OR(U191=\"NA\",U191=\"FAILED\"),U191, (IF(ISERROR(S191/U191/'Test Info'!$J$6*6000), \"\", S191/U191/'Test Info'!$J$6*6000)))","v":""}]
["PS","Mono","Oberan 1","Illustrator",1,null,null,null,null,{"$f":"IF(OR(G192=\"NA\",G192=\"FAILED\"),G192, (IF(ISERROR(E192/G192/'Test Info'!$J$6*6000), \"\", E192/G192/'Test Info'!$J$6*6000)))","v":""},null,null,null,null,"PS","Mono","Oberan 1","Illustrator",1,null,null,null,null,{"$f":"IF(OR(U192=\"NA\",U192=\"FAILED\"),U192, (IF(ISERROR(S192/U192/'Test Info'!$J$6*6000), \"\", S192/U192/'Test Info'!$J$6*6000)))","v":""}]
["PS","Mono","Budget","Excel",1,null,null,null,null,{"$f":"IF(OR(G193=\"NA\",G193=\"FAILED\"),G193, (IF(ISERROR(E193/G193/'Test Info'!$J$6*6000), \"\", E193/G193/'Test Info'!$J$6*6000)))","v":""},null,null,null,null,"PS","Mono","Budget","Excel",1,null,null,null,null,{"$f":"IF(OR(U193=\"NA\",U193=\"FAILED\"),U193, (IF(ISERROR(S193/U193/'Test Info'!$J$6*6000), \"\", S193/U193/'Test Info'!$J$6*6000)))","v":""}]
[null,null,null,"Average",{"$f":"AVERAGE(E187:E193)","v":4.1428571428571432},{"$f":"IF(F193=\"NA\", F193, (IF(ISERROR(AVERAGE(F187:F193)), \"\", AVERAGE(F187:F193))))","v":""},{"$f":"IF(G193=\"NA\", G193, (IF(ISERROR(AVERAGE(G187:G193)), \"\", AVERAGE(G187:G193))))","v":""},{"$f":"IF(H193=\"NA\", H193, (IF(ISERROR(AVERAGE(H187:H193)), \"\", AVERAGE(H187:H193))))","v":""},{"$f":"IF(I193=\"NA\", I193, (IF(ISERROR(AVERAGE(I187:I193)), \"\", AVERAGE(I187:I193))))","v":""},{"$f":"IF(J193=\"NA\", J193, (IF(ISERROR(AVERAGE(J187:J193)), \"\", AVERAGE(J187:J193))))","v":""},null,null,null,null,null,null,null,"Average",{"$f":"AVERAGE(S187:S193)","v":4.1428571428571432},{"$f":"IF(T193=\"NA\", T193, (IF(ISERROR(AVERAGE(T187:T193)), \"\", AVERAGE(T187:T193))))","v":""},{"$f":"IF(U193=\"NA\", U193, (IF(ISERROR(AVERAGE(U187:U193)), \"\", AVERAGE(U187:U193))))","v":""},{"$f":"IF(V193=\"NA\", V193, (IF(ISERROR(AVERAGE(V187:V193)), \"\", AVERAGE(V187:V193))))","v":""},{"$f":"IF(W193=\"NA\", W193, (IF(ISERROR(AVERAGE(W187:W193)), \"\", AVERAGE(W187:W193))))","v":""},{"$f":"IF(X193=\"NA\", X193, (IF(ISERROR(AVERAGE(X187:X193)), \"\", AVERAGE(X187:X193))))","v":""}]
[]
["PCL6- No Banner",null,null,null,null,null,null,null,null,null,null,null,null,null,"PCL6- No Banner"]
["Color- No Banner",null,null,null,null,null,null,null,null,null,null,null,null,null,"Color- No Banner"]
["Type","Mode","Job","Application","Pages Printed","FPOT Measured\nin Seconds","C-C  Measured\nin Seconds","2-N PPM Calculated","2-N % Rated Speed Calculated","C-C % Rated Speed Calculated",null,null,null,null,"Type","Mode","Job","Application","Pages Printed","FPOT Measured\nin Seconds","C-C  Measured\nin Seconds","2-N PPM Calculated","2-N % Rated Speed Calculated","C-C % Rated Speed Calculated"]
["PCL6","Color","Jewelry","Powerpoint",6,null,null,{"$f":"IF(OR(G199=\"NA\", G199=\"FAILED\"), G199, (IF(ISERROR((E199-1)/(G199-F199)*60), \"\", (E199-1)/(G199-F199)*60)))","v":""},{"$f":"IF(OR(G199=\"NA\", G199=\"FAILED\"), G199, (IF(ISERROR(H199/'Test Info'!$I$6*100), \"\", H199/'Test Info'!$I$6*100)))","v":""},{"$f":"IF(OR(G199=\"NA\", G199=\"FAILED\"), G199, (IF(ISERROR(E199/G199/'Test Info'!$I$6*6000), \"\", E199/G199/'Test Info'!$I$6*6000)))","v":""},null,null,null,null,"PCL6","Color","Jewelry","Powerpoint",6,null,null,{"$f":"IF(OR(U199=\"NA\", U199=\"FAILED\"), U199, (IF(ISERROR((S199-1)/(U199-T199)*60), \"\", (S199-1)/(U199-T199)*60)))","v":""},{"$f":"IF(OR(U199=\"NA\", U199=\"FAILED\"), U199, (IF(ISERROR(V199/'Test Info'!$I$6*100), \"\", V199/'Test Info'!$I$6*100)))","v":""},{"$f":"IF(OR(U199=\"NA\", U199=\"FAILED\"), U199, (IF(ISERROR(S199/U199/'Test Info'!$I$6*6000), \"\", S199/U199/'Test Info'!$I$6*6000)))","v":""}]
["PCL6","Color","Inpatient","Excel",2,null,null,"",{"$f":"IF(OR(G200=\"NA\", G200=\"FAILED\"), G200, (IF(ISERROR(H200/'Test Info'!$I$6*100), \"\", H200/'Test Info'!$I$6*100)))","v":""},{"$f":"IF(OR(G200=\"NA\", G200=\"FAILED\"), G200, (IF(ISERROR(E200/G200/'Test Info'!$I$6*6000), \"\", E200/G200/'Test Info'!$I$6*6000)))","v":""},null,null,null,null,"PCL6","Color","Inpatient","Excel",2,null,null,{"$f":"IF(OR(U200=\"NA\", U200=\"FAILED\"), U200, (IF(ISERROR((S200-1)/(U200-T200)*60), \"\", (S200-1)/(U200-T200)*60)))","v":""},{"$f":"IF(OR(U200=\"NA\", U200=\"FAILED\"), U200, (IF(ISERROR(V200/'Test Info'!$I$6*100), \"\", V200/'Test Info'!$I$6*100)))","v":""},{"$f":"IF(OR(U200=\"NA\", U200=\"FAILED\"), U200, (IF(ISERROR(S200/U200/'Test Info'!$I$6*6000), \"\", S200/U200/'Test Info'!$I$6*6000)))","v":""}]
["PCL6","Color","Rain year","Excel",1,null,null,null,null,{"$f":"IF(OR(G201=\"NA\", G201=\"FAILED\"), G201, (IF(ISERROR(E201/G201/'Test Info'!$I$6*6000), \"\", E201/G201/'Test Info'!$I$6*6000)))","v":""},null,null,null,null,"PCL6","Color","Rain year","Excel",1,null,null,null,null,{"$f":"IF(OR(U201=\"NA\", U201=\"FAILED\"), U201, (IF(ISERROR(S201/U201/'Test Info'!$I$6*6000), \"\", S201/U201/'Test Info'!$I$6*6000)))","v":""}]
["PCL6","Color","Troutman","Quark",2,null,null,"",{"$f":"IF(OR(G202=\"NA\", G202=\"FAILED\"), G202, (IF(ISERROR(H202/'Test Info'!$I$6*100), \"\", H202/'Test Info'!$I$6*100)))","v":""},{"$f":"IF(OR(G202=\"NA\", G202=\"FAILED\"), G202, (IF(ISERROR(E202/G202/'Test Info'!$I$6*6000), \"\", E202/G202/'Test Info'!$I$6*6000)))","v":""},null,null,null,null,"PCL6","Color","Troutman","Quark",2,null,null,{"$f":"IF(OR(U202=\"NA\", U202=\"FAILED\"), U202, (IF(ISERROR((S202-1)/(U202-T202)*60), \"\", (S202-1)/(U202-T202)*60)))","v":""},{"$f":"IF(OR(U202=\"NA\", U202=\"FAILED\"), U202, (IF(ISERROR(V202/'Test Info'!$I$6*100), \"\", V202/'Test Info'!$I$6*100)))","v":""},{"$f":"IF(OR(U202=\"NA\", U202=\"FAILED\"), U202, (IF(ISERROR(S202/U202/'Test Info'!$I$6*6000), \"\", S202/U202/'Test Info'!$I$6*6000)))","v":""}]
["PCL6","Color","Volcanoes","Access",4,null,null,"",{"$f":"IF(OR(G203=\"NA\", G203=\"FAILED\"), G203, (IF(ISERROR(H203/'Test Info'!$I$6*100), \"\", H203/'Test Info'!$I$6*100)))","v":""},{"$f":"IF(OR(G203=\"NA\", G203=\"FAILED\"), G203, (IF(ISERROR(E203/G203/'Test Info'!$I$6*6000), \"\", E203/G203/'Test Info'!$I$6*6000)))","v":""},null,null,null,null,"PCL6","Color","Volcanoes","Access",4,null,null,"",{"$f":"IF(OR(U203=\"NA\", U203=\"FAILED\"), U203, (IF(ISERROR(V203/'Test Info'!$I$6*100), \"\", V203/'Test Info'!$I$6*100)))","v":""},{"$f":"IF(OR(U203=\"NA\", U203=\"FAILED\"), U203, (IF(ISERROR(S203/U203/'Test Info'!$I$6*6000), \"\", S203/U203/'Test Info'!$I$6*6000)))","v":""}]
["PCL6","Color","Progress","Powerpoint",2,null,null,"",{"$f":"IF(OR(G204=\"NA\", G204=\"FAILED\"), G204, (IF(ISERROR(H204/'Test Info'!$I$6*100), \"\", H204/'Test Info'!$I$6*100)))","v":""},{"$f":"IF(OR(G204=\"NA\", G204=\"FAILED\"), G204, (IF(ISERROR(E204/G204/'Test Info'!$I$6*6000), \"\", E204/G204/'Test Info'!$I$6*6000)))","v":""},null,null,null,null,"PCL6","Color","Progress","Powerpoint",2,null,null,"",{"$f":"IF(OR(U204=\"NA\", U204=\"FAILED\"), U204, (IF(ISERROR(V204/'Test Info'!$I$6*100), \"\", V204/'Test Info'!$I$6*100)))","v":""},{"$f":"IF(OR(U204=\"NA\", U204=\"FAILED\"), U204, (IF(ISERROR(S204/U204/'Test Info'!$I$6*6000), \"\", S204/U204/'Test Info'!$I$6*6000)))","v":""}]
["PCL6","Color","Contents","Word",6,null,null,"",{"$f":"IF(OR(G205=\"NA\", G205=\"FAILED\"), G205, (IF(ISERROR(H205/'Test Info'!$I$6*100), \"\", H205/'Test Info'!$I$6*100)))","v":""},{"$f":"IF(OR(G205=\"NA\", G205=\"FAILED\"), G205, (IF(ISERROR(E205/G205/'Test Info'!$I$6*6000), \"\", E205/G205/'Test Info'!$I$6*6000)))","v":""},null,null,null,null,"PCL6","Color","Contents","Word",6,null,null,"",{"$f":"IF(OR(U205=\"NA\", U205=\"FAILED\"), U205, (IF(ISERROR(V205/'Test Info'!$I$6*100), \"\", V205/'Test Info'!$I$6*100)))","v":""},{"$f":"IF(OR(U205=\"NA\", U205=\"FAILED\"), U205, (IF(ISERROR(S205/U205/'Test Info'!$I$6*6000), \"\", S205/U205/'Test Info'!$I$6*6000)))","v":""}]
["PCL6","Color","Blue sky","Quark",6,null,null,"",{"$f":"IF(OR(G206=\"NA\", G206=\"FAILED\"), G206, (IF(ISERROR(H206/'Test Info'!$I$6*100), \"\", H206/'Test Info'!$I$6*100)))","v":""},{"$f":"IF(OR(G206=\"NA\", G206=\"FAILED\"), G206, (IF(ISERROR(E206/G206/'Test Info'!$I$6*6000), \"\", E206/G206/'Test Info'!$I$6*6000)))","v":""},null,null,null,null,"PCL6","Color","Blue sky","Quark",6,null,null,"",{"$f":"IF(OR(U206=\"NA\", U206=\"FAILED\"), U206, (IF(ISERROR(V206/'Test Info'!$I$6*100), \"\", V206/'Test Info'!$I$6*100)))","v":""},{"$f":"IF(OR(U206=\"NA\", U206=\"FAILED\"), U206, (IF(ISERROR(S206/U206/'Test Info'!$I$6*6000), \"\", S206/U206/'Test Info'!$I$6*6000)))","v":""}]
["PCL6","Color","The blue fairy book 4","Corel Draw",2,null,null,"",{"$f":"IF(OR(G207=\"NA\", G207=\"FAILED\"), G207, (IF(ISERROR(H207/'Test Info'!$I$6*100), \"\", H207/'Test Info'!$I$6*100)))","v":""},{"$f":"IF(OR(G207=\"NA\", G207=\"FAILED\"), G207, (IF(ISERROR(E207/G207/'Test Info'!$I$6*6000), \"\", E207/G207/'Test Info'!$I$6*6000)))","v":""},null,null,null,null,"PCL6","Color","The blue fairy book 4","Corel Draw",2,null,null,"",{"$f":"IF(OR(U207=\"NA\", U207=\"FAILED\"), U207, (IF(ISERROR(V207/'Test Info'!$I$6*100), \"\", V207/'Test Info'!$I$6*100)))","v":""},{"$f":"IF(OR(U207=\"NA\", U207=\"FAILED\"), U207, (IF(ISERROR(S207/U207/'Test Info'!$I$6*6000), \"\", S207/U207/'Test Info'!$I$6*6000)))","v":""}]
["PCL6","Color","Salary","Excel",6,null,null,"",{"$f":"IF(OR(G208=\"NA\", G208=\"FAILED\"), G208, (IF(ISERROR(H208/'Test Info'!$I$6*100), \"\", H208/'Test Info'!$I$6*100)))","v":""},{"$f":"IF(OR(G208=\"NA\", G208=\"FAILED\"), G208, (IF(ISERROR(E208/G208/'Test Info'!$I$6*6000), \"\", E208/G208/'Test Info'!$I$6*6000)))","v":""},null,null,null,null,"PCL6","Color","Salary","Excel",6,null,null,"",{"$f":"IF(OR(U208=\"NA\", U208=\"FAILED\"), U208, (IF(ISERROR(V208/'Test Info'!$I$6*100), \"\", V208/'Test Info'!$I$6*100)))","v":""},{"$f":"IF(OR(U208=\"NA\", U208=\"FAILED\"), U208, (IF(ISERROR(S208/U208/'Test Info'!$I$6*6000), \"\", S208/U208/'Test Info'!$I$6*6000)))","v":""}]
[null,null,null,"Average",{"$f":"AVERAGE(E199:E208)","v":3.7},{"$f":"IF(F208=\"NA\", F208, (IF(ISERROR(AVERAGE(F199:F208)), \"\", AVERAGE(F199:F208))))","v":""},{"$f":"IF(G208=\"NA\", G208, (IF(ISERROR(AVERAGE(G199:G208)), \"\", AVERAGE(G199:G208))))","v":""},{"$f":"IF(H208=\"NA\", H208, (IF(ISERROR(AVERAGE(H199:H208)), \"\", AVERAGE(H199:H208))))","v":""},{"$f":"IF(I208=\"NA\", I208, (IF(ISERROR(AVERAGE(I199:I208)), \"\", AVERAGE(I199:I208))))","v":""},{"$f":"IF(J208=\"NA\", J208, (IF(ISERROR(AVERAGE(J199:J208)), \"\", AVERAGE(J199:J208))))","v":""},null,null,null,null,null,null,null,"Average",{"$f":"AVERAGE(S199:S208)","v":3.7},{"$f":"IF(T208=\"NA\", T208, (IF(ISERROR(AVERAGE(T199:T208)), \"\", AVERAGE(T199:T208))))","v":""},{"$f":"IF(U208=\"NA\", U208, (IF(ISERROR(AVERAGE(U199:U208)), \"\", AVERAGE(U199:U208))))","v":""},{"$f":"IF(V208=\"NA\", V208, (IF(ISERROR(AVERAGE(V199:V208)), \"\", AVERAGE(V199:V208))))","v":""},{"$f":"IF(W208=\"NA\", W208, (IF(ISERROR(AVERAGE(W199:W208)), \"\", AVERAGE(W199:W208))))","v":""},{"$f":"IF(X208=\"NA\", X208, (IF(ISERROR(AVERAGE(X199:X208)), \"\", AVERAGE(X199:X208))))","v":""}]
[]
["Mono- No Banner",null,null,null,null,null,null,null,null,null,null,null,null,null,"Mono- No Banner"]
["PCL6","Mono","Classifieds","Chrome",7,null,null,{"$f":"IF(OR(G212=\"NA\",G212=\"FAILED\"),G212,(IF(ISERROR((E212-1)/(G212-F212)*60),\"\",(E212-1)/(G212-F212)*60)))","v":""},{"$f":"IF(OR(G212=\"NA\",G212=\"FAILED\"),G212, (IF(ISERROR(H212/'Test Info'!$J$6*100), \"\", H212/'Test Info'!$J$6*100)))","v":""},{"$f":"IF(OR(G212=\"NA\",G212=\"FAILED\"),G212, (IF(ISERROR(E212/G212/'Test Info'!$J$6*6000), \"\", E212/G212/'Test Info'!$J$6*6000)))","v":""},null,null,null,null,"PCL6","Mono","Classifieds","Chrome",7,null,null,{"$f":"IF(OR(U212=\"NA\",U212=\"FAILED\"),U212,(IF(ISERROR((S212-1)/(U212-T212)*60),\"\",(S212-1)/(U212-T212)*60)))","v":""},{"$f":"IF(OR(U212=\"NA\",U212=\"FAILED\"),U212, (IF(ISERROR(V212/'Test Info'!$J$6*100), \"\", V212/'Test Info'!$J$6*100)))","v":""},{"$f":"IF(OR(U212=\"NA\",U212=\"FAILED\"),U212, (IF(ISERROR(S212/U212/'Test Info'!$J$6*6000), \"\", S212/U212/'Test Info'!$J$6*6000)))","v":""}]
["PCL6","Mono","Gold","Powerpoint",4,null,null,{"$f":"IF(OR(G213=\"NA\",G213=\"FAILED\"),G213,(IF(ISERROR((E213-1)/(G213-F213)*60),\"\",(E213-1)/(G213-F213)*60)))","v":""},{"$f":"IF(OR(G213=\"NA\",G213=\"FAILED\"),G213, (IF(ISERROR(H213/'Test Info'!$J$6*100), \"\", H213/'Test Info'!$J$6*100)))","v":""},{"$f":"IF(OR(G213=\"NA\",G213=\"FAILED\"),G213, (IF(ISERROR(E213/G213/'Test Info'!$J$6*6000), \"\", E213/G213/'Test Info'!$J$6*6000)))","v":""},null,null,null,null,"PCL6","Mono","Gold","Powerpoint",4,null,null,{"$f":"IF(OR(U213=\"NA\",U213=\"FAILED\"),U213,(IF(ISERROR((S213-1)/(U213-T213)*60),\"\",(S213-1)/(U213-T213)*60)))","v":""},{"$f":"IF(OR(U213=\"NA\",U213=\"FAILED\"),U213, (IF(ISERROR(V213/'Test Info'!$J$6*100), \"\", V213/'Test Info'!$J$6*100)))","v":""},{"$f":"IF(OR(U213=\"NA\",U213=\"FAILED\"),U213, (IF(ISERROR(S213/U213/'Test Info'!$J$6*6000), \"\", S213/U213/'Test Info'!$J$6*6000)))","v":""}]
["PCL6","Mono","Pain at the pump","Chrome",2,null,null,{"$f":"IF(OR(G214=\"NA\",G214=\"FAILED\"),G214,(IF(ISERROR((E214-1)/(G214-F214)*60),\"\",(E214-1)/(G214-F214)*60)))","v":""},{"$f":"IF(OR(G214=\"NA\",G214=\"FAILED\"),G214, (IF(ISERROR(H214/'Test Info'!$J$6*100), \"\", H214/'Test Info'!$J$6*100)))","v":""},{"$f":"IF(OR(G214=\"NA\",G214=\"FAILED\"),G214, (IF(ISERROR(E214/G214/'Test Info'!$J$6*6000), \"\", E214/G214/'Test Info'!$J$6*6000)))","v":""},null,null,null,null,"PCL6","Mono","Pain at the pump","Chrome",2,null,null,{"$f":"IF(OR(U214=\"NA\",U214=\"FAILED\"),U214,(IF(ISERROR((S214-1)/(U214-T214)*60),\"\",(S214-1)/(U214-T214)*60)))","v":""},{"$f":"IF(OR(U214=\"NA\",U214=\"FAILED\"),U214, (IF(ISERROR(V214/'Test Info'!$J$6*100), \"\", V214/'Test Info'!$J$6*100)))","v":""},{"$f":"IF(OR(U214=\"NA\",U214=\"FAILED\"),U214, (IF(ISERROR(S214/U214/'Test Info'!$J$6*6000), \"\", S214/U214/'Test Info'!$J$6*6000)))","v":""}]
["PCL6","Mono","Lincoln 2","Word",1,null,null,null,null,{"$f":"IF(OR(G215=\"NA\",G215=\"FAILED\"),G215, (IF(ISERROR(E215/G215/'Test Info'!$J$6*6000), \"\", E215/G215/'Test Info'!$J$6*6000)))","v":""},null,null,null,null,"PCL6","Mono","Lincoln 2","Word",1,null,null,null,null,{"$f":"IF(OR(U215=\"NA\",U215=\"FAILED\"),U215, (IF(ISERROR(S215/U215/'Test Info'!$J$6*6000), \"\", S215/U215/'Test Info'!$J$6*6000)))","v":""}]
["PCL6","Mono","Mountains","Word",13,null,null,{"$f":"IF(OR(G216=\"NA\",G216=\"FAILED\"),G216,(IF(ISERROR((E216-1)/(G216-F216)*60),\"\",(E216-1)/(G216-F216)*60)))","v":""},{"$f":"IF(OR(G216=\"NA\",G216=\"FAILED\"),G216, (IF(ISERROR(H216/'Test Info'!$J$6*100), \"\", H216/'Test Info'!$J$6*100)))","v":""},{"$f":"IF(OR(G216=\"NA\",G216=\"FAILED\"),G216, (IF(ISERROR(E216/G216/'Test Info'!$J$6*6000), \"\", E216/G216/'Test Info'!$J$6*6000)))","v":""},null,null,null,null,"PCL6","Mono","Mountains","Word",13,null,null,{"$f":"IF(OR(U216=\"NA\",U216=\"FAILED\"),U216,(IF(ISERROR((S216-1)/(U216-T216)*60),\"\",(S216-1)/(U216-T216)*60)))","v":""},{"$f":"IF(OR(U216=\"NA\",U216=\"FAILED\"),U216, (IF(ISERROR(V216/'Test Info'!$J$6*100), \"\", V216/'Test Info'!$J$6*100)))","v":""},{"$f":"IF(OR(U216=\"NA\",U216=\"FAILED\"),U216, (IF(ISERROR(S216/U216/'Test Info'!$J$6*6000), \"\", S216/U216/'Test Info'!$J$6*6000)))","v":""}]
["PCL6","Mono","Oberan 1","Illustrator",1,null,null,null,null,{"$f":"IF(OR(G217=\"NA\",G217=\"FAILED\"),G217, (IF(ISERROR(E217/G217/'Test Info'!$J$6*6000), \"\", E217/G217/'Test Info'!$J$6*6000)))","v":""},null,null,null,null,"PCL6","Mono","Oberan 1","Illustrator",1,null,null,null,null,{"$f":"IF(OR(U217=\"NA\",U217=\"FAILED\"),U217, (IF(ISERROR(S217/U217/'Test Info'!$J$6*6000), \"\", S217/U217/'Test Info'!$J$6*6000)))","v":""}]
["PCL6","Mono","Budget","Excel",1,null,null,null,null,{"$f":"IF(OR(G218=\"NA\",G218=\"FAILED\"),G218, (IF(ISERROR(E218/G218/'Test Info'!$J$6*6000), \"\", E218/G218/'Test Info'!$J$6*6000)))","v":""},null,null,null,null,"PCL6","Mono","Budget","Excel",1,null,null,null,null,{"$f":"IF(OR(U218=\"NA\",U218=\"FAILED\"),U218, (IF(ISERROR(S218/U218/'Test Info'!$J$6*6000), \"\", S218/U218/'Test Info'!$J$6*6000)))","v":""}]
[null,null,null,"Average",{"$f":"AVERAGE(E212:E218)","v":4.1428571428571432},{"$f":"IF(F218=\"NA\", F218, (IF(ISERROR(AVERAGE(F212:F218)), \"\", AVERAGE(F212:F218))))","v":""},{"$f":"IF(G218=\"NA\", G218, (IF(ISERROR(AVERAGE(G212:G218)), \"\", AVERAGE(G212:G218))))","v":""},{"$f":"IF(H218=\"NA\", H218, (IF(ISERROR(AVERAGE(H212:H218)), \"\", AVERAGE(H212:H218))))","v":""},{"$f":"IF(I218=\"NA\", I218, (IF(ISERROR(AVERAGE(I212:I218)), \"\", AVERAGE(I212:I218))))","v":""},{"$f":"IF(J218=\"NA\", J218, (IF(ISERROR(AVERAGE(J212:J218)), \"\", AVERAGE(J212:J218))))","v":""},null,null,null,null,null,null,null,"Average",{"$f":"AVERAGE(S212:S218)","v":4.1428571428571432},{"$f":"IF(T218=\"NA\", T218, (IF(ISERROR(AVERAGE(T212:T218)), \"\", AVERAGE(T212:T218))))","v":""},{"$f":"IF(U218=\"NA\", U218, (IF(ISERROR(AVERAGE(U212:U218)), \"\", AVERAGE(U212:U218))))","v":""},{"$f":"IF(V218=\"NA\", V218, (IF(ISERROR(AVERAGE(V212:V218)), \"\", AVERAGE(V212:V218))))","v":""},{"$f":"IF(W218=\"NA\", W218, (IF(ISERROR(AVERAGE(W212:W218)), \"\", AVERAGE(W212:W218))))","v":""},{"$f":"IF(X218=\"NA\", X218, (IF(ISERROR(AVERAGE(X212:X218)), \"\", AVERAGE(X212:X218))))","v":""}]
[]
[]
[]
["Print 14 and 17 inch Output",null,null,null,null,null,null,null,null,null,null,null,null,null,"Print 14 and 17 inch Output"]
["PS- No Banner",null,null,null,null,null,null,null,null,null,null,null,null,null,"PS- No Banner"]
["14 inch Color- No Banner",null,null,null,null,null,null,null,null,null,null,null,null,null,"14 inch Color- No Banner"]
["Type","Mode","Job","Application","Images","FPOT Measured\nin Seconds","C-C  Measured\nin Seconds","2-N PPM Calculated","2-N % Rated Speed Calculated","C-C % Rated Speed Calculated",null,null,null,null,"Type","Mode","Job","Application","Images","FPOT Measured\nin Seconds","C-C  Measured\nin Seconds","2-N PPM Calculated","2-N % Rated Speed Calculated","C-C % Rated Speed Calculated"]
["PS","Color","Blue sky-14","Quark",12,null,null,{"$f":"IF(OR(G227=\"NA\", G227=\"FAILED\"), G227, (IF(ISERROR((E227-1)/(G227-F227)*60), \"\", (E227-1)/(G227-F227)*60)))","v":""},{"$f":"IF(OR(G227=\"NA\", G227=\"FAILED\"), G227, (IF(ISERROR(H227/'Test Info'!$I$6*100), \"\", H227/'Test Info'!$I$6*100)))","v":""},{"$f":"IF(OR(G227=\"NA\", G227=\"FAILED\"), G227, (IF(ISERROR(E227/G227/'Test Info'!$I$6*6000), \"\", E227/G227/'Test Info'!$I$6*6000)))","v":""},null,null,null,null,"PS","Color","Blue sky-14","Quark",12,null,null,{"$f":"IF(OR(U227=\"NA\", U227=\"FAILED\"), U227, (IF(ISERROR((S227-1)/(U227-T227)*60), \"\", (S227-1)/(U227-T227)*60)))","v":""},{"$f":"IF(OR(U227=\"NA\", U227=\"FAILED\"), U227, (IF(ISERROR(V227/'Test Info'!$I$6*100), \"\", V227/'Test Info'!$I$6*100)))","v":""},{"$f":"IF(OR(U227=\"NA\", U227=\"FAILED\"), U227, (IF(ISERROR(S227/U227/'Test Info'!$I$6*6000), \"\", S227/U227/'Test Info'!$I$6*6000)))","v":""}]
["PS","Color","Classifieds-14","Chrome",13,null,null,{"$f":"IF(OR(G228=\"NA\", G228=\"FAILED\"), G228, (IF(ISERROR((E228-1)/(G228-F228)*60), \"\", (E228-1)/(G228-F228)*60)))","v":""},{"$f":"IF(OR(G228=\"NA\", G228=\"FAILED\"), G228, (IF(ISERROR(H228/'Test Info'!$I$6*100), \"\", H228/'Test Info'!$I$6*100)))","v":""},{"$f":"IF(OR(G228=\"NA\", G228=\"FAILED\"), G228, (IF(ISERROR(E228/G228/'Test Info'!$I$6*6000), \"\", E228/G228/'Test Info'!$I$6*6000)))","v":""},null,null,null,null,"PS","Color","Classifieds-14","Chrome",13,null,null,{"$f":"IF(OR(U228=\"NA\", U228=\"FAILED\"), U228, (IF(ISERROR((S228-1)/(U228-T228)*60), \"\", (S228-1)/(U228-T228)*60)))","v":""},{"$f":"IF(OR(U228=\"NA\", U228=\"FAILED\"), U228, (IF(ISERROR(V228/'Test Info'!$I$6*100), \"\", V228/'Test Info'!$I$6*100)))","v":""},{"$f":"IF(OR(U228=\"NA\", U228=\"FAILED\"), U228, (IF(ISERROR(S228/U228/'Test Info'!$I$6*6000), \"\", S228/U228/'Test Info'!$I$6*6000)))","v":""}]
["PS","Color","Salary-14","Excel",5,null,null,{"$f":"IF(OR(G229=\"NA\", G229=\"FAILED\"), G229, (IF(ISERROR((E229-1)/(G229-F229)*60), \"\", (E229-1)/(G229-F229)*60)))","v":""},{"$f":"IF(OR(G229=\"NA\", G229=\"FAILED\"), G229, (IF(ISERROR(H229/'Test Info'!$I$6*100), \"\", H229/'Test Info'!$I$6*100)))","v":""},{"$f":"IF(OR(G229=\"NA\", G229=\"FAILED\"), G229, (IF(ISERROR(E229/G229/'Test Info'!$I$6*6000), \"\", E229/G229/'Test Info'!$I$6*6000)))","v":""},null,null,null,null,"PS","Color","Salary-14","Excel",5,null,null,{"$f":"IF(OR(U229=\"NA\", U229=\"FAILED\"), U229, (IF(ISERROR((S229-1)/(U229-T229)*60), \"\", (S229-1)/(U229-T229)*60)))","v":""},{"$f":"IF(OR(U229=\"NA\", U229=\"FAILED\"), U229, (IF(ISERROR(V229/'Test Info'!$I$6*100), \"\", V229/'Test Info'!$I$6*100)))","v":""},{"$f":"IF(OR(U229=\"NA\", U229=\"FAILED\"), U229, (IF(ISERROR(S229/U229/'Test Info'!$I$6*6000), \"\", S229/U229/'Test Info'!$I$6*6000)))","v":""}]
[null,null,null,"Average",{"$f":"AVERAGE(E227:E229)","v":10},{"$f":"IF(F229=\"NA\", F229, (IF(ISERROR(AVERAGE(F227:F229)), \"\", AVERAGE(F227:F229))))","v":""},{"$f":"IF(G229=\"NA\", G229, (IF(ISERROR(AVERAGE(G227:G229)), \"\", AVERAGE(G227:G229))))","v":""},{"$f":"IF(H229=\"NA\", H229, (IF(ISERROR(AVERAGE(H227:H229)), \"\", AVERAGE(H227:H229))))","v":""},{"$f":"IF(I229=\"NA\", I229, (IF(ISERROR(AVERAGE(I227:I229)), \"\", AVERAGE(I227:I229))))","v":""},{"$f":"IF(J229=\"NA\", J229, (IF(ISERROR(AVERAGE(J227:J229)), \"\", AVERAGE(J227:J229))))","v":""},null,null,null,null,null,null,null,"Average",{"$f":"AVERAGE(S227:S229)","v":10},{"$f":"IF(T229=\"NA\", T229, (IF(ISERROR(AVERAGE(T227:T229)), \"\", AVERAGE(T227:T229))))","v":""},{"$f":"IF(U229=\"NA\", U229, (IF(ISERROR(AVERAGE(U227:U229)), \"\", AVERAGE(U227:U229))))","v":""},{"$f":"IF(V229=\"NA\", V229, (IF(ISERROR(AVERAGE(V227:V229)), \"\", AVERAGE(V227:V229))))","v":""},{"$f":"IF(W229=\"NA\", W229, (IF(ISERROR(AVERAGE(W227:W229)), \"\", AVERAGE(W227:W229))))","v":""},{"$f":"IF(X229=\"NA\", X229, (IF(ISERROR(AVERAGE(X227:X229)), \"\", AVERAGE(X227:X229))))","v":""}]
[]
["17 inch Color- No Banner",null,null,null,null,null,null,null,null,null,null,null,null,null,"17 inch Color- No Banner"]
["PS","Color","Jewelry-17","Powerpoint",12,null,null,{"$f":"IF(OR(G233=\"NA\", G233=\"FAILED\"), G233, (IF(ISERROR((E233-1)/(G233-F233)*60), \"\", (E233-1)/(G233-F233)*60)))","v":""},{"$f":"IF(OR(G233=\"NA\", G233=\"FAILED\"), G233, (IF(ISERROR(H233/'Test Info'!$I$6*100), \"\", H233/'Test Info'!$I$6*100)))","v":""},{"$f":"IF(OR(G233=\"NA\", G233=\"FAILED\"), G233, (IF(ISERROR(E233/G233/'Test Info'!$I$6*6000), \"\", E233/G233/'Test Info'!$I$6*6000)))","v":""},null,null,null,null,"PS","Color","Jewelry-17","Powerpoint",12,null,null,{"$f":"IF(OR(U233=\"NA\", U233=\"FAILED\"), U233, (IF(ISERROR((S233-1)/(U233-T233)*60), \"\", (S233-1)/(U233-T233)*60)))","v":""},{"$f":"IF(OR(U233=\"NA\", U233=\"FAILED\"), U233, (IF(ISERROR(V233/'Test Info'!$I$6*100), \"\", V233/'Test Info'!$I$6*100)))","v":""},{"$f":"IF(OR(U233=\"NA\", U233=\"FAILED\"), U233, (IF(ISERROR(S233/U233/'Test Info'!$I$6*6000), \"\", S233/U233/'Test Info'!$I$6*6000)))","v":""}]
["PS","Color","Contents-17","Word",7,null,null,{"$f":"IF(OR(G234=\"NA\", G234=\"FAILED\"), G234, (IF(ISERROR((E234-1)/(G234-F234)*60), \"\", (E234-1)/(G234-F234)*60)))","v":""},{"$f":"IF(OR(G234=\"NA\", G234=\"FAILED\"), G234, (IF(ISERROR(H234/'Test Info'!$I$6*100), \"\", H234/'Test Info'!$I$6*100)))","v":""},{"$f":"IF(OR(G234=\"NA\", G234=\"FAILED\"), G234, (IF(ISERROR(E234/G234/'Test Info'!$I$6*6000), \"\", E234/G234/'Test Info'!$I$6*6000)))","v":""},null,null,null,null,"PS","Color","Contents-17","Word",7,null,null,{"$f":"IF(OR(U234=\"NA\", U234=\"FAILED\"), U234, (IF(ISERROR((S234-1)/(U234-T234)*60), \"\", (S234-1)/(U234-T234)*60)))","v":""},{"$f":"IF(OR(U234=\"NA\", U234=\"FAILED\"), U234, (IF(ISERROR(V234/'Test Info'!$I$6*100), \"\", V234/'Test Info'!$I$6*100)))","v":""},{"$f":"IF(OR(U234=\"NA\", U234=\"FAILED\"), U234, (IF(ISERROR(S234/U234/'Test Info'!$I$6*6000), \"\", S234/U234/'Test Info'!$I$6*6000)))","v":""}]
["PS","Color","Valentines day-17","Powerpoint",40,null,null,{"$f":"IF(OR(G235=\"NA\", G235=\"FAILED\"), G235, (IF(ISERROR((E235-1)/(G235-F235)*60), \"\", (E235-1)/(G235-F235)*60)))","v":""},{"$f":"IF(OR(G235=\"NA\", G235=\"FAILED\"), G235, (IF(ISERROR(H235/'Test Info'!$I$6*100), \"\", H235/'Test Info'!$I$6*100)))","v":""},{"$f":"IF(OR(G235=\"NA\", G235=\"FAILED\"), G235, (IF(ISERROR(E235/G235/'Test Info'!$I$6*6000), \"\", E235/G235/'Test Info'!$I$6*6000)))","v":""},null,null,null,null,"PS","Color","Valentines day-17","Powerpoint",40,null,null,{"$f":"IF(OR(U235=\"NA\", U235=\"FAILED\"), U235, (IF(ISERROR((S235-1)/(U235-T235)*60), \"\", (S235-1)/(U235-T235)*60)))","v":""},{"$f":"IF(OR(U235=\"NA\", U235=\"FAILED\"), U235, (IF(ISERROR(V235/'Test Info'!$I$6*100), \"\", V235/'Test Info'!$I$6*100)))","v":""},{"$f":"IF(OR(U235=\"NA\", U235=\"FAILED\"), U235, (IF(ISERROR(S235/U235/'Test Info'!$I$6*6000), \"\", S235/U235/'Test Info'!$I$6*6000)))","v":""}]
[null,null,null,"Average",{"$f":"AVERAGE(E233:E235)","v":19.666666666666668},{"$f":"IF(F235=\"NA\", F235, (IF(ISERROR(AVERAGE(F233:F235)), \"\", AVERAGE(F233:F235))))","v":""},{"$f":"IF(G235=\"NA\", G235, (IF(ISERROR(AVERAGE(G233:G235)), \"\", AVERAGE(G233:G235))))","v":""},{"$f":"IF(H235=\"NA\", H235, (IF(ISERROR(AVERAGE(H233:H235)), \"\", AVERAGE(H233:H235))))","v":""},{"$f":"IF(I235=\"NA\", I235, (IF(ISERROR(AVERAGE(I233:I235)), \"\", AVERAGE(I233:I235))))","v":""},{"$f":"IF(J235=\"NA\", J235, (IF(ISERROR(AVERAGE(J233:J235)), \"\", AVERAGE(J233:J235))))","v":""},null,null,null,null,null,null,null,"Average",{"$f":"AVERAGE(S233:S235)","v":19.666666666666668},{"$f":"IF(T235=\"NA\", T235, (IF(ISERROR(AVERAGE(T233:T235)), \"\", AVERAGE(T233:T235))))","v":""},{"$f":"IF(U235=\"NA\", U235, (IF(ISERROR(AVERAGE(U233:U235)), \"\", AVERAGE(U233:U235))))","v":""},{"$f":"IF(V235=\"NA\", V235, (IF(ISERROR(AVERAGE(V233:V235)), \"\", AVERAGE(V233:V235))))","v":""},{"$f":"IF(W235=\"NA\", W235, (IF(ISERROR(AVERAGE(W233:W235)), \"\", AVERAGE(W233:W235))))","v":""},{"$f":"IF(X235=\"NA\", X235, (IF(ISERROR(AVERAGE(X233:X235)), \"\", AVERAGE(X233:X235))))","v":""}]
[]
["14 inch Mono- No Banner",null,null,null,null,null,null,null,null,null,null,null,null,null,"14 inch Mono- No Banner"]
["PS","Mono","Blue sky-14","Quark",12,null,null,{"$f":"IF(OR(G239=\"NA\",G239=\"FAILED\"),G239,(IF(ISERROR((E239-1)/(G239-F239)*60),\"\",(E239-1)/(G239-F239)*60)))","v":""},{"$f":"IF(OR(G239=\"NA\",G239=\"FAILED\"),G239, (IF(ISERROR(H239/'Test Info'!$J$6*100), \"\", H239/'Test Info'!$J$6*100)))","v":""},{"$f":"IF(OR(G239=\"NA\",G239=\"FAILED\"),G239, (IF(ISERROR(E239/G239/'Test Info'!$J$6*6000), \"\", E239/G239/'Test Info'!$J$6*6000)))","v":""},null,null,null,null,"PS","Mono","Blue sky-14","Quark",12,null,null,{"$f":"IF(OR(U239=\"NA\",U239=\"FAILED\"),U239,(IF(ISERROR((S239-1)/(U239-T239)*60),\"\",(S239-1)/(U239-T239)*60)))","v":""},{"$f":"IF(OR(U239=\"NA\",U239=\"FAILED\"),U239, (IF(ISERROR(V239/'Test Info'!$J$6*100), \"\", V239/'Test Info'!$J$6*100)))","v":""},{"$f":"IF(OR(U239=\"NA\",U239=\"FAILED\"),U239, (IF(ISERROR(S239/U239/'Test Info'!$J$6*6000), \"\", S239/U239/'Test Info'!$J$6*6000)))","v":""}]
["PS","Mono","Classifieds-14","Chrome",13,null,null,{"$f":"IF(OR(G240=\"NA\",G240=\"FAILED\"),G240,(IF(ISERROR((E240-1)/(G240-F240)*60),\"\",(E240-1)/(G240-F240)*60)))","v":""},{"$f":"IF(OR(G240=\"NA\",G240=\"FAILED\"),G240, (IF(ISERROR(H240/'Test Info'!$J$6*100), \"\", H240/'Test Info'!$J$6*100)))","v":""},{"$f":"IF(OR(G240=\"NA\",G240=\"FAILED\"),G240, (IF(ISERROR(E240/G240/'Test Info'!$J$6*6000), \"\", E240/G240/'Test Info'!$J$6*6000)))","v":""},null,null,null,null,"PS","Mono","Classifieds-14","Chrome",13,null,null,{"$f":"IF(OR(U240=\"NA\",U240=\"FAILED\"),U240,(IF(ISERROR((S240-1)/(U240-T240)*60),\"\",(S240-1)/(U240-T240)*60)))","v":""},{"$f":"IF(OR(U240=\"NA\",U240=\"FAILED\"),U240, (IF(ISERROR(V240/'Test Info'!$J$6*100), \"\", V240/'Test Info'!$J$6*100)))","v":""},{"$f":"IF(OR(U240=\"NA\",U240=\"FAILED\"),U240, (IF(ISERROR(S240/U240/'Test Info'!$J$6*6000), \"\", S240/U240/'Test Info'!$J$6*6000)))","v":""}]
["PS","Mono","Salary-14","Excel",5,null,null,{"$f":"IF(OR(G241=\"NA\",G241=\"FAILED\"),G241,(IF(ISERROR((E241-1)/(G241-F241)*60),\"\",(E241-1)/(G241-F241)*60)))","v":""},{"$f":"IF(OR(G241=\"NA\",G241=\"FAILED\"),G241, (IF(ISERROR(H241/'Test Info'!$J$6*100), \"\", H241/'Test Info'!$J$6*100)))","v":""},{"$f":"IF(OR(G241=\"NA\",G241=\"FAILED\"),G241, (IF(ISERROR(E241/G241/'Test Info'!$J$6*6000), \"\", E241/G241/'Test Info'!$J$6*6000)))","v":""},null,null,null,null,"PS","Mono","Salary-14","Excel",5,null,null,{"$f":"IF(OR(U241=\"NA\",U241=\"FAILED\"),U241,(IF(ISERROR((S241-1)/(U241-T241)*60),\"\",(S241-1)/(U241-T241)*60)))","v":""},{"$f":"IF(OR(U241=\"NA\",U241=\"FAILED\"),U241, (IF(ISERROR(V241/'Test Info'!$J$6*100), \"\", V241/'Test Info'!$J$6*100)))","v":""},{"$f":"IF(OR(U241=\"NA\",U241=\"FAILED\"),U241, (IF(ISERROR(S241/U241/'Test Info'!$J$6*6000), \"\", S241/U241/'Test Info'!$J$6*6000)))","v":""}]
[null,null,null,"Average",{"$f":"AVERAGE(E239:E241)","v":10},{"$f":"IF(F241=\"NA\", F241, (IF(ISERROR(AVERAGE(F239:F241)), \"\", AVERAGE(F239:F241))))","v":""},{"$f":"IF(G241=\"NA\", G241, (IF(ISERROR(AVERAGE(G239:G241)), \"\", AVERAGE(G239:G241))))","v":""},{"$f":"IF(H241=\"NA\", H241, (IF(ISERROR(AVERAGE(H239:H241)), \"\", AVERAGE(H239:H241))))","v":""},{"$f":"IF(I241=\"NA\", I241, (IF(ISERROR(AVERAGE(I239:I241)), \"\", AVERAGE(I239:I241))))","v":""},{"$f":"IF(J241=\"NA\", J241, (IF(ISERROR(AVERAGE(J239:J241)), \"\", AVERAGE(J239:J241))))","v":""},null,null,null,null,null,null,null,"Average",{"$f":"AVERAGE(S239:S241)","v":10},{"$f":"IF(T241=\"NA\", T241, (IF(ISERROR(AVERAGE(T239:T241)), \"\", AVERAGE(T239:T241))))","v":""},{"$f":"IF(U241=\"NA\", U241, (IF(ISERROR(AVERAGE(U239:U241)), \"\", AVERAGE(U239:U241))))","v":""},{"$f":"IF(V241=\"NA\", V241, (IF(ISERROR(AVERAGE(V239:V241)), \"\", AVERAGE(V239:V241))))","v":""},{"$f":"IF(W241=\"NA\", W241, (IF(ISERROR(AVERAGE(W239:W241)), \"\", AVERAGE(W239:W241))))","v":""},{"$f":"IF(X241=\"NA\", X241, (IF(ISERROR(AVERAGE(X239:X241)), \"\", AVERAGE(X239:X241))))","v":""}]
[]
["17 inch Mono- No Banner",null,null,null,null,null,null,null,null,null,null,null,null,null,"17 inch Mono- No Banner"]
["PS","Mono","Jewelry-17","Powerpoint",12,null,null,{"$f":"IF(OR(G245=\"NA\",G245=\"FAILED\"),G245,(IF(ISERROR((E245-1)/(G245-F245)*60),\"\",(E245-1)/(G245-F245)*60)))","v":""},{"$f":"IF(OR(G245=\"NA\",G245=\"FAILED\"),G245, (IF(ISERROR(H245/'Test Info'!$J$6*100), \"\", H245/'Test Info'!$J$6*100)))","v":""},{"$f":"IF(OR(G245=\"NA\",G245=\"FAILED\"),G245, (IF(ISERROR(E245/G245/'Test Info'!$J$6*6000), \"\", E245/G245/'Test Info'!$J$6*6000)))","v":""},null,null,null,null,"PS","Mono","Jewelry-17","Powerpoint",12,null,null,{"$f":"IF(OR(U245=\"NA\",U245=\"FAILED\"),U245,(IF(ISERROR((S245-1)/(U245-T245)*60),\"\",(S245-1)/(U245-T245)*60)))","v":""},{"$f":"IF(OR(U245=\"NA\",U245=\"FAILED\"),U245, (IF(ISERROR(V245/'Test Info'!$J$6*100), \"\", V245/'Test Info'!$J$6*100)))","v":""},{"$f":"IF(OR(U245=\"NA\",U245=\"FAILED\"),U245, (IF(ISERROR(S245/U245/'Test Info'!$J$6*6000), \"\", S245/U245/'Test Info'!$J$6*6000)))","v":""}]
["PS","Mono","Contents-17","Word",7,null,null,{"$f":"IF(OR(G246=\"NA\",G246=\"FAILED\"),G246,(IF(ISERROR((E246-1)/(G246-F246)*60),\"\",(E246-1)/(G246-F246)*60)))","v":""},{"$f":"IF(OR(G246=\"NA\",G246=\"FAILED\"),G246, (IF(ISERROR(H246/'Test Info'!$J$6*100), \"\", H246/'Test Info'!$J$6*100)))","v":""},{"$f":"IF(OR(G246=\"NA\",G246=\"FAILED\"),G246, (IF(ISERROR(E246/G246/'Test Info'!$J$6*6000), \"\", E246/G246/'Test Info'!$J$6*6000)))","v":""},null,null,null,null,"PS","Mono","Contents-17","Word",7,null,null,{"$f":"IF(OR(U246=\"NA\",U246=\"FAILED\"),U246,(IF(ISERROR((S246-1)/(U246-T246)*60),\"\",(S246-1)/(U246-T246)*60)))","v":""},{"$f":"IF(OR(U246=\"NA\",U246=\"FAILED\"),U246, (IF(ISERROR(V246/'Test Info'!$J$6*100), \"\", V246/'Test Info'!$J$6*100)))","v":""},{"$f":"IF(OR(U246=\"NA\",U246=\"FAILED\"),U246, (IF(ISERROR(S246/U246/'Test Info'!$J$6*6000), \"\", S246/U246/'Test Info'!$J$6*6000)))","v":""}]
["PS","Mono","Valentines day-17","Powerpoint",40,null,null,{"$f":"IF(OR(G247=\"NA\",G247=\"FAILED\"),G247,(IF(ISERROR((E247-1)/(G247-F247)*60),\"\",(E247-1)/(G247-F247)*60)))","v":""},{"$f":"IF(OR(G247=\"NA\",G247=\"FAILED\"),G247, (IF(ISERROR(H247/'Test Info'!$J$6*100), \"\", H247/'Test Info'!$J$6*100)))","v":""},{"$f":"IF(OR(G247=\"NA\",G247=\"FAILED\"),G247, (IF(ISERROR(E247/G247/'Test Info'!$J$6*6000), \"\", E247/G247/'Test Info'!$J$6*6000)))","v":""},null,null,null,null,"PS","Mono","Valentines day-17","Powerpoint",40,null,null,{"$f":"IF(OR(U247=\"NA\",U247=\"FAILED\"),U247,(IF(ISERROR((S247-1)/(U247-T247)*60),\"\",(S247-1)/(U247-T247)*60)))","v":""},{"$f":"IF(OR(U247=\"NA\",U247=\"FAILED\"),U247, (IF(ISERROR(V247/'Test Info'!$J$6*100), \"\", V247/'Test Info'!$J$6*100)))","v":""},{"$f":"IF(OR(U247=\"NA\",U247=\"FAILED\"),U247, (IF(ISERROR(S247/U247/'Test Info'!$J$6*6000), \"\", S247/U247/'Test Info'!$J$6*6000)))","v":""}]
[null,null,null,"Average",{"$f":"AVERAGE(E245:E247)","v":19.666666666666668},{"$f":"IF(F247=\"NA\", F247, (IF(ISERROR(AVERAGE(F245:F247)), \"\", AVERAGE(F245:F247))))","v":""},{"$f":"IF(G247=\"NA\", G247, (IF(ISERROR(AVERAGE(G245:G247)), \"\", AVERAGE(G245:G247))))","v":""},{"$f":"IF(H247=\"NA\", H247, (IF(ISERROR(AVERAGE(H245:H247)), \"\", AVERAGE(H245:H247))))","v":""},{"$f":"IF(I247=\"NA\", I247, (IF(ISERROR(AVERAGE(I245:I247)), \"\", AVERAGE(I245:I247))))","v":""},{"$f":"IF(J247=\"NA\", J247, (IF(ISERROR(AVERAGE(J245:J247)), \"\", AVERAGE(J245:J247))))","v":""},null,null,null,null,null,null,null,"Average",{"$f":"AVERAGE(S245:S247)","v":19.666666666666668},{"$f":"IF(T247=\"NA\", T247, (IF(ISERROR(AVERAGE(T245:T247)), \"\", AVERAGE(T245:T247))))","v":""},{"$f":"IF(U247=\"NA\", U247, (IF(ISERROR(AVERAGE(U245:U247)), \"\", AVERAGE(U245:U247))))","v":""},{"$f":"IF(V247=\"NA\", V247, (IF(ISERROR(AVERAGE(V245:V247)), \"\", AVERAGE(V245:V247))))","v":""},{"$f":"IF(W247=\"NA\", W247, (IF(ISERROR(AVERAGE(W245:W247)), \"\", AVERAGE(W245:W247))))","v":""},{"$f":"IF(X247=\"NA\", X247, (IF(ISERROR(AVERAGE(X245:X247)), \"\", AVERAGE(X245:X247))))","v":""}]
[]
["PCL6- No Banner",null,null,null,null,null,null,null,null,null,null,null,null,null,"PCL6- No Banner"]
["14 inch Color- No Banner",null,null,null,null,null,null,null,null,null,null,null,null,null,"14 inch Color- No Banner"]
["PCL6","Color","Blue sky-14","Quark",12,null,null,{"$f":"IF(OR(G252=\"NA\", G252=\"FAILED\"), G252, (IF(ISERROR((E252-1)/(G252-F252)*60), \"\", (E252-1)/(G252-F252)*60)))","v":""},{"$f":"IF(OR(G252=\"NA\", G252=\"FAILED\"), G252, (IF(ISERROR(H252/'Test Info'!$I$6*100), \"\", H252/'Test Info'!$I$6*100)))","v":""},{"$f":"IF(OR(G252=\"NA\", G252=\"FAILED\"), G252, (IF(ISERROR(E252/G252/'Test Info'!$I$6*6000), \"\", E252/G252/'Test Info'!$I$6*6000)))","v":""},null,null,null,null,"PCL6","Color","Blue sky-14","Quark",12,null,null,{"$f":"IF(OR(U252=\"NA\", U252=\"FAILED\"), U252, (IF(ISERROR((S252-1)/(U252-T252)*60), \"\", (S252-1)/(U252-T252)*60)))","v":""},{"$f":"IF(OR(U252=\"NA\", U252=\"FAILED\"), U252, (IF(ISERROR(V252/'Test Info'!$I$6*100), \"\", V252/'Test Info'!$I$6*100)))","v":""},{"$f":"IF(OR(U252=\"NA\", U252=\"FAILED\"), U252, (IF(ISERROR(S252/U252/'Test Info'!$I$6*6000), \"\", S252/U252/'Test Info'!$I$6*6000)))","v":""}]
["PCL6","Color","Classifieds-14","Chrome",13,null,null,{"$f":"IF(OR(G253=\"NA\", G253=\"FAILED\"), G253, (IF(ISERROR((E253-1)/(G253-F253)*60), \"\", (E253-1)/(G253-F253)*60)))","v":""},{"$f":"IF(OR(G253=\"NA\", G253=\"FAILED\"), G253, (IF(ISERROR(H253/'Test Info'!$I$6*100), \"\", H253/'Test Info'!$I$6*100)))","v":""},{"$f":"IF(OR(G253=\"NA\", G253=\"FAILED\"), G253, (IF(ISERROR(E253/G253/'Test Info'!$I$6*6000), \"\", E253/G253/'Test Info'!$I$6*6000)))","v":""},null,null,null,null,"PCL6","Color","Classifieds-14","Chrome",13,null,null,{"$f":"IF(OR(U253=\"NA\", U253=\"FAILED\"), U253, (IF(ISERROR((S253-1)/(U253-T253)*60), \"\", (S253-1)/(U253-T253)*60)))","v":""},{"$f":"IF(OR(U253=\"NA\", U253=\"FAILED\"), U253, (IF(ISERROR(V253/'Test Info'!$I$6*100), \"\", V253/'Test Info'!$I$6*100)))","v":""},{"$f":"IF(OR(U253=\"NA\", U253=\"FAILED\"), U253, (IF(ISERROR(S253/U253/'Test Info'!$I$6*6000), \"\", S253/U253/'Test Info'!$I$6*6000)))","v":""}]
["PCL6","Color","Salary-14","Excel",5,null,null,{"$f":"IF(OR(G254=\"NA\", G254=\"FAILED\"), G254, (IF(ISERROR((E254-1)/(G254-F254)*60), \"\", (E254-1)/(G254-F254)*60)))","v":""},{"$f":"IF(OR(G254=\"NA\", G254=\"FAILED\"), G254, (IF(ISERROR(H254/'Test Info'!$I$6*100), \"\", H254/'Test Info'!$I$6*100)))","v":""},{"$f":"IF(OR(G254=\"NA\", G254=\"FAILED\"), G254, (IF(ISERROR(E254/G254/'Test Info'!$I$6*6000), \"\", E254/G254/'Test Info'!$I$6*6000)))","v":""},null,null,null,null,"PCL6","Color","Salary-14","Excel",5,null,null,{"$f":"IF(OR(U254=\"NA\", U254=\"FAILED\"), U254, (IF(ISERROR((S254-1)/(U254-T254)*60), \"\", (S254-1)/(U254-T254)*60)))","v":""},{"$f":"IF(OR(U254=\"NA\", U254=\"FAILED\"), U254, (IF(ISERROR(V254/'Test Info'!$I$6*100), \"\", V254/'Test Info'!$I$6*100)))","v":""},{"$f":"IF(OR(U254=\"NA\", U254=\"FAILED\"), U254, (IF(ISERROR(S254/U254/'Test Info'!$I$6*6000), \"\", S254/U254/'Test Info'!$I$6*6000)))","v":""}]
[null,null,null,"Average",{"$f":"AVERAGE(E252:E254)","v":10},{"$f":"IF(F254=\"NA\", F254, (IF(ISERROR(AVERAGE(F252:F254)), \"\", AVERAGE(F252:F254))))","v":""},{"$f":"IF(G254=\"NA\", G254, (IF(ISERROR(AVERAGE(G252:G254)), \"\", AVERAGE(G252:G254))))","v":""},{"$f":"IF(H254=\"NA\", H254, (IF(ISERROR(AVERAGE(H252:H254)), \"\", AVERAGE(H252:H254))))","v":""},{"$f":"IF(I254=\"NA\", I254, (IF(ISERROR(AVERAGE(I252:I254)), \"\", AVERAGE(I252:I254))))","v":""},{"$f":"IF(J254=\"NA\", J254, (IF(ISERROR(AVERAGE(J252:J254)), \"\", AVERAGE(J252:J254))))","v":""},null,null,null,null,null,null,null,"Average",{"$f":"AVERAGE(S252:S254)","v":10},{"$f":"IF(T254=\"NA\", T254, (IF(ISERROR(AVERAGE(T252:T254)), \"\", AVERAGE(T252:T254))))","v":""},{"$f":"IF(U254=\"NA\", U254, (IF(ISERROR(AVERAGE(U252:U254)), \"\", AVERAGE(U252:U254))))","v":""},{"$f":"IF(V254=\"NA\", V254, (IF(ISERROR(AVERAGE(V252:V254)), \"\", AVERAGE(V252:V254))))","v":""},{"$f":"IF(W254=\"NA\", W254, (IF(ISERROR(AVERAGE(W252:W254)), \"\", AVERAGE(W252:W254))))","v":""},{"$f":"IF(X254=\"NA\", X254, (IF(ISERROR(AVERAGE(X252:X254)), \"\", AVERAGE(X252:X254))))","v":""}]
[]
["17 inch Color- No Banner",null,null,null,null,null,null,null,null,null,null,null,null,null,"17 inch Color- No Banner"]
["PCL6","Color","Jewelry-17","Powerpoint",12,null,null,{"$f":"IF(OR(G258=\"NA\", G258=\"FAILED\"), G258, (IF(ISERROR((E258-1)/(G258-F258)*60), \"\", (E258-1)/(G258-F258)*60)))","v":""},{"$f":"IF(OR(G258=\"NA\", G258=\"FAILED\"), G258, (IF(ISERROR(H258/'Test Info'!$I$6*100), \"\", H258/'Test Info'!$I$6*100)))","v":""},{"$f":"IF(OR(G258=\"NA\", G258=\"FAILED\"), G258, (IF(ISERROR(E258/G258/'Test Info'!$I$6*6000), \"\", E258/G258/'Test Info'!$I$6*6000)))","v":""},null,null,null,null,"PCL6","Color","Jewelry-17","Powerpoint",12,null,null,{"$f":"IF(OR(U258=\"NA\", U258=\"FAILED\"), U258, (IF(ISERROR((S258-1)/(U258-T258)*60), \"\", (S258-1)/(U258-T258)*60)))","v":""},{"$f":"IF(OR(U258=\"NA\", U258=\"FAILED\"), U258, (IF(ISERROR(V258/'Test Info'!$I$6*100), \"\", V258/'Test Info'!$I$6*100)))","v":""},{"$f":"IF(OR(U258=\"NA\", U258=\"FAILED\"), U258, (IF(ISERROR(S258/U258/'Test Info'!$I$6*6000), \"\", S258/U258/'Test Info'!$I$6*6000)))","v":""}]
["PCL6","Color","Contents-17","Word",7,null,null,{"$f":"IF(OR(G259=\"NA\", G259=\"FAILED\"), G259, (IF(ISERROR((E259-1)/(G259-F259)*60), \"\", (E259-1)/(G259-F259)*60)))","v":""},{"$f":"IF(OR(G259=\"NA\", G259=\"FAILED\"), G259, (IF(ISERROR(H259/'Test Info'!$I$6*100), \"\", H259/'Test Info'!$I$6*100)))","v":""},{"$f":"IF(OR(G259=\"NA\", G259=\"FAILED\"), G259, (IF(ISERROR(E259/G259/'Test Info'!$I$6*6000), \"\", E259/G259/'Test Info'!$I$6*6000)))","v":""},null,null,null,null,"PCL6","Color","Contents-17","Word",7,null,null,{"$f":"IF(OR(U259=\"NA\", U259=\"FAILED\"), U259, (IF(ISERROR((S259-1)/(U259-T259)*60), \"\", (S259-1)/(U259-T259)*60)))","v":""},{"$f":"IF(OR(U259=\"NA\", U259=\"FAILED\"), U259, (IF(ISERROR(V259/'Test Info'!$I$6*100), \"\", V259/'Test Info'!$I$6*100)))","v":""},{"$f":"IF(OR(U259=\"NA\", U259=\"FAILED\"), U259, (IF(ISERROR(S259/U259/'Test Info'!$I$6*6000), \"\", S259/U259/'Test Info'!$I$6*6000)))","v":""}]
["PCL6","Color","Valentines day-17","Powerpoint",40,null,null,{"$f":"IF(OR(G260=\"NA\", G260=\"FAILED\"), G260, (IF(ISERROR((E260-1)/(G260-F260)*60), \"\", (E260-1)/(G260-F260)*60)))","v":""},{"$f":"IF(OR(G260=\"NA\", G260=\"FAILED\"), G260, (IF(ISERROR(H260/'Test Info'!$I$6*100), \"\", H260/'Test Info'!$I$6*100)))","v":""},{"$f":"IF(OR(G260=\"NA\", G260=\"FAILED\"), G260, (IF(ISERROR(E260/G260/'Test Info'!$I$6*6000), \"\", E260/G260/'Test Info'!$I$6*6000)))","v":""},null,null,null,null,"PCL6","Color","Valentines day-17","Powerpoint",40,null,null,{"$f":"IF(OR(U260=\"NA\", U260=\"FAILED\"), U260, (IF(ISERROR((S260-1)/(U260-T260)*60), \"\", (S260-1)/(U260-T260)*60)))","v":""},{"$f":"IF(OR(U260=\"NA\", U260=\"FAILED\"), U260, (IF(ISERROR(V260/'Test Info'!$I$6*100), \"\", V260/'Test Info'!$I$6*100)))","v":""},{"$f":"IF(OR(U260=\"NA\", U260=\"FAILED\"), U260, (IF(ISERROR(S260/U260/'Test Info'!$I$6*6000), \"\", S260/U260/'Test Info'!$I$6*6000)))","v":""}]
[null,null,null,"Average",{"$f":"AVERAGE(E258:E260)","v":19.666666666666668},{"$f":"IF(F260=\"NA\", F260, (IF(ISERROR(AVERAGE(F258:F260)), \"\", AVERAGE(F258:F260))))","v":""},{"$f":"IF(G260=\"NA\", G260, (IF(ISERROR(AVERAGE(G258:G260)), \"\", AVERAGE(G258:G260))))","v":""},{"$f":"IF(H260=\"NA\", H260, (IF(ISERROR(AVERAGE(H258:H260)), \"\", AVERAGE(H258:H260))))","v":""},{"$f":"IF(I260=\"NA\", I260, (IF(ISERROR(AVERAGE(I258:I260)), \"\", AVERAGE(I258:I260))))","v":""},{"$f":"IF(J260=\"NA\", J260, (IF(ISERROR(AVERAGE(J258:J260)), \"\", AVERAGE(J258:J260))))","v":""},null,null,null,null,null,null,null,"Average",{"$f":"AVERAGE(S258:S260)","v":19.666666666666668},{"$f":"IF(T260=\"NA\", T260, (IF(ISERROR(AVERAGE(T258:T260)), \"\", AVERAGE(T258:T260))))","v":""},{"$f":"IF(U260=\"NA\", U260, (IF(ISERROR(AVERAGE(U258:U260)), \"\", AVERAGE(U258:U260))))","v":""},{"$f":"IF(V260=\"NA\", V260, (IF(ISERROR(AVERAGE(V258:V260)), \"\", AVERAGE(V258:V260))))","v":""},{"$f":"IF(W260=\"NA\", W260, (IF(ISERROR(AVERAGE(W258:W260)), \"\", AVERAGE(W258:W260))))","v":""},{"$f":"IF(X260=\"NA\", X260, (IF(ISERROR(AVERAGE(X258:X260)), \"\", AVERAGE(X258:X260))))","v":""}]
[]
["14 inch Mono- No Banner",null,null,null,null,null,null,null,null,null,null,null,null,null,"14 inch Mono- No Banner"]
["PCL6","Mono","Blue sky-14","Quark",12,null,null,{"$f":"IF(OR(G264=\"NA\",G264=\"FAILED\"),G264,(IF(ISERROR((E264-1)/(G264-F264)*60),\"\",(E264-1)/(G264-F264)*60)))","v":""},{"$f":"IF(OR(G264=\"NA\",G264=\"FAILED\"),G264, (IF(ISERROR(H264/'Test Info'!$J$6*100), \"\", H264/'Test Info'!$J$6*100)))","v":""},{"$f":"IF(OR(G264=\"NA\",G264=\"FAILED\"),G264, (IF(ISERROR(E264/G264/'Test Info'!$J$6*6000), \"\", E264/G264/'Test Info'!$J$6*6000)))","v":""},null,null,null,null,"PCL6","Mono","Blue sky-14","Quark",12,null,null,{"$f":"IF(OR(U264=\"NA\",U264=\"FAILED\"),U264,(IF(ISERROR((S264-1)/(U264-T264)*60),\"\",(S264-1)/(U264-T264)*60)))","v":""},{"$f":"IF(OR(U264=\"NA\",U264=\"FAILED\"),U264, (IF(ISERROR(V264/'Test Info'!$J$6*100), \"\", V264/'Test Info'!$J$6*100)))","v":""},{"$f":"IF(OR(U264=\"NA\",U264=\"FAILED\"),U264, (IF(ISERROR(S264/U264/'Test Info'!$J$6*6000), \"\", S264/U264/'Test Info'!$J$6*6000)))","v":""}]
["PCL6","Mono","Classifieds-14","Chrome",13,null,null,{"$f":"IF(OR(G265=\"NA\",G265=\"FAILED\"),G265,(IF(ISERROR((E265-1)/(G265-F265)*60),\"\",(E265-1)/(G265-F265)*60)))","v":""},{"$f":"IF(OR(G265=\"NA\",G265=\"FAILED\"),G265, (IF(ISERROR(H265/'Test Info'!$J$6*100), \"\", H265/'Test Info'!$J$6*100)))","v":""},{"$f":"IF(OR(G265=\"NA\",G265=\"FAILED\"),G265, (IF(ISERROR(E265/G265/'Test Info'!$J$6*6000), \"\", E265/G265/'Test Info'!$J$6*6000)))","v":""},null,null,null,null,"PCL6","Mono","Classifieds-14","Chrome",13,null,null,{"$f":"IF(OR(U265=\"NA\",U265=\"FAILED\"),U265,(IF(ISERROR((S265-1)/(U265-T265)*60),\"\",(S265-1)/(U265-T265)*60)))","v":""},{"$f":"IF(OR(U265=\"NA\",U265=\"FAILED\"),U265, (IF(ISERROR(V265/'Test Info'!$J$6*100), \"\", V265/'Test Info'!$J$6*100)))","v":""},{"$f":"IF(OR(U265=\"NA\",U265=\"FAILED\"),U265, (IF(ISERROR(S265/U265/'Test Info'!$J$6*6000), \"\", S265/U265/'Test Info'!$J$6*6000)))","v":""}]
["PCL6","Mono","Salary-14","Excel",5,null,null,{"$f":"IF(OR(G266=\"NA\",G266=\"FAILED\"),G266,(IF(ISERROR((E266-1)/(G266-F266)*60),\"\",(E266-1)/(G266-F266)*60)))","v":""},{"$f":"IF(OR(G266=\"NA\",G266=\"FAILED\"),G266, (IF(ISERROR(H266/'Test Info'!$J$6*100), \"\", H266/'Test Info'!$J$6*100)))","v":""},{"$f":"IF(OR(G266=\"NA\",G266=\"FAILED\"),G266, (IF(ISERROR(E266/G266/'Test Info'!$J$6*6000), \"\", E266/G266/'Test Info'!$J$6*6000)))","v":""},null,null,null,null,"PCL6","Mono","Salary-14","Excel",5,null,null,{"$f":"IF(OR(U266=\"NA\",U266=\"FAILED\"),U266,(IF(ISERROR((S266-1)/(U266-T266)*60),\"\",(S266-1)/(U266-T266)*60)))","v":""},{"$f":"IF(OR(U266=\"NA\",U266=\"FAILED\"),U266, (IF(ISERROR(V266/'Test Info'!$J$6*100), \"\", V266/'Test Info'!$J$6*100)))","v":""},{"$f":"IF(OR(U266=\"NA\",U266=\"FAILED\"),U266, (IF(ISERROR(S266/U266/'Test Info'!$J$6*6000), \"\", S266/U266/'Test Info'!$J$6*6000)))","v":""}]
[null,null,null,"Average",{"$f":"AVERAGE(E264:E266)","v":10},{"$f":"IF(F266=\"NA\", F266, (IF(ISERROR(AVERAGE(F264:F266)), \"\", AVERAGE(F264:F266))))","v":""},{"$f":"IF(G266=\"NA\", G266, (IF(ISERROR(AVERAGE(G264:G266)), \"\", AVERAGE(G264:G266))))","v":""},{"$f":"IF(H266=\"NA\", H266, (IF(ISERROR(AVERAGE(H264:H266)), \"\", AVERAGE(H264:H266))))","v":""},{"$f":"IF(I266=\"NA\", I266, (IF(ISERROR(AVERAGE(I264:I266)), \"\", AVERAGE(I264:I266))))","v":""},{"$f":"IF(J266=\"NA\", J266, (IF(ISERROR(AVERAGE(J264:J266)), \"\", AVERAGE(J264:J266))))","v":""},null,null,null,null,null,null,null,"Average",{"$f":"AVERAGE(S264:S266)","v":10},{"$f":"IF(T266=\"NA\", T266, (IF(ISERROR(AVERAGE(T264:T266)), \"\", AVERAGE(T264:T266))))","v":""},{"$f":"IF(U266=\"NA\", U266, (IF(ISERROR(AVERAGE(U264:U266)), \"\", AVERAGE(U264:U266))))","v":""},{"$f":"IF(V266=\"NA\", V266, (IF(ISERROR(AVERAGE(V264:V266)), \"\", AVERAGE(V264:V266))))","v":""},{"$f":"IF(W266=\"NA\", W266, (IF(ISERROR(AVERAGE(W264:W266)), \"\", AVERAGE(W264:W266))))","v":""},{"$f":"IF(X266=\"NA\", X266, (IF(ISERROR(AVERAGE(X264:X266)), \"\", AVERAGE(X264:X266))))","v":""}]
[]
["17 inch Mono- No Banner",null,null,null,null,null,null,null,null,null,null,null,null,null,"17 inch Mono- No Banner"]
["PCL6","Mono","Jewelry-17","Powerpoint",12,null,null,{"$f":"IF(OR(G270=\"NA\",G270=\"FAILED\"),G270,(IF(ISERROR((E270-1)/(G270-F270)*60),\"\",(E270-1)/(G270-F270)*60)))","v":""},{"$f":"IF(OR(G270=\"NA\",G270=\"FAILED\"),G270, (IF(ISERROR(H270/'Test Info'!$J$6*100), \"\", H270/'Test Info'!$J$6*100)))","v":""},{"$f":"IF(OR(G270=\"NA\",G270=\"FAILED\"),G270, (IF(ISERROR(E270/G270/'Test Info'!$J$6*6000), \"\", E270/G270/'Test Info'!$J$6*6000)))","v":""},null,null,null,null,"PCL6","Mono","Jewelry-17","Powerpoint",12,null,null,{"$f":"IF(OR(U270=\"NA\",U270=\"FAILED\"),U270,(IF(ISERROR((S270-1)/(U270-T270)*60),\"\",(S270-1)/(U270-T270)*60)))","v":""},{"$f":"IF(OR(U270=\"NA\",U270=\"FAILED\"),U270, (IF(ISERROR(V270/'Test Info'!$J$6*100), \"\", V270/'Test Info'!$J$6*100)))","v":""},{"$f":"IF(OR(U270=\"NA\",U270=\"FAILED\"),U270, (IF(ISERROR(S270/U270/'Test Info'!$J$6*6000), \"\", S270/U270/'Test Info'!$J$6*6000)))","v":""}]
["PCL6","Mono","Contents-17","Word",7,null,null,{"$f":"IF(OR(G271=\"NA\",G271=\"FAILED\"),G271,(IF(ISERROR((E271-1)/(G271-F271)*60),\"\",(E271-1)/(G271-F271)*60)))","v":""},{"$f":"IF(OR(G271=\"NA\",G271=\"FAILED\"),G271, (IF(ISERROR(H271/'Test Info'!$J$6*100), \"\", H271/'Test Info'!$J$6*100)))","v":""},{"$f":"IF(OR(G271=\"NA\",G271=\"FAILED\"),G271, (IF(ISERROR(E271/G271/'Test Info'!$J$6*6000), \"\", E271/G271/'Test Info'!$J$6*6000)))","v":""},null,null,null,null,"PCL6","Mono","Contents-17","Word",7,null,null,{"$f":"IF(OR(U271=\"NA\",U271=\"FAILED\"),U271,(IF(ISERROR((S271-1)/(U271-T271)*60),\"\",(S271-1)/(U271-T271)*60)))","v":""},{"$f":"IF(OR(U271=\"NA\",U271=\"FAILED\"),U271, (IF(ISERROR(V271/'Test Info'!$J$6*100), \"\", V271/'Test Info'!$J$6*100)))","v":""},{"$f":"IF(OR(U271=\"NA\",U271=\"FAILED\"),U271, (IF(ISERROR(S271/U271/'Test Info'!$J$6*6000), \"\", S271/U271/'Test Info'!$J$6*6000)))","v":""}]
["PCL6","Mono","Valentines day-17","Powerpoint",40,null,null,{"$f":"IF(OR(G272=\"NA\",G272=\"FAILED\"),G272,(IF(ISERROR((E272-1)/(G272-F272)*60),\"\",(E272-1)/(G272-F272)*60)))","v":""},{"$f":"IF(OR(G272=\"NA\",G272=\"FAILED\"),G272, (IF(ISERROR(H272/'Test Info'!$J$6*100), \"\", H272/'Test Info'!$J$6*100)))","v":""},{"$f":"IF(OR(G272=\"NA\",G272=\"FAILED\"),G272, (IF(ISERROR(E272/G272/'Test Info'!$J$6*6000), \"\", E272/G272/'Test Info'!$J$6*6000)))","v":""},null,null,null,null,"PCL6","Mono","Valentines day-17","Powerpoint",40,null,null,{"$f":"IF(OR(U272=\"NA\",U272=\"FAILED\"),U272,(IF(ISERROR((S272-1)/(U272-T272)*60),\"\",(S272-1)/(U272-T272)*60)))","v":""},{"$f":"IF(OR(U272=\"NA\",U272=\"FAILED\"),U272, (IF(ISERROR(V272/'Test Info'!$J$6*100), \"\", V272/'Test Info'!$J$6*100)))","v":""},{"$f":"IF(OR(U272=\"NA\",U272=\"FAILED\"),U272, (IF(ISERROR(S272/U272/'Test Info'!$J$6*6000), \"\", S272/U272/'Test Info'!$J$6*6000)))","v":""}]
[null,null,null,"Average",{"$f":"AVERAGE(E270:E272)","v":19.666666666666668},{"$f":"IF(F272=\"NA\", F272, (IF(ISERROR(AVERAGE(F270:F272)), \"\", AVERAGE(F270:F272))))","v":""},{"$f":"IF(G272=\"NA\", G272, (IF(ISERROR(AVERAGE(G270:G272)), \"\", AVERAGE(G270:G272))))","v":""},{"$f":"IF(H272=\"NA\", H272, (IF(ISERROR(AVERAGE(H270:H272)), \"\", AVERAGE(H270:H272))))","v":""},{"$f":"IF(I272=\"NA\", I272, (IF(ISERROR(AVERAGE(I270:I272)), \"\", AVERAGE(I270:I272))))","v":""},{"$f":"IF(J272=\"NA\", J272, (IF(ISERROR(AVERAGE(J270:J272)), \"\", AVERAGE(J270:J272))))","v":""},null,null,null,null,null,null,null,"Average",{"$f":"AVERAGE(S270:S272)","v":19.666666666666668},{"$f":"IF(T272=\"NA\", T272, (IF(ISERROR(AVERAGE(T270:T272)), \"\", AVERAGE(T270:T272))))","v":""},{"$f":"IF(U272=\"NA\", U272, (IF(ISERROR(AVERAGE(U270:U272)), \"\", AVERAGE(U270:U272))))","v":""},{"$f":"IF(V272=\"NA\", V272, (IF(ISERROR(AVERAGE(V270:V272)), \"\", AVERAGE(V270:V272))))","v":""},{"$f":"IF(W272=\"NA\", W272, (IF(ISERROR(AVERAGE(W270:W272)), \"\", AVERAGE(W270:W272))))","v":""},{"$f":"IF(X272=\"NA\", X272, (IF(ISERROR(AVERAGE(X270:X272)), \"\", AVERAGE(X270:X272))))","v":""}]
[]
["PS- Banner",null,null,null,null,null,null,null,null,null,null,null,null,null,"PS- Banner"]
["17 inch Color- Banner",null,null,null,null,null,null,null,null,null,null,null,null,null,"17 inch Color- Banner"]
["Type","Mode","Job","Application","Images","FPOT Measured\nin Seconds","C-C  Measured\nin Seconds","2-N PPM Calculated","2-N % Rated Speed Calculated","C-C % Rated Speed Calculated",null,null,null,null,"Type","Mode","Job","Application","Images","FPOT Measured\nin Seconds","C-C  Measured\nin Seconds","2-N PPM Calculated","2-N % Rated Speed Calculated","C-C % Rated Speed Calculated"]
["PS","Color","Jewelry-17","Powerpoint",13,null,null,{"$f":"IF(OR(G278=\"NA\", G278=\"FAILED\"), G278, (IF(ISERROR((E278-1)/(G278-F278)*60), \"\", (E278-1)/(G278-F278)*60)))","v":""},{"$f":"IF(OR(G278=\"NA\", G278=\"FAILED\"), G278, (IF(ISERROR(H278/'Test Info'!$I$6*100), \"\", H278/'Test Info'!$I$6*100)))","v":""},{"$f":"IF(OR(G278=\"NA\", G278=\"FAILED\"), G278, (IF(ISERROR(E278/G278/'Test Info'!$I$6*6000), \"\", E278/G278/'Test Info'!$I$6*6000)))","v":""},null,null,null,null,"PS","Color","Jewelry-17","Powerpoint",13,null,null,{"$f":"IF(OR(U278=\"NA\", U278=\"FAILED\"), U278, (IF(ISERROR((S278-1)/(U278-T278)*60), \"\", (S278-1)/(U278-T278)*60)))","v":""},{"$f":"IF(OR(U278=\"NA\", U278=\"FAILED\"), U278, (IF(ISERROR(V278/'Test Info'!$I$6*100), \"\", V278/'Test Info'!$I$6*100)))","v":""},{"$f":"IF(OR(U278=\"NA\", U278=\"FAILED\"), U278, (IF(ISERROR(S278/U278/'Test Info'!$I$6*6000), \"\", S278/U278/'Test Info'!$I$6*6000)))","v":""}]
["PS","Color","Contents-17","Word",8,null,null,{"$f":"IF(OR(G279=\"NA\", G279=\"FAILED\"), G279, (IF(ISERROR((E279-1)/(G279-F279)*60), \"\", (E279-1)/(G279-F279)*60)))","v":""},{"$f":"IF(OR(G279=\"NA\", G279=\"FAILED\"), G279, (IF(ISERROR(H279/'Test Info'!$I$6*100), \"\", H279/'Test Info'!$I$6*100)))","v":""},{"$f":"IF(OR(G279=\"NA\", G279=\"FAILED\"), G279, (IF(ISERROR(E279/G279/'Test Info'!$I$6*6000), \"\", E279/G279/'Test Info'!$I$6*6000)))","v":""},null,null,null,null,"PS","Color","Contents-17","Word",8,null,null,{"$f":"IF(OR(U279=\"NA\", U279=\"FAILED\"), U279, (IF(ISERROR((S279-1)/(U279-T279)*60), \"\", (S279-1)/(U279-T279)*60)))","v":""},{"$f":"IF(OR(U279=\"NA\", U279=\"FAILED\"), U279, (IF(ISERROR(V279/'Test Info'!$I$6*100), \"\", V279/'Test Info'!$I$6*100)))","v":""},{"$f":"IF(OR(U279=\"NA\", U279=\"FAILED\"), U279, (IF(ISERROR(S279/U279/'Test Info'!$I$6*6000), \"\", S279/U279/'Test Info'!$I$6*6000)))","v":""}]
["PS","Color","Valentines day-17","Powerpoint",41,null,null,{"$f":"IF(OR(G280=\"NA\", G280=\"FAILED\"), G280, (IF(ISERROR((E280-1)/(G280-F280)*60), \"\", (E280-1)/(G280-F280)*60)))","v":""},{"$f":"IF(OR(G280=\"NA\", G280=\"FAILED\"), G280, (IF(ISERROR(H280/'Test Info'!$I$6*100), \"\", H280/'Test Info'!$I$6*100)))","v":""},{"$f":"IF(OR(G280=\"NA\", G280=\"FAILED\"), G280, (IF(ISERROR(E280/G280/'Test Info'!$I$6*6000), \"\", E280/G280/'Test Info'!$I$6*6000)))","v":""},null,null,null,null,"PS","Color","Valentines day-17","Powerpoint",41,null,null,{"$f":"IF(OR(U280=\"NA\", U280=\"FAILED\"), U280, (IF(ISERROR((S280-1)/(U280-T280)*60), \"\", (S280-1)/(U280-T280)*60)))","v":""},{"$f":"IF(OR(U280=\"NA\", U280=\"FAILED\"), U280, (IF(ISERROR(V280/'Test Info'!$I$6*100), \"\", V280/'Test Info'!$I$6*100)))","v":""},{"$f":"IF(OR(U280=\"NA\", U280=\"FAILED\"), U280, (IF(ISERROR(S280/U280/'Test Info'!$I$6*6000), \"\", S280/U280/'Test Info'!$I$6*6000)))","v":""}]
[null,null,null,"Average",{"$f":"AVERAGE(E278:E280)","v":20.666666666666668},{"$f":"IF(F280=\"NA\", F280, (IF(ISERROR(AVERAGE(F278:F280)), \"\", AVERAGE(F278:F280))))","v":""},{"$f":"IF(G280=\"NA\", G280, (IF(ISERROR(AVERAGE(G278:G280)), \"\", AVERAGE(G278:G280))))","v":""},{"$f":"IF(H280=\"NA\", H280, (IF(ISERROR(AVERAGE(H278:H280)), \"\", AVERAGE(H278:H280))))","v":""},{"$f":"IF(I280=\"NA\", I280, (IF(ISERROR(AVERAGE(I278:I280)), \"\", AVERAGE(I278:I280))))","v":""},{"$f":"IF(J280=\"NA\", J280, (IF(ISERROR(AVERAGE(J278:J280)), \"\", AVERAGE(J278:J280))))","v":""},null,null,null,null,null,null,null,"Average",{"$f":"AVERAGE(S278:S280)","v":20.666666666666668},{"$f":"IF(T280=\"NA\", T280, (IF(ISERROR(AVERAGE(T278:T280)), \"\", AVERAGE(T278:T280))))","v":""},{"$f":"IF(U280=\"NA\", U280, (IF(ISERROR(AVERAGE(U278:U280)), \"\", AVERAGE(U278:U280))))","v":""},{"$f":"IF(V280=\"NA\", V280, (IF(ISERROR(AVERAGE(V278:V280)), \"\", AVERAGE(V278:V280))))","v":""},{"$f":"IF(W280=\"NA\", W280, (IF(ISERROR(AVERAGE(W278:W280)), \"\", AVERAGE(W278:W280))))","v":""},{"$f":"IF(X280=\"NA\", X280, (IF(ISERROR(AVERAGE(X278:X280)), \"\", AVERAGE(X278:X280))))","v":""}]
[]
["14 inch Mono- Banner",null,null,null,null,null,null,null,null,null,null,null,null,null,"14 inch Mono- Banner"]
["PS","Mono","Blue sky-14","Quark",13,null,null,{"$f":"IF(OR(G284=\"NA\",G284=\"FAILED\"),G284,(IF(ISERROR((E284-1)/(G284-F284)*60),\"\",(E284-1)/(G284-F284)*60)))","v":""},{"$f":"IF(OR(G284=\"NA\",G284=\"FAILED\"),G284, (IF(ISERROR(H284/'Test Info'!$J$6*100), \"\", H284/'Test Info'!$J$6*100)))","v":""},{"$f":"IF(OR(G284=\"NA\",G284=\"FAILED\"),G284, (IF(ISERROR(E284/G284/'Test Info'!$J$6*6000), \"\", E284/G284/'Test Info'!$J$6*6000)))","v":""},null,null,null,null,"PS","Mono","Blue sky-14","Quark",13,null,null,{"$f":"IF(OR(U284=\"NA\",U284=\"FAILED\"),U284,(IF(ISERROR((S284-1)/(U284-T284)*60),\"\",(S284-1)/(U284-T284)*60)))","v":""},{"$f":"IF(OR(U284=\"NA\",U284=\"FAILED\"),U284, (IF(ISERROR(V284/'Test Info'!$J$6*100), \"\", V284/'Test Info'!$J$6*100)))","v":""},{"$f":"IF(OR(U284=\"NA\",U284=\"FAILED\"),U284, (IF(ISERROR(S284/U284/'Test Info'!$J$6*6000), \"\", S284/U284/'Test Info'!$J$6*6000)))","v":""}]
["PS","Mono","Classifieds-14","Chrome",14,null,null,{"$f":"IF(OR(G285=\"NA\",G285=\"FAILED\"),G285,(IF(ISERROR((E285-1)/(G285-F285)*60),\"\",(E285-1)/(G285-F285)*60)))","v":""},{"$f":"IF(OR(G285=\"NA\",G285=\"FAILED\"),G285, (IF(ISERROR(H285/'Test Info'!$J$6*100), \"\", H285/'Test Info'!$J$6*100)))","v":""},{"$f":"IF(OR(G285=\"NA\",G285=\"FAILED\"),G285, (IF(ISERROR(E285/G285/'Test Info'!$J$6*6000), \"\", E285/G285/'Test Info'!$J$6*6000)))","v":""},null,null,null,null,"PS","Mono","Classifieds-14","Chrome",14,null,null,{"$f":"IF(OR(U285=\"NA\",U285=\"FAILED\"),U285,(IF(ISERROR((S285-1)/(U285-T285)*60),\"\",(S285-1)/(U285-T285)*60)))","v":""},{"$f":"IF(OR(U285=\"NA\",U285=\"FAILED\"),U285, (IF(ISERROR(V285/'Test Info'!$J$6*100), \"\", V285/'Test Info'!$J$6*100)))","v":""},{"$f":"IF(OR(U285=\"NA\",U285=\"FAILED\"),U285, (IF(ISERROR(S285/U285/'Test Info'!$J$6*6000), \"\", S285/U285/'Test Info'!$J$6*6000)))","v":""}]
["PS","Mono","Salary-14","Excel",6,null,null,{"$f":"IF(OR(G286=\"NA\",G286=\"FAILED\"),G286,(IF(ISERROR((E286-1)/(G286-F286)*60),\"\",(E286-1)/(G286-F286)*60)))","v":""},{"$f":"IF(OR(G286=\"NA\",G286=\"FAILED\"),G286, (IF(ISERROR(H286/'Test Info'!$J$6*100), \"\", H286/'Test Info'!$J$6*100)))","v":""},{"$f":"IF(OR(G286=\"NA\",G286=\"FAILED\"),G286, (IF(ISERROR(E286/G286/'Test Info'!$J$6*6000), \"\", E286/G286/'Test Info'!$J$6*6000)))","v":""},null,null,null,null,"PS","Mono","Salary-14","Excel",6,null,null,{"$f":"IF(OR(U286=\"NA\",U286=\"FAILED\"),U286,(IF(ISERROR((S286-1)/(U286-T286)*60),\"\",(S286-1)/(U286-T286)*60)))","v":""},{"$f":"IF(OR(U286=\"NA\",U286=\"FAILED\"),U286, (IF(ISERROR(V286/'Test Info'!$J$6*100), \"\", V286/'Test Info'!$J$6*100)))","v":""},{"$f":"IF(OR(U286=\"NA\",U286=\"FAILED\"),U286, (IF(ISERROR(S286/U286/'Test Info'!$J$6*6000), \"\", S286/U286/'Test Info'!$J$6*6000)))","v":""}]
[null,null,null,"Average",{"$f":"AVERAGE(E284:E286)","v":11},{"$f":"IF(F286=\"NA\", F286, (IF(ISERROR(AVERAGE(F284:F286)), \"\", AVERAGE(F284:F286))))","v":""},{"$f":"IF(G286=\"NA\", G286, (IF(ISERROR(AVERAGE(G284:G286)), \"\", AVERAGE(G284:G286))))","v":""},{"$f":"IF(H286=\"NA\", H286, (IF(ISERROR(AVERAGE(H284:H286)), \"\", AVERAGE(H284:H286))))","v":""},{"$f":"IF(I286=\"NA\", I286, (IF(ISERROR(AVERAGE(I284:I286)), \"\", AVERAGE(I284:I286))))","v":""},{"$f":"IF(J286=\"NA\", J286, (IF(ISERROR(AVERAGE(J284:J286)), \"\", AVERAGE(J284:J286))))","v":""},null,null,null,null,null,null,null,"Average",{"$f":"AVERAGE(S284:S286)","v":11},{"$f":"IF(T286=\"NA\", T286, (IF(ISERROR(AVERAGE(T284:T286)), \"\", AVERAGE(T284:T286))))","v":""},{"$f":"IF(U286=\"NA\", U286, (IF(ISERROR(AVERAGE(U284:U286)), \"\", AVERAGE(U284:U286))))","v":""},{"$f":"IF(V286=\"NA\", V286, (IF(ISERROR(AVERAGE(V284:V286)), \"\", AVERAGE(V284:V286))))","v":""},{"$f":"IF(W286=\"NA\", W286, (IF(ISERROR(AVERAGE(W284:W286)), \"\", AVERAGE(W284:W286))))","v":""},{"$f":"IF(X286=\"NA\", X286, (IF(ISERROR(AVERAGE(X284:X286)), \"\", AVERAGE(X284:X286))))","v":""}]
[]
["PCL6- Banner",null,null,null,null,null,null,null,null,null,null,null,null,null,"PCL6- Banner"]
["17 inch Color- Banner",null,null,null,null,null,null,null,null,null,null,null,null,null,"17 inch Color- Banner"]
["PCL6","Color","Jewelry-17","Powerpoint",13,null,null,{"$f":"IF(OR(G291=\"NA\", G291=\"FAILED\"), G291, (IF(ISERROR((E291-1)/(G291-F291)*60), \"\", (E291-1)/(G291-F291)*60)))","v":""},{"$f":"IF(OR(G291=\"NA\", G291=\"FAILED\"), G291, (IF(ISERROR(H291/'Test Info'!$I$6*100), \"\", H291/'Test Info'!$I$6*100)))","v":""},{"$f":"IF(OR(G291=\"NA\", G291=\"FAILED\"), G291, (IF(ISERROR(E291/G291/'Test Info'!$I$6*6000), \"\", E291/G291/'Test Info'!$I$6*6000)))","v":""},null,null,null,null,"PCL6","Color","Jewelry-17","Powerpoint",13,null,null,{"$f":"IF(OR(U291=\"NA\", U291=\"FAILED\"), U291, (IF(ISERROR((S291-1)/(U291-T291)*60), \"\", (S291-1)/(U291-T291)*60)))","v":""},{"$f":"IF(OR(U291=\"NA\", U291=\"FAILED\"), U291, (IF(ISERROR(V291/'Test Info'!$I$6*100), \"\", V291/'Test Info'!$I$6*100)))","v":""},{"$f":"IF(OR(U291=\"NA\", U291=\"FAILED\"), U291, (IF(ISERROR(S291/U291/'Test Info'!$I$6*6000), \"\", S291/U291/'Test Info'!$I$6*6000)))","v":""}]
["PCL6","Color","Contents-17","Word",8,null,null,{"$f":"IF(OR(G292=\"NA\", G292=\"FAILED\"), G292, (IF(ISERROR((E292-1)/(G292-F292)*60), \"\", (E292-1)/(G292-F292)*60)))","v":""},{"$f":"IF(OR(G292=\"NA\", G292=\"FAILED\"), G292, (IF(ISERROR(H292/'Test Info'!$I$6*100), \"\", H292/'Test Info'!$I$6*100)))","v":""},{"$f":"IF(OR(G292=\"NA\", G292=\"FAILED\"), G292, (IF(ISERROR(E292/G292/'Test Info'!$I$6*6000), \"\", E292/G292/'Test Info'!$I$6*6000)))","v":""},null,null,null,null,"PCL6","Color","Contents-17","Word",8,null,null,{"$f":"IF(OR(U292=\"NA\", U292=\"FAILED\"), U292, (IF(ISERROR((S292-1)/(U292-T292)*60), \"\", (S292-1)/(U292-T292)*60)))","v":""},{"$f":"IF(OR(U292=\"NA\", U292=\"FAILED\"), U292, (IF(ISERROR(V292/'Test Info'!$I$6*100), \"\", V292/'Test Info'!$I$6*100)))","v":""},{"$f":"IF(OR(U292=\"NA\", U292=\"FAILED\"), U292, (IF(ISERROR(S292/U292/'Test Info'!$I$6*6000), \"\", S292/U292/'Test Info'!$I$6*6000)))","v":""}]
["PCL6","Color","Valentines day-17","Powerpoint",41,null,null,{"$f":"IF(OR(G293=\"NA\", G293=\"FAILED\"), G293, (IF(ISERROR((E293-1)/(G293-F293)*60), \"\", (E293-1)/(G293-F293)*60)))","v":""},{"$f":"IF(OR(G293=\"NA\", G293=\"FAILED\"), G293, (IF(ISERROR(H293/'Test Info'!$I$6*100), \"\", H293/'Test Info'!$I$6*100)))","v":""},{"$f":"IF(OR(G293=\"NA\", G293=\"FAILED\"), G293, (IF(ISERROR(E293/G293/'Test Info'!$I$6*6000), \"\", E293/G293/'Test Info'!$I$6*6000)))","v":""},null,null,null,null,"PCL6","Color","Valentines day-17","Powerpoint",41,null,null,{"$f":"IF(OR(U293=\"NA\", U293=\"FAILED\"), U293, (IF(ISERROR((S293-1)/(U293-T293)*60), \"\", (S293-1)/(U293-T293)*60)))","v":""},{"$f":"IF(OR(U293=\"NA\", U293=\"FAILED\"), U293, (IF(ISERROR(V293/'Test Info'!$I$6*100), \"\", V293/'Test Info'!$I$6*100)))","v":""},{"$f":"IF(OR(U293=\"NA\", U293=\"FAILED\"), U293, (IF(ISERROR(S293/U293/'Test Info'!$I$6*6000), \"\", S293/U293/'Test Info'!$I$6*6000)))","v":""}]
[null,null,null,"Average",{"$f":"AVERAGE(E291:E293)","v":20.666666666666668},{"$f":"IF(F293=\"NA\", F293, (IF(ISERROR(AVERAGE(F291:F293)), \"\", AVERAGE(F291:F293))))","v":""},{"$f":"IF(G293=\"NA\", G293, (IF(ISERROR(AVERAGE(G291:G293)), \"\", AVERAGE(G291:G293))))","v":""},{"$f":"IF(H293=\"NA\", H293, (IF(ISERROR(AVERAGE(H291:H293)), \"\", AVERAGE(H291:H293))))","v":""},{"$f":"IF(I293=\"NA\", I293, (IF(ISERROR(AVERAGE(I291:I293)), \"\", AVERAGE(I291:I293))))","v":""},{"$f":"IF(J293=\"NA\", J293, (IF(ISERROR(AVERAGE(J291:J293)), \"\", AVERAGE(J291:J293))))","v":""},null,null,null,null,null,null,null,"Average",{"$f":"AVERAGE(S291:S293)","v":20.666666666666668},{"$f":"IF(T293=\"NA\", T293, (IF(ISERROR(AVERAGE(T291:T293)), \"\", AVERAGE(T291:T293))))","v":""},{"$f":"IF(U293=\"NA\", U293, (IF(ISERROR(AVERAGE(U291:U293)), \"\", AVERAGE(U291:U293))))","v":""},{"$f":"IF(V293=\"NA\", V293, (IF(ISERROR(AVERAGE(V291:V293)), \"\", AVERAGE(V291:V293))))","v":""},{"$f":"IF(W293=\"NA\", W293, (IF(ISERROR(AVERAGE(W291:W293)), \"\", AVERAGE(W291:W293))))","v":""},{"$f":"IF(X293=\"NA\", X293, (IF(ISERROR(AVERAGE(X291:X293)), \"\", AVERAGE(X291:X293))))","v":""}]
[]
["14 inch Mono- Banner",null,null,null,null,null,null,null,null,null,null,null,null,null,"14 inch Mono- Banner"]
["PCL6","Mono","Blue sky-14","Quark",13,null,null,{"$f":"IF(OR(G297=\"NA\",G297=\"FAILED\"),G297,(IF(ISERROR((E297-1)/(G297-F297)*60),\"\",(E297-1)/(G297-F297)*60)))","v":""},{"$f":"IF(OR(G297=\"NA\",G297=\"FAILED\"),G297, (IF(ISERROR(H297/'Test Info'!$J$6*100), \"\", H297/'Test Info'!$J$6*100)))","v":""},{"$f":"IF(OR(G297=\"NA\",G297=\"FAILED\"),G297, (IF(ISERROR(E297/G297/'Test Info'!$J$6*6000), \"\", E297/G297/'Test Info'!$J$6*6000)))","v":""},null,null,null,null,"PCL6","Mono","Blue sky-14","Quark",13,null,null,{"$f":"IF(OR(U297=\"NA\",U297=\"FAILED\"),U297,(IF(ISERROR((S297-1)/(U297-T297)*60),\"\",(S297-1)/(U297-T297)*60)))","v":""},{"$f":"IF(OR(U297=\"NA\",U297=\"FAILED\"),U297, (IF(ISERROR(V297/'Test Info'!$J$6*100), \"\", V297/'Test Info'!$J$6*100)))","v":""},{"$f":"IF(OR(U297=\"NA\",U297=\"FAILED\"),U297, (IF(ISERROR(S297/U297/'Test Info'!$J$6*6000), \"\", S297/U297/'Test Info'!$J$6*6000)))","v":""}]
["PCL6","Mono","Classifieds-14","Chrome",14,null,null,{"$f":"IF(OR(G298=\"NA\",G298=\"FAILED\"),G298,(IF(ISERROR((E298-1)/(G298-F298)*60),\"\",(E298-1)/(G298-F298)*60)))","v":""},{"$f":"IF(OR(G298=\"NA\",G298=\"FAILED\"),G298, (IF(ISERROR(H298/'Test Info'!$J$6*100), \"\", H298/'Test Info'!$J$6*100)))","v":""},{"$f":"IF(OR(G298=\"NA\",G298=\"FAILED\"),G298, (IF(ISERROR(E298/G298/'Test Info'!$J$6*6000), \"\", E298/G298/'Test Info'!$J$6*6000)))","v":""},null,null,null,null,"PCL6","Mono","Classifieds-14","Chrome",14,null,null,{"$f":"IF(OR(U298=\"NA\",U298=\"FAILED\"),U298,(IF(ISERROR((S298-1)/(U298-T298)*60),\"\",(S298-1)/(U298-T298)*60)))","v":""},{"$f":"IF(OR(U298=\"NA\",U298=\"FAILED\"),U298, (IF(ISERROR(V298/'Test Info'!$J$6*100), \"\", V298/'Test Info'!$J$6*100)))","v":""},{"$f":"IF(OR(U298=\"NA\",U298=\"FAILED\"),U298, (IF(ISERROR(S298/U298/'Test Info'!$J$6*6000), \"\", S298/U298/'Test Info'!$J$6*6000)))","v":""}]
["PCL6","Mono","Salary-14","Excel",6,null,null,{"$f":"IF(OR(G299=\"NA\",G299=\"FAILED\"),G299,(IF(ISERROR((E299-1)/(G299-F299)*60),\"\",(E299-1)/(G299-F299)*60)))","v":""},{"$f":"IF(OR(G299=\"NA\",G299=\"FAILED\"),G299, (IF(ISERROR(H299/'Test Info'!$J$6*100), \"\", H299/'Test Info'!$J$6*100)))","v":""},{"$f":"IF(OR(G299=\"NA\",G299=\"FAILED\"),G299, (IF(ISERROR(E299/G299/'Test Info'!$J$6*6000), \"\", E299/G299/'Test Info'!$J$6*6000)))","v":""},null,null,null,null,"PCL6","Mono","Salary-14","Excel",6,null,null,{"$f":"IF(OR(U299=\"NA\",U299=\"FAILED\"),U299,(IF(ISERROR((S299-1)/(U299-T299)*60),\"\",(S299-1)/(U299-T299)*60)))","v":""},{"$f":"IF(OR(U299=\"NA\",U299=\"FAILED\"),U299, (IF(ISERROR(V299/'Test Info'!$J$6*100), \"\", V299/'Test Info'!$J$6*100)))","v":""},{"$f":"IF(OR(U299=\"NA\",U299=\"FAILED\"),U299, (IF(ISERROR(S299/U299/'Test Info'!$J$6*6000), \"\", S299/U299/'Test Info'!$J$6*6000)))","v":""}]
[null,null,null,"Average",{"$f":"AVERAGE(E297:E299)","v":11},{"$f":"IF(F299=\"NA\", F299, (IF(ISERROR(AVERAGE(F297:F299)), \"\", AVERAGE(F297:F299))))","v":""},{"$f":"IF(G299=\"NA\", G299, (IF(ISERROR(AVERAGE(G297:G299)), \"\", AVERAGE(G297:G299))))","v":""},{"$f":"IF(H299=\"NA\", H299, (IF(ISERROR(AVERAGE(H297:H299)), \"\", AVERAGE(H297:H299))))","v":""},{"$f":"IF(I299=\"NA\", I299, (IF(ISERROR(AVERAGE(I297:I299)), \"\", AVERAGE(I297:I299))))","v":""},{"$f":"IF(J299=\"NA\", J299, (IF(ISERROR(AVERAGE(J297:J299)), \"\", AVERAGE(J297:J299))))","v":""},null,null,null,null,null,null,null,"Average",{"$f":"AVERAGE(S297:S299)","v":11},{"$f":"IF(T299=\"NA\", T299, (IF(ISERROR(AVERAGE(T297:T299)), \"\", AVERAGE(T297:T299))))","v":""},{"$f":"IF(U299=\"NA\", U299, (IF(ISERROR(AVERAGE(U297:U299)), \"\", AVERAGE(U297:U299))))","v":""},{"$f":"IF(V299=\"NA\", V299, (IF(ISERROR(AVERAGE(V297:V299)), \"\", AVERAGE(V297:V299))))","v":""},{"$f":"IF(W299=\"NA\", W299, (IF(ISERROR(AVERAGE(W297:W299)), \"\", AVERAGE(W297:W299))))","v":""},{"$f":"IF(X299=\"NA\", X299, (IF(ISERROR(AVERAGE(X297:X299)), \"\", AVERAGE(X297:X299))))","v":""}]
[]
[]
[]
["Simple Word Files",null,null,null,null,null,null,null,null,null,null,null,null,null,"Simple Word Files"]
["Multiple page Word Files Printed Once",null,null,null,null,null,null,null,null,null,null,null,null,null,"Multiple page Word Files Printed Once"]
["PS- No Banner",null,null,null,null,null,null,null,null,null,null,null,null,null,"PS- No Banner"]
["Type","Mode","Job","Total Pages ","FPOT Measured\nin Seconds","C-C Measured\nin Seconds","2-N PPM Calculated","2-N % Rated Speed Calculated",null,null,null,null,null,null,"Type","Mode","Job","Total Pages ","FPOT Measured\nin Seconds","C-C Measured\nin Seconds","2-N PPM Calculated","2-N % Rated Speed Calculated"]
["PS","Color","WordDoc-5pgs",5,null,null,{"$f":"IF(OR(F308=\"NA\", F308=\"FAILED\"), F308, (IF(ISERROR((D308-1)/(F308-E308)*60), \"\", (D308-1)/(F308-E308)*60)))","v":""},{"$f":"IF(OR(F308=\"NA\", F308=\"FAILED\"), F308, (IF(ISERROR(G308/'Test Info'!$I$6*100), \"\", G308/'Test Info'!$I$6*100)))","v":""},null,null,null,null,null,null,"PS","Color","WordDoc-5pgs",5,null,null,{"$f":"IF(OR(T308=\"NA\", T308=\"FAILED\"), T308, (IF(ISERROR((R308-1)/(T308-S308)*60), \"\", (R308-1)/(T308-S308)*60)))","v":""},{"$f":"IF(OR(T308=\"NA\", T308=\"FAILED\"), T308, (IF(ISERROR(U308/'Test Info'!$I$6*100), \"\", U308/'Test Info'!$I$6*100)))","v":""}]
["PS","Color","WordDoc-10pgs",10,null,null,{"$f":"IF(OR(F309=\"NA\", F309=\"FAILED\"), F309, (IF(ISERROR((D309-1)/(F309-E309)*60), \"\", (D309-1)/(F309-E309)*60)))","v":""},{"$f":"IF(OR(F309=\"NA\", F309=\"FAILED\"), F309, (IF(ISERROR(G309/'Test Info'!$I$6*100), \"\", G309/'Test Info'!$I$6*100)))","v":""},null,null,null,null,null,null,"PS","Color","WordDoc-10pgs",10,null,null,{"$f":"IF(OR(T309=\"NA\", T309=\"FAILED\"), T309, (IF(ISERROR((R309-1)/(T309-S309)*60), \"\", (R309-1)/(T309-S309)*60)))","v":""},{"$f":"IF(OR(T309=\"NA\", T309=\"FAILED\"), T309, (IF(ISERROR(U309/'Test Info'!$I$6*100), \"\", U309/'Test Info'!$I$6*100)))","v":""}]
["PS","Color","WordDoc-30pgs",30,null,null,{"$f":"IF(OR(F310=\"NA\", F310=\"FAILED\"), F310, (IF(ISERROR((D310-1)/(F310-E310)*60), \"\", (D310-1)/(F310-E310)*60)))","v":""},{"$f":"IF(OR(F310=\"NA\", F310=\"FAILED\"), F310, (IF(ISERROR(G310/'Test Info'!$I$6*100), \"\", G310/'Test Info'!$I$6*100)))","v":""},null,null,null,null,null,null,"PS","Color","WordDoc-30pgs",30,null,null,{"$f":"IF(OR(T310=\"NA\", T310=\"FAILED\"), T310, (IF(ISERROR((R310-1)/(T310-S310)*60), \"\", (R310-1)/(T310-S310)*60)))","v":""},{"$f":"IF(OR(T310=\"NA\", T310=\"FAILED\"), T310, (IF(ISERROR(U310/'Test Info'!$I$6*100), \"\", U310/'Test Info'!$I$6*100)))","v":""}]
[]
["PCL6- No Banner",null,null,null,null,null,null,null,null,null,null,null,null,null,"PCL6- No Banner"]
["PCL6","Color","WordDoc-5pgs",5,null,null,{"$f":"IF(OR(F313=\"NA\", F313=\"FAILED\"), F313, (IF(ISERROR((D313-1)/(F313-E313)*60), \"\", (D313-1)/(F313-E313)*60)))","v":""},{"$f":"IF(OR(F313=\"NA\", F313=\"FAILED\"), F313, (IF(ISERROR(G313/'Test Info'!$I$6*100), \"\", G313/'Test Info'!$I$6*100)))","v":""},null,null,null,null,null,null,"PCL6","Color","WordDoc-5pgs",5,null,null,{"$f":"IF(OR(T313=\"NA\", T313=\"FAILED\"), T313, (IF(ISERROR((R313-1)/(T313-S313)*60), \"\", (R313-1)/(T313-S313)*60)))","v":""},{"$f":"IF(OR(T313=\"NA\", T313=\"FAILED\"), T313, (IF(ISERROR(U313/'Test Info'!$I$6*100), \"\", U313/'Test Info'!$I$6*100)))","v":""}]
["PCL6","Color","WordDoc-10pgs",10,null,null,{"$f":"IF(OR(F314=\"NA\", F314=\"FAILED\"), F314, (IF(ISERROR((D314-1)/(F314-E314)*60), \"\", (D314-1)/(F314-E314)*60)))","v":""},{"$f":"IF(OR(F314=\"NA\", F314=\"FAILED\"), F314, (IF(ISERROR(G314/'Test Info'!$I$6*100), \"\", G314/'Test Info'!$I$6*100)))","v":""},null,null,null,null,null,null,"PCL6","Color","WordDoc-10pgs",10,null,null,{"$f":"IF(OR(T314=\"NA\", T314=\"FAILED\"), T314, (IF(ISERROR((R314-1)/(T314-S314)*60), \"\", (R314-1)/(T314-S314)*60)))","v":""},{"$f":"IF(OR(T314=\"NA\", T314=\"FAILED\"), T314, (IF(ISERROR(U314/'Test Info'!$I$6*100), \"\", U314/'Test Info'!$I$6*100)))","v":""}]
["PCL6","Color","WordDoc-30pgs",30,null,null,{"$f":"IF(OR(F315=\"NA\", F315=\"FAILED\"), F315, (IF(ISERROR((D315-1)/(F315-E315)*60), \"\", (D315-1)/(F315-E315)*60)))","v":""},{"$f":"IF(OR(F315=\"NA\", F315=\"FAILED\"), F315, (IF(ISERROR(G315/'Test Info'!$I$6*100), \"\", G315/'Test Info'!$I$6*100)))","v":""},null,null,null,null,null,null,"PCL6","Color","WordDoc-30pgs",30,null,null,{"$f":"IF(OR(T315=\"NA\", T315=\"FAILED\"), T315, (IF(ISERROR((R315-1)/(T315-S315)*60), \"\", (R315-1)/(T315-S315)*60)))","v":""},{"$f":"IF(OR(T315=\"NA\", T315=\"FAILED\"), T315, (IF(ISERROR(U315/'Test Info'!$I$6*100), \"\", U315/'Test Info'!$I$6*100)))","v":""}]
[]
[]
[]
["Single page Word File Printed Multiple Times",null,null,null,null,null,null,null,null,null,null,null,null,null,"Single page Word File Printed Multiple Times"]
["PS- No Banner",null,null,null,null,null,null,null,null,null,null,null,null,null,"PS- No Banner"]
["Type","Mode","Job","Set copies to 1 and send job  ","Total Pages ","FPOT Measured\nin Seconds","C-C Measured\nin Seconds","2-N PPM Calculated","2-N % Rated Speed Calculated",null,null,null,null,null,"Type","Mode","Job","Set copies to 1 and send job  ","Total Pages ","FPOT Measured\nin Seconds","C-C Measured\nin Seconds","2-N PPM Calculated","2-N % Rated Speed Calculated"]
["PS","Color","WordDoc-1pg","5x",5,null,null,{"$f":"IF(OR(G322=\"NA\", G322=\"FAILED\"), G322, (IF(ISERROR((E322-1)/(G322-F322)*60), \"\", (E322-1)/(G322-F322)*60)))","v":""},{"$f":"IF(OR(G322=\"NA\", G322=\"FAILED\"), G322, (IF(ISERROR(H322/'Test Info'!$I$6*100), \"\", H322/'Test Info'!$I$6*100)))","v":""},null,null,null,null,null,"PS","Color","WordDoc-1pg","5x",5,null,null,{"$f":"IF(OR(U322=\"NA\", U322=\"FAILED\"), U322, (IF(ISERROR((S322-1)/(U322-T322)*60), \"\", (S322-1)/(U322-T322)*60)))","v":""},{"$f":"IF(OR(U322=\"NA\", U322=\"FAILED\"), U322, (IF(ISERROR(V322/'Test Info'!$I$6*100), \"\", V322/'Test Info'!$I$6*100)))","v":""}]
["PS","Color","WordDoc-1pg","10x",10,null,null,{"$f":"IF(OR(G323=\"NA\", G323=\"FAILED\"), G323, (IF(ISERROR((E323-1)/(G323-F323)*60), \"\", (E323-1)/(G323-F323)*60)))","v":""},{"$f":"IF(OR(G323=\"NA\", G323=\"FAILED\"), G323, (IF(ISERROR(H323/'Test Info'!$I$6*100), \"\", H323/'Test Info'!$I$6*100)))","v":""},null,null,null,null,null,"PS","Color","WordDoc-1pg","10x",10,null,null,{"$f":"IF(OR(U323=\"NA\", U323=\"FAILED\"), U323, (IF(ISERROR((S323-1)/(U323-T323)*60), \"\", (S323-1)/(U323-T323)*60)))","v":""},{"$f":"IF(OR(U323=\"NA\", U323=\"FAILED\"), U323, (IF(ISERROR(V323/'Test Info'!$I$6*100), \"\", V323/'Test Info'!$I$6*100)))","v":""}]
["PS","Color","WordDoc-1pg","30x",30,null,null,{"$f":"IF(OR(G324=\"NA\", G324=\"FAILED\"), G324, (IF(ISERROR((E324-1)/(G324-F324)*60), \"\", (E324-1)/(G324-F324)*60)))","v":""},{"$f":"IF(OR(G324=\"NA\", G324=\"FAILED\"), G324, (IF(ISERROR(H324/'Test Info'!$I$6*100), \"\", H324/'Test Info'!$I$6*100)))","v":""},null,null,null,null,null,"PS","Color","WordDoc-1pg","30x",30,null,null,{"$f":"IF(OR(U324=\"NA\", U324=\"FAILED\"), U324, (IF(ISERROR((S324-1)/(U324-T324)*60), \"\", (S324-1)/(U324-T324)*60)))","v":""},{"$f":"IF(OR(U324=\"NA\", U324=\"FAILED\"), U324, (IF(ISERROR(V324/'Test Info'!$I$6*100), \"\", V324/'Test Info'!$I$6*100)))","v":""}]
[]
["PCL6- No Banner",null,null,null,null,null,null,null,null,null,null,null,null,null,"PCL6- No Banner"]
["PCL6","Color","WordDoc-1pg","5x",5,null,null,{"$f":"IF(OR(G327=\"NA\", G327=\"FAILED\"), G327, (IF(ISERROR((E327-1)/(G327-F327)*60), \"\", (E327-1)/(G327-F327)*60)))","v":""},{"$f":"IF(OR(G327=\"NA\", G327=\"FAILED\"), G327, (IF(ISERROR(H327/'Test Info'!$I$6*100), \"\", H327/'Test Info'!$I$6*100)))","v":""},null,null,null,null,null,"PCL6","Color","WordDoc-1pg","5x",5,null,null,{"$f":"IF(OR(U327=\"NA\", U327=\"FAILED\"), U327, (IF(ISERROR((S327-1)/(U327-T327)*60), \"\", (S327-1)/(U327-T327)*60)))","v":""},{"$f":"IF(OR(U327=\"NA\", U327=\"FAILED\"), U327, (IF(ISERROR(V327/'Test Info'!$I$6*100), \"\", V327/'Test Info'!$I$6*100)))","v":""}]
["PCL6","Color","WordDoc-1pg","10x",10,null,null,{"$f":"IF(OR(G328=\"NA\", G328=\"FAILED\"), G328, (IF(ISERROR((E328-1)/(G328-F328)*60), \"\", (E328-1)/(G328-F328)*60)))","v":""},{"$f":"IF(OR(G328=\"NA\", G328=\"FAILED\"), G328, (IF(ISERROR(H328/'Test Info'!$I$6*100), \"\", H328/'Test Info'!$I$6*100)))","v":""},null,null,null,null,null,"PCL6","Color","WordDoc-1pg","10x",10,null,null,{"$f":"IF(OR(U328=\"NA\", U328=\"FAILED\"), U328, (IF(ISERROR((S328-1)/(U328-T328)*60), \"\", (S328-1)/(U328-T328)*60)))","v":""},{"$f":"IF(OR(U328=\"NA\", U328=\"FAILED\"), U328, (IF(ISERROR(V328/'Test Info'!$I$6*100), \"\", V328/'Test Info'!$I$6*100)))","v":""}]
["PCL6","Color","WordDoc-1pg","30x",30,null,null,{"$f":"IF(OR(G329=\"NA\", G329=\"FAILED\"), G329, (IF(ISERROR((E329-1)/(G329-F329)*60), \"\", (E329-1)/(G329-F329)*60)))","v":""},{"$f":"IF(OR(G329=\"NA\", G329=\"FAILED\"), G329, (IF(ISERROR(H329/'Test Info'!$I$6*100), \"\", H329/'Test Info'!$I$6*100)))","v":""},null,null,null,null,null,"PCL6","Color","WordDoc-1pg","30x",30,null,null,{"$f":"IF(OR(U329=\"NA\", U329=\"FAILED\"), U329, (IF(ISERROR((S329-1)/(U329-T329)*60), \"\", (S329-1)/(U329-T329)*60)))","v":""},{"$f":"IF(OR(U329=\"NA\", U329=\"FAILED\"), U329, (IF(ISERROR(V329/'Test Info'!$I$6*100), \"\", V329/'Test Info'!$I$6*100)))","v":""}]
[]
[]
[]
["Print via Web Submission",null,null,null,null,null,null,null,null,null,null,null,null,null,"Print via Web Submission"]
["PDF- No Banner",null,null,null,null,null,null,null,null,null,null,null,null,null,"PDF- No Banner"]
["PDF Color",null,null,null,null,null,null,null,null,null,null,null,null,null,"PDF Color"]
["Type","Mode","Job","Original Application","Pages","FPOT Measured\nin Seconds","C-C  Measured\nin Seconds","2-N PPM Calculated","2-N % Rated Speed Calculated","C-C % Rated Speed Calculated",null,null,null,null,"Type","Mode","Job","Original Application","Pages","FPOT Measured\nin Seconds","C-C  Measured\nin Seconds","2-N PPM Calculated","2-N % Rated Speed Calculated","C-C % Rated Speed Calculated"]
["PDF","Color","MSA","Acrobat",3,null,null,{"$f":"IF(OR(G337=\"NA\", G337=\"FAILED\"), G337, (IF(ISERROR((E337-1)/(G337-F337)*60), \"\", (E337-1)/(G337-F337)*60)))","v":""},{"$f":"IF(OR(G337=\"NA\", G337=\"FAILED\"), G337, (IF(ISERROR(H337/'Test Info'!$I$6*100), \"\", H337/'Test Info'!$I$6*100)))","v":""},{"$f":"IF(OR(G337=\"NA\", G337=\"FAILED\"), G337, (IF(ISERROR(E337/G337/'Test Info'!$I$6*6000), \"\", E337/G337/'Test Info'!$I$6*6000)))","v":""},null,null,null,null,"PDF","Color","MSA","Acrobat",3,null,null,{"$f":"IF(OR(U337=\"NA\", U337=\"FAILED\"), U337, (IF(ISERROR((S337-1)/(U337-T337)*60), \"\", (S337-1)/(U337-T337)*60)))","v":""},{"$f":"IF(OR(U337=\"NA\", U337=\"FAILED\"), U337, (IF(ISERROR(V337/'Test Info'!$I$6*100), \"\", V337/'Test Info'!$I$6*100)))","v":""},{"$f":"IF(OR(U337=\"NA\", U337=\"FAILED\"), U337, (IF(ISERROR(S337/U337/'Test Info'!$I$6*6000), \"\", S337/U337/'Test Info'!$I$6*6000)))","v":""}]
["PDF","Color","Outcast","Acrobat",12,null,null,{"$f":"IF(OR(G338=\"NA\", G338=\"FAILED\"), G338, (IF(ISERROR((E338-1)/(G338-F338)*60), \"\", (E338-1)/(G338-F338)*60)))","v":""},{"$f":"IF(OR(G338=\"NA\", G338=\"FAILED\"), G338, (IF(ISERROR(H338/'Test Info'!$I$6*100), \"\", H338/'Test Info'!$I$6*100)))","v":""},{"$f":"IF(OR(G338=\"NA\", G338=\"FAILED\"), G338, (IF(ISERROR(E338/G338/'Test Info'!$I$6*6000), \"\", E338/G338/'Test Info'!$I$6*6000)))","v":""},null,null,null,null,"PDF","Color","Outcast","Acrobat",12,null,null,{"$f":"IF(OR(U338=\"NA\", U338=\"FAILED\"), U338, (IF(ISERROR((S338-1)/(U338-T338)*60), \"\", (S338-1)/(U338-T338)*60)))","v":""},{"$f":"IF(OR(U338=\"NA\", U338=\"FAILED\"), U338, (IF(ISERROR(V338/'Test Info'!$I$6*100), \"\", V338/'Test Info'!$I$6*100)))","v":""},{"$f":"IF(OR(U338=\"NA\", U338=\"FAILED\"), U338, (IF(ISERROR(S338/U338/'Test Info'!$I$6*6000), \"\", S338/U338/'Test Info'!$I$6*6000)))","v":""}]
[null,null,null,"Average",{"$f":"AVERAGE(E337:E338)","v":7.5},{"$f":"IF(F338=\"NA\", F338, (IF(ISERROR(AVERAGE(F337:F338)), \"\", AVERAGE(F337:F338))))","v":""},{"$f":"IF(G338=\"NA\", G338, (IF(ISERROR(AVERAGE(G337:G338)), \"\", AVERAGE(G337:G338))))","v":""},{"$f":"IF(H338=\"NA\", H338, (IF(ISERROR(AVERAGE(H337:H338)), \"\", AVERAGE(H337:H338))))","v":""},{"$f":"IF(I338=\"NA\", I338, (IF(ISERROR(AVERAGE(I337:I338)), \"\", AVERAGE(I337:I338))))","v":""},{"$f":"IF(J338=\"NA\", J338, (IF(ISERROR(AVERAGE(J337:J338)), \"\", AVERAGE(J337:J338))))","v":""},null,null,null,null,null,null,null,"Average",{"$f":"AVERAGE(S337:S338)","v":7.5},{"$f":"IF(T338=\"NA\", T338, (IF(ISERROR(AVERAGE(T337:T338)), \"\", AVERAGE(T337:T338))))","v":""},{"$f":"IF(U338=\"NA\", U338, (IF(ISERROR(AVERAGE(U337:U338)), \"\", AVERAGE(U337:U338))))","v":""},{"$f":"IF(V338=\"NA\", V338, (IF(ISERROR(AVERAGE(V337:V338)), \"\", AVERAGE(V337:V338))))","v":""},{"$f":"IF(W338=\"NA\", W338, (IF(ISERROR(AVERAGE(W337:W338)), \"\", AVERAGE(W337:W338))))","v":""},{"$f":"IF(X338=\"NA\", X338, (IF(ISERROR(AVERAGE(X337:X338)), \"\", AVERAGE(X337:X338))))","v":""}]
[]
["PDF Mono",null,null,null,null,null,null,null,null,null,null,null,null,null,"PDF Mono"]
["PDF","Mono","MSA","Acrobat",3,null,null,{"$f":"IF(OR(G342=\"NA\",G342=\"FAILED\"),G342,(IF(ISERROR((E342-1)/(G342-F342)*60),\"\",(E342-1)/(G342-F342)*60)))","v":""},{"$f":"IF(OR(G342=\"NA\",G342=\"FAILED\"),G342, (IF(ISERROR(H342/'Test Info'!$J$6*100), \"\", H342/'Test Info'!$J$6*100)))","v":""},{"$f":"IF(OR(G342=\"NA\",G342=\"FAILED\"),G342, (IF(ISERROR(E342/G342/'Test Info'!$J$6*6000), \"\", E342/G342/'Test Info'!$J$6*6000)))","v":""},null,null,null,null,"PDF","Mono","MSA","Acrobat",3,null,null,{"$f":"IF(OR(U342=\"NA\",U342=\"FAILED\"),U342,(IF(ISERROR((S342-1)/(U342-T342)*60),\"\",(S342-1)/(U342-T342)*60)))","v":""},{"$f":"IF(OR(U342=\"NA\",U342=\"FAILED\"),U342, (IF(ISERROR(V342/'Test Info'!$J$6*100), \"\", V342/'Test Info'!$J$6*100)))","v":""},{"$f":"IF(OR(U342=\"NA\",U342=\"FAILED\"),U342, (IF(ISERROR(S342/U342/'Test Info'!$J$6*6000), \"\", S342/U342/'Test Info'!$J$6*6000)))","v":""}]
["PDF","Mono","Outcast","Acrobat",12,null,null,{"$f":"IF(OR(G343=\"NA\",G343=\"FAILED\"),G343,(IF(ISERROR((E343-1)/(G343-F343)*60),\"\",(E343-1)/(G343-F343)*60)))","v":""},{"$f":"IF(OR(G343=\"NA\",G343=\"FAILED\"),G343, (IF(ISERROR(H343/'Test Info'!$J$6*100), \"\", H343/'Test Info'!$J$6*100)))","v":""},{"$f":"IF(OR(G343=\"NA\",G343=\"FAILED\"),G343, (IF(ISERROR(E343/G343/'Test Info'!$J$6*6000), \"\", E343/G343/'Test Info'!$J$6*6000)))","v":""},null,null,null,null,"PDF","Mono","Outcast","Acrobat",12,null,null,{"$f":"IF(OR(U343=\"NA\",U343=\"FAILED\"),U343,(IF(ISERROR((S343-1)/(U343-T343)*60),\"\",(S343-1)/(U343-T343)*60)))","v":""},{"$f":"IF(OR(U343=\"NA\",U343=\"FAILED\"),U343, (IF(ISERROR(V343/'Test Info'!$J$6*100), \"\", V343/'Test Info'!$J$6*100)))","v":""},{"$f":"IF(OR(U343=\"NA\",U343=\"FAILED\"),U343, (IF(ISERROR(S343/U343/'Test Info'!$J$6*6000), \"\", S343/U343/'Test Info'!$J$6*6000)))","v":""}]
[null,null,null,"Average",{"$f":"AVERAGE(E342:E343)","v":7.5},{"$f":"IF(F343=\"NA\", F343, (IF(ISERROR(AVERAGE(F342:F343)), \"\", AVERAGE(F342:F343))))","v":""},{"$f":"IF(G343=\"NA\", G343, (IF(ISERROR(AVERAGE(G342:G343)), \"\", AVERAGE(G342:G343))))","v":""},{"$f":"IF(H343=\"NA\", H343, (IF(ISERROR(AVERAGE(H342:H343)), \"\", AVERAGE(H342:H343))))","v":""},{"$f":"IF(I343=\"NA\", I343, (IF(ISERROR(AVERAGE(I342:I343)), \"\", AVERAGE(I342:I343))))","v":""},{"$f":"IF(J343=\"NA\", J343, (IF(ISERROR(AVERAGE(J342:J343)), \"\", AVERAGE(J342:J343))))","v":""},null,null,null,null,null,null,null,"Average",{"$f":"AVERAGE(S342:S343)","v":7.5},{"$f":"IF(T343=\"NA\", T343, (IF(ISERROR(AVERAGE(T342:T343)), \"\", AVERAGE(T342:T343))))","v":""},{"$f":"IF(U343=\"NA\", U343, (IF(ISERROR(AVERAGE(U342:U343)), \"\", AVERAGE(U342:U343))))","v":""},{"$f":"IF(V343=\"NA\", V343, (IF(ISERROR(AVERAGE(V342:V343)), \"\", AVERAGE(V342:V343))))","v":""},{"$f":"IF(W343=\"NA\", W343, (IF(ISERROR(AVERAGE(W342:W343)), \"\", AVERAGE(W342:W343))))","v":""},{"$f":"IF(X343=\"NA\", X343, (IF(ISERROR(AVERAGE(X342:X343)), \"\", AVERAGE(X342:X343))))","v":""}]
[]
[]
[]
["PRN- No Banner",null,null,null,null,null,null,null,null,null,null,null,null,null,"PRN- No Banner"]
["PS Driver PRN Color",null,null,null,null,null,null,null,null,null,null,null,null,null,"PS Driver PRN Color"]
["Type","Mode","Job","Original Application","Pages","FPOT Measured\nin Seconds","C-C  Measured\nin Seconds","2-N PPM Calculated","2-N % Rated Speed Calculated","C-C % Rated Speed Calculated",null,null,null,null,"Type","Mode","Job","Original Application","Pages","FPOT Measured\nin Seconds","C-C  Measured\nin Seconds","2-N PPM Calculated","2-N % Rated Speed Calculated","C-C % Rated Speed Calculated"]
["PRN ","Color","Contents","Word",12,null,null,{"$f":"IF(OR(G351=\"NA\", G351=\"FAILED\"), G351, (IF(ISERROR((E351-1)/(G351-F351)*60), \"\", (E351-1)/(G351-F351)*60)))","v":""},{"$f":"IF(OR(G351=\"NA\", G351=\"FAILED\"), G351, (IF(ISERROR(H351/'Test Info'!$I$6*100), \"\", H351/'Test Info'!$I$6*100)))","v":""},{"$f":"IF(OR(G351=\"NA\", G351=\"FAILED\"), G351, (IF(ISERROR(E351/G351/'Test Info'!$I$6*6000), \"\", E351/G351/'Test Info'!$I$6*6000)))","v":""},null,null,null,null,"PRN ","Color","Contents","Word",12,null,null,{"$f":"IF(OR(U351=\"NA\", U351=\"FAILED\"), U351, (IF(ISERROR((S351-1)/(U351-T351)*60), \"\", (S351-1)/(U351-T351)*60)))","v":""},{"$f":"IF(OR(U351=\"NA\", U351=\"FAILED\"), U351, (IF(ISERROR(V351/'Test Info'!$I$6*100), \"\", V351/'Test Info'!$I$6*100)))","v":""},{"$f":"IF(OR(U351=\"NA\", U351=\"FAILED\"), U351, (IF(ISERROR(S351/U351/'Test Info'!$I$6*6000), \"\", S351/U351/'Test Info'!$I$6*6000)))","v":""}]
["PRN","Color","Salary","Excel",12,null,null,{"$f":"IF(OR(G352=\"NA\", G352=\"FAILED\"), G352, (IF(ISERROR((E352-1)/(G352-F352)*60), \"\", (E352-1)/(G352-F352)*60)))","v":""},{"$f":"IF(OR(G352=\"NA\", G352=\"FAILED\"), G352, (IF(ISERROR(H352/'Test Info'!$I$6*100), \"\", H352/'Test Info'!$I$6*100)))","v":""},{"$f":"IF(OR(G352=\"NA\", G352=\"FAILED\"), G352, (IF(ISERROR(E352/G352/'Test Info'!$I$6*6000), \"\", E352/G352/'Test Info'!$I$6*6000)))","v":""},null,null,null,null,"PRN","Color","Salary","Excel",12,null,null,{"$f":"IF(OR(U352=\"NA\", U352=\"FAILED\"), U352, (IF(ISERROR((S352-1)/(U352-T352)*60), \"\", (S352-1)/(U352-T352)*60)))","v":""},{"$f":"IF(OR(U352=\"NA\", U352=\"FAILED\"), U352, (IF(ISERROR(V352/'Test Info'!$I$6*100), \"\", V352/'Test Info'!$I$6*100)))","v":""},{"$f":"IF(OR(U352=\"NA\", U352=\"FAILED\"), U352, (IF(ISERROR(S352/U352/'Test Info'!$I$6*6000), \"\", S352/U352/'Test Info'!$I$6*6000)))","v":""}]
[null,null,null,"Average",{"$f":"AVERAGE(E351:E352)","v":12},{"$f":"IF(F352=\"NA\", F352, (IF(ISERROR(AVERAGE(F351:F352)), \"\", AVERAGE(F351:F352))))","v":""},{"$f":"IF(G352=\"NA\", G352, (IF(ISERROR(AVERAGE(G351:G352)), \"\", AVERAGE(G351:G352))))","v":""},{"$f":"IF(H352=\"NA\", H352, (IF(ISERROR(AVERAGE(H351:H352)), \"\", AVERAGE(H351:H352))))","v":""},{"$f":"IF(I352=\"NA\", I352, (IF(ISERROR(AVERAGE(I351:I352)), \"\", AVERAGE(I351:I352))))","v":""},{"$f":"IF(J352=\"NA\", J352, (IF(ISERROR(AVERAGE(J351:J352)), \"\", AVERAGE(J351:J352))))","v":""},null,null,null,null,null,null,null,"Average",{"$f":"AVERAGE(S351:S352)","v":12},{"$f":"IF(T352=\"NA\", T352, (IF(ISERROR(AVERAGE(T351:T352)), \"\", AVERAGE(T351:T352))))","v":""},{"$f":"IF(U352=\"NA\", U352, (IF(ISERROR(AVERAGE(U351:U352)), \"\", AVERAGE(U351:U352))))","v":""},{"$f":"IF(V352=\"NA\", V352, (IF(ISERROR(AVERAGE(V351:V352)), \"\", AVERAGE(V351:V352))))","v":""},{"$f":"IF(W352=\"NA\", W352, (IF(ISERROR(AVERAGE(W351:W352)), \"\", AVERAGE(W351:W352))))","v":""},{"$f":"IF(X352=\"NA\", X352, (IF(ISERROR(AVERAGE(X351:X352)), \"\", AVERAGE(X351:X352))))","v":""}]
[]
["PS Driver PRN Mono",null,null,null,null,null,null,null,null,null,null,null,null,null,"PS Driver PRN Mono"]
["PRN","Mono","Contents","Word",12,null,null,{"$f":"IF(OR(G356=\"NA\",G356=\"FAILED\"),G356,(IF(ISERROR((E356-1)/(G356-F356)*60),\"\",(E356-1)/(G356-F356)*60)))","v":""},{"$f":"IF(OR(G356=\"NA\",G356=\"FAILED\"),G356, (IF(ISERROR(H356/'Test Info'!$J$6*100), \"\", H356/'Test Info'!$J$6*100)))","v":""},{"$f":"IF(OR(G356=\"NA\",G356=\"FAILED\"),G356, (IF(ISERROR(E356/G356/'Test Info'!$J$6*6000), \"\", E356/G356/'Test Info'!$J$6*6000)))","v":""},null,null,null,null,"PRN","Mono","Contents","Word",12,null,null,{"$f":"IF(OR(U356=\"NA\",U356=\"FAILED\"),U356,(IF(ISERROR((S356-1)/(U356-T356)*60),\"\",(S356-1)/(U356-T356)*60)))","v":""},{"$f":"IF(OR(U356=\"NA\",U356=\"FAILED\"),U356, (IF(ISERROR(V356/'Test Info'!$J$6*100), \"\", V356/'Test Info'!$J$6*100)))","v":""},{"$f":"IF(OR(U356=\"NA\",U356=\"FAILED\"),U356, (IF(ISERROR(S356/U356/'Test Info'!$J$6*6000), \"\", S356/U356/'Test Info'!$J$6*6000)))","v":""}]
["PRN","Mono","Salary","Excel",12,null,null,{"$f":"IF(OR(G357=\"NA\",G357=\"FAILED\"),G357,(IF(ISERROR((E357-1)/(G357-F357)*60),\"\",(E357-1)/(G357-F357)*60)))","v":""},{"$f":"IF(OR(G357=\"NA\",G357=\"FAILED\"),G357, (IF(ISERROR(H357/'Test Info'!$J$6*100), \"\", H357/'Test Info'!$J$6*100)))","v":""},{"$f":"IF(OR(G357=\"NA\",G357=\"FAILED\"),G357, (IF(ISERROR(E357/G357/'Test Info'!$J$6*6000), \"\", E357/G357/'Test Info'!$J$6*6000)))","v":""},null,null,null,null,"PRN","Mono","Salary","Excel",12,null,null,{"$f":"IF(OR(U357=\"NA\",U357=\"FAILED\"),U357,(IF(ISERROR((S357-1)/(U357-T357)*60),\"\",(S357-1)/(U357-T357)*60)))","v":""},{"$f":"IF(OR(U357=\"NA\",U357=\"FAILED\"),U357, (IF(ISERROR(V357/'Test Info'!$J$6*100), \"\", V357/'Test Info'!$J$6*100)))","v":""},{"$f":"IF(OR(U357=\"NA\",U357=\"FAILED\"),U357, (IF(ISERROR(S357/U357/'Test Info'!$J$6*6000), \"\", S357/U357/'Test Info'!$J$6*6000)))","v":""}]
[null,null,null,"Average",{"$f":"AVERAGE(E356:E357)","v":12},{"$f":"IF(F357=\"NA\", F357, (IF(ISERROR(AVERAGE(F356:F357)), \"\", AVERAGE(F356:F357))))","v":""},{"$f":"IF(G357=\"NA\", G357, (IF(ISERROR(AVERAGE(G356:G357)), \"\", AVERAGE(G356:G357))))","v":""},{"$f":"IF(H357=\"NA\", H357, (IF(ISERROR(AVERAGE(H356:H357)), \"\", AVERAGE(H356:H357))))","v":""},{"$f":"IF(I357=\"NA\", I357, (IF(ISERROR(AVERAGE(I356:I357)), \"\", AVERAGE(I356:I357))))","v":""},{"$f":"IF(J357=\"NA\", J357, (IF(ISERROR(AVERAGE(J356:J357)), \"\", AVERAGE(J356:J357))))","v":""},null,null,null,null,null,null,null,"Average",{"$f":"AVERAGE(S356:S357)","v":12},{"$f":"IF(T357=\"NA\", T357, (IF(ISERROR(AVERAGE(T356:T357)), \"\", AVERAGE(T356:T357))))","v":""},{"$f":"IF(U357=\"NA\", U357, (IF(ISERROR(AVERAGE(U356:U357)), \"\", AVERAGE(U356:U357))))","v":""},{"$f":"IF(V357=\"NA\", V357, (IF(ISERROR(AVERAGE(V356:V357)), \"\", AVERAGE(V356:V357))))","v":""},{"$f":"IF(W357=\"NA\", W357, (IF(ISERROR(AVERAGE(W356:W357)), \"\", AVERAGE(W356:W357))))","v":""},{"$f":"IF(X357=\"NA\", X357, (IF(ISERROR(AVERAGE(X356:X357)), \"\", AVERAGE(X356:X357))))","v":""}]
[]
["PCL6 Driver PRN Color",null,null,null,null,null,null,null,null,null,null,null,null,null,"PCL6 Driver PRN Color"]
["Type","Mode","Job","Original Application","Pages","FPOT Measured\nin Seconds","C-C  Measured\nin Seconds","2-N PPM Calculated","2-N % Rated Speed Calculated","C-C % Rated Speed Calculated",null,null,null,null,"Type","Mode","Job","Original Application","Pages","FPOT Measured\nin Seconds","C-C  Measured\nin Seconds","2-N PPM Calculated","2-N % Rated Speed Calculated","C-C % Rated Speed Calculated"]
["PRN ","Color","Contents","Word",12,null,null,{"$f":"IF(OR(G362=\"NA\", G362=\"FAILED\"), G362, (IF(ISERROR((E362-1)/(G362-F362)*60), \"\", (E362-1)/(G362-F362)*60)))","v":""},{"$f":"IF(OR(G362=\"NA\", G362=\"FAILED\"), G362, (IF(ISERROR(H362/'Test Info'!$I$6*100), \"\", H362/'Test Info'!$I$6*100)))","v":""},{"$f":"IF(OR(G362=\"NA\", G362=\"FAILED\"), G362, (IF(ISERROR(E362/G362/'Test Info'!$I$6*6000), \"\", E362/G362/'Test Info'!$I$6*6000)))","v":""},null,null,null,null,"PRN ","Color","Contents","Word",12,null,null,{"$f":"IF(OR(U362=\"NA\", U362=\"FAILED\"), U362, (IF(ISERROR((S362-1)/(U362-T362)*60), \"\", (S362-1)/(U362-T362)*60)))","v":""},{"$f":"IF(OR(U362=\"NA\", U362=\"FAILED\"), U362, (IF(ISERROR(V362/'Test Info'!$I$6*100), \"\", V362/'Test Info'!$I$6*100)))","v":""},{"$f":"IF(OR(U362=\"NA\", U362=\"FAILED\"), U362, (IF(ISERROR(S362/U362/'Test Info'!$I$6*6000), \"\", S362/U362/'Test Info'!$I$6*6000)))","v":""}]
["PRN","Color","Salary","Excel",12,null,null,{"$f":"IF(OR(G363=\"NA\", G363=\"FAILED\"), G363, (IF(ISERROR((E363-1)/(G363-F363)*60), \"\", (E363-1)/(G363-F363)*60)))","v":""},{"$f":"IF(OR(G363=\"NA\", G363=\"FAILED\"), G363, (IF(ISERROR(H363/'Test Info'!$I$6*100), \"\", H363/'Test Info'!$I$6*100)))","v":""},{"$f":"IF(OR(G363=\"NA\", G363=\"FAILED\"), G363, (IF(ISERROR(E363/G363/'Test Info'!$I$6*6000), \"\", E363/G363/'Test Info'!$I$6*6000)))","v":""},null,null,null,null,"PRN","Color","Salary","Excel",12,null,null,{"$f":"IF(OR(U363=\"NA\", U363=\"FAILED\"), U363, (IF(ISERROR((S363-1)/(U363-T363)*60), \"\", (S363-1)/(U363-T363)*60)))","v":""},{"$f":"IF(OR(U363=\"NA\", U363=\"FAILED\"), U363, (IF(ISERROR(V363/'Test Info'!$I$6*100), \"\", V363/'Test Info'!$I$6*100)))","v":""},{"$f":"IF(OR(U363=\"NA\", U363=\"FAILED\"), U363, (IF(ISERROR(S363/U363/'Test Info'!$I$6*6000), \"\", S363/U363/'Test Info'!$I$6*6000)))","v":""}]
[null,null,null,"Average",{"$f":"AVERAGE(E362:E363)","v":12},{"$f":"IF(F363=\"NA\", F363, (IF(ISERROR(AVERAGE(F362:F363)), \"\", AVERAGE(F362:F363))))","v":""},{"$f":"IF(G363=\"NA\", G363, (IF(ISERROR(AVERAGE(G362:G363)), \"\", AVERAGE(G362:G363))))","v":""},{"$f":"IF(H363=\"NA\", H363, (IF(ISERROR(AVERAGE(H362:H363)), \"\", AVERAGE(H362:H363))))","v":""},{"$f":"IF(I363=\"NA\", I363, (IF(ISERROR(AVERAGE(I362:I363)), \"\", AVERAGE(I362:I363))))","v":""},{"$f":"IF(J363=\"NA\", J363, (IF(ISERROR(AVERAGE(J362:J363)), \"\", AVERAGE(J362:J363))))","v":""},null,null,null,null,null,null,null,"Average",{"$f":"AVERAGE(S362:S363)","v":12},{"$f":"IF(T363=\"NA\", T363, (IF(ISERROR(AVERAGE(T362:T363)), \"\", AVERAGE(T362:T363))))","v":""},{"$f":"IF(U363=\"NA\", U363, (IF(ISERROR(AVERAGE(U362:U363)), \"\", AVERAGE(U362:U363))))","v":""},{"$f":"IF(V363=\"NA\", V363, (IF(ISERROR(AVERAGE(V362:V363)), \"\", AVERAGE(V362:V363))))","v":""},{"$f":"IF(W363=\"NA\", W363, (IF(ISERROR(AVERAGE(W362:W363)), \"\", AVERAGE(W362:W363))))","v":""},{"$f":"IF(X363=\"NA\", X363, (IF(ISERROR(AVERAGE(X362:X363)), \"\", AVERAGE(X362:X363))))","v":""}]
[]
["PCL6 Driver PRN Mono",null,null,null,null,null,null,null,null,null,null,null,null,null,"PCL6 Driver PRN Mono"]
["PRN ","Mono","Contents","Word",12,null,null,{"$f":"IF(OR(G367=\"NA\",G367=\"FAILED\"),G367,(IF(ISERROR((E367-1)/(G367-F367)*60),\"\",(E367-1)/(G367-F367)*60)))","v":""},{"$f":"IF(OR(G367=\"NA\",G367=\"FAILED\"),G367, (IF(ISERROR(H367/'Test Info'!$J$6*100), \"\", H367/'Test Info'!$J$6*100)))","v":""},{"$f":"IF(OR(G367=\"NA\",G367=\"FAILED\"),G367, (IF(ISERROR(E367/G367/'Test Info'!$J$6*6000), \"\", E367/G367/'Test Info'!$J$6*6000)))","v":""},null,null,null,null,"PRN ","Mono","Contents","Word",12,null,null,{"$f":"IF(OR(U367=\"NA\",U367=\"FAILED\"),U367,(IF(ISERROR((S367-1)/(U367-T367)*60),\"\",(S367-1)/(U367-T367)*60)))","v":""},{"$f":"IF(OR(U367=\"NA\",U367=\"FAILED\"),U367, (IF(ISERROR(V367/'Test Info'!$J$6*100), \"\", V367/'Test Info'!$J$6*100)))","v":""},{"$f":"IF(OR(U367=\"NA\",U367=\"FAILED\"),U367, (IF(ISERROR(S367/U367/'Test Info'!$J$6*6000), \"\", S367/U367/'Test Info'!$J$6*6000)))","v":""}]
["PRN","Mono","Salary","Excel",12,null,null,{"$f":"IF(OR(G368=\"NA\",G368=\"FAILED\"),G368,(IF(ISERROR((E368-1)/(G368-F368)*60),\"\",(E368-1)/(G368-F368)*60)))","v":""},{"$f":"IF(OR(G368=\"NA\",G368=\"FAILED\"),G368, (IF(ISERROR(H368/'Test Info'!$J$6*100), \"\", H368/'Test Info'!$J$6*100)))","v":""},{"$f":"IF(OR(G368=\"NA\",G368=\"FAILED\"),G368, (IF(ISERROR(E368/G368/'Test Info'!$J$6*6000), \"\", E368/G368/'Test Info'!$J$6*6000)))","v":""},null,null,null,null,"PRN","Mono","Salary","Excel",12,null,null,{"$f":"IF(OR(U368=\"NA\",U368=\"FAILED\"),U368,(IF(ISERROR((S368-1)/(U368-T368)*60),\"\",(S368-1)/(U368-T368)*60)))","v":""},{"$f":"IF(OR(U368=\"NA\",U368=\"FAILED\"),U368, (IF(ISERROR(V368/'Test Info'!$J$6*100), \"\", V368/'Test Info'!$J$6*100)))","v":""},{"$f":"IF(OR(U368=\"NA\",U368=\"FAILED\"),U368, (IF(ISERROR(S368/U368/'Test Info'!$J$6*6000), \"\", S368/U368/'Test Info'!$J$6*6000)))","v":""}]
[null,null,null,"Average",{"$f":"AVERAGE(E367:E368)","v":12},{"$f":"IF(F368=\"NA\", F368, (IF(ISERROR(AVERAGE(F367:F368)), \"\", AVERAGE(F367:F368))))","v":""},{"$f":"IF(G368=\"NA\", G368, (IF(ISERROR(AVERAGE(G367:G368)), \"\", AVERAGE(G367:G368))))","v":""},{"$f":"IF(H368=\"NA\", H368, (IF(ISERROR(AVERAGE(H367:H368)), \"\", AVERAGE(H367:H368))))","v":""},{"$f":"IF(I368=\"NA\", I368, (IF(ISERROR(AVERAGE(I367:I368)), \"\", AVERAGE(I367:I368))))","v":""},{"$f":"IF(J368=\"NA\", J368, (IF(ISERROR(AVERAGE(J367:J368)), \"\", AVERAGE(J367:J368))))","v":""},null,null,null,null,null,null,null,"Average",{"$f":"AVERAGE(S367:S368)","v":12},{"$f":"IF(T368=\"NA\", T368, (IF(ISERROR(AVERAGE(T367:T368)), \"\", AVERAGE(T367:T368))))","v":""},{"$f":"IF(U368=\"NA\", U368, (IF(ISERROR(AVERAGE(U367:U368)), \"\", AVERAGE(U367:U368))))","v":""},{"$f":"IF(V368=\"NA\", V368, (IF(ISERROR(AVERAGE(V367:V368)), \"\", AVERAGE(V367:V368))))","v":""},{"$f":"IF(W368=\"NA\", W368, (IF(ISERROR(AVERAGE(W367:W368)), \"\", AVERAGE(W367:W368))))","v":""},{"$f":"IF(X368=\"NA\", X368, (IF(ISERROR(AVERAGE(X367:X368)), \"\", AVERAGE(X367:X368))))","v":""}]
[]
["Print A4 Output",null,null,null,null,null,null,null,null,null,null,null,null,null,"Print A4 Output"]
["Default Driver - No Banner",null,null,null,null,null,null,null,null,null,null,null,null,null,"Default Driver - No Banner"]
["A4 - Office No Banner",null,null,null,null,null,null,null,null,null,null,null,null,null,"A4  - Office No Banner"]
["Type","Mode","Job","Application","Images","FPOT Measured\nin Seconds","C-C  Measured\nin Seconds","2-N PPM Calculated","2-N % Rated Speed Calculated","C-C % Rated Speed Calculated",null,null,null,null,"Type","Mode","Job","Application","Images","FPOT Measured\nin Seconds","C-C  Measured\nin Seconds","2-N PPM Calculated","2-N % Rated Speed Calculated","C-C % Rated Speed Calculated"]
["Default Driver","Color","Jewelry","Powerpoint",12,null,null,{"$f":"IF(OR(G375=\"NA\", G375=\"FAILED\"), G375, (IF(ISERROR((E375-1)/(G375-F375)*60), \"\", (E375-1)/(G375-F375)*60)))","v":""},{"$f":"IF(OR(G375=\"NA\", G375=\"FAILED\"), G375, (IF(ISERROR(H375/'Test Info'!$I$6*100), \"\", H375/'Test Info'!$I$6*100)))","v":""},{"$f":"IF(OR(G375=\"NA\", G375=\"FAILED\"), G375, (IF(ISERROR(E375/G375/'Test Info'!$I$6*6000), \"\", E375/G375/'Test Info'!$I$6*6000)))","v":""},null,null,null,null,"Default Driver","Color","Jewelry","Powerpoint",12,null,null,{"$f":"IF(OR(U375=\"NA\", U375=\"FAILED\"), U375, (IF(ISERROR((S375-1)/(U375-T375)*60), \"\", (S375-1)/(U375-T375)*60)))","v":""},{"$f":"IF(OR(U375=\"NA\", U375=\"FAILED\"), U375, (IF(ISERROR(V375/'Test Info'!$I$6*100), \"\", V375/'Test Info'!$I$6*100)))","v":""},{"$f":"IF(OR(U375=\"NA\", U375=\"FAILED\"), U375, (IF(ISERROR(S375/U375/'Test Info'!$I$6*6000), \"\", S375/U375/'Test Info'!$I$6*6000)))","v":""}]
["Default Driver","Color","Contents","Word",12,null,null,{"$f":"IF(OR(G376=\"NA\", G376=\"FAILED\"), G376, (IF(ISERROR((E376-1)/(G376-F376)*60), \"\", (E376-1)/(G376-F376)*60)))","v":""},{"$f":"IF(OR(G376=\"NA\", G376=\"FAILED\"), G376, (IF(ISERROR(H376/'Test Info'!$I$6*100), \"\", H376/'Test Info'!$I$6*100)))","v":""},{"$f":"IF(OR(G376=\"NA\", G376=\"FAILED\"), G376, (IF(ISERROR(E376/G376/'Test Info'!$I$6*6000), \"\", E376/G376/'Test Info'!$I$6*6000)))","v":""},null,null,null,null,"Default Driver","Color","Contents","Word",12,null,null,{"$f":"IF(OR(U376=\"NA\", U376=\"FAILED\"), U376, (IF(ISERROR((S376-1)/(U376-T376)*60), \"\", (S376-1)/(U376-T376)*60)))","v":""},{"$f":"IF(OR(U376=\"NA\", U376=\"FAILED\"), U376, (IF(ISERROR(V376/'Test Info'!$I$6*100), \"\", V376/'Test Info'!$I$6*100)))","v":""},{"$f":"IF(OR(U376=\"NA\", U376=\"FAILED\"), U376, (IF(ISERROR(S376/U376/'Test Info'!$I$6*6000), \"\", S376/U376/'Test Info'!$I$6*6000)))","v":""}]
["Default Driver","Mono","TestFile11","Outlook",1,null,null,{"$f":"IF(OR(G377=\"NA\", G377=\"FAILED\"), G377, (IF(ISERROR((E377-1)/(G377-F377)*60), \"\", (E377-1)/(G377-F377)*60)))","v":""},{"$f":"IF(OR(G377=\"NA\", G377=\"FAILED\"), G377, (IF(ISERROR(H377/'Test Info'!$I$6*100), \"\", H377/'Test Info'!$I$6*100)))","v":""},{"$f":"IF(OR(G377=\"NA\", G377=\"FAILED\"), G377, (IF(ISERROR(E377/G377/'Test Info'!$I$6*6000), \"\", E377/G377/'Test Info'!$I$6*6000)))","v":""},null,null,null,null,"Default Driver","Mono","TestFile11","Outlook",1,null,null,"",{"$f":"IF(OR(U377=\"NA\", U377=\"FAILED\"), U377, (IF(ISERROR(V377/'Test Info'!$I$6*100), \"\", V377/'Test Info'!$I$6*100)))","v":""},{"$f":"IF(OR(U377=\"NA\", U377=\"FAILED\"), U377, (IF(ISERROR(S377/U377/'Test Info'!$I$6*6000), \"\", S377/U377/'Test Info'!$I$6*6000)))","v":""}]
["Default Driver","Mono","Budget","Excel",1,null,null,{"$f":"IF(OR(G378=\"NA\", G378=\"FAILED\"), G378, (IF(ISERROR((E378-1)/(G378-F378)*60), \"\", (E378-1)/(G378-F378)*60)))","v":""},{"$f":"IF(OR(G378=\"NA\", G378=\"FAILED\"), G378, (IF(ISERROR(H378/'Test Info'!$I$6*100), \"\", H378/'Test Info'!$I$6*100)))","v":""},{"$f":"IF(OR(G378=\"NA\", G378=\"FAILED\"), G378, (IF(ISERROR(E378/G378/'Test Info'!$I$6*6000), \"\", E378/G378/'Test Info'!$I$6*6000)))","v":""},null,null,null,null,"Default Driver","Mono","Budget","Excel",1,null,null,"",{"$f":"IF(OR(U378=\"NA\", U378=\"FAILED\"), U378, (IF(ISERROR(V378/'Test Info'!$I$6*100), \"\", V378/'Test Info'!$I$6*100)))","v":""},{"$f":"IF(OR(U378=\"NA\", U378=\"FAILED\"), U378, (IF(ISERROR(S378/U378/'Test Info'!$I$6*6000), \"\", S378/U378/'Test Info'!$I$6*6000)))","v":""}]
[null,null,null,"Average",{"$f":"AVERAGE(E375:E378)","v":6.5},{"$f":"IF(F378=\"NA\", F378, (IF(ISERROR(AVERAGE(F375:F378)), \"\", AVERAGE(F375:F378))))","v":""},{"$f":"IF(G378=\"NA\", G378, (IF(ISERROR(AVERAGE(G375:G378)), \"\", AVERAGE(G375:G378))))","v":""},{"$f":"IF(H378=\"NA\", H378, (IF(ISERROR(AVERAGE(H375:H378)), \"\", AVERAGE(H375:H378))))","v":""},{"$f":"IF(I378=\"NA\", I378, (IF(ISERROR(AVERAGE(I375:I378)), \"\", AVERAGE(I375:I378))))","v":""},{"$f":"IF(J378=\"NA\", J378, (IF(ISERROR(AVERAGE(J375:J378)), \"\", AVERAGE(J375:J378))))","v":""},null,null,null,null,null,null,null,"Average",{"$f":"AVERAGE(S375:S378)","v":6.5},{"$f":"IF(T378=\"NA\", T378, (IF(ISERROR(AVERAGE(T375:T378)), \"\", AVERAGE(T375:T378))))","v":""},{"$f":"IF(U378=\"NA\", U378, (IF(ISERROR(AVERAGE(U375:U378)), \"\", AVERAGE(U375:U378))))","v":""},{"$f":"IF(V378=\"NA\", V378, (IF(ISERROR(AVERAGE(V375:V378)), \"\", AVERAGE(V375:V378))))","v":""},{"$f":"IF(W378=\"NA\", W378, (IF(ISERROR(AVERAGE(W375:W378)), \"\", AVERAGE(W375:W378))))","v":""},{"$f":"IF(X378=\"NA\", X378, (IF(ISERROR(AVERAGE(X375:X378)), \"\", AVERAGE(X375:X378))))","v":""}]

{"sheet":"Print To Default Tray Subset","index":4,"n_rows":129,"n_cols":33,"rows_kept":129,"cut":false,"hidden":true,"merged":[[36,0,38,0],[36,17,38,17],[4,9,4,11],[7,0,7,8],[7,17,7,25],[8,0,35,0],[8,17,35,17]]}
["This is a condensed version of Print To Default Tray for a quick check"]
[{"$f":"'Test Info'!A1:G1","v":"Samudra MFP High B0"},null,null,null,null,null,null,null,null,null,null,null,null,null,null,null,null,{"$f":"'Test Info'!B16","v":"Samudra Low MFP"}]
["Default Driver",null,"Enter ",null,null,null,null,null,null,null,null,null,null,null,null,null,null,"Default Driver",null,"Enter "]
["Alternative Driver",null,"Enter",null,null,null,null,null,null,null,null,null,null,null,null,null,null,"Alternative Driver",null,"Enter"]
[]
["Note: Both Color & Mono jobs need to be printed on Mono device.",null,null,null,null,null,null,null,null,null,null,null,null,null,null,null,null,"Note: Both Color & Mono jobs need to be printed on Mono device."]
[]
["SPT Print to Default Tray Subset  (Test Device)",null,null,null,null,null,null,null,null,null,null,null,null,null,null,null,null,"SPT Print to Default Tray Subset  (Benchmark)"]
["No Banner\nRegular\nSubmission",null,"Driver","Mode","Job Type","Application","Size","Side","File","Collation","Pages Printed","FPOT Measured\nin Seconds","C-C  Measured\nin Seconds","2-N PPM Calculated","2-N % Rated Speed Calculated","C-C % Rated Speed Calculated",null,"No Banner\nRegular\nSubmission",null,"Driver","Mode","Job Type","Application","Size","Side","File","Collation","Pages Printed","FPOT Measured\nin Seconds","C-C  Measured\nin Seconds","2-N PPM Calculated","2-N % Rated Speed Calculated","C-C % Rated Speed Calculated"]
[null,"Case 1","Default","Color","Stress","Word","Letter","Simplex","Lincoln 6","NA",6,null,null,{"$f":"IF(OR(M10=\"NA\", M10=\"FAILED\"), M10, (IF(ISERROR((K10-1)/(M10-L10)*60), \"\", (K10-1)/(M10-L10)*60)))","v":""},{"$f":"IF(OR(M10=\"NA\", M10=\"FAILED\"), M10, (IF(ISERROR(N10/'Test Info'!$I$6*100), \"\", N10/'Test Info'!$I$6*100)))","v":""},{"$f":"IF(OR(M10=\"NA\", M10=\"FAILED\"), M10, (IF(ISERROR(K10/M10/'Test Info'!$I$6*6000), \"\", K10/M10/'Test Info'!$I$6*6000)))","v":""},null,null,"Case 1","Default","Color","Stress","Word","Letter","Simplex","Lincoln 6","NA",6,null,null,{"$f":"IF(OR(AD10=\"NA\", AD10=\"FAILED\"), AD10, (IF(ISERROR((AB10-1)/(AD10-AC10)*60), \"\", (AB10-1)/(AD10-AC10)*60)))","v":""},{"$f":"IF(OR(AD10=\"NA\", AD10=\"FAILED\"), AD10, (IF(ISERROR(AE10/'Test Info'!$I$6*100), \"\", AE10/'Test Info'!$I$6*100)))","v":""},{"$f":"IF(OR(AD10=\"NA\", AD10=\"FAILED\"), AD10, (IF(ISERROR(AB10/AD10/'Test Info'!$I$6*6000), \"\", AB10/AD10/'Test Info'!$I$6*6000)))","v":""}]
[null,"Case 2","Default","Color","Graphic","Excel","Letter","Simplex","Rainfall","NA",7,null,null,"",{"$f":"IF(OR(M11=\"NA\", M11=\"FAILED\"), M11, (IF(ISERROR(N11/'Test Info'!$I$6*100), \"\", N11/'Test Info'!$I$6*100)))","v":""},{"$f":"IF(OR(M11=\"NA\", M11=\"FAILED\"), M11, (IF(ISERROR(K11/M11/'Test Info'!$I$6*6000), \"\", K11/M11/'Test Info'!$I$6*6000)))","v":""},null,null,"Case 2","Default","Color","Graphic","Excel","Letter","Simplex","Rainfall","NA",7,null,null,{"$f":"IF(OR(AD11=\"NA\", AD11=\"FAILED\"), AD11, (IF(ISERROR((AB11-1)/(AD11-AC11)*60), \"\", (AB11-1)/(AD11-AC11)*60)))","v":""},{"$f":"IF(OR(AD11=\"NA\", AD11=\"FAILED\"), AD11, (IF(ISERROR(AE11/'Test Info'!$I$6*100), \"\", AE11/'Test Info'!$I$6*100)))","v":""},{"$f":"IF(OR(AD11=\"NA\", AD11=\"FAILED\"), AD11, (IF(ISERROR(AB11/AD11/'Test Info'!$I$6*6000), \"\", AB11/AD11/'Test Info'!$I$6*6000)))","v":""}]
[null,"Case 3","Default","Color","Graphic","Corel Draw","Letter","Simplex","The blue fairy book 40","NA",40,null,null,"",{"$f":"IF(OR(M12=\"NA\", M12=\"FAILED\"), M12, (IF(ISERROR(N12/'Test Info'!$I$6*100), \"\", N12/'Test Info'!$I$6*100)))","v":""},{"$f":"IF(OR(M12=\"NA\", M12=\"FAILED\"), M12, (IF(ISERROR(K12/M12/'Test Info'!$I$6*6000), \"\", K12/M12/'Test Info'!$I$6*6000)))","v":""},null,null,"Case 3","Default","Color","Graphic","Corel Draw","Letter","Simplex","The blue fairy book 40","NA",40,null,null,"",{"$f":"IF(OR(AD12=\"NA\", AD12=\"FAILED\"), AD12, (IF(ISERROR(AE12/'Test Info'!$I$6*100), \"\", AE12/'Test Info'!$I$6*100)))","v":""},{"$f":"IF(OR(AD12=\"NA\", AD12=\"FAILED\"), AD12, (IF(ISERROR(AB12/AD12/'Test Info'!$I$6*6000), \"\", AB12/AD12/'Test Info'!$I$6*6000)))","v":""}]
[null,"Case 4","Default","Color","Graphic","Illustrator","Letter","Simplex","Oberan 4","NA",4,null,null,"",{"$f":"IF(OR(M13=\"NA\", M13=\"FAILED\"), M13, (IF(ISERROR(N13/'Test Info'!$I$6*100), \"\", N13/'Test Info'!$I$6*100)))","v":""},{"$f":"IF(OR(M13=\"NA\", M13=\"FAILED\"), M13, (IF(ISERROR(K13/M13/'Test Info'!$I$6*6000), \"\", K13/M13/'Test Info'!$I$6*6000)))","v":""},null,null,"Case 4","Default","Color","Graphic","Illustrator","Letter","Simplex","Oberan 4","NA",4,null,null,"",{"$f":"IF(OR(AD13=\"NA\", AD13=\"FAILED\"), AD13, (IF(ISERROR(AE13/'Test Info'!$I$6*100), \"\", AE13/'Test Info'!$I$6*100)))","v":""},{"$f":"IF(OR(AD13=\"NA\", AD13=\"FAILED\"), AD13, (IF(ISERROR(AB13/AD13/'Test Info'!$I$6*6000), \"\", AB13/AD13/'Test Info'!$I$6*6000)))","v":""}]
[null,"Case 5","Default","Color","Graphic","Publisher","Letter","Simplex","Calendar","NA",12,null,null,"",{"$f":"IF(OR(M14=\"NA\", M14=\"FAILED\"), M14, (IF(ISERROR(N14/'Test Info'!$I$6*100), \"\", N14/'Test Info'!$I$6*100)))","v":""},{"$f":"IF(OR(M14=\"NA\", M14=\"FAILED\"), M14, (IF(ISERROR(K14/M14/'Test Info'!$I$6*6000), \"\", K14/M14/'Test Info'!$I$6*6000)))","v":""},null,null,"Case 5","Default","Color","Graphic","Publisher","Letter","Simplex","Calendar","NA",12,null,null,"",{"$f":"IF(OR(AD14=\"NA\", AD14=\"FAILED\"), AD14, (IF(ISERROR(AE14/'Test Info'!$I$6*100), \"\", AE14/'Test Info'!$I$6*100)))","v":""},{"$f":"IF(OR(AD14=\"NA\", AD14=\"FAILED\"), AD14, (IF(ISERROR(AB14/AD14/'Test Info'!$I$6*6000), \"\", AB14/AD14/'Test Info'!$I$6*6000)))","v":""}]
[null,"Case 6","Default","Color","Stress","Photoshop","Letter","Simplex","Turtle Island","NA",1,null,null,"",{"$f":"IF(OR(M15=\"NA\", M15=\"FAILED\"), M15, (IF(ISERROR(N15/'Test Info'!$I$6*100), \"\", N15/'Test Info'!$I$6*100)))","v":""},{"$f":"IF(OR(M15=\"NA\", M15=\"FAILED\"), M15, (IF(ISERROR(K15/M15/'Test Info'!$I$6*6000), \"\", K15/M15/'Test Info'!$I$6*6000)))","v":""},null,null,"Case 6","Default","Color","Stress","Photoshop","Letter","Simplex","Turtle Island","NA",1,null,null,"",{"$f":"IF(OR(AD15=\"NA\", AD15=\"FAILED\"), AD15, (IF(ISERROR(AE15/'Test Info'!$I$6*100), \"\", AE15/'Test Info'!$I$6*100)))","v":""},{"$f":"IF(OR(AD15=\"NA\", AD15=\"FAILED\"), AD15, (IF(ISERROR(AB15/AD15/'Test Info'!$I$6*6000), \"\", AB15/AD15/'Test Info'!$I$6*6000)))","v":""}]
[null,"Case 7","Default","Color","Graphic","Acrobat","Letter","Simplex","Outcast","NA",12,null,null,"",{"$f":"IF(OR(M16=\"NA\", M16=\"FAILED\"), M16, (IF(ISERROR(N16/'Test Info'!$I$6*100), \"\", N16/'Test Info'!$I$6*100)))","v":""},{"$f":"IF(OR(M16=\"NA\", M16=\"FAILED\"), M16, (IF(ISERROR(K16/M16/'Test Info'!$I$6*6000), \"\", K16/M16/'Test Info'!$I$6*6000)))","v":""},null,null,"Case 7","Default","Color","Graphic","Acrobat","Letter","Simplex","Outcast","NA",12,null,null,"",{"$f":"IF(OR(AD16=\"NA\", AD16=\"FAILED\"), AD16, (IF(ISERROR(AE16/'Test Info'!$I$6*100), \"\", AE16/'Test Info'!$I$6*100)))","v":""},{"$f":"IF(OR(AD16=\"NA\", AD16=\"FAILED\"), AD16, (IF(ISERROR(AB16/AD16/'Test Info'!$I$6*6000), \"\", AB16/AD16/'Test Info'!$I$6*6000)))","v":""}]
[null,"Case 8","Default","Color","Office","Access","Letter","Duplex","Volcanoes","NA",4,null,null,"",{"$f":"IF(OR(M17=\"NA\", M17=\"FAILED\"), M17, (IF(ISERROR(N17/'Test Info'!$I$6*100), \"\", N17/'Test Info'!$I$6*100)))","v":""},{"$f":"IF(OR(M17=\"NA\", M17=\"FAILED\"), M17, (IF(ISERROR(K17/M17/'Test Info'!$I$6*6000), \"\", K17/M17/'Test Info'!$I$6*6000)))","v":""},null,null,"Case 8","Default","Color","Office","Access","Letter","Duplex","Volcanoes","NA",4,null,null,"",{"$f":"IF(OR(AD17=\"NA\", AD17=\"FAILED\"), AD17, (IF(ISERROR(AE17/'Test Info'!$I$6*100), \"\", AE17/'Test Info'!$I$6*100)))","v":""},{"$f":"IF(OR(AD17=\"NA\", AD17=\"FAILED\"), AD17, (IF(ISERROR(AB17/AD17/'Test Info'!$I$6*6000), \"\", AB17/AD17/'Test Info'!$I$6*6000)))","v":""}]
[null,"Case 9","Default","Color","Office","Excel","Letter","Duplex","Salary","NA",6,null,null,"",{"$f":"IF(OR(M18=\"NA\", M18=\"FAILED\"), M18, (IF(ISERROR(N18/'Test Info'!$I$6*100), \"\", N18/'Test Info'!$I$6*100)))","v":""},{"$f":"IF(OR(M18=\"NA\", M18=\"FAILED\"), M18, (IF(ISERROR(K18/M18/'Test Info'!$I$6*6000), \"\", K18/M18/'Test Info'!$I$6*6000)))","v":""},null,null,"Case 9","Default","Color","Office","Excel","Letter","Duplex","Salary","NA",6,null,null,"",{"$f":"IF(OR(AD18=\"NA\", AD18=\"FAILED\"), AD18, (IF(ISERROR(AE18/'Test Info'!$I$6*100), \"\", AE18/'Test Info'!$I$6*100)))","v":""},{"$f":"IF(OR(AD18=\"NA\", AD18=\"FAILED\"), AD18, (IF(ISERROR(AB18/AD18/'Test Info'!$I$6*6000), \"\", AB18/AD18/'Test Info'!$I$6*6000)))","v":""}]
[null,"Case 10","Default","Mono","Office","Word","Letter","Duplex","Mountains","NA",13,null,null,"",{"$f":"IF(OR(M19=\"NA\", M19=\"FAILED\"), M19, (IF(ISERROR(N19/'Test Info'!$I$6*100), \"\", N19/'Test Info'!$I$6*100)))","v":""},{"$f":"IF(OR(M19=\"NA\", M19=\"FAILED\"), M19, (IF(ISERROR(K19/M19/'Test Info'!$I$6*6000), \"\", K19/M19/'Test Info'!$I$6*6000)))","v":""},null,null,"Case 10","Default","Mono","Office","Word","Letter","Duplex","Mountains","NA",13,null,null,{"$f":"IF(OR(AD19=\"NA\", AD19=\"FAILED\"), AD19, (IF(ISERROR((AB19-1)/(AD19-AC19)*60), \"\", (AB19-1)/(AD19-AC19)*60)))","v":""},{"$f":"IF(OR(AD19=\"NA\", AD19=\"FAILED\"), AD19, (IF(ISERROR(AE19/'Test Info'!$I$6*100), \"\", AE19/'Test Info'!$I$6*100)))","v":""},{"$f":"IF(OR(AD19=\"NA\", AD19=\"FAILED\"), AD19, (IF(ISERROR(AB19/AD19/'Test Info'!$I$6*6000), \"\", AB19/AD19/'Test Info'!$I$6*6000)))","v":""}]
[null,"Case 11","Default","Mono","Office","Powerpoint","Letter","Duplex","Gold","NA",4,null,null,"",{"$f":"IF(OR(M20=\"NA\", M20=\"FAILED\"), M20, (IF(ISERROR(N20/'Test Info'!$I$6*100), \"\", N20/'Test Info'!$I$6*100)))","v":""},{"$f":"IF(OR(M20=\"NA\", M20=\"FAILED\"), M20, (IF(ISERROR(K20/M20/'Test Info'!$I$6*6000), \"\", K20/M20/'Test Info'!$I$6*6000)))","v":""},null,null,"Case 11","Default","Mono","Office","Powerpoint","Letter","Duplex","Gold","NA",4,null,null,"",{"$f":"IF(OR(AD20=\"NA\", AD20=\"FAILED\"), AD20, (IF(ISERROR(AE20/'Test Info'!$I$6*100), \"\", AE20/'Test Info'!$I$6*100)))","v":""},{"$f":"IF(OR(AD20=\"NA\", AD20=\"FAILED\"), AD20, (IF(ISERROR(AB20/AD20/'Test Info'!$I$6*6000), \"\", AB20/AD20/'Test Info'!$I$6*6000)))","v":""}]
[null,"Case 12","Alternative","Color","Graphic","Publisher","Letter","Simplex","Calendar","NA",12,null,null,"",{"$f":"IF(OR(M21=\"NA\", M21=\"FAILED\"), M21, (IF(ISERROR(N21/'Test Info'!$I$6*100), \"\", N21/'Test Info'!$I$6*100)))","v":""},{"$f":"IF(OR(M21=\"NA\", M21=\"FAILED\"), M21, (IF(ISERROR(K21/M21/'Test Info'!$I$6*6000), \"\", K21/M21/'Test Info'!$I$6*6000)))","v":""},null,null,"Case 12","Alternative","Color","Graphic","Publisher","Letter","Simplex","Calendar","NA",12,null,null,"",{"$f":"IF(OR(AD21=\"NA\", AD21=\"FAILED\"), AD21, (IF(ISERROR(AE21/'Test Info'!$I$6*100), \"\", AE21/'Test Info'!$I$6*100)))","v":""},{"$f":"IF(OR(AD21=\"NA\", AD21=\"FAILED\"), AD21, (IF(ISERROR(AB21/AD21/'Test Info'!$I$6*6000), \"\", AB21/AD21/'Test Info'!$I$6*6000)))","v":""}]
[null,"Case 13","Alternative","Color","Stress","Photoshop","Letter","Simplex","Turtle Island","NA",1,null,null,"",{"$f":"IF(OR(M22=\"NA\", M22=\"FAILED\"), M22, (IF(ISERROR(N22/'Test Info'!$I$6*100), \"\", N22/'Test Info'!$I$6*100)))","v":""},{"$f":"IF(OR(M22=\"NA\", M22=\"FAILED\"), M22, (IF(ISERROR(K22/M22/'Test Info'!$I$6*6000), \"\", K22/M22/'Test Info'!$I$6*6000)))","v":""},null,null,"Case 13","Alternative","Color","Stress","Photoshop","Letter","Simplex","Turtle Island","NA",1,null,null,"",{"$f":"IF(OR(AD22=\"NA\", AD22=\"FAILED\"), AD22, (IF(ISERROR(AE22/'Test Info'!$I$6*100), \"\", AE22/'Test Info'!$I$6*100)))","v":""},{"$f":"IF(OR(AD22=\"NA\", AD22=\"FAILED\"), AD22, (IF(ISERROR(AB22/AD22/'Test Info'!$I$6*6000), \"\", AB22/AD22/'Test Info'!$I$6*6000)))","v":""}]
[null,"Case 14","Alternative","Color","Office","Access","Letter","Simplex","Volcanoes","NA",7,null,null,"",{"$f":"IF(OR(M23=\"NA\", M23=\"FAILED\"), M23, (IF(ISERROR(N23/'Test Info'!$I$6*100), \"\", N23/'Test Info'!$I$6*100)))","v":""},{"$f":"IF(OR(M23=\"NA\", M23=\"FAILED\"), M23, (IF(ISERROR(K23/M23/'Test Info'!$I$6*6000), \"\", K23/M23/'Test Info'!$I$6*6000)))","v":""},null,null,"Case 14","Alternative","Color","Office","Access","Letter","Simplex","Volcanoes","NA",7,null,null,"",{"$f":"IF(OR(AD23=\"NA\", AD23=\"FAILED\"), AD23, (IF(ISERROR(AE23/'Test Info'!$I$6*100), \"\", AE23/'Test Info'!$I$6*100)))","v":""},{"$f":"IF(OR(AD23=\"NA\", AD23=\"FAILED\"), AD23, (IF(ISERROR(AB23/AD23/'Test Info'!$I$6*6000), \"\", AB23/AD23/'Test Info'!$I$6*6000)))","v":""}]
[null,"Case 15","Alternative","Color","Graphic","Acrobat","Letter","Simplex","Outcast","NA",12,null,null,"",{"$f":"IF(OR(M24=\"NA\", M24=\"FAILED\"), M24, (IF(ISERROR(N24/'Test Info'!$I$6*100), \"\", N24/'Test Info'!$I$6*100)))","v":""},{"$f":"IF(OR(M24=\"NA\", M24=\"FAILED\"), M24, (IF(ISERROR(K24/M24/'Test Info'!$I$6*6000), \"\", K24/M24/'Test Info'!$I$6*6000)))","v":""},null,null,"Case 15","Alternative","Color","Graphic","Acrobat","Letter","Simplex","Outcast","NA",12,null,null,{"$f":"IF(OR(AD24=\"NA\", AD24=\"FAILED\"), AD24, (IF(ISERROR((AB24-1)/(AD24-AC24)*60), \"\", (AB24-1)/(AD24-AC24)*60)))","v":""},{"$f":"IF(OR(AD24=\"NA\", AD24=\"FAILED\"), AD24, (IF(ISERROR(AE24/'Test Info'!$I$6*100), \"\", AE24/'Test Info'!$I$6*100)))","v":""},{"$f":"IF(OR(AD24=\"NA\", AD24=\"FAILED\"), AD24, (IF(ISERROR(AB24/AD24/'Test Info'!$I$6*6000), \"\", AB24/AD24/'Test Info'!$I$6*6000)))","v":""}]
[null,"Case 16","Alternative","Mono","Office","Chrome","Letter","Duplex","Classifieds","NA",7,null,null,"",{"$f":"IF(OR(M25=\"NA\", M25=\"FAILED\"), M25, (IF(ISERROR(N25/'Test Info'!$I$6*100), \"\", N25/'Test Info'!$I$6*100)))","v":""},{"$f":"IF(OR(M25=\"NA\", M25=\"FAILED\"), M25, (IF(ISERROR(K25/M25/'Test Info'!$I$6*6000), \"\", K25/M25/'Test Info'!$I$6*6000)))","v":""},null,null,"Case 16","Alternative","Mono","Office","Chrome","Letter","Duplex","Classifieds","NA",7,null,null,"",{"$f":"IF(OR(AD25=\"NA\", AD25=\"FAILED\"), AD25, (IF(ISERROR(AE25/'Test Info'!$I$6*100), \"\", AE25/'Test Info'!$I$6*100)))","v":""},{"$f":"IF(OR(AD25=\"NA\", AD25=\"FAILED\"), AD25, (IF(ISERROR(AB25/AD25/'Test Info'!$I$6*6000), \"\", AB25/AD25/'Test Info'!$I$6*6000)))","v":""}]
[null,"Case 17","Alternative","Color","Office","Quark","Letter","Duplex","Blue sky","NA",6,null,null,"",{"$f":"IF(OR(M26=\"NA\", M26=\"FAILED\"), M26, (IF(ISERROR(N26/'Test Info'!$I$6*100), \"\", N26/'Test Info'!$I$6*100)))","v":""},{"$f":"IF(OR(M26=\"NA\", M26=\"FAILED\"), M26, (IF(ISERROR(K26/M26/'Test Info'!$I$6*6000), \"\", K26/M26/'Test Info'!$I$6*6000)))","v":""},null,null,"Case 17","Alternative","Color","Office","Quark","Letter","Duplex","Blue sky","NA",6,null,null,"",{"$f":"IF(OR(AD26=\"NA\", AD26=\"FAILED\"), AD26, (IF(ISERROR(AE26/'Test Info'!$I$6*100), \"\", AE26/'Test Info'!$I$6*100)))","v":""},{"$f":"IF(OR(AD26=\"NA\", AD26=\"FAILED\"), AD26, (IF(ISERROR(AB26/AD26/'Test Info'!$I$6*6000), \"\", AB26/AD26/'Test Info'!$I$6*6000)))","v":""}]
[null,"Case 18","Alternative","Mono","Office","Powerpoint","Letter","Duplex","Gold","NA",4,null,null,"",{"$f":"IF(OR(M27=\"NA\", M27=\"FAILED\"), M27, (IF(ISERROR(N27/'Test Info'!$I$6*100), \"\", N27/'Test Info'!$I$6*100)))","v":""},{"$f":"IF(OR(M27=\"NA\", M27=\"FAILED\"), M27, (IF(ISERROR(K27/M27/'Test Info'!$I$6*6000), \"\", K27/M27/'Test Info'!$I$6*6000)))","v":""},null,null,"Case 18","Alternative","Mono","Office","Powerpoint","Letter","Duplex","Gold","NA",4,null,null,"",{"$f":"IF(OR(AD27=\"NA\", AD27=\"FAILED\"), AD27, (IF(ISERROR(AE27/'Test Info'!$I$6*100), \"\", AE27/'Test Info'!$I$6*100)))","v":""},{"$f":"IF(OR(AD27=\"NA\", AD27=\"FAILED\"), AD27, (IF(ISERROR(AB27/AD27/'Test Info'!$I$6*6000), \"\", AB27/AD27/'Test Info'!$I$6*6000)))","v":""}]
[null,"Case 19","Alternative","Mono","Office","Illustrator","Letter","Duplex","Oberan 1","NA",1,null,null,"",{"$f":"IF(OR(M28=\"NA\", M28=\"FAILED\"), M28, (IF(ISERROR(N28/'Test Info'!$I$6*100), \"\", N28/'Test Info'!$I$6*100)))","v":""},{"$f":"IF(OR(M28=\"NA\", M28=\"FAILED\"), M28, (IF(ISERROR(K28/M28/'Test Info'!$I$6*6000), \"\", K28/M28/'Test Info'!$I$6*6000)))","v":""},null,null,"Case 19","Alternative","Mono","Office","Illustrator","Letter","Duplex","Oberan 1","NA",1,null,null,"",{"$f":"IF(OR(AD28=\"NA\", AD28=\"FAILED\"), AD28, (IF(ISERROR(AE28/'Test Info'!$I$6*100), \"\", AE28/'Test Info'!$I$6*100)))","v":""},{"$f":"IF(OR(AD28=\"NA\", AD28=\"FAILED\"), AD28, (IF(ISERROR(AB28/AD28/'Test Info'!$I$6*6000), \"\", AB28/AD28/'Test Info'!$I$6*6000)))","v":""}]
[null,"Case 20","Default","Mono","Office","Excel","A4","Simplex","Budget","NA",1,null,null,"",{"$f":"IF(OR(M29=\"NA\", M29=\"FAILED\"), M29, (IF(ISERROR(N29/'Test Info'!$I$6*100), \"\", N29/'Test Info'!$I$6*100)))","v":""},{"$f":"IF(OR(M29=\"NA\", M29=\"FAILED\"), M29, (IF(ISERROR(K29/M29/'Test Info'!$I$6*6000), \"\", K29/M29/'Test Info'!$I$6*6000)))","v":""},null,null,"Case 20","Default","Mono","Office","Excel","A4","Simplex","Budget","NA",1,null,null,"",{"$f":"IF(OR(AD29=\"NA\", AD29=\"FAILED\"), AD29, (IF(ISERROR(AE29/'Test Info'!$I$6*100), \"\", AE29/'Test Info'!$I$6*100)))","v":""},{"$f":"IF(OR(AD29=\"NA\", AD29=\"FAILED\"), AD29, (IF(ISERROR(AB29/AD29/'Test Info'!$I$6*6000), \"\", AB29/AD29/'Test Info'!$I$6*6000)))","v":""}]
[null,"Case 21","Default","Mono","Office","Outlook","A4","Simplex","TestFile11","NA",1,null,null,"",{"$f":"IF(OR(M30=\"NA\", M30=\"FAILED\"), M30, (IF(ISERROR(N30/'Test Info'!$I$6*100), \"\", N30/'Test Info'!$I$6*100)))","v":""},{"$f":"IF(OR(M30=\"NA\", M30=\"FAILED\"), M30, (IF(ISERROR(K30/M30/'Test Info'!$I$6*6000), \"\", K30/M30/'Test Info'!$I$6*6000)))","v":""},null,null,"Case 21","Default","Mono","Office","Outlook","A4","Simplex","TestFile11","NA",1,null,null,"",{"$f":"IF(OR(AD30=\"NA\", AD30=\"FAILED\"), AD30, (IF(ISERROR(AE30/'Test Info'!$I$6*100), \"\", AE30/'Test Info'!$I$6*100)))","v":""},{"$f":"IF(OR(AD30=\"NA\", AD30=\"FAILED\"), AD30, (IF(ISERROR(AB30/AD30/'Test Info'!$I$6*6000), \"\", AB30/AD30/'Test Info'!$I$6*6000)))","v":""}]
[null,"Case 22","Default","Color","Office","Word","A4","Simplex","Contents","NA",12,null,null,"",{"$f":"IF(OR(M31=\"NA\", M31=\"FAILED\"), M31, (IF(ISERROR(N31/'Test Info'!$I$6*100), \"\", N31/'Test Info'!$I$6*100)))","v":""},{"$f":"IF(OR(M31=\"NA\", M31=\"FAILED\"), M31, (IF(ISERROR(K31/M31/'Test Info'!$I$6*6000), \"\", K31/M31/'Test Info'!$I$6*6000)))","v":""},null,null,"Case 22","Default","Color","Office","Word","A4","Simplex","Contents","NA",12,null,null,"",{"$f":"IF(OR(AD31=\"NA\", AD31=\"FAILED\"), AD31, (IF(ISERROR(AE31/'Test Info'!$I$6*100), \"\", AE31/'Test Info'!$I$6*100)))","v":""},{"$f":"IF(OR(AD31=\"NA\", AD31=\"FAILED\"), AD31, (IF(ISERROR(AB31/AD31/'Test Info'!$I$6*6000), \"\", AB31/AD31/'Test Info'!$I$6*6000)))","v":""}]
[null,"Case 23","Default","Color","Office","Powerpoint","A4","Simplex","Jewelry","NA",12,null,null,"",{"$f":"IF(OR(M32=\"NA\", M32=\"FAILED\"), M32, (IF(ISERROR(N32/'Test Info'!$I$6*100), \"\", N32/'Test Info'!$I$6*100)))","v":""},{"$f":"IF(OR(M32=\"NA\", M32=\"FAILED\"), M32, (IF(ISERROR(K32/M32/'Test Info'!$I$6*6000), \"\", K32/M32/'Test Info'!$I$6*6000)))","v":""},null,null,"Case 23","Default","Color","Office","Powerpoint","A4","Simplex","Jewelry","NA",12,null,null,{"$f":"IF(OR(AD32=\"NA\", AD32=\"FAILED\"), AD32, (IF(ISERROR((AB32-1)/(AD32-AC32)*60), \"\", (AB32-1)/(AD32-AC32)*60)))","v":""},{"$f":"IF(OR(AD32=\"NA\", AD32=\"FAILED\"), AD32, (IF(ISERROR(AE32/'Test Info'!$I$6*100), \"\", AE32/'Test Info'!$I$6*100)))","v":""},{"$f":"IF(OR(AD32=\"NA\", AD32=\"FAILED\"), AD32, (IF(ISERROR(AB32/AD32/'Test Info'!$I$6*6000), \"\", AB32/AD32/'Test Info'!$I$6*6000)))","v":""}]
[null,"Case 24","Default","Color","Office","Chrome","Legal","Simplex","Classifieds-14","NA",13,null,null,"",{"$f":"IF(OR(M33=\"NA\", M33=\"FAILED\"), M33, (IF(ISERROR(N33/'Test Info'!$I$6*100), \"\", N33/'Test Info'!$I$6*100)))","v":""},{"$f":"IF(OR(M33=\"NA\", M33=\"FAILED\"), M33, (IF(ISERROR(K33/M33/'Test Info'!$I$6*6000), \"\", K33/M33/'Test Info'!$I$6*6000)))","v":""},null,null,"Case 24","Default","Color","Office","Chrome","Legal","Simplex","Classifieds-14","NA",13,null,null,"",{"$f":"IF(OR(AD33=\"NA\", AD33=\"FAILED\"), AD33, (IF(ISERROR(AE33/'Test Info'!$I$6*100), \"\", AE33/'Test Info'!$I$6*100)))","v":""},{"$f":"IF(OR(AD33=\"NA\", AD33=\"FAILED\"), AD33, (IF(ISERROR(AB33/AD33/'Test Info'!$I$6*6000), \"\", AB33/AD33/'Test Info'!$I$6*6000)))","v":""}]
[null,"Case 25","Alternative","Mono","Office","Excel","Legal","Simplex","Salary-14","NA",5,null,null,"",{"$f":"IF(OR(M34=\"NA\", M34=\"FAILED\"), M34, (IF(ISERROR(N34/'Test Info'!$I$6*100), \"\", N34/'Test Info'!$I$6*100)))","v":""},{"$f":"IF(OR(M34=\"NA\", M34=\"FAILED\"), M34, (IF(ISERROR(K34/M34/'Test Info'!$I$6*6000), \"\", K34/M34/'Test Info'!$I$6*6000)))","v":""},null,null,"Case 25","Alternative","Mono","Office","Excel","Legal","Simplex","Salary-14","NA",5,null,null,"",{"$f":"IF(OR(AD34=\"NA\", AD34=\"FAILED\"), AD34, (IF(ISERROR(AE34/'Test Info'!$I$6*100), \"\", AE34/'Test Info'!$I$6*100)))","v":""},{"$f":"IF(OR(AD34=\"NA\", AD34=\"FAILED\"), AD34, (IF(ISERROR(AB34/AD34/'Test Info'!$I$6*6000), \"\", AB34/AD34/'Test Info'!$I$6*6000)))","v":""}]
[null,"Case 26","Default","Color","Graphic","Powerpoint","Tabloid","Simplex","Valentines day -17","NA",40,null,null,"",{"$f":"IF(OR(M35=\"NA\", M35=\"FAILED\"), M35, (IF(ISERROR(N35/'Test Info'!$I$6*100), \"\", N35/'Test Info'!$I$6*100)))","v":""},{"$f":"IF(OR(M35=\"NA\", M35=\"FAILED\"), M35, (IF(ISERROR(K35/M35/'Test Info'!$I$6*6000), \"\", K35/M35/'Test Info'!$I$6*6000)))","v":""},null,null,"Case 26","Default","Color","Graphic","Powerpoint","Tabloid","Simplex","Valentines day -17","NA",40,null,null,"",{"$f":"IF(OR(AD35=\"NA\", AD35=\"FAILED\"), AD35, (IF(ISERROR(AE35/'Test Info'!$I$6*100), \"\", AE35/'Test Info'!$I$6*100)))","v":""},{"$f":"IF(OR(AD35=\"NA\", AD35=\"FAILED\"), AD35, (IF(ISERROR(AB35/AD35/'Test Info'!$I$6*6000), \"\", AB35/AD35/'Test Info'!$I$6*6000)))","v":""}]
[null,"Case 27","Alternative","Mono","Office","Word","Tabloid","Simplex","Contents-17","NA",7,null,null,"",{"$f":"IF(OR(M36=\"NA\", M36=\"FAILED\"), M36, (IF(ISERROR(N36/'Test Info'!$I$6*100), \"\", N36/'Test Info'!$I$6*100)))","v":""},{"$f":"IF(OR(M36=\"NA\", M36=\"FAILED\"), M36, (IF(ISERROR(K36/M36/'Test Info'!$I$6*6000), \"\", K36/M36/'Test Info'!$I$6*6000)))","v":""},null,null,"Case 27","Alternative","Mono","Office","Word","Tabloid","Simplex","Contents-17","NA",7,null,null,"",{"$f":"IF(OR(AD36=\"NA\", AD36=\"FAILED\"), AD36, (IF(ISERROR(AE36/'Test Info'!$I$6*100), \"\", AE36/'Test Info'!$I$6*100)))","v":""},{"$f":"IF(OR(AD36=\"NA\", AD36=\"FAILED\"), AD36, (IF(ISERROR(AB36/AD36/'Test Info'!$I$6*6000), \"\", AB36/AD36/'Test Info'!$I$6*6000)))","v":""}]
["Web/PRN Submission","Case 28","Web","Color","Graphic","Acrobat","Letter","Simplex","Outcast","NA",12,null,null,"",{"$f":"IF(OR(M37=\"NA\", M37=\"FAILED\"), M37, (IF(ISERROR(N37/'Test Info'!$I$6*100), \"\", N37/'Test Info'!$I$6*100)))","v":""},{"$f":"IF(OR(M37=\"NA\", M37=\"FAILED\"), M37, (IF(ISERROR(K37/M37/'Test Info'!$I$6*6000), \"\", K37/M37/'Test Info'!$I$6*6000)))","v":""},null,"Web/PRN Submission","Case 28","Web","Color","Graphic","Acrobat","Letter","Simplex","Outcast","NA",12,null,null,"",{"$f":"IF(OR(AD37=\"NA\", AD37=\"FAILED\"), AD37, (IF(ISERROR(AE37/'Test Info'!$I$6*100), \"\", AE37/'Test Info'!$I$6*100)))","v":""},{"$f":"IF(OR(AD37=\"NA\", AD37=\"FAILED\"), AD37, (IF(ISERROR(AB37/AD37/'Test Info'!$I$6*6000), \"\", AB37/AD37/'Test Info'!$I$6*6000)))","v":""}]
[null,"Case 29","PRN-Default Driver","Mono","Office","Word ","Letter","Simplex","WordDoc-10pgs ","10 times",100,null,null,"",{"$f":"IF(OR(M38=\"NA\", M38=\"FAILED\"), M38, (IF(ISERROR(N38/'Test Info'!$I$6*100), \"\", N38/'Test Info'!$I$6*100)))","v":""},{"$f":"IF(OR(M38=\"NA\", M38=\"FAILED\"), M38, (IF(ISERROR(K38/M38/'Test Info'!$I$6*6000), \"\", K38/M38/'Test Info'!$I$6*6000)))","v":""},null,null,"Case 29","PRN-Default Driver","Mono","Office","Word ","Letter","Simplex","WordDoc-10pgs ","10 times",100,null,null,"",{"$f":"IF(OR(AD38=\"NA\", AD38=\"FAILED\"), AD38, (IF(ISERROR(AE38/'Test Info'!$I$6*100), \"\", AE38/'Test Info'!$I$6*100)))","v":""},{"$f":"IF(OR(AD38=\"NA\", AD38=\"FAILED\"), AD38, (IF(ISERROR(AB38/AD38/'Test Info'!$I$6*6000), \"\", AB38/AD38/'Test Info'!$I$6*6000)))","v":""}]
[null,"Case 30","PRN-Alternative Driver","Color","Banner","Excel","Letter","Simplex","Salary","NA",13,null,null,"",{"$f":"IF(OR(M39=\"NA\", M39=\"FAILED\"), M39, (IF(ISERROR(N39/'Test Info'!$I$6*100), \"\", N39/'Test Info'!$I$6*100)))","v":""},{"$f":"IF(OR(M39=\"NA\", M39=\"FAILED\"), M39, (IF(ISERROR(K39/M39/'Test Info'!$I$6*6000), \"\", K39/M39/'Test Info'!$I$6*6000)))","v":""},null,null,"Case 30","PRN-Alternative Driver","Color","Banner","Excel","Letter","Simplex","Salary","NA",13,null,null,"",{"$f":"IF(OR(AD39=\"NA\", AD39=\"FAILED\"), AD39, (IF(ISERROR(AE39/'Test Info'!$I$6*100), \"\", AE39/'Test Info'!$I$6*100)))","v":""},{"$f":"IF(OR(AD39=\"NA\", AD39=\"FAILED\"), AD39, (IF(ISERROR(AB39/AD39/'Test Info'!$I$6*6000), \"\", AB39/AD39/'Test Info'!$I$6*6000)))","v":""}]
[]
[]
[]
[]
[]
["Average of FPOT Measured","Column Labels",null,null,null,null,null,null,null,null,null,null,null,null,null,null,null,"Average of FPOT Measured","Column Labels"]
[null,"B","B Total","Legal","Legal Total","Letter",null,"Letter Total","Grand Total",null,null,null,null,null,null,null,null,null,"B","B Total","Legal","Legal Total","Letter",null,"Letter Total","Grand Total"]
["Row Labels","Simplex",null,"Simplex",null,"Duplex","Simplex",null,null,null,null,null,null,null,null,null,null,"Row Labels","Simplex",null,"Simplex",null,"Duplex","Simplex"]
["PCL6",null,null,null,null,null,null,null,null,null,null,null,null,null,null,null,null,"PCL6"]
["PRN-PS",null,null,null,null,null,null,null,null,null,null,null,null,null,null,null,null,"PRN-PS"]
["PS",null,null,null,null,null,null,null,null,null,null,null,null,null,null,null,null,"PS"]
["Web",null,null,null,null,null,null,null,null,null,null,null,null,null,null,null,null,"Web"]
["Grand Total",null,null,null,null,null,null,null,null,null,null,null,null,null,null,null,null,"Grand Total"]
[]
[]
[]
[]
[]
["Average of 2-N % Rated Speed Calculated","Column Labels",null,null,null,null,null,null,null,null,null,null,null,null,null,null,null,"Average of 2-N % Rated Speed Calculated","Column Labels"]
[null,"B","B Total","Legal","Legal Total","Letter",null,"Letter Total","Grand Total",null,null,null,null,null,null,null,null,null,"B","B Total","Legal","Legal Total","Letter",null,"Letter Total","Grand Total"]
["Row Labels","Simplex",null,"Simplex",null,"Duplex","Simplex",null,null,null,null,null,null,null,null,null,null,"Row Labels","Simplex",null,"Simplex",null,"Duplex","Simplex"]
["PCL6",{"$error":"#DIV/0!"},{"$error":"#DIV/0!"},{"$error":"#DIV/0!"},{"$error":"#DIV/0!"},{"$error":"#DIV/0!"},{"$error":"#DIV/0!"},{"$error":"#DIV/0!"},{"$error":"#DIV/0!"},null,null,null,null,null,null,null,null,"PCL6",{"$error":"#DIV/0!"},{"$error":"#DIV/0!"},{"$error":"#DIV/0!"},{"$error":"#DIV/0!"},{"$error":"#DIV/0!"},{"$error":"#DIV/0!"},{"$error":"#DIV/0!"},{"$error":"#DIV/0!"}]
["PRN-PS",null,null,null,null,null,{"$error":"#DIV/0!"},{"$error":"#DIV/0!"},{"$error":"#DIV/0!"},null,null,null,null,null,null,null,null,"PRN-PS",null,null,null,null,null,{"$error":"#DIV/0!"},{"$error":"#DIV/0!"},{"$error":"#DIV/0!"}]
["PS",{"$error":"#DIV/0!"},{"$error":"#DIV/0!"},{"$error":"#DIV/0!"},{"$error":"#DIV/0!"},{"$error":"#DIV/0!"},{"$error":"#DIV/0!"},{"$error":"#DIV/0!"},{"$error":"#DIV/0!"},null,null,null,null,null,null,null,null,"PS",{"$error":"#DIV/0!"},{"$error":"#DIV/0!"},{"$error":"#DIV/0!"},{"$error":"#DIV/0!"},{"$error":"#DIV/0!"},{"$error":"#DIV/0!"},{"$error":"#DIV/0!"},{"$error":"#DIV/0!"}]
["Web",null,null,null,null,null,{"$error":"#DIV/0!"},{"$error":"#DIV/0!"},{"$error":"#DIV/0!"},null,null,null,null,null,null,null,null,"Web",null,null,null,null,null,{"$error":"#DIV/0!"},{"$error":"#DIV/0!"},{"$error":"#DIV/0!"}]
["Grand Total",{"$error":"#DIV/0!"},{"$error":"#DIV/0!"},{"$error":"#DIV/0!"},{"$error":"#DIV/0!"},{"$error":"#DIV/0!"},{"$error":"#DIV/0!"},{"$error":"#DIV/0!"},{"$error":"#DIV/0!"},null,null,null,null,null,null,null,null,"Grand Total",{"$error":"#DIV/0!"},{"$error":"#DIV/0!"},{"$error":"#DIV/0!"},{"$error":"#DIV/0!"},{"$error":"#DIV/0!"},{"$error":"#DIV/0!"},{"$error":"#DIV/0!"},{"$error":"#DIV/0!"}]
[]
[]
[]
[]
[]
[]
[]
[]
[]
["Precondition:"]
["Tester have to create the .prn file each time when the Driver version is changed ;"]
[]
["Device Settings "]
["Mono Device Settings: "]
["Priority Mode set for BW Plain,White Letter LEF Tray 1  "]
["Color Device Settings:"]
["Priority Mode set for Color Plain, White Letter LEF Tray 1 . "]
["Mode settings-Login-->admin-->machine status-->tools-->device settings-->general-->output speed-->color for color settings and mono for B\\W settings."]
["Types of Papers used for No Banner Regular submission:"]
["Letter,Legal,Tabloid,legal."]
["Side:simples/duplex"]
[]
["Procedure:"]
["No Banner Regular Submission Jobs from Print driver"]
[]
["1.Set the driver type as default \"PS/PCL \" mentioned in driver column with Banner sheet disabled"]
["2.Open the Test File in application mentioned in the Laptop"]
["3.Go to File/Print and Perform the \"Size\" ,\"Side\",\"Collation\" settings as mentioned in table and Click Print buton; and Start timer in Stopwatch together"]
["4. Use Lap funtion in the stop watch as "]
["FPOT (lap 1): Time from “Print” button selected until the TRAIL EDGE of the 1st sheet exits to the default tray"]
["C-C (lap 2): Time from “Print” button selected until the TRAIL EDGE of the last sheet exits to the default tray"]
["5.Record the time then and repeat the above steps for conseqent readings"]
[]
["Web/PRN Submission jobs from WebUI"]
[]
["PS Driver"]
[]
["1.Open the \"Internet Explorer 10\"/chrome"]
["2.Give the ip address of machine to open the webui"]
["3.go to \"Print \" tab in the webui"]
["4.Browse to the file mentioned in \"Test File Name column\""]
["5.Perform the \"Size\" ,\"Side\",\"Collation\" settings , disable/enable job id sheet as  Mentioned in table and click \"Submit Job\" button and Start timer in Stopwatch together"]
["6. Use Lap funtion in the stop watch as "]
["FPOT (lap 1): Time from “Submit Job” button selected until the TRAIL EDGE of the 1st sheet exits to the default tray"]
["C-C (lap 2): Time from “Submit Job” button selected until the TRAIL EDGE of the last sheet exits to the default tray"]
["7.Record the time then and repeat the above steps for conseqent readings."]
[]
["Creating PRN Files"]
["It is recommended to create all PRN files need for the PRN sections before beginning Web Submission.  "]
[]
["Note: PS PRN files have the extension “.ps” and PCL6 PRN files have the extension “.prn”.  "]
[]
["1. Create the New Folder “PRN-Files” on C:\\"]
["2. Create a new Local PS Printer Port for printing to file (Printer Properties > Ports > Add Port > Local Port > Port Name: C:\\PRN-Files\\file.ps)"]
["3. Create a new Local PCL6 Printer Port for printing to file (Printer Properties > Ports > Add Port > Local Port > Port Name: C:\\PRN-Files\\file.prn)"]
["4. Change the PS and PCL6 Printer Default Settings to Automatic Color/Color and Banner Sheet Off.  "]
["5. Create PS and PCL6 Color PRN files "]
["a. Open applications found in the PRN folder and print like a normal job"]
["b. In C:\\PRN-Files and rename file.ps/file.prn before submitting next(e.g. Patient_PS_Color.ps)"]
["6. Change the PS and PCL6 Printer Default Settings to Black and White and Banner Sheet Off.  "]
["7. Create PS and PCL6 Mono PRN files "]
["a. Open applications found in the PRN folder and print like a normal job"]
["b. In C:\\PRN-Files and rename file.ps/file.prn before submitting next(e.g. Patient_PCL6_Mono.prn)"]
["8. Remember to set the PS and PCL6 Print Ports back "]

{"sheet":"Copy","index":5,"n_rows":80,"n_cols":22,"rows_kept":80,"cut":false,"hidden":true,"merged":[[82,15,82,18],[43,13,43,14],[43,17,43,18],[44,12,44,14],[44,16,44,18],[45,12,45,14],[45,16,45,18],[28,12,28,14],[28,16,28,18],[63,17,63,18],[68,17,68,18],[75,17,75,18],[82,3,82,6],[0,12,0,18],[11,13,11,14],[11,17,11,18],[12,12,12,14],[12,16,12,18],[13,12,13,14],[3,9,3,11],[29,12,29,14],[29,16,29,18],[63,5,63,6],[68,5,68,6],[75,5,75,6],[13,16,13,18],[27,13,27,14],[27,17,27,18],[43,1,43,2],[43,5,43,6],[44,0,44,2],[44,4,44,6],[45,0,45,2],[45,4,45,6],[27,1,27,2],[27,5,27,6],[28,0,28,2],[28,4,28,6],[29,0,29,2],[29,4,29,6],[11,1,11,2],[11,5,11,6],[12,0,12,2],[12,4,12,6],[13,0,13,2],[13,4,13,6]]}
[{"$f":"'Test Info'!A1","v":"Samudra MFP High B0"},null,null,null,null,null,null,null,null,null,null,null,{"$f":"'Test Info'!B16","v":"Samudra Low MFP"}]
[{"$f":"'Test Info'!A2","v":"Release: "},null,{"$f":"'Test Info'!B2","v":"0.123.0"},null,null,null,null,null,null,null,null,null,"Release",null,{"$f":"'Test Info'!B17","v":"V 1.10.4N"}]
["Test Duration:",null,{"$f":"CONCATENATE(TEXT('Test Info'!B3, \"m/d/yyyy\"), \" - \", TEXT(EndDate, \"m/d/yyyy\"))","v":"9/11/2017 - 13/11/2017"},null,null,null,null,null,null,null,null,null,"Test Duration:",null,{"$f":"CONCATENATE(TEXT('Test Info'!B5, \"d/m/yyyy\"),\"-\", TEXT('Test Info'!F5,\"d/m/yyyy\"))","v":"Enter-Enter at End of Test"}]
[null,null,null,null,null,null,null,null,null,"Time Conversion Tool"]
[null,null,null,null,null,null,null,null,null,"Enter","Enter","Calculated"]
[null,null,null,null,null,null,null,null,null,"Minutes","Seconds","Seconds"]
["Copy to Default Tray",null,null,null,null,null,null,null,null,null,null,{"$f":"J7*60+K7","v":0},"Copy to Default Tray"]
[]
["Copy 1 Page FCOT (Not Needed if Mkt FPOT-FCOT done)",null,null,null,null,null,null,null,null,null,null,null,"Copy 1 Page FCOT (Not Needed if Mkt FPOT-FCOT done)"]
[]
["Platen Tests",null,null,null,null,null,null,null,null,null,null,null,"Platen Tests"]
[]
["Select Output Color - COLOR or MONO",null,null,null,"Select Output Color - AUTO",null,null,null,null,null,null,null,"Select Output Color - COLOR or MONO",null,null,null,"Select Output Color - AUTO"]
["Platen FCOT",null,null,null,"Platen FCOT",null,null,null,null,null,null,null,"Platen FCOT",null,null,null,"Platen FCOT"]
["Job Number","Mono","Color",null,"Job Number","Mono","Color",null,null,null,null,null,"Job Number","Mono","Color",null,"Job Number","Mono","Color"]
[1,null,null,null,1,null,null,null,null,null,null,null,1,null,null,null,1]
[2,null,null,null,2,null,null,null,null,null,null,null,2,null,null,null,2]
[3,null,null,null,3,null,null,null,null,null,null,null,3,null,null,null,3]
[4,null,null,null,4,null,null,null,null,null,null,null,4,null,null,null,4]
[5,null,null,null,5,null,null,null,null,null,null,null,5,null,null,null,5]
[6,null,null,null,6,null,null,null,null,null,null,null,6,null,null,null,6]
["Min",{"$f":"IF(OR(B21=\"NA\", B21=\"Failed\"), B21, (IF((MIN(B17:B21)) = 0, \"\", MIN(B17:B21))))","v":""},{"$f":"IF(OR(C21=\"NA\", C21=\"Failed\"), C21, (IF((MIN(C17:C21)) = 0, \"\", MIN(C17:C21))))","v":""},null,"Min",{"$f":"IF(OR(F21=\"NA\", F21=\"Failed\"), F21, (IF((MIN(F17:F21)) = 0, \"\", MIN(F17:F21))))","v":""},{"$f":"IF(OR(G21=\"NA\", G21=\"Failed\"), G21, (IF((MIN(G17:G21)) = 0, \"\", MIN(G17:G21))))","v":""},null,null,null,null,null,"Min",{"$f":"IF(OR(N21=\"NA\", N21=\"Failed\"), N21, (IF((MIN(N17:N21)) = 0, \"\", MIN(N17:N21))))","v":""},{"$f":"IF(OR(O21=\"NA\", O21=\"Failed\"), O21, (IF((MIN(O17:O21)) = 0, \"\", MIN(O17:O21))))","v":""},null,"Min",{"$f":"IF(OR(R21=\"NA\", R21=\"Failed\"), R21, (IF((MIN(R17:R21)) = 0, \"\", MIN(R17:R21))))","v":""},{"$f":"IF(OR(S21=\"NA\", S21=\"Failed\"), S21, (IF((MIN(S17:S21)) = 0, \"\", MIN(S17:S21))))","v":""}]
["Max",{"$f":"IF(OR(B21=\"NA\", B21=\"Failed\"), B21, (IF((MAX(B17:B21)) = 0, \"\", MAX(B17:B21))))","v":""},{"$f":"IF(OR(C21=\"NA\", C21=\"Failed\"), C21, (IF((MAX(C17:C21)) = 0, \"\", MAX(C17:C21))))","v":""},null,"Max",{"$f":"IF(OR(F21=\"NA\", F21=\"Failed\"), F21, (IF((MAX(F17:F21)) = 0, \"\", MAX(F17:F21))))","v":""},{"$f":"IF(OR(G21=\"NA\", G21=\"Failed\"), G21, (IF((MAX(G17:G21)) = 0, \"\", MAX(G17:G21))))","v":""},null,null,null,null,null,"Max",{"$f":"IF(OR(N21=\"NA\", N21=\"Failed\"), N21, (IF((MAX(N17:N21)) = 0, \"\", MAX(N17:N21))))","v":""},{"$f":"IF(OR(O21=\"NA\", O21=\"Failed\"), O21, (IF((MAX(O17:O21)) = 0, \"\", MAX(O17:O21))))","v":""},null,"Max",{"$f":"IF(OR(R21=\"NA\", R21=\"Failed\"), R21, (IF((MAX(R17:R21)) = 0, \"\", MAX(R17:R21))))","v":""},{"$f":"IF(OR(S21=\"NA\", S21=\"Failed\"), S21, (IF((MAX(S17:S21)) = 0, \"\", MAX(S17:S21))))","v":""}]
["Delta",{"$f":"IF(OR(B21=\"NA\", B21=\"Failed\"), B21, (IF(ISERROR(B23-B22), \"\", B23-B22)))","v":""},{"$f":"IF(OR(C21=\"NA\", C21=\"Failed\"), C21, (IF(ISERROR(C23-C22), \"\", C23-C22)))","v":""},null,"Delta",{"$f":"IF(OR(F21=\"NA\", F21=\"Failed\"), F21, (IF(ISERROR(F23-F22), \"\", F23-F22)))","v":""},{"$f":"IF(OR(G21=\"NA\", G21=\"Failed\"), G21, (IF(ISERROR(G23-G22), \"\", G23-G22)))","v":""},null,null,null,null,null,"Delta",{"$f":"IF(OR(N21=\"NA\", N21=\"Failed\"), N21, (IF(ISERROR(N23-N22), \"\", N23-N22)))","v":""},{"$f":"IF(OR(O21=\"NA\", O21=\"Failed\"), O21, (IF(ISERROR(O23-O22), \"\", O23-O22)))","v":""},null,"Delta",{"$f":"IF(OR(R21=\"NA\", R21=\"Failed\"), R21, (IF(ISERROR(R23-R22), \"\", R23-R22)))","v":""},{"$f":"IF(OR(S21=\"NA\", S21=\"Failed\"), S21, (IF(ISERROR(S23-S22), \"\", S23-S22)))","v":""}]
["Average",{"$f":"IF(OR(B21=\"NA\", B21=\"Failed\"), B21, (IF((SUM(B16:B21)-MAX(B16:B21)-MIN(B16:B21))/(COUNT(B16:B21)-2) = 0, \"\", (SUM(B16:B21)-MAX(B16:B21)-MIN(B16:B21))/(COUNT(B16:B21)-2))))","v":""},{"$f":"IF(OR(C21=\"NA\", C21=\"Failed\"), C21, (IF((SUM(C16:C21)-MAX(C16:C21)-MIN(C16:C21))/(COUNT(C16:C21)-2) = 0, \"\", (SUM(C16:C21)-MAX(C16:C21)-MIN(C16:C21))/(COUNT(C16:C21)-2))))","v":""},null,"Average",{"$f":"IF(OR(F21=\"NA\", F21=\"Failed\"), F21, (IF((SUM(F16:F21)-MAX(F16:F21)-MIN(F16:F21))/(COUNT(F16:F21)-2) = 0, \"\", (SUM(F16:F21)-MAX(F16:F21)-MIN(F16:F21))/(COUNT(F16:F21)-2))))","v":""},{"$f":"IF(OR(G21=\"NA\", G21=\"Failed\"), G21, (IF((SUM(G16:G21)-MAX(G16:G21)-MIN(G16:G21))/(COUNT(G16:G21)-2) = 0, \"\", (SUM(G16:G21)-MAX(G16:G21)-MIN(G16:G21))/(COUNT(G16:G21)-2))))","v":""},null,null,null,null,null,"Average",{"$f":"IF(OR(N21=\"NA\", N21=\"Failed\"), N21, (IF((SUM(N16:N21)-MAX(N16:N21)-MIN(N16:N21))/(COUNT(N16:N21)-2) = 0, \"\", (SUM(N16:N21)-MAX(N16:N21)-MIN(N16:N21))/(COUNT(N16:N21)-2))))","v":""},{"$f":"IF(OR(O21=\"NA\", O21=\"Failed\"), O21, (IF((SUM(O16:O21)-MAX(O16:O21)-MIN(O16:O21))/(COUNT(O16:O21)-2) = 0, \"\", (SUM(O16:O21)-MAX(O16:O21)-MIN(O16:O21))/(COUNT(O16:O21)-2))))","v":""},null,"Average",{"$f":"IF(OR(R21=\"NA\", R21=\"Failed\"), R21, (IF((SUM(R16:R21)-MAX(R16:R21)-MIN(R16:R21))/(COUNT(R16:R21)-2) = 0, \"\", (SUM(R16:R21)-MAX(R16:R21)-MIN(R16:R21))/(COUNT(R16:R21)-2))))","v":""},{"$f":"IF(OR(S21=\"NA\", S21=\"Failed\"), S21, (IF((SUM(S16:S21)-MAX(S16:S21)-MIN(S16:S21))/(COUNT(S16:S21)-2) = 0, \"\", (SUM(S16:S21)-MAX(S16:S21)-MIN(S16:S21))/(COUNT(S16:S21)-2))))","v":""}]
[]
["DADF Tests",null,null,null,null,null,null,null,null,null,null,null,"DADF Tests"]
[]
["Select Output Color - COLOR or MONO",null,null,null,"Select Output Color - AUTO",null,null,null,null,null,null,null,"Select Output Color - COLOR or MONO",null,null,null,"Select Output Color - AUTO"]
["DADF FCOT",null,null,null,"DADF FCOT",null,null,null,null,null,null,null,"DADF FCOT",null,null,null,"DADF FCOT"]
["Job Number","Mono","Color",null,"Job Number","Mono","Color",null,null,null,null,null,"Job Number","Mono","Color",null,"Job Number","Mono","Color"]
[1,null,null,null,1,null,null,null,null,null,null,null,1,null,null,null,1]
[2,null,null,null,2,null,null,null,null,null,null,null,2,null,null,null,2]
[3,null,null,null,3,null,null,null,null,null,null,null,3,null,null,null,3]
[4,null,null,null,4,null,null,null,null,null,null,null,4,null,null,null,4]
[5,null,null,null,5,null,null,null,null,null,null,null,5,null,null,null,5]
[6,null,null,null,6,null,null,null,null,null,null,null,6,null,null,null,6]
["Min",{"$f":"IF(OR(B37=\"NA\", B37=\"Failed\"), B37, (IF((MIN(B33:B37)) = 0, \"\", MIN(B33:B37))))","v":""},{"$f":"IF(OR(C37=\"NA\", C37=\"Failed\"), C37, (IF((MIN(C33:C37)) = 0, \"\", MIN(C33:C37))))","v":""},null,"Min",{"$f":"IF(OR(F37=\"NA\", F37=\"Failed\"), F37, (IF((MIN(F33:F37)) = 0, \"\", MIN(F33:F37))))","v":""},{"$f":"IF(OR(G37=\"NA\", G37=\"Failed\"), G37, (IF((MIN(G33:G37)) = 0, \"\", MIN(G33:G37))))","v":""},null,null,null,null,null,"Min",{"$f":"IF(OR(N37=\"NA\", N37=\"Failed\"), N37, (IF((MIN(N33:N37)) = 0, \"\", MIN(N33:N37))))","v":""},{"$f":"IF(OR(O37=\"NA\", O37=\"Failed\"), O37, (IF((MIN(O33:O37)) = 0, \"\", MIN(O33:O37))))","v":""},null,"Min",{"$f":"IF(OR(R37=\"NA\", R37=\"Failed\"), R37, (IF((MIN(R33:R37)) = 0, \"\", MIN(R33:R37))))","v":""},{"$f":"IF(OR(S37=\"NA\", S37=\"Failed\"), S37, (IF((MIN(S33:S37)) = 0, \"\", MIN(S33:S37))))","v":""}]
["Max",{"$f":"IF(OR(B37=\"NA\", B37=\"Failed\"), B37, (IF((MAX(B33:B37)) = 0, \"\", MAX(B33:B37))))","v":""},{"$f":"IF(OR(C37=\"NA\", C37=\"Failed\"), C37, (IF((MAX(C33:C37)) = 0, \"\", MAX(C33:C37))))","v":""},null,"Max",{"$f":"IF(OR(F37=\"NA\", F37=\"Failed\"), F37, (IF((MAX(F33:F37)) = 0, \"\", MAX(F33:F37))))","v":""},{"$f":"IF(OR(G37=\"NA\", G37=\"Failed\"), G37, (IF((MAX(G33:G37)) = 0, \"\", MAX(G33:G37))))","v":""},null,null,null,null,null,"Max",{"$f":"IF(OR(N37=\"NA\", N37=\"Failed\"), N37, (IF((MAX(N33:N37)) = 0, \"\", MAX(N33:N37))))","v":""},{"$f":"IF(OR(O37=\"NA\", O37=\"Failed\"), O37, (IF((MAX(O33:O37)) = 0, \"\", MAX(O33:O37))))","v":""},null,"Max",{"$f":"IF(OR(R37=\"NA\", R37=\"Failed\"), R37, (IF((MAX(R33:R37)) = 0, \"\", MAX(R33:R37))))","v":""},{"$f":"IF(OR(S37=\"NA\", S37=\"Failed\"), S37, (IF((MAX(S33:S37)) = 0, \"\", MAX(S33:S37))))","v":""}]
["Delta",{"$f":"IF(OR(B37=\"NA\", B37=\"Failed\"), B37, (IF(ISERROR(B39-B38), \"\", B39-B38)))","v":""},{"$f":"IF(OR(C37=\"NA\", C37=\"Failed\"), C37, (IF(ISERROR(C39-C38), \"\", C39-C38)))","v":""},null,"Delta",{"$f":"IF(OR(F37=\"NA\", F37=\"Failed\"), F37, (IF(ISERROR(F39-F38), \"\", F39-F38)))","v":""},{"$f":"IF(OR(G37=\"NA\", G37=\"Failed\"), G37, (IF(ISERROR(G39-G38), \"\", G39-G38)))","v":""},null,null,null,null,null,"Delta",{"$f":"IF(OR(N37=\"NA\", N37=\"Failed\"), N37, (IF(ISERROR(N39-N38), \"\", N39-N38)))","v":""},{"$f":"IF(OR(O37=\"NA\", O37=\"Failed\"), O37, (IF(ISERROR(O39-O38), \"\", O39-O38)))","v":""},null,"Delta",{"$f":"IF(OR(R37=\"NA\", R37=\"Failed\"), R37, (IF(ISERROR(R39-R38), \"\", R39-R38)))","v":""},{"$f":"IF(OR(S37=\"NA\", S37=\"Failed\"), S37, (IF(ISERROR(S39-S38), \"\", S39-S38)))","v":""}]
["Average",{"$f":"IF(OR(B37=\"NA\", B37=\"Failed\"), B37, (IF((SUM(B32:B37)-MAX(B32:B37)-MIN(B32:B37))/(COUNT(B32:B37)-2) = 0, \"\", (SUM(B32:B37)-MAX(B32:B37)-MIN(B32:B37))/(COUNT(B32:B37)-2))))","v":""},{"$f":"IF(OR(C37=\"NA\", C37=\"Failed\"), C37, (IF((SUM(C32:C37)-MAX(C32:C37)-MIN(C32:C37))/(COUNT(C32:C37)-2) = 0, \"\", (SUM(C32:C37)-MAX(C32:C37)-MIN(C32:C37))/(COUNT(C32:C37)-2))))","v":""},null,"Average",{"$f":"IF(OR(F37=\"NA\", F37=\"Failed\"), F37, (IF((SUM(F32:F37)-MAX(F32:F37)-MIN(F32:F37))/(COUNT(F32:F37)-2) = 0, \"\", (SUM(F32:F37)-MAX(F32:F37)-MIN(F32:F37))/(COUNT(F32:F37)-2))))","v":""},{"$f":"IF(OR(G37=\"NA\", G37=\"Failed\"), G37, (IF((SUM(G32:G37)-MAX(G32:G37)-MIN(G32:G37))/(COUNT(G32:G37)-2) = 0, \"\", (SUM(G32:G37)-MAX(G32:G37)-MIN(G32:G37))/(COUNT(G32:G37)-2))))","v":""},null,null,null,null,null,"Average",{"$f":"IF(OR(N37=\"NA\", N37=\"Failed\"), N37, (IF((SUM(N32:N37)-MAX(N32:N37)-MIN(N32:N37))/(COUNT(N32:N37)-2) = 0, \"\", (SUM(N32:N37)-MAX(N32:N37)-MIN(N32:N37))/(COUNT(N32:N37)-2))))","v":""},{"$f":"IF(OR(O37=\"NA\", O37=\"Failed\"), O37, (IF((SUM(O32:O37)-MAX(O32:O37)-MIN(O32:O37))/(COUNT(O32:O37)-2) = 0, \"\", (SUM(O32:O37)-MAX(O32:O37)-MIN(O32:O37))/(COUNT(O32:O37)-2))))","v":""},null,"Average",{"$f":"IF(OR(R37=\"NA\", R37=\"Failed\"), R37, (IF((SUM(R32:R37)-MAX(R32:R37)-MIN(R32:R37))/(COUNT(R32:R37)-2) = 0, \"\", (SUM(R32:R37)-MAX(R32:R37)-MIN(R32:R37))/(COUNT(R32:R37)-2))))","v":""},{"$f":"IF(OR(S37=\"NA\", S37=\"Failed\"), S37, (IF((SUM(S32:S37)-MAX(S32:S37)-MIN(S32:S37))/(COUNT(S32:S37)-2) = 0, \"\", (SUM(S32:S37)-MAX(S32:S37)-MIN(S32:S37))/(COUNT(S32:S37)-2))))","v":""}]
[]
["DADF Duplex Tests",null,null,null,null,null,null,null,null,null,null,null,"DADF Duplex Tests"]
[]
["Select Output Color - COLOR or MONO",null,null,null,"Select Output Color - AUTO",null,null,null,null,null,null,null,"Select Output Color - COLOR or MONO",null,null,null,"Select Output Color - AUTO"]
["DADF FCOT",null,null,null,"DADF FCOT",null,null,null,null,null,null,null,"DADF FCOT",null,null,null,"DADF FCOT"]
["Job Number","Mono","Color",null,"Job Number","Mono","Color",null,null,null,null,null,"Job Number","Mono","Color",null,"Job Number","Mono","Color"]
[1,null,null,null,1,null,null,null,null,null,null,null,1,null,null,null,1]
[2,null,null,null,2,null,null,null,null,null,null,null,2,null,null,null,2]
[3,null,null,null,3,null,null,null,null,null,null,null,3,null,null,null,3]
[4,null,null,null,4,null,null,null,null,null,null,null,4,null,null,null,4]
[5,null,null,null,5,null,null,null,null,null,null,null,5,null,null,null,5]
[6,null,null,null,6,null,null,null,null,null,null,null,6,null,null,null,6]
["Min",{"$f":"IF(OR(B53=\"NA\", B53=\"Failed\"), B53, (IF((MIN(B49:B53)) = 0, \"\", MIN(B49:B53))))","v":""},{"$f":"IF(OR(C53=\"NA\", C53=\"Failed\"), C53, (IF((MIN(C49:C53)) = 0, \"\", MIN(C49:C53))))","v":""},null,"Min",{"$f":"IF(OR(F53=\"NA\", F53=\"Failed\"), F53, (IF((MIN(F49:F53)) = 0, \"\", MIN(F49:F53))))","v":""},{"$f":"IF(OR(G53=\"NA\", G53=\"Failed\"), G53, (IF((MIN(G49:G53)) = 0, \"\", MIN(G49:G53))))","v":""},null,null,null,null,null,"Min",{"$f":"IF(OR(N53=\"NA\", N53=\"Failed\"), N53, (IF((MIN(N49:N53)) = 0, \"\", MIN(N49:N53))))","v":""},{"$f":"IF(OR(O53=\"NA\", O53=\"Failed\"), O53, (IF((MIN(O49:O53)) = 0, \"\", MIN(O49:O53))))","v":""},null,"Min",{"$f":"IF(OR(R53=\"NA\", R53=\"Failed\"), R53, (IF((MIN(R49:R53)) = 0, \"\", MIN(R49:R53))))","v":""},{"$f":"IF(OR(S53=\"NA\", S53=\"Failed\"), S53, (IF((MIN(S49:S53)) = 0, \"\", MIN(S49:S53))))","v":""}]
["Max",{"$f":"IF(OR(B53=\"NA\", B53=\"Failed\"), B53, (IF((MAX(B49:B53)) = 0, \"\", MAX(B49:B53))))","v":""},{"$f":"IF(OR(C53=\"NA\", C53=\"Failed\"), C53, (IF((MAX(C49:C53)) = 0, \"\", MAX(C49:C53))))","v":""},null,"Max",{"$f":"IF(OR(F53=\"NA\", F53=\"Failed\"), F53, (IF((MAX(F49:F53)) = 0, \"\", MAX(F49:F53))))","v":""},{"$f":"IF(OR(G53=\"NA\", G53=\"Failed\"), G53, (IF((MAX(G49:G53)) = 0, \"\", MAX(G49:G53))))","v":""},null,null,null,null,null,"Max",{"$f":"IF(OR(N53=\"NA\", N53=\"Failed\"), N53, (IF((MAX(N49:N53)) = 0, \"\", MAX(N49:N53))))","v":""},{"$f":"IF(OR(O53=\"NA\", O53=\"Failed\"), O53, (IF((MAX(O49:O53)) = 0, \"\", MAX(O49:O53))))","v":""},null,"Max",{"$f":"IF(OR(R53=\"NA\", R53=\"Failed\"), R53, (IF((MAX(R49:R53)) = 0, \"\", MAX(R49:R53))))","v":""},{"$f":"IF(OR(S53=\"NA\", S53=\"Failed\"), S53, (IF((MAX(S49:S53)) = 0, \"\", MAX(S49:S53))))","v":""}]
["Delta",{"$f":"IF(OR(B53=\"NA\", B53=\"Failed\"), B53, (IF(ISERROR(B55-B54), \"\", B55-B54)))","v":""},{"$f":"IF(OR(C53=\"NA\", C53=\"Failed\"), C53, (IF(ISERROR(C55-C54), \"\", C55-C54)))","v":""},null,"Delta",{"$f":"IF(OR(F53=\"NA\", F53=\"Failed\"), F53, (IF(ISERROR(F55-F54), \"\", F55-F54)))","v":""},{"$f":"IF(OR(G53=\"NA\", G53=\"Failed\"), G53, (IF(ISERROR(G55-G54), \"\", G55-G54)))","v":""},null,null,null,null,null,"Delta",{"$f":"IF(OR(N53=\"NA\", N53=\"Failed\"), N53, (IF(ISERROR(N55-N54), \"\", N55-N54)))","v":""},{"$f":"IF(OR(O53=\"NA\", O53=\"Failed\"), O53, (IF(ISERROR(O55-O54), \"\", O55-O54)))","v":""},null,"Delta",{"$f":"IF(OR(R53=\"NA\", R53=\"Failed\"), R53, (IF(ISERROR(R55-R54), \"\", R55-R54)))","v":""},{"$f":"IF(OR(S53=\"NA\", S53=\"Failed\"), S53, (IF(ISERROR(S55-S54), \"\", S55-S54)))","v":""}]
["Average",{"$f":"IF(OR(B53=\"NA\", B53=\"Failed\"), B53, (IF((SUM(B48:B53)-MAX(B48:B53)-MIN(B48:B53))/(COUNT(B48:B53)-2) = 0, \"\", (SUM(B48:B53)-MAX(B48:B53)-MIN(B48:B53))/(COUNT(B48:B53)-2))))","v":""},{"$f":"IF(OR(C53=\"NA\", C53=\"Failed\"), C53, (IF((SUM(C48:C53)-MAX(C48:C53)-MIN(C48:C53))/(COUNT(C48:C53)-2) = 0, \"\", (SUM(C48:C53)-MAX(C48:C53)-MIN(C48:C53))/(COUNT(C48:C53)-2))))","v":""},null,"Average",{"$f":"IF(OR(F53=\"NA\", F53=\"Failed\"), F53, (IF((SUM(F48:F53)-MAX(F48:F53)-MIN(F48:F53))/(COUNT(F48:F53)-2) = 0, \"\", (SUM(F48:F53)-MAX(F48:F53)-MIN(F48:F53))/(COUNT(F48:F53)-2))))","v":""},{"$f":"IF(OR(G53=\"NA\", G53=\"Failed\"), G53, (IF((SUM(G48:G53)-MAX(G48:G53)-MIN(G48:G53))/(COUNT(G48:G53)-2) = 0, \"\", (SUM(G48:G53)-MAX(G48:G53)-MIN(G48:G53))/(COUNT(G48:G53)-2))))","v":""},null,null,null,null,null,"Average",{"$f":"IF(OR(N53=\"NA\", N53=\"Failed\"), N53, (IF((SUM(N48:N53)-MAX(N48:N53)-MIN(N48:N53))/(COUNT(N48:N53)-2) = 0, \"\", (SUM(N48:N53)-MAX(N48:N53)-MIN(N48:N53))/(COUNT(N48:N53)-2))))","v":""},{"$f":"IF(OR(O53=\"NA\", O53=\"Failed\"), O53, (IF((SUM(O48:O53)-MAX(O48:O53)-MIN(O48:O53))/(COUNT(O48:O53)-2) = 0, \"\", (SUM(O48:O53)-MAX(O48:O53)-MIN(O48:O53))/(COUNT(O48:O53)-2))))","v":""},null,"Average",{"$f":"IF(OR(R53=\"NA\", R53=\"Failed\"), R53, (IF((SUM(R48:R53)-MAX(R48:R53)-MIN(R48:R53))/(COUNT(R48:R53)-2) = 0, \"\", (SUM(R48:R53)-MAX(R48:R53)-MIN(R48:R53))/(COUNT(R48:R53)-2))))","v":""},{"$f":"IF(OR(S53=\"NA\", S53=\"Failed\"), S53, (IF((SUM(S48:S53)-MAX(S48:S53)-MIN(S48:S53))/(COUNT(S48:S53)-2) = 0, \"\", (SUM(S48:S53)-MAX(S48:S53)-MIN(S48:S53))/(COUNT(S48:S53)-2))))","v":""}]
[]
[]
[]
["Copy Multiple Page 11\", 14\", 17\" and Duplex",null,null,null,null,null,null,null,null,null,null,null,"Copy Multiple Page 11\", 14\", 17\" and Duplex"]
[]
["Mode","Paper Size","Output Color","Document","Pages Printed","FCOT Measured\nin Seconds","C-C Measured\nin Seconds","2-N PPM Calculated","2-N % Rated Speed Calculated","C-C % Rated Speed Calculated",null,null,"Mode","Paper Size","Output Color","Document","Pages Printed","FCOT Measured\nin Seconds","C-C Measured\nin Seconds","2-N PPM Calculated","2-N % Rated Speed Calculated","C-C % Rated Speed Calculated"]
[]
["1-1 Sided","11\"","Color","ISO Copy",12,null,null,{"$f":"IF(OR(G65=\"NA\", G65=\"FAILED\"), G65, (IF(ISERROR((E65-1)/(G65-F65)*60), \"\", (E65-1)/(G65-F65)*60)))","v":""},{"$f":"IF(OR(G65=\"NA\", G65=\"FAILED\"), G65, (IF(ISERROR(H65/'Test Info'!$I$6*100), \"\", H65/'Test Info'!$I$6*100)))","v":""},{"$f":"IF(OR(G65=\"NA\", G65=\"FAILED\"), G65, (IF(ISERROR(E65/G65/'Test Info'!$I$6*6000), \"\", E65/G65/'Test Info'!$I$6*6000)))","v":""},null,null,"1-1 Sided","11\"","Color","ISO Copy",12,null,null,{"$f":"IF(OR(S65=\"NA\", S65=\"FAILED\"), S65, (IF(ISERROR((Q65-1)/(S65-R65)*60), \"\", (Q65-1)/(S65-R65)*60)))","v":""},{"$f":"IF(OR(S65=\"NA\", S65=\"FAILED\"), S65, (IF(ISERROR(T65/'Test Info'!$L$6*100), \"\", T65/'Test Info'!$L$6*100)))","v":""},{"$f":"IF(OR(S65=\"NA\", S65=\"FAILED\"), S65, (IF(ISERROR(Q65/S65/'Test Info'!$L$6*6000), \"\", Q65/S65/'Test Info'!$L$6*6000)))","v":""}]
["1-1 Sided","11\"","Mono","ISO Copy",12,null,null,{"$f":"IF(OR(G66=\"NA\",G66=\"FAILED\"),G66,(IF(ISERROR((E66-1)/(G66-F66)*60),\"\",(E66-1)/(G66-F66)*60)))","v":""},{"$f":"IF(OR(G66=\"NA\",G66=\"FAILED\"),G66, (IF(ISERROR(H66/'Test Info'!$J$6*100), \"\", H66/'Test Info'!$J$6*100)))","v":""},{"$f":"IF(OR(G66=\"NA\",G66=\"FAILED\"),G66, (IF(ISERROR(E66/G66/'Test Info'!$J$6*6000), \"\", E66/G66/'Test Info'!$J$6*6000)))","v":""},null,null,"1-1 Sided","11\"","Mono","ISO Copy",12,null,null,{"$f":"IF(OR(S66=\"NA\",S66=\"FAILED\"),S66,(IF(ISERROR((Q66-1)/(S66-R66)*60),\"\",(Q66-1)/(S66-R66)*60)))","v":""},{"$f":"IF(OR(S66=\"NA\",S66=\"FAILED\"),S66, (IF(ISERROR(T66/'Test Info'!$M$6*100), \"\", T66/'Test Info'!$M$6*100)))","v":""},{"$f":"IF(OR(S66=\"NA\",S66=\"FAILED\"),S66, (IF(ISERROR(Q66/S66/'Test Info'!$M$6*6000), \"\", Q66/S66/'Test Info'!$M$6*6000)))","v":""}]
["1-1 Sided","14\"","Color","ISO Copy",8,null,null,{"$f":"IF(OR(G67=\"NA\", G67=\"FAILED\"), G67, (IF(ISERROR((E67-1)/(G67-F67)*60), \"\", (E67-1)/(G67-F67)*60)))","v":""},{"$f":"IF(OR(G67=\"NA\", G67=\"FAILED\"), G67, (IF(ISERROR(H67/'Test Info'!$I$6*100), \"\", H67/'Test Info'!$I$6*100)))","v":""},{"$f":"IF(OR(G67=\"NA\", G67=\"FAILED\"), G67, (IF(ISERROR(E67/G67/'Test Info'!$I$6*6000), \"\", E67/G67/'Test Info'!$I$6*6000)))","v":""},null,null,"1-1 Sided","14\"","Color","ISO Copy",8,null,null,{"$f":"IF(OR(S67=\"NA\", S67=\"FAILED\"), S67, (IF(ISERROR((Q67-1)/(S67-R67)*60), \"\", (Q67-1)/(S67-R67)*60)))","v":""},{"$f":"IF(OR(S67=\"NA\", S67=\"FAILED\"), S67, (IF(ISERROR(T67/'Test Info'!$L$6*100), \"\", T67/'Test Info'!$L$6*100)))","v":""},{"$f":"IF(OR(S67=\"NA\", S67=\"FAILED\"), S67, (IF(ISERROR(Q67/S67/'Test Info'!$L$6*6000), \"\", Q67/S67/'Test Info'!$L$6*6000)))","v":""}]
["1-1 Sided","17\"","Color","ISO Copy",4,null,null,{"$f":"IF(OR(G68=\"NA\", G68=\"FAILED\"), G68, (IF(ISERROR((E68-1)/(G68-F68)*60), \"\", (E68-1)/(G68-F68)*60)))","v":""},{"$f":"IF(OR(G68=\"NA\", G68=\"FAILED\"), G68, (IF(ISERROR(H68/'Test Info'!$I$6*100), \"\", H68/'Test Info'!$I$6*100)))","v":""},{"$f":"IF(OR(G68=\"NA\", G68=\"FAILED\"), G68, (IF(ISERROR(E68/G68/'Test Info'!$I$6*6000), \"\", E68/G68/'Test Info'!$I$6*6000)))","v":""},null,null,"1-1 Sided","17\"","Color","ISO Copy",4,null,null,{"$f":"IF(OR(S68=\"NA\", S68=\"FAILED\"), S68, (IF(ISERROR((Q68-1)/(S68-R68)*60), \"\", (Q68-1)/(S68-R68)*60)))","v":""},{"$f":"IF(OR(S68=\"NA\", S68=\"FAILED\"), S68, (IF(ISERROR(T68/'Test Info'!$L$6*100), \"\", T68/'Test Info'!$L$6*100)))","v":""},{"$f":"IF(OR(S68=\"NA\", S68=\"FAILED\"), S68, (IF(ISERROR(Q68/S68/'Test Info'!$L$6*6000), \"\", Q68/S68/'Test Info'!$L$6*6000)))","v":""}]
[]
["1-2 Sided","11\"","Color","ISO Copy",6,null,null,{"$f":"IF(OR(G70=\"NA\", G70=\"FAILED\"), G70, (IF(ISERROR((E70-1)/(G70-F70)*60), \"\", (E70-1)/(G70-F70)*60)))","v":""},{"$f":"IF(OR(G70=\"NA\", G70=\"FAILED\"), G70, (IF(ISERROR(H70/'Test Info'!$I$6*100), \"\", H70/'Test Info'!$I$6*100)))","v":""},{"$f":"IF(OR(G70=\"NA\", G70=\"FAILED\"), G70, (IF(ISERROR(E70/G70/'Test Info'!$I$6*6000), \"\", E70/G70/'Test Info'!$I$6*6000)))","v":""},null,null,"1-2 Sided","11\"","Color","ISO Copy",6,null,null,{"$f":"IF(OR(S70=\"NA\", S70=\"FAILED\"), S70, (IF(ISERROR((Q70-1)/(S70-R70)*60), \"\", (Q70-1)/(S70-R70)*60)))","v":""},{"$f":"IF(OR(S70=\"NA\", S70=\"FAILED\"), S70, (IF(ISERROR(T70/'Test Info'!$L$6*100), \"\", T70/'Test Info'!$L$6*100)))","v":""},{"$f":"IF(OR(S70=\"NA\", S70=\"FAILED\"), S70, (IF(ISERROR(Q70/S70/'Test Info'!$L$6*6000), \"\", Q70/S70/'Test Info'!$L$6*6000)))","v":""}]
["1-2 Sided","11\"","Mono","ISO Copy",6,null,null,{"$f":"IF(OR(G71=\"NA\",G71=\"FAILED\"),G71,(IF(ISERROR((E71-1)/(G71-F71)*60),\"\",(E71-1)/(G71-F71)*60)))","v":""},{"$f":"IF(OR(G71=\"NA\",G71=\"FAILED\"),G71, (IF(ISERROR(H71/'Test Info'!$J$6*100), \"\", H71/'Test Info'!$J$6*100)))","v":""},{"$f":"IF(OR(G71=\"NA\",G71=\"FAILED\"),G71, (IF(ISERROR(E71/G71/'Test Info'!$J$6*6000), \"\", E71/G71/'Test Info'!$J$6*6000)))","v":""},null,null,"1-2 Sided","11\"","Mono","ISO Copy",6,null,null,{"$f":"IF(OR(S71=\"NA\",S71=\"FAILED\"),S71,(IF(ISERROR((Q71-1)/(S71-R71)*60),\"\",(Q71-1)/(S71-R71)*60)))","v":""},{"$f":"IF(OR(S71=\"NA\",S71=\"FAILED\"),S71, (IF(ISERROR(T71/'Test Info'!$M$6*100), \"\", T71/'Test Info'!$M$6*100)))","v":""},{"$f":"IF(OR(S71=\"NA\",S71=\"FAILED\"),S71, (IF(ISERROR(Q71/S71/'Test Info'!$M$6*6000), \"\", Q71/S71/'Test Info'!$M$6*6000)))","v":""}]
["1-2 Sided","14\"","Color","ISO Copy",4,null,null,{"$f":"IF(OR(G72=\"NA\", G72=\"FAILED\"), G72, (IF(ISERROR((E72-1)/(G72-F72)*60), \"\", (E72-1)/(G72-F72)*60)))","v":""},{"$f":"IF(OR(G72=\"NA\", G72=\"FAILED\"), G72, (IF(ISERROR(H72/'Test Info'!$I$6*100), \"\", H72/'Test Info'!$I$6*100)))","v":""},{"$f":"IF(OR(G72=\"NA\", G72=\"FAILED\"), G72, (IF(ISERROR(E72/G72/'Test Info'!$I$6*6000), \"\", E72/G72/'Test Info'!$I$6*6000)))","v":""},null,null,"1-2 Sided","14\"","Color","ISO Copy",4,null,null,{"$f":"IF(OR(S72=\"NA\", S72=\"FAILED\"), S72, (IF(ISERROR((Q72-1)/(S72-R72)*60), \"\", (Q72-1)/(S72-R72)*60)))","v":""},{"$f":"IF(OR(S72=\"NA\", S72=\"FAILED\"), S72, (IF(ISERROR(T72/'Test Info'!$L$6*100), \"\", T72/'Test Info'!$L$6*100)))","v":""},{"$f":"IF(OR(S72=\"NA\", S72=\"FAILED\"), S72, (IF(ISERROR(Q72/S72/'Test Info'!$L$6*6000), \"\", Q72/S72/'Test Info'!$L$6*6000)))","v":""}]
["1-2 Sided","14\"","Mono","ISO Copy",4,null,null,{"$f":"IF(OR(G73=\"NA\",G73=\"FAILED\"),G73,(IF(ISERROR((E73-1)/(G73-F73)*60),\"\",(E73-1)/(G73-F73)*60)))","v":""},{"$f":"IF(OR(G73=\"NA\",G73=\"FAILED\"),G73, (IF(ISERROR(H73/'Test Info'!$J$6*100), \"\", H73/'Test Info'!$J$6*100)))","v":""},{"$f":"IF(OR(G73=\"NA\",G73=\"FAILED\"),G73, (IF(ISERROR(E73/G73/'Test Info'!$J$6*6000), \"\", E73/G73/'Test Info'!$J$6*6000)))","v":""},null,null,"1-2 Sided","14\"","Mono","ISO Copy",4,null,null,{"$f":"IF(OR(S73=\"NA\",S73=\"FAILED\"),S73,(IF(ISERROR((Q73-1)/(S73-R73)*60),\"\",(Q73-1)/(S73-R73)*60)))","v":""},{"$f":"IF(OR(S73=\"NA\",S73=\"FAILED\"),S73, (IF(ISERROR(T73/'Test Info'!$M$6*100), \"\", T73/'Test Info'!$M$6*100)))","v":""},{"$f":"IF(OR(S73=\"NA\",S73=\"FAILED\"),S73, (IF(ISERROR(Q73/S73/'Test Info'!$M$6*6000), \"\", Q73/S73/'Test Info'!$M$6*6000)))","v":""}]
["1-2 Sided","17\"","Color","ISO Copy",2,null,null,{"$f":"IF(OR(G74=\"NA\", G74=\"FAILED\"), G74, (IF(ISERROR((E74-1)/(G74-F74)*60), \"\", (E74-1)/(G74-F74)*60)))","v":""},{"$f":"IF(OR(G74=\"NA\", G74=\"FAILED\"), G74, (IF(ISERROR(H74/'Test Info'!$I$6*100), \"\", H74/'Test Info'!$I$6*100)))","v":""},{"$f":"IF(OR(G74=\"NA\", G74=\"FAILED\"), G74, (IF(ISERROR(E74/G74/'Test Info'!$I$6*6000), \"\", E74/G74/'Test Info'!$I$6*6000)))","v":""},null,null,"1-2 Sided","17\"","Color","ISO Copy",2,null,null,{"$f":"IF(OR(S74=\"NA\", S74=\"FAILED\"), S74, (IF(ISERROR((Q74-1)/(S74-R74)*60), \"\", (Q74-1)/(S74-R74)*60)))","v":""},{"$f":"IF(OR(S74=\"NA\", S74=\"FAILED\"), S74, (IF(ISERROR(T74/'Test Info'!$L$6*100), \"\", T74/'Test Info'!$L$6*100)))","v":""},{"$f":"IF(OR(S74=\"NA\", S74=\"FAILED\"), S74, (IF(ISERROR(Q74/S74/'Test Info'!$L$6*6000), \"\", Q74/S74/'Test Info'!$L$6*6000)))","v":""}]
["1-2 Sided","17\"","Mono","ISO Copy",2,null,null,{"$f":"IF(OR(G75=\"NA\",G75=\"FAILED\"),G75,(IF(ISERROR((E75-1)/(G75-F75)*60),\"\",(E75-1)/(G75-F75)*60)))","v":""},{"$f":"IF(OR(G75=\"NA\",G75=\"FAILED\"),G75, (IF(ISERROR(H75/'Test Info'!$J$6*100), \"\", H75/'Test Info'!$J$6*100)))","v":""},{"$f":"IF(OR(G75=\"NA\",G75=\"FAILED\"),G75, (IF(ISERROR(E75/G75/'Test Info'!$J$6*6000), \"\", E75/G75/'Test Info'!$J$6*6000)))","v":""},null,null,"1-2 Sided","17\"","Mono","ISO Copy",2,null,null,{"$f":"IF(OR(S75=\"NA\",S75=\"FAILED\"),S75,(IF(ISERROR((Q75-1)/(S75-R75)*60),\"\",(Q75-1)/(S75-R75)*60)))","v":""},{"$f":"IF(OR(S75=\"NA\",S75=\"FAILED\"),S75, (IF(ISERROR(T75/'Test Info'!$M$6*100), \"\", T75/'Test Info'!$M$6*100)))","v":""},{"$f":"IF(OR(S75=\"NA\",S75=\"FAILED\"),S75, (IF(ISERROR(Q75/S75/'Test Info'!$M$6*6000), \"\", Q75/S75/'Test Info'!$M$6*6000)))","v":""}]
[]
["2-2 Sided","11\"","Color","ISO Copy",6,null,null,{"$f":"IF(OR(G77=\"NA\", G77=\"FAILED\"), G77, (IF(ISERROR((E77-1)/(G77-F77)*60), \"\", (E77-1)/(G77-F77)*60)))","v":""},{"$f":"IF(OR(G77=\"NA\", G77=\"FAILED\"), G77, (IF(ISERROR(H77/'Test Info'!$I$6*100), \"\", H77/'Test Info'!$I$6*100)))","v":""},{"$f":"IF(OR(G77=\"NA\", G77=\"FAILED\"), G77, (IF(ISERROR(E77/G77/'Test Info'!$I$6*6000), \"\", E77/G77/'Test Info'!$I$6*6000)))","v":""},null,null,"2-2 Sided","11\"","Color","ISO Copy",6,null,null,{"$f":"IF(OR(S77=\"NA\", S77=\"FAILED\"), S77, (IF(ISERROR((Q77-1)/(S77-R77)*60), \"\", (Q77-1)/(S77-R77)*60)))","v":""},{"$f":"IF(OR(S77=\"NA\", S77=\"FAILED\"), S77, (IF(ISERROR(T77/'Test Info'!$L$6*100), \"\", T77/'Test Info'!$L$6*100)))","v":""},{"$f":"IF(OR(S77=\"NA\", S77=\"FAILED\"), S77, (IF(ISERROR(Q77/S77/'Test Info'!$L$6*6000), \"\", Q77/S77/'Test Info'!$L$6*6000)))","v":""}]
["2-2 Sided","11\"","Mono","ISO Copy",6,null,null,{"$f":"IF(OR(G78=\"NA\",G78=\"FAILED\"),G78,(IF(ISERROR((E78-1)/(G78-F78)*60),\"\",(E78-1)/(G78-F78)*60)))","v":""},{"$f":"IF(OR(G78=\"NA\",G78=\"FAILED\"),G78, (IF(ISERROR(H78/'Test Info'!$J$6*100), \"\", H78/'Test Info'!$J$6*100)))","v":""},{"$f":"IF(OR(G78=\"NA\",G78=\"FAILED\"),G78, (IF(ISERROR(E78/G78/'Test Info'!$J$6*6000), \"\", E78/G78/'Test Info'!$J$6*6000)))","v":""},null,null,"2-2 Sided","11\"","Mono","ISO Copy",6,null,null,{"$f":"IF(OR(S78=\"NA\",S78=\"FAILED\"),S78,(IF(ISERROR((Q78-1)/(S78-R78)*60),\"\",(Q78-1)/(S78-R78)*60)))","v":""},{"$f":"IF(OR(S78=\"NA\",S78=\"FAILED\"),S78, (IF(ISERROR(T78/'Test Info'!$M$6*100), \"\", T78/'Test Info'!$M$6*100)))","v":""},{"$f":"IF(OR(S78=\"NA\",S78=\"FAILED\"),S78, (IF(ISERROR(Q78/S78/'Test Info'!$M$6*6000), \"\", Q78/S78/'Test Info'!$M$6*6000)))","v":""}]
["2-2 Sided","14\"","Color","ISO Copy",4,null,null,{"$f":"IF(OR(G79=\"NA\", G79=\"FAILED\"), G79, (IF(ISERROR((E79-1)/(G79-F79)*60), \"\", (E79-1)/(G79-F79)*60)))","v":""},{"$f":"IF(OR(G79=\"NA\", G79=\"FAILED\"), G79, (IF(ISERROR(H79/'Test Info'!$I$6*100), \"\", H79/'Test Info'!$I$6*100)))","v":""},{"$f":"IF(OR(G79=\"NA\", G79=\"FAILED\"), G79, (IF(ISERROR(E79/G79/'Test Info'!$I$6*6000), \"\", E79/G79/'Test Info'!$I$6*6000)))","v":""},null,null,"2-2 Sided","14\"","Color","ISO Copy",4,null,null,{"$f":"IF(OR(S79=\"NA\", S79=\"FAILED\"), S79, (IF(ISERROR((Q79-1)/(S79-R79)*60), \"\", (Q79-1)/(S79-R79)*60)))","v":""},{"$f":"IF(OR(S79=\"NA\", S79=\"FAILED\"), S79, (IF(ISERROR(T79/'Test Info'!$L$6*100), \"\", T79/'Test Info'!$L$6*100)))","v":""},{"$f":"IF(OR(S79=\"NA\", S79=\"FAILED\"), S79, (IF(ISERROR(Q79/S79/'Test Info'!$L$6*6000), \"\", Q79/S79/'Test Info'!$L$6*6000)))","v":""}]
["2-2 Sided","17\"","Color","ISO Copy",2,null,null,{"$f":"IF(OR(G80=\"NA\", G80=\"FAILED\"), G80, (IF(ISERROR((E80-1)/(G80-F80)*60), \"\", (E80-1)/(G80-F80)*60)))","v":""},{"$f":"IF(OR(G80=\"NA\", G80=\"FAILED\"), G80, (IF(ISERROR(H80/'Test Info'!$I$6*100), \"\", H80/'Test Info'!$I$6*100)))","v":""},{"$f":"IF(OR(G80=\"NA\", G80=\"FAILED\"), G80, (IF(ISERROR(E80/G80/'Test Info'!$I$6*6000), \"\", E80/G80/'Test Info'!$I$6*6000)))","v":""},null,null,"2-2 Sided","17\"","Color","ISO Copy",2,null,null,{"$f":"IF(OR(S80=\"NA\", S80=\"FAILED\"), S80, (IF(ISERROR((Q80-1)/(S80-R80)*60), \"\", (Q80-1)/(S80-R80)*60)))","v":""},{"$f":"IF(OR(S80=\"NA\", S80=\"FAILED\"), S80, (IF(ISERROR(T80/'Test Info'!$L$6*100), \"\", T80/'Test Info'!$L$6*100)))","v":""},{"$f":"IF(OR(S80=\"NA\", S80=\"FAILED\"), S80, (IF(ISERROR(Q80/S80/'Test Info'!$L$6*6000), \"\", Q80/S80/'Test Info'!$L$6*6000)))","v":""}]

{"sheet":"Scan","index":6,"n_rows":145,"n_cols":31,"rows_kept":145,"cut":false,"hidden":false,"merged":[[87,16,87,24],[87,25,87,30],[88,16,88,18],[89,16,89,18],[89,19,92,19],[89,20,92,20],[89,21,92,21],[90,16,90,18],[91,16,91,18],[92,16,92,18],[80,16,80,24],[80,25,80,27],[81,16,81,18],[82,16,82,18],[82,19,85,19],[82,20,85,20],[82,21,85,21],[83,16,83,18],[84,16,84,18],[85,16,85,18],[73,16,73,18],[49,16,49,18],[50,16,50,18],[53,16,53,18],[54,16,54,18],[55,16,55,18],[58,16,58,18],[60,23,60,24],[61,16,61,18],[62,16,62,18],[46,23,46,24],[47,16,47,18],[48,16,48,18],[63,16,63,18],[64,16,64,18],[66,22,66,25],[70,16,70,18],[71,16,71,18],[72,16,72,18],[32,16,32,18],[33,16,33,18],[35,16,35,18],[36,23,36,24],[37,16,37,18],[38,16,38,18],[39,16,39,18],[42,16,42,18],[43,16,43,18],[10,16,10,24],[11,16,11,24],[12,16,12,17],[12,18,12,19],[12,20,12,22],[13,16,13,17],[13,18,13,19],[13,20,13,22],[36,7,36,8],[14,16,14,17],[14,18,14,19],[14,20,14,22],[16,23,16,24],[17,16,17,18],[18,16,18,18],[19,16,19,18],[20,16,20,18],[21,16,21,18],[24,16,24,18],[25,16,25,18],[26,16,26,18],[27,16,27,18],[30,16,30,18],[31,16,31,18],[12,4,12,6],[3,12,3,14],[17,0,17,2],[16,7,16,8],[14,2,14,3],[14,4,14,6],[14,0,14,1],[12,0,12,1],[13,0,13,1],[13,2,13,3],[12,2,12,3],[13,4,13,6],[10,0,10,8],[11,0,11,8],[10,13,10,14],[24,0,24,2],[25,0,25,2],[26,0,26,2],[21,0,21,2],[27,0,27,2],[33,0,33,2],[46,7,46,8],[70,0,70,2],[18,0,18,2],[66,6,66,9],[31,0,31,2],[32,0,32,2],[30,0,30,2],[19,0,19,2],[20,0,20,2],[35,0,35,2],[60,7,60,8],[53,0,53,2],[54,0,54,2],[55,0,55,2],[58,0,58,2],[37,0,37,2],[47,0,47,2],[62,0,62,2],[38,0,38,2],[39,0,39,2],[87,9,87,14],[80,9,80,11],[80,0,80,8],[81,0,81,2],[82,0,82,2],[82,3,85,3],[82,4,85,4],[82,5,85,5],[83,0,83,2],[84,0,84,2],[85,0,85,2],[87,0,87,8],[63,0,63,2],[64,0,64,2],[71,0,71,2],[72,0,72,2],[73,0,73,2],[42,0,42,2],[43,0,43,2],[48,0,48,2],[49,0,49,2],[50,0,50,2],[61,0,61,2],[98,4,99,9],[88,0,88,2],[89,0,89,2],[90,0,90,2],[92,0,92,2],[91,0,91,2],[89,3,92,3],[89,4,92,4],[89,5,92,5]]}
[{"$f":"'Test Info'!A1","v":"Samudra MFP High B0"},null,null,null,null,null,null,null,null,null,null,null,null,null,null,null,{"$f":"'Test Info'!B16","v":"Samudra Low MFP"}]
[{"$f":"'Test Info'!A2","v":"Release: "},null,{"$f":"'Test Info'!B2","v":"0.123.0"},null,null,null,null,null,null,null,null,null,null,null,null,null,"Release:",null,{"$f":"'Test Info'!B17","v":"V 1.10.4N"}]
["Test Duration:",null,{"$f":"CONCATENATE(TEXT('Test Info'!B3, \"m/d/yyyy\"), \" - \", TEXT(EndDate, \"m/d/yyyy\"))","v":"9/11/2017 - 13/11/2017"},null,null,null,null,null,null,null,null,null,null,null,null,null,"Test Duration:",null,{"$f":"CONCATENATE(TEXT('Test Info'!B5, \"d/m/yyyy\"),\"-\", TEXT('Test Info'!F5,\"d/m/yyyy\"))","v":"Enter-Enter at End of Test"}]
[null,null,null,null,null,null,null,null,null,null,null,null,"Time Conversion Tool"]
[null,null,null,null,null,null,null,null,null,null,null,null,"Enter","Enter","Calculated"]
[null,null,null,null,null,null,null,null,null,null,null,null,"Minutes","Seconds","Seconds"]
["Scan to Server",null,null,null,null,null,null,null,null,null,null,null,null,null,{"$f":"M7*60+N7","v":0},null,"Scan to Server"]
[]
["Scan - FTP to Server -- Test Device Data (Not Required for Personal Class Products)",null,null,null,null,null,null,null,null,null,null,null,null,null,null,null,"Scan - FTP to Server -- Benchmark Device Data (Not Required for Personal Class Products)"]
[]
["SETUP CHECKLIST",null,null,null,null,null,null,null,null,null,null,null,null,"Bytes Conversion Tool",null,null,"SETUP CHECKLIST"]
["Device WebUI (Properties > Services > Workflow Scanning)",null,null,null,null,null,null,null,null,null,null,null,null,"Enter","Calculated",null,"Device WebUI (Properties > Services > Workflow Scanning)"]
["Heading",null,"Item",null,"Test Setting",null,null,"✔","NA",null,null,null,null,"KB","Bytes",null,"Heading",null,"Item",null,"Test Setting",null,null,"✔","NA"]
["General > Settings",null,"Confirmation Sheet",null,"On",null,null,0,{"$f":"H14","v":0},null,null,null,null,null,{"$f":"N14*1024","v":0},null,"General > Settings",null,"Confirmation Sheet",null,"On",null,null,0,{"$f":"X14","v":0}]
["File Repository Setup",null,"Default",null,"[Set to Location of Server]",null,null,0,null,null,null,null,null,null,null,null,"File Repository Setup",null,"Default",null,"[Set to Location of Server]",null,null,0]
[]
["PDF",null,null,null,null,null,null,null,null,null,null,null,null,null,null,null,"PDF"]
["Mode Resolution Options",null,null,"Resolution","Color Mode Selected for Job","Original","Images","DADF scan  First sheet out time measured in seconds","DADF scan  Finish time measured in seconds","TOTAL time of scan feed and processing - files on server","TOTAL time of scan feed and processing  - confirmation sheet printed","File size measured in Bytes","DADF Speed PPM Calculated",null,null,null,"Mode Resolution Options",null,null,"Resolution","Color Mode Selected for Job","Original","Images","DADF scan  First sheet out time measured in seconds","DADF scan  Finish time measured in seconds","TOTAL time of scan feed and processing - files on server","TOTAL time of scan feed and processing  - confirmation sheet printed","File size measured in Bytes","DADF Speed PPM Calculated"]
["Mono: 200 dpi",null,null,200,"Mono","PScan10",10,null,null,null,null,null,{"$f":"IF(OR(L19=\"NA\", L19=\"FAILED\"), L19, (IF(ISERROR((G19-1)/(I19-H19)*60), \"\",(G19-1)/(I19-H19)*60)))","v":""},null,null,null,"Mono: 200 dpi",null,null,200,"Mono","PScan10",10,null,null,null,null,null,{"$f":"IF(OR(AB19=\"NA\", AB19=\"FAILED\"), AB19, (IF(ISERROR((W19-1)/(Y19-X19)*60), \"\",(W19-1)/(Y19-X19)*60)))","v":""}]
["Grayscale: 200 dpi ",200,null,200,"Grayscale","PScan10",10,null,null,null,null,null,{"$f":"IF(OR(L20=\"NA\", L20=\"FAILED\"), L20, (IF(ISERROR((G20-1)/(I20-H20)*60), \"\",(G20-1)/(I20-H20)*60)))","v":""},null,null,null,"Grayscale: 200 dpi ",200,null,200,"Grayscale","PScan10",10,null,null,null,null,null,{"$f":"IF(OR(AB20=\"NA\", AB20=\"FAILED\"), AB20, (IF(ISERROR((W20-1)/(Y20-X20)*60), \"\",(W20-1)/(Y20-X20)*60)))","v":""}]
["Color: 200 dpi",200,null,200,"Color","PScan10",10,null,null,null,null,null,{"$f":"IF(OR(L21=\"NA\", L21=\"FAILED\"), L21, (IF(ISERROR((G21-1)/(I21-H21)*60), \"\",(G21-1)/(I21-H21)*60)))","v":""},null,null,null,"Color: 200 dpi",200,null,200,"Color","PScan10",10,null,null,null,null,null,{"$f":"IF(OR(AB21=\"NA\", AB21=\"FAILED\"), AB21, (IF(ISERROR((W21-1)/(Y21-X21)*60), \"\",(W21-1)/(Y21-X21)*60)))","v":""}]
["Auto: 200 dpi",null,null,200,"Auto","PScan10",10,null,null,null,null,null,{"$f":"IF(OR(L22=\"NA\", L22=\"FAILED\"), L22, (IF(ISERROR((G22-1)/(I22-H22)*60), \"\",(G22-1)/(I22-H22)*60)))","v":""},null,null,null,"Auto: 200 dpi",null,null,200,"Auto","PScan10",10,null,null,null,null,null,{"$f":"IF(OR(AB22=\"NA\", AB22=\"FAILED\"), AB22, (IF(ISERROR((W22-1)/(Y22-X22)*60), \"\",(W22-1)/(Y22-X22)*60)))","v":""}]
[null,null,null,null,null,"Average",{"$f":"AVERAGE(G19:G22)","v":10},{"$f":"IF(H19=\"NA\", H19, (IF(ISERROR(AVERAGE(H19:H22)), \"\", AVERAGE(H19:H22))))","v":""},"","","","","",null,null,null,null,null,null,null,null,"Average",{"$f":"AVERAGE(W19:W22)","v":10},{"$f":"IF(X19=\"NA\", X19, (IF(ISERROR(AVERAGE(X19:X22)), \"\", AVERAGE(X19:X22))))","v":""},"","","","",""]
[]
["Mono: 300 dpi",300,null,300,"Mono","PScan10",10,null,null,null,null,null,{"$f":"IF(OR(L25=\"NA\", L25=\"FAILED\"), L25, (IF(ISERROR((G25-1)/(I25-H25)*60), \"\",(G25-1)/(I25-H25)*60)))","v":""},null,null,null,"Mono: 300 dpi",300,null,300,"Mono","PScan10",10,null,null,null,null,null,{"$f":"IF(OR(AB25=\"NA\", AB25=\"FAILED\"), AB25, (IF(ISERROR((W25-1)/(Y25-X25)*60), \"\",(W25-1)/(Y25-X25)*60)))","v":""}]
["Grayscale: 300 dpi",300,null,300,"Grayscale","PScan10",10,null,null,null,null,null,{"$f":"IF(OR(L26=\"NA\", L26=\"FAILED\"), L26, (IF(ISERROR((G26-1)/(I26-H26)*60), \"\",(G26-1)/(I26-H26)*60)))","v":""},null,null,null,"Grayscale: 300 dpi",300,null,300,"Grayscale","PScan10",10,null,null,null,null,null,{"$f":"IF(OR(AB26=\"NA\", AB26=\"FAILED\"), AB26, (IF(ISERROR((W26-1)/(Y26-X26)*60), \"\",(W26-1)/(Y26-X26)*60)))","v":""}]
["Color: 300 dpi",300,"N Layer MRC",300,"Color","PScan10",10,null,null,null,null,null,{"$f":"IF(OR(L27=\"NA\", L27=\"FAILED\"), L27, (IF(ISERROR((G27-1)/(I27-H27)*60), \"\",(G27-1)/(I27-H27)*60)))","v":""},null,null,null,"Color: 300 dpi",300,"N Layer MRC",300,"Color","PScan10",10,null,null,null,null,null,{"$f":"IF(OR(AB27=\"NA\", AB27=\"FAILED\"), AB27, (IF(ISERROR((W27-1)/(Y27-X27)*60), \"\",(W27-1)/(Y27-X27)*60)))","v":""}]
["Auto: 300 dpi",null,null,300,"Auto","PScan10",10,null,null,null,null,null,{"$f":"IF(OR(L28=\"NA\", L28=\"FAILED\"), L28, (IF(ISERROR((G28-1)/(I28-H28)*60), \"\",(G28-1)/(I28-H28)*60)))","v":""},null,null,null,"Auto: 300 dpi",null,null,300,"Auto","PScan10",10,null,null,null,null,null,{"$f":"IF(OR(AB28=\"NA\", AB28=\"FAILED\"), AB28, (IF(ISERROR((W28-1)/(Y28-X28)*60), \"\",(W28-1)/(Y28-X28)*60)))","v":""}]
[null,null,null,null,null,"Average",{"$f":"AVERAGE(G25:G28)","v":10},{"$f":"IF(H25=\"NA\", H25, (IF(ISERROR(AVERAGE(H25:H28)), \"\", AVERAGE(H25:H28))))","v":""},"","","","","",null,null,null,null,null,null,null,null,"Average",{"$f":"AVERAGE(W25:W28)","v":10},{"$f":"IF(X25=\"NA\", X25, (IF(ISERROR(AVERAGE(X25:X28)), \"\", AVERAGE(X25:X28))))","v":""},"","","","",""]
[]
["Mono: 600 dpi",null,null,600,"Mono","PScan10",10,null,null,null,null,null,{"$f":"IF(OR(L31=\"NA\", L31=\"FAILED\"), L31, (IF(ISERROR((G31-1)/(I31-H31)*60), \"\",(G31-1)/(I31-H31)*60)))","v":""},null,null,null,"Mono: 600 dpi",null,null,600,"Mono","PScan10",10,null,null,null,null,null,{"$f":"IF(OR(AB31=\"NA\", AB31=\"FAILED\"), AB31, (IF(ISERROR((W31-1)/(Y31-X31)*60), \"\",(W31-1)/(Y31-X31)*60)))","v":""}]
["Grayscale: 600 dpi",600,null,600,"Grayscale","PScan10",10,null,null,null,null,null,{"$f":"IF(OR(L32=\"NA\", L32=\"FAILED\"), L32, (IF(ISERROR((G32-1)/(I32-H32)*60), \"\",(G32-1)/(I32-H32)*60)))","v":""},null,null,null,"Grayscale: 600 dpi",600,null,600,"Grayscale","PScan10",10,null,null,null,null,null,{"$f":"IF(OR(AB32=\"NA\", AB32=\"FAILED\"), AB32, (IF(ISERROR((W32-1)/(Y32-X32)*60), \"\",(W32-1)/(Y32-X32)*60)))","v":""}]
["Color: 600 dpi",600,"N Layer MRC",600,"Color","PScan10",10,null,null,null,null,null,{"$f":"IF(OR(L33=\"NA\", L33=\"FAILED\"), L33, (IF(ISERROR((G33-1)/(I33-H33)*60), \"\",(G33-1)/(I33-H33)*60)))","v":""},null,null,null,"Color: 600 dpi",600,"N Layer MRC",600,"Color","PScan10",10,null,null,null,null,null,{"$f":"IF(OR(AB33=\"NA\", AB33=\"FAILED\"), AB33, (IF(ISERROR((W33-1)/(Y33-X33)*60), \"\",(W33-1)/(Y33-X33)*60)))","v":""}]
["Auto: 600 dpi",null,null,600,"Auto","PScan10",10,null,null,null,null,null,{"$f":"IF(OR(L34=\"NA\", L34=\"FAILED\"), L34, (IF(ISERROR((G34-1)/(I34-H34)*60), \"\",(G34-1)/(I34-H34)*60)))","v":""},null,null,null,"Auto: 600 dpi",null,null,600,"Auto","PScan10",10,null,null,null,null,null,{"$f":"IF(OR(AB34=\"NA\", AB34=\"FAILED\"), AB34, (IF(ISERROR((W34-1)/(Y34-X34)*60), \"\",(W34-1)/(Y34-X34)*60)))","v":""}]
[null,null,null,null,null,"Average",{"$f":"AVERAGE(G31:G34)","v":10},{"$f":"IF(H31=\"NA\", H31, (IF(ISERROR(AVERAGE(H31:H34)), \"\", AVERAGE(H31:H34))))","v":""},"","","","","",null,null,null,null,null,null,null,null,"Average",{"$f":"AVERAGE(W31:W34)","v":10},{"$f":"IF(X31=\"NA\", X31, (IF(ISERROR(AVERAGE(X31:X34)), \"\", AVERAGE(X31:X34))))","v":""},"","","","",""]
[]
["PDF/ OCR",null,null,null,null,null,null,null,null,null,null,null,null,null,null,null,"PDF/ OCR"]
["Mode Resolution Options",null,null,"Resolution","Color Mode Selected for Job","Original","Images","DADF scan  First sheet out time measured in seconds","DADF scan  Finish time measured in seconds","TOTAL time of scan feed and processing - files on server","TOTAL time of scan feed and processing  - confirmation sheet printed","File size measured in Bytes","OCR Word Count","DADF Speed PPM Calculated",null,null,"Mode Resolution Options",null,null,"Resolution","Color Mode Selected for Job","Original","Images","DADF scan  First sheet out time measured in seconds","DADF scan  Finish time measured in seconds","TOTAL time of scan feed and processing - files on server","TOTAL time of scan feed and processing  - confirmation sheet printed","File size measured in Bytes","OCR Word Count","DADF Speed PPM Calculated"]
["Mono: 200 dpi: OCR",null,null,200,"Mono","PScan10",10,null,null,null,null,null,null,{"$f":"IF(OR(L39=\"NA\", L39=\"FAILED\"), L39, (IF(ISERROR((G39-1)/(I39-H39)*60), \"\",(G39-1)/(I39-H39)*60)))","v":""},null,null,"Mono: 200 dpi: OCR",null,null,200,"Mono","PScan10",10,null,null,null,null,null,null,{"$f":"IF(OR(AB39=\"NA\", AB39=\"FAILED\"), AB39, (IF(ISERROR((W39-1)/(Y39-X39)*60), \"\",(W39-1)/(Y39-X39)*60)))","v":""}]
["Color: 200 dpi: OCR",200,null,200,"Color","PScan10",10,null,null,null,null,null,null,{"$f":"IF(OR(L40=\"NA\", L40=\"FAILED\"), L40, (IF(ISERROR((G40-1)/(I40-H40)*60), \"\",(G40-1)/(I40-H40)*60)))","v":""},null,null,"Color: 200 dpi: OCR",200,null,200,"Color","PScan10",10,null,null,null,null,null,null,{"$f":"IF(OR(AB40=\"NA\", AB40=\"FAILED\"), AB40, (IF(ISERROR((W40-1)/(Y40-X40)*60), \"\",(W40-1)/(Y40-X40)*60)))","v":""}]
[null,null,null,null,null,"Average",{"$f":"AVERAGE(G39:G40)","v":10},{"$f":"IF(H39=\"NA\", H39, (IF(ISERROR(AVERAGE(H39:H40)), \"\", AVERAGE(H39:H40))))","v":""},"","","","","","",null,null,null,null,null,null,null,"Average",{"$f":"AVERAGE(W39:W40)","v":10},{"$f":"IF(X39=\"NA\", X39, (IF(ISERROR(AVERAGE(X39:X40)), \"\", AVERAGE(X39:X40))))","v":""},"","","","","",""]
[]
["Mono: 300 dpi: OCR",300,null,300,"Mono","PScan10",10,null,null,null,null,null,null,{"$f":"IF(OR(L43=\"NA\", L43=\"FAILED\"), L43, (IF(ISERROR((G43-1)/(I43-H43)*60), \"\",(G43-1)/(I43-H43)*60)))","v":""},null,null,"Mono: 300 dpi: OCR",300,null,300,"Mono","PScan10",10,null,null,null,null,null,null,{"$f":"IF(OR(AB43=\"NA\", AB43=\"FAILED\"), AB43, (IF(ISERROR((W43-1)/(Y43-X43)*60), \"\",(W43-1)/(Y43-X43)*60)))","v":""}]
["Color: 300 dpi: OCR",300,"N Layer MRC",300,"Color","PScan10",10,null,null,null,null,null,null,{"$f":"IF(OR(L44=\"NA\", L44=\"FAILED\"), L44, (IF(ISERROR((G44-1)/(I44-H44)*60), \"\",(G44-1)/(I44-H44)*60)))","v":""},null,null,"Color: 300 dpi: OCR",300,"N Layer MRC",300,"Color","PScan10",10,null,null,null,null,null,null,{"$f":"IF(OR(AB44=\"NA\", AB44=\"FAILED\"), AB44, (IF(ISERROR((W44-1)/(Y44-X44)*60), \"\",(W44-1)/(Y44-X44)*60)))","v":""}]
[null,null,null,null,null,"Average",{"$f":"AVERAGE(G43:G44)","v":10},{"$f":"IF(H43=\"NA\", H43, (IF(ISERROR(AVERAGE(H43:H44)), \"\", AVERAGE(H43:H44))))","v":""},"","","","","","",null,null,null,null,null,null,null,"Average",{"$f":"AVERAGE(W43:W44)","v":10},{"$f":"IF(X43=\"NA\", X43, (IF(ISERROR(AVERAGE(X43:X44)), \"\", AVERAGE(X43:X44))))","v":""},"","","","","",""]
[]
["MTIFF",null,null,null,null,null,null,null,null,null,null,null,null,null,null,null,"MTIFF"]
["Mode Resolution Options",null,null,"Resolution","Color Mode Selected for Job","Original","Images","DADF scan  First sheet out time measured in seconds","DADF scan  Finish time measured in seconds","TOTAL time of scan feed and processing - files on server","TOTAL time of scan feed and processing  - confirmation sheet printed","File size measured in Bytes","DADF Speed PPM Calculated",null,null,null,"Mode Resolution Options",null,null,"Resolution","Color Mode Selected for Job","Original","Images","DADF scan  First sheet out time measured in seconds","DADF scan  Finish time measured in seconds","TOTAL time of scan feed and processing - files on server","TOTAL time of scan feed and processing  - confirmation sheet printed","File size measured in Bytes","DADF Speed PPM Calculated"]
["Mono: 200 dpi",null,null,200,"Mono","PScan10",10,null,null,null,null,null,{"$f":"IF(OR(L49=\"NA\", L49=\"FAILED\"), L49, (IF(ISERROR((G49-1)/(I49-H49)*60), \"\",(G49-1)/(I49-H49)*60)))","v":""},null,null,null,"Mono: 200 dpi",null,null,200,"Mono","PScan10",10,null,null,null,null,null,{"$f":"IF(OR(AB49=\"NA\", AB49=\"FAILED\"), AB49, (IF(ISERROR((W49-1)/(Y49-X49)*60), \"\",(W49-1)/(Y49-X49)*60)))","v":""}]
["Grayscale: 200 dpi ",200,null,200,"Grayscale","PScan10",10,null,null,null,null,null,{"$f":"IF(OR(L50=\"NA\", L50=\"FAILED\"), L50, (IF(ISERROR((G50-1)/(I50-H50)*60), \"\",(G50-1)/(I50-H50)*60)))","v":""},null,null,null,"Grayscale: 200 dpi ",200,null,200,"Grayscale","PScan10",10,null,null,null,null,null,{"$f":"IF(OR(AB50=\"NA\", AB50=\"FAILED\"), AB50, (IF(ISERROR((W50-1)/(Y50-X50)*60), \"\",(W50-1)/(Y50-X50)*60)))","v":""}]
["Color: 200 dpi",200,null,200,"Color","PScan10",10,null,null,null,null,null,{"$f":"IF(OR(L51=\"NA\", L51=\"FAILED\"), L51, (IF(ISERROR((G51-1)/(I51-H51)*60), \"\",(G51-1)/(I51-H51)*60)))","v":""},null,null,null,"Color: 200 dpi",200,null,200,"Color","PScan10",10,null,null,null,null,null,{"$f":"IF(OR(AB51=\"NA\", AB51=\"FAILED\"), AB51, (IF(ISERROR((W51-1)/(Y51-X51)*60), \"\",(W51-1)/(Y51-X51)*60)))","v":""}]
[null,null,null,null,null,"Average",{"$f":"AVERAGE(G49:G51)","v":10},{"$f":"IF(H49=\"NA\", H49, (IF(ISERROR(AVERAGE(H49:H51)), \"\", AVERAGE(H49:H51))))","v":""},"","","","","",null,null,null,null,null,null,null,null,"Average",{"$f":"AVERAGE(W49:W51)","v":10},{"$f":"IF(X49=\"NA\", X49, (IF(ISERROR(AVERAGE(X49:X51)), \"\", AVERAGE(X49:X51))))","v":""},"","","","",""]
[]
["Mono: 600 dpi",null,null,600,"Mono","PScan10",10,null,null,null,null,null,{"$f":"IF(OR(L54=\"NA\", L54=\"FAILED\"), L54, (IF(ISERROR((G54-1)/(I54-H54)*60), \"\",(G54-1)/(I54-H54)*60)))","v":""},null,null,null,"Mono: 600 dpi",null,null,600,"Mono","PScan10",10,null,null,null,null,null,{"$f":"IF(OR(AB54=\"NA\", AB54=\"FAILED\"), AB54, (IF(ISERROR((W54-1)/(Y54-X54)*60), \"\",(W54-1)/(Y54-X54)*60)))","v":""}]
["Grayscale: 600 dpi",600,null,600,"Grayscale","PScan10",10,null,null,null,null,null,{"$f":"IF(OR(L55=\"NA\", L55=\"FAILED\"), L55, (IF(ISERROR((G55-1)/(I55-H55)*60), \"\",(G55-1)/(I55-H55)*60)))","v":""},null,null,null,"Grayscale: 600 dpi",600,null,600,"Grayscale","PScan10",10,null,null,null,null,null,{"$f":"IF(OR(AB55=\"NA\", AB55=\"FAILED\"), AB55, (IF(ISERROR((W55-1)/(Y55-X55)*60), \"\",(W55-1)/(Y55-X55)*60)))","v":""}]
["Color: 600 dpi",600,"N Layer MRC",600,"Color","PScan10",10,null,null,null,null,null,{"$f":"IF(OR(L56=\"NA\", L56=\"FAILED\"), L56, (IF(ISERROR((G56-1)/(I56-H56)*60), \"\",(G56-1)/(I56-H56)*60)))","v":""},null,null,null,"Color: 600 dpi",600,"N Layer MRC",600,"Color","PScan10",10,null,null,null,null,null,{"$f":"IF(OR(AB56=\"NA\", AB56=\"FAILED\"), AB56, (IF(ISERROR((W56-1)/(Y56-X56)*60), \"\",(W56-1)/(Y56-X56)*60)))","v":""}]
[null,null,null,null,null,"Average",{"$f":"AVERAGE(G54:G56)","v":10},{"$f":"IF(H54=\"NA\", H54, (IF(ISERROR(AVERAGE(H54:H56)), \"\", AVERAGE(H54:H56))))","v":""},"","","","","",null,null,null,null,null,null,null,null,"Average",{"$f":"AVERAGE(W54:W56)","v":10},{"$f":"IF(X54=\"NA\", X54, (IF(ISERROR(AVERAGE(X54:X56)), \"\", AVERAGE(X54:X56))))","v":""},"","","","",""]
[]
["Color: 600 dpi Quality Highest",601,"N Layer MRC",600,"Color","PScan10",10,null,null,null,null,null,{"$f":"IF(OR(L59=\"NA\", L59=\"FAILED\"), L59, (IF(ISERROR((G59-1)/(I59-H59)*60), \"\",(G59-1)/(I59-H59)*60)))","v":""},null,null,null,"Color: 600 dpi Quality Highest",601,"N Layer MRC",600,"Color","PScan10",10,null,null,null,null,null,{"$f":"IF(OR(AB59=\"NA\", AB59=\"FAILED\"), AB59, (IF(ISERROR((W59-1)/(Y59-X59)*60), \"\",(W59-1)/(Y59-X59)*60)))","v":""}]
[]
["JPG",null,null,null,null,null,null,null,null,null,null,null,null,null,null,null,"JPG"]
["Mode Resolution Options",null,null,"Resolution","Color Mode Selected for Job","Original","Images","TOTAL time of scan and processing - files on server","TOTAL time of scan and processing  - confirmation sheet printed","File size measured in Bytes",null,null,null,null,null,null,"Mode Resolution Options",null,null,"Resolution","Color Mode Selected for Job","Original","Images","TOTAL time of scan and processing - files on server","TOTAL time of scan and processing  - confirmation sheet printed","File size measured in Bytes"]
["Auto: 200 dpi",200,null,200,"Auto","FlowerGirl",1,null,null,null,null,null,null,null,null,null,"Auto: 200 dpi",200,null,200,"Auto","FlowerGirl",1]
["Auto: 300 dpi",201,null,300,"Auto","FlowerGirl",1,null,null,null,null,null,null,null,null,null,"Auto: 300 dpi",201,null,300,"Auto","FlowerGirl",1]
["Auto: 600 dpi",202,null,600,"Auto","FlowerGirl",1,null,null,null,null,null,null,null,null,null,"Auto: 600 dpi",202,null,600,"Auto","FlowerGirl",1]
[]
[]
[]
["PDF Duplex",null,null,null,null,null,null,null,null,null,null,null,null,null,null,null,"PDF Duplex"]
["Print Mountains (25 pages) in duplex mode, all default settings, and scan in duplex mode.",null,null,null,null,null,null,null,null,null,null,null,null,null,null,null,"Print Mountains (25 pages) in duplex mode, all default settings, and scan in duplex mode."]
["Mode Resolution Options",null,null,"Resolution","Color Mode Selected for Job","Original","Pages","DADF scan  First sheet out time measured in seconds","DADF scan  Finish time measured in seconds","TOTAL time of scan feed and processing - files on server","TOTAL time of scan feed and processing  - confirmation sheet printed","File size measured in Bytes","DADF Speed PPM Calculated",null,null,null,"Mode Resolution Options",null,null,"Resolution","Color Mode Selected for Job","Original","Pages","DADF scan  First sheet out time measured in seconds","DADF scan  Finish time measured in seconds","TOTAL time of scan feed and processing - files on server","TOTAL time of scan feed and processing  - confirmation sheet printed","File size measured in Bytes","DADF Speed PPM Calculated"]
["Mono: 200 dpi",null,null,200,"Color","Mountains",13,null,null,null,null,null,{"$f":"IF(OR(L72=\"NA\", L72=\"FAILED\"), L72, (IF(ISERROR((G72-1)/(I72-H72)*60), \"\",(G72-1)/(I72-H72)*60)))","v":""},null,null,null,"Mono: 200 dpi",null,null,200,"Color","Mountains",13,null,null,null,null,null,{"$f":"IF(OR(AB72=\"NA\", AB72=\"FAILED\"), AB72, (IF(ISERROR((W72-1)/(Y72-X72)*60), \"\",(W72-1)/(Y72-X72)*60)))","v":""}]
["Grayscale: 300 dpi ",200,null,300,"Color","Mountains",13,null,null,null,null,null,{"$f":"IF(OR(L73=\"NA\", L73=\"FAILED\"), L73, (IF(ISERROR((G73-1)/(I73-H73)*60), \"\",(G73-1)/(I73-H73)*60)))","v":""},null,null,null,"Grayscale: 300 dpi ",200,null,300,"Color","Mountains",13,null,null,null,null,null,{"$f":"IF(OR(AB73=\"NA\", AB73=\"FAILED\"), AB73, (IF(ISERROR((W73-1)/(Y73-X73)*60), \"\",(W73-1)/(Y73-X73)*60)))","v":""}]
["Color: 600 dpi",200,null,600,"Color","Mountains",13,null,null,null,null,null,{"$f":"IF(OR(L74=\"NA\", L74=\"FAILED\"), L74, (IF(ISERROR((G74-1)/(I74-H74)*60), \"\",(G74-1)/(I74-H74)*60)))","v":""},null,null,null,"Color: 600 dpi",200,null,600,"Color","Mountains",13,null,null,null,null,null,{"$f":"IF(OR(AB74=\"NA\", AB74=\"FAILED\"), AB74, (IF(ISERROR((W74-1)/(Y74-X74)*60), \"\",(W74-1)/(Y74-X74)*60)))","v":""}]
[null,null,null,null,null,"Average",{"$f":"AVERAGE(G72:G74)","v":13},{"$f":"IF(H72=\"NA\", H72, (IF(ISERROR(AVERAGE(H72:H74)), \"\", AVERAGE(H72:H74))))","v":""},"","","","","",null,null,null,null,null,null,null,null,"Average",{"$f":"AVERAGE(W72:W74)","v":13},{"$f":"IF(X72=\"NA\", X72, (IF(ISERROR(AVERAGE(X72:X74)), \"\", AVERAGE(X72:X74))))","v":""},"","","","",""]
[]
[]
[]
["Scan - USB Thumb Drive, Email and PC (via USB and Network) - Test Device",null,null,null,null,null,null,null,null,null,null,null,null,null,null,null,"Scan - USB Thumb Drive, Email and PC (via USB and Network)  Benchmark"]
[]
["Enter Test Device & SW Release: ",null,null,null,null,null,null,null,null,"Input: Platen",null,null,null,null,null,null,"Enter Benchmark & SW Release: ",null,null,null,null,null,null,null,null,"Input: Platen"]
["Scan Type",null,null,"Default Color Mode","Default Resolution","Default File Format","Original Size","Original File name","Page of Original","TOTAL time of scan and processing - files displayed","TOTAL time of scan and processing  - confirmation sheet printed","File size measured in Bytes",null,null,null,null,"Scan Type",null,null,"Default Color Mode","Default Resolution","Default File Format","Original Size","Original File name","Page of Original","TOTAL time of scan and processing - files displayed","TOTAL time of scan and processing  - confirmation sheet printed","File size measured in Bytes"]
["USB Thumbdrive",200,null,"Color",200,"PDF","Letter","Flowergirl",1,"NA",29.63,402066,null,null,null,null,"USB Thumbdrive",200,null,"Color",200,"PDF","Letter","Flowergirl",1,null,23.91,454879]
["Email",201,null,null,null,null,"Letter","Flowergirl",1,11.75,27.08,402139,null,null,null,null,"Email",201,null,null,null,null,"Letter","Flowergirl",1,12.96,21.63,445382]
["PC via USB",202,null,null,null,null,"Letter","Flowergirl",1," NA"," NA"," NA",null,null,null,null,"PC via USB",202,null,null,null,null,"Letter","Flowergirl",1,"NA","NA","NA"]
["PC via network",202,null,null,null,null,"Letter","Flowergirl",1," NA"," NA"," NA",null,null,null,null,"PC via network",202,null,null,null,null,"Letter","Flowergirl",1,12.46,21.93,451960]
[]
[{"$f":"A81","v":"Enter Test Device & SW Release: "},null,null,null,null,null,null,null,null,"Input: DADF",null,null,null,null,null,null,{"$f":"Q81","v":"Enter Benchmark & SW Release: "},null,null,null,null,null,null,null,null,"Input: DADF"]
["Scan Type",null,null,"Default Color Mode","Default Resolution","Default File Format","Original Size","Original File name","Page of Original","DADF scan  First sheet out time measured in seconds","DADF scan  Finish time measured in seconds","TOTAL time of scan feed and processing - files displayed","TOTAL time of scan feed and processing  - confirmation sheet printed","File size measured in Bytes","DADF Speed PPM Calculated",null,"Scan Type",null,null,"Default Color Mode","Default Resolution","Default File Format","Original Size","Original File name","Page of Original","DADF scan  First sheet out time measured in seconds","DADF scan  Finish time measured in seconds","TOTAL time of scan feed and processing - files displayed","TOTAL time of scan feed and processing  - confirmation sheet printed","File size measured in Bytes","DADF Speed PPM Calculated"]
["USB Thumbdrive",200,null,{"$f":"D83","v":"Color"},{"$f":"E83","v":200},{"$f":"F83","v":"PDF"},"Letter","Pscan10",10,3.05,13.73,"NA",52.99,3956614,{"$f":"IF(OR(N90=\"NA\", N90=\"FAILED\"), N90, (IF(ISERROR((I90-1)/(K90-J90)*60), \"\",(I90-1)/(K90-J90)*60)))","v":50.561797752808992},null,"USB Thumbdrive",200,null,"Color",200,"PDF","Letter","Pscan10",10,3.3,14.92,null,52.91,4004614,{"$f":"IF(OR(AD90=\"NA\", AD90=\"FAILED\"), AD90, (IF(ISERROR((Y90-1)/(AA90-Z90)*60), \"\",(Y90-1)/(AA90-Z90)*60)))","v":46.471600688468158}]
["Email",201,null,null,null,null,"Letter","Pscan10",10,3.1,12.86,24.97,38.54,3702774,{"$f":"IF(OR(N91=\"NA\", N91=\"FAILED\"), N91, (IF(ISERROR((I91-1)/(K91-J91)*60), \"\",(I91-1)/(K91-J91)*60)))","v":55.327868852459012},null,"Email",201,null,null,null,null,"Letter","Pscan10",10,3.12,12.84,26.59,38.22,3965271,{"$f":"IF(OR(AD91=\"NA\", AD91=\"FAILED\"), AD91, (IF(ISERROR((Y91-1)/(AA91-Z91)*60), \"\",(Y91-1)/(AA91-Z91)*60)))","v":55.555555555555564}]
["PC via USB",202,null,null,null,null,"Letter","Pscan10",10,"NA","NA","NA","NA","NA",{"$f":"IF(OR(N92=\"NA\", N92=\"FAILED\"), N92, (IF(ISERROR((I92-1)/(K92-J92)*60), \"\",(I92-1)/(K92-J92)*60)))","v":"NA"},null,"PC via USB",202,null,null,null,null,"Letter","Pscan10",10,"NA","NA","NA","NA","NA",{"$f":"IF(OR(AD92=\"NA\", AD92=\"FAILED\"), AD92, (IF(ISERROR((Y92-1)/(AA92-Z92)*60), \"\",(Y92-1)/(AA92-Z92)*60)))","v":"NA"}]
["PC via network",202,null,null,null,null,"Letter","Pscan10",10,"NA","NA","NA","NA","NA",{"$f":"IF(OR(N93=\"NA\", N93=\"FAILED\"), N93, (IF(ISERROR((I93-1)/(K93-J93)*60), \"\",(I93-1)/(K93-J93)*60)))","v":"NA"},null,"PC via network",202,null,null,null,null,"Letter","Pscan10",10,3.42,15.02,22.61,34.32,3936396,{"$f":"IF(OR(AD93=\"NA\", AD93=\"FAILED\"), AD93, (IF(ISERROR((Y93-1)/(AA93-Z93)*60), \"\",(Y93-1)/(AA93-Z93)*60)))","v":46.551724137931032}]
[]
[]
[]
[]
[]
[null,null,null,null,"Scan To-Procedure"]
[]
[]
[]
["Precondition:"]
["Tester Shall format 4GB Pendrive - the USB 3.0 with FAT32 filesystem and allocation unit size 4096 only"]
[]
[" Device Setup"]
["Before starting the job set the device mode as mentioned in table."]
["login-->admin-->machine status-->tools-->device settings-->general-->output speed"]
["Select color mode for color settings and B\\W for mono settings."]
["For scan to USB Thumb drive, insert a Thumb drive into the USB port.  "]
["For scan to PC via USB, PC and device needs to be connected via a USB cable, product unique Scanner Driver needs to be installed on PC "]
["For scan to PC via network, the destination IP address needs to be inputted into device webUI "]
["In WebUI -> Properties > Services > Workflow Scanning -General Settings ; ensure \"Confirmation sheet \"is set to ON"]
["Procedure:"]
["Platen Job"]
["1. Ensure the following setting are made default in SAKO setting for Scan feature"]
["Output Color: Auto"]
[" Resolution: 600dpi "]
[" Quality/File Size:  Medium compression /Medium File size "]
["File Format: pdf"]
[" 2. Then Go to \"Workflow scanning /Scan to..\" from services home screen as mentioned in \"Scan type\"  "]
["3.Load the \"Flowergirl\" -document mentioned in Platen"]
["File Name:  Default  <Do not modify File Name : by default it would be displayed as DOC>"]
["Original Size: Auto"]
[" 3.Press \"Start\" button in MFD and start timer - Lap function in stopwatch then ,"]
["Lap1: Total scan time (scan feed + processing) : In LUI watch for \"Scanning...\" \"Processing ..\" Message then \"Completed\" message is Lap1 and timer continuess to run"]
["Lap2: Exit of Confirmation Sheet (lap 2): watch for the TRAIL EDGE of the Confirmation Sheet print exits to the default tray and stop the timer for Lap2 "]
["Record the times respectively in seconds "]
["4. Check for the file size and use file size converter tool to convert,then record the measurement in table"]
["File Size in Bytes: File Size in Bytes as seen in the FTP Directory (use the template’s Bytes Conversion Tool) "]
["5.Repeat the above steps for consequent jobs "]
["SPDH Job"]
["1.Go to \"Workflow scanning /Scan to..\" from services home screen as mentioned in \"Scan type\"  "]
["2.Load the \"Pscan10 \"-document mentioned in SPDH"]
["File Name:  Default  <Do not modify File Name : by default it would be displayed as DOC>"]
["Original Size: Auto"]
[" 3.Press \"Start\" button in MFD and start timer - Lap function in stopwatch then ,"]
["Lap1: SPDH 1st sheet out : Time from “Start” button selected until the TRAIL EDGE of the 1st sheet of the Original exits the Document Handler is Lap1 and timer continues .."]
["Lap2: SPDH Finish time : Watch for until the TRAIL EDGE of the last sheet of the Original exits the document handler is Lap2 and timer continues .. "]
["Lap3:Total time (scan feed + processing) : Then in LUI watch for \"Scanning..\" \"Processing.. \" then \"Completed \" displayed is Lap3 acheived  and timer continues to run.."]
["Lap4:Exit of Confirmation Sheet : Watch for until the TRAIL EDGE of the Confirmation Sheet print exits to the default tray  is Lap4 time ."]
["Record the times respectively in seconds."]
["4. Check for the file size and use file size converter tool to convert,then record the measurement in table"]
["File Size in Bytes: File Size in Bytes as seen in the destination (use the template’s Bytes Conversion Tool)"]
[" 5.Repeat the above steps for consequent jobs "]

{"sheet":"Mkt FPOT-FCOT","index":7,"n_rows":94,"n_cols":15,"rows_kept":94,"cut":false,"hidden":false,"merged":[[28,1,31,1],[28,2,31,2],[32,1,35,1],[32,2,35,2],[2,4,3,8],[6,4,6,6],[6,7,6,9],[2,10,3,10],[5,12,5,13],[6,12,7,12],[6,13,7,13],[6,10,6,11],[18,0,26,0],[18,1,18,3],[27,0,35,0],[27,1,27,3],[9,4,9,13],[10,0,17,0],[10,1,13,1],[10,2,13,2],[14,1,17,1],[14,2,17,2],[18,4,18,11],[19,1,22,1],[19,2,22,2],[23,1,26,1],[23,2,26,2],[27,4,27,11]]}
[null,null,null,null,"The embeded FPOT/FCOT documents are from EPDG A4 product planing/marketing.  PDT TPM needs to check with corresponding program marketing for approval."]
[null,null,null,null,"Please note not to include the job runs with print quality adjustment; No banner"]
[null,null,null,null,"Not all driver/connection/power modes combinations are required.  For low power and sleep mode, recommend to run only default driver with recommended connection method only. Please check with PDT TPM for the settings required including preferred way to set up mono output for color device.",null,null,null,null,null,"FPOT/FCOT Document","Enter Input Tray & Output Tray","Enter Print Resolution","Color or Mono Priority Mode"]
[null,null,null,null,null,null,null,null,null,null,null,"Connection method",null,"Driver","Power Mode"]
[null,null,null,null,"Marketing FPOT/FCOT"]
[null,null,null,null,"Print",null,null,null,null,null,null,null,"Copy"]
[null,null,null,"Driver",{"$f":"'Print To Default Tray Subset'!C3","v":"Enter "},null,null,{"$f":"'Print To Default Tray Subset'!C4","v":"Enter"},null,null,"Enter Alternative Driver",null,"Platen","ADF"]
[null,null,null,"Connection","LAN","USB","PRN",{"$f":"E8","v":"LAN"},{"$f":"F8","v":"USB"},"PRN",{"$f":"E8","v":"LAN"},{"$f":"F8","v":"USB"}]
[null,null,null,null,"FPOT (sec)","FPOT (sec)","FPOT (sec)","FPOT (sec)","FPOT (sec)","FPOT (sec)","FPOT (sec)","FPOT (sec)","FCOT (sec)","FCOT (sec)"]
["Mode",null,"File","Size"]
["Ready","Color\n(not needed for Mono Device)",null,"Reading 1","NA","NA",5.22,"NA","NA",5.26,"NA","NA",5.61,6.8]
[null,null,null,"Reading 2","NA","NA",5.12,"NA","NA",5.32,"NA","NA",5.67,6.75]
[null,null,null,"Reading 3","NA","NA",5.25,"NA","NA",5.32,"NA","NA",5.66,6.66]
[null,null,null,"Average",{"$f":"AVERAGE(E11:E13)","v":{"$error":"#DIV/0!"}},{"$error":"#DIV/0!"},5.1966666666666663,{"$error":"#DIV/0!"},{"$error":"#DIV/0!"},5.3,{"$error":"#DIV/0!"},{"$error":"#DIV/0!"},5.6466666666666674,6.7366666666666672]
[null,"Mono",null,"Reading 1","NA","NA",4.66,"NA","NA",5,"NA","NA",4.25,6.28]
[null,null,null,"Reading 2","NA","NA",4.63,"NA","NA",5.0999999999999996,"NA","NA",4.66,6.06]
[null,null,null,"Reading 3","NA","NA",4.72,"NA","NA",5.09,"NA","NA",4.25,6.28]
[null,null,null,"Average",{"$f":"AVERAGE(E15:E17)","v":{"$error":"#DIV/0!"}},{"$error":"#DIV/0!"},4.669999999999999,{"$error":"#DIV/0!"},{"$error":"#DIV/0!"},5.0633333333333335,{"$error":"#DIV/0!"},{"$error":"#DIV/0!"},4.3866666666666667,6.206666666666667]
["Low Power (Job to be sent right after device enters low power mode unless specified otherwise by PDT TPM)",null,null,null,"Unless specified by PDT TPM, only default driver & recommended connection method combination needed ",null,null,null,null,null,null,null,"Check with PDT TPM for method"]
[null,"Color\n(not needed for Mono Device)",null,"Reading 1","NA","NA",7.18,"NA","NA",7.78,"NA","NA","NA","NA"]
[null,null,null,"Reading 2","NA","NA","NA","NA","NA","NA","NA","NA","NA","NA"]
[null,null,null,"Reading 3","NA","NA","NA","NA","NA","NA","NA","NA","NA","NA"]
[null,null,null,"Average",{"$f":"AVERAGE(E20:E22)","v":{"$error":"#DIV/0!"}},{"$error":"#DIV/0!"},7.18,{"$error":"#DIV/0!"},{"$error":"#DIV/0!"},7.78,{"$error":"#DIV/0!"},{"$error":"#DIV/0!"},{"$error":"#DIV/0!"},{"$error":"#DIV/0!"}]
[null,"Mono",null,"Reading 1","NA","NA",7.09,"NA","NA",7.31,"NA","NA","NA","NA"]
[null,null,null,"Reading 2","NA","NA","NA","NA","NA","NA","NA","NA","NA","NA"]
[null,null,null,"Reading 3","NA","NA","NA","NA","NA","NA","NA","NA","NA","NA"]
[null,null,null,"Average",{"$f":"AVERAGE(E24:E26)","v":{"$error":"#DIV/0!"}},{"$error":"#DIV/0!"},7.09,{"$error":"#DIV/0!"},{"$error":"#DIV/0!"},7.31,{"$error":"#DIV/0!"},{"$error":"#DIV/0!"},{"$error":"#DIV/0!"},{"$error":"#DIV/0!"}]
["Sleep (Job to be sent right after device enters sleep mode unless specified otherwise by PDT TPM)",null,null,null,"Unless specified by PDT TPM, only default driver & recommended connection method combination needed ",null,null,null,null,null,null,null,"Check with PDT TPM for method"]
[null,"Color\n(not needed for Mono Device)",null,"Reading 1","NA","NA",14.18,"NA","NA",14.25,"NA","NA","NA","NA"]
[null,null,null,"Reading 2","NA","NA","NA","NA","NA","NA","NA","NA","NA","NA"]
[null,null,null,"Reading 3","NA","NA","NA","NA","NA","NA","NA","NA","NA","NA"]
[null,null,null,"Average",{"$f":"AVERAGE(E29:E31)","v":{"$error":"#DIV/0!"}},{"$error":"#DIV/0!"},14.18,{"$error":"#DIV/0!"},{"$error":"#DIV/0!"},{"$f":"AVERAGE(J29:J31)","v":14.25},{"$error":"#DIV/0!"},{"$error":"#DIV/0!"},{"$error":"#DIV/0!"},{"$error":"#DIV/0!"}]
[null,"Mono",null,"Reading 1","NA","NA",13.89,"NA","NA",13.85,"NA","NA","NA","NA"]
[null,null,null,"Reading 2","NA","NA","NA","NA","NA","NA","NA","NA","NA","NA"]
[null,null,null,"Reading 3","NA","NA","NA","NA","NA","NA","NA","NA","NA","NA"]
[null,null,null,"Average",{"$f":"AVERAGE(E33:E35)","v":{"$error":"#DIV/0!"}},{"$error":"#DIV/0!"},13.89,{"$error":"#DIV/0!"},{"$error":"#DIV/0!"},13.85,{"$error":"#DIV/0!"},{"$error":"#DIV/0!"},{"$error":"#DIV/0!"},{"$error":"#DIV/0!"}]
[]
[]
[]
[]
["Mkt FPOT-FCOT"]
[]
["Device Setup:"]
["Device is fully ready to print "]
["Sufficient Media loaded in Tray1"]
["Before starting the test enter into Admin-->Machine status-->Tools-->General settings-->Output Speed( Priority Mode)--> Color/Mono"]
[]
["Procedure:"]
["Mkt FPOT-FCOT   PRINT-- Ready Mode"]
[]
["Mkt FPOT-FCOT Jobs for PS Print Driver -Default Resolution "]
["Mkt FPOT-FCOT for PCL6 Print Driver -Default Resolution "]
[]
["1.Set the driver type as default \"PS/ PCL 6\" with Banner sheet disabled accordingly"]
["2.Open the Test File in application mentioned in the Laptop"]
["3.Go to File/Print ->Properties and  Settings are \" Color / Mono\" ,print quality \"Default Resolution\"  and Click Print buton; and Start timer in Stopwatch together"]
["4.C-C : Time from “Print” button selected until the TRAIL EDGE of the last sheet exits to the default tray"]
["5.Record the time then and repeat the above steps for conseqent readings"]
[]
["Mkt FPOT-FCOT   COPY-- Ready Mode"]
["Procedure:"]
["(Before submitting the job give some warmup jobs)"]
[]
["1.Place letter media in tray1 as LEF and remove all paper from other trays."]
["2.Take a printout of test document (in letter) which is emedded in test template under Mkt FPOT/FCOT,for both color and mono. "]
["3.Ensure device is in ready mode."]
["4. Set the copy service as color/mono via Platen / ADF."]
["5.Place color documents on platen/dadf(place mono document on platen or dadf for mono jobs)."]
["6.Hit start to make 3 copies now start timing copies"]
["7. After given the settings while press the start button and start the timer together. "]
["8. The TRAIL EDGE of the last sheet exits to the default tray and stop the timer."]
["9.Record the time then and repeat the above steps for conseqent readings."]
[]
["Mkt FPOT-FCOT   PRINT-- Low Power"]
["Configure the device in energy saver  Low power as 2minutes"]
[]
["Mkt FPOT-FCOT Jobs for PS Print Driver -Default Resolution "]
["Mkt FPOT-FCOT for PCL6 Print Driver -Default Resolution "]
[]
["Procedure:",":"]
["1.Observe the back channel trace / Tera Term logs"]
["2.Once u observe the \"Power saver level 1\" command."]
["3..After pressing enter start the timer and stop the timer when the output page comes to trail edge .",null,null," "]
["4.Calculate the timings as we did for ready mode. "]
[]
["Mkt FPOT-FCOT   PRINT-- sleep mode"]
["Configure the device should be in sleep mode less than or equal to 1 hour."]
["Before submitting the job want to create prn files to submit the job"]
[]
["Procedure:"]
["1.Once device enters into low power mode,Observe the 7 segment display. "]
["2.when you are observing \"r\" submit the job at once ."]
["3.Submit the print job through   command prompt  as \"lpr -P -S  ip address and drag the required document and hit enter ."]
["4.Calculate the timings as we did for ready mode. "]

{"sheet":"Complex Print Jobs","index":8,"n_rows":57,"n_cols":27,"rows_kept":57,"cut":false,"hidden":false,"merged":[[1,0,1,4],[1,14,1,18],[2,5,2,7],[2,8,2,10],[2,11,2,12],[2,22,2,24],[2,25,2,26],[3,5,3,7],[3,8,3,10],[3,11,6,12],[3,19,3,21],[3,22,3,24],[3,25,6,26],[4,5,4,7],[4,8,4,10],[2,19,2,21],[8,0,14,0],[8,14,14,14],[4,19,4,21],[4,22,4,24],[5,5,5,7],[5,8,5,10],[5,19,5,21],[5,22,5,24],[19,25,19,26],[6,5,6,7],[6,8,6,10],[6,19,6,21],[6,22,6,24],[19,5,19,7],[19,8,19,10],[19,11,19,12],[19,19,19,21],[19,22,19,24],[20,25,23,26],[21,5,21,7],[21,8,21,10],[21,19,21,21],[21,22,21,24],[20,5,20,7],[20,8,20,10],[20,11,23,12],[20,19,20,21],[20,22,20,24],[22,5,22,7],[22,8,22,10],[22,19,22,21],[22,22,22,24],[23,5,23,7],[23,8,23,10],[23,19,23,21],[23,22,23,24],[25,0,31,0],[25,14,31,14],[35,5,35,7],[35,8,35,10],[35,11,35,12],[35,22,35,24],[35,25,35,26],[36,5,36,7],[36,8,36,10],[36,11,39,12],[36,19,36,21],[36,22,36,24],[36,25,39,26],[37,5,37,7],[37,8,37,10],[35,19,35,21],[39,22,39,24],[37,19,37,21],[37,22,37,24],[38,5,38,7],[38,8,38,10],[38,19,38,21],[38,22,38,24],[52,0,52,2],[56,1,78,7],[39,5,39,7],[39,8,39,10],[39,19,39,21],[41,0,47,0],[41,14,47,14]]}
["Setting: Default Driver, Default Connection method and Default Image Resolution as specified by PDT TPM. No Banner.",null,null,null,null,null,null,null,null,null,null,null,null,null,"Setting: Default Driver, Default Connection method and High Image Resolution as specified by PDT TPM. No Banner."]
[]
["Complex Print Jobs for default driver",null,null,null,null,"Benchmark Data",null,null,"Test Device Data",null,null,"Delta",null,null,"Complex Print Jobs for default driver",null,null,null,null,"Benchmark Data",null,null,"Test Device Data",null,null,"Delta"]
[null,null,null,null,null,{"$f":"'[3]Test Info'!B16","v":"Enter Benchmark Name"},null,null,{"$f":"'[3]Test Info'!B8","v":"Enter Specific Details Below"},null,null,"Test Device vs. Benchmark\n%",null,null,null,null,null,null,null,{"$f":"F4","v":"Enter Benchmark Name"},null,null,{"$f":"I4","v":"Enter Specific Details Below"},null,null,"Test Device vs. Benchmark\n%"]
[null,null,null,null,null,{"$f":"'[3]Test Info'!B17","v":"1.10.4 N"},null,null,{"$f":"'[3]Test Info'!B9","v":"0.123.0"},null,null,null,null,null,null,null,null,null,null,{"$f":"F5","v":"1.10.4 N"},null,null,{"$f":"I5","v":"0.123.0"}]
[null,null,null,null,null,{"$f":"CONCATENATE(\"PS\", \"-\", '[3]Test Info'!B18)","v":"PS-5.528.2"},null,null,{"$f":"CONCATENATE(\"PS\", \"-\", '[3]Test Info'!B10)","v":"PS-5.588.0"},null,null,null,null,null,null,null,null,null,null,{"$f":"F6","v":"PS-5.528.2"},null,null,{"$f":"I6","v":"PS-5.588.0"}]
[null,null,null,null,null,"STANDARD",null,null,"STANDARD",null,null,null,null,null,null,null,null,null,null,"ENHANCED",null,null,"ENHANCED"]
["Sides","Print Quality","Job","Application","Total Pages","FPOT\nMeasured in Seconds","C-C\nMeasured in Seconds","2-N PPM aka\n ESAT (ipm)","FPOT\nMeasured in Seconds","C-C\nMeasured in Seconds","2-N PPM aka\n ESAT (ipm)","FPOT","C-C",null,"Sides","Print Quality","Job","Application","Total Pages","FPOT\nMeasured in Seconds","C-C\nMeasured in Seconds","2-N PPM aka\n ESAT (ipm)","FPOT\nMeasured in Seconds","C-C\nMeasured in Seconds","2-N PPM aka\n ESAT (ipm)","FPOT","C-C"]
["Simplex","Default","AdGraphics-Powerpoint(LTR)","Powerpoint",4,25.7,44.1,{"$f":"($E9-1)/(((G9-F9)/60))","v":9.7826086956521721},25.2,44.04,{"$f":"($E9-1)/(((J9-I9)/60))","v":9.5541401273885356},{"$f":"(I9-F9)/F9","v":-1.9455252918287938E-2},{"$f":"(J9-G9)/G9","v":-1.3605442176871263E-3},null,"Simplex","High","AdGraphics-Powerpoint(LTR)","Powerpoint",4,28.76,52.81,{"$f":"($E9-1)/(((U9-T9)/60))","v":7.4844074844074848},29.29,56.09,{"$f":"($E9-1)/(((X9-W9)/60))","v":6.7164179104477606},{"$f":"(W9-T9)/T9","v":1.8428372739916467E-2},{"$f":"(X9-U9)/U9","v":6.2109448967998505E-2}]
[null,"Default","Advertising_InDesign_8-1 ","Adobe",4,19.98,31.66,{"$f":"($E10-1)/(((G10-F10)/60))","v":15.41095890410959},16.98,30.09,{"$f":"($E10-1)/(((J10-I10)/60))","v":13.729977116704806},{"$f":"(I10-F10)/F10","v":-0.15015015015015015},{"$f":"(J10-G10)/G10","v":-4.9589387239418831E-2},null,null,"High","Advertising_InDesign_8-1  ","Adobe",4,20.54,31.84,{"$f":"($E10-1)/(((U10-T10)/60))","v":15.929203539823007},19.920000000000002,30.47,{"$f":"($E10-1)/(((X10-W10)/60))","v":17.061611374407587},{"$f":"(W10-T10)/T10","v":-3.018500486854905E-2},{"$f":"(X10-U10)/U10","v":-4.3027638190954808E-2}]
[null,"Default","Introducing Powerpoint 2010","Powerpoint",20,32.01,86.47,20.932794711715019,30.54,61.59,36.714975845410621,{"$f":"(I11-F11)/F11","v":-4.5923149015932488E-2},-0.28772984850237071,null,null,"High","Introducing Powerpoint 2010","Powerpoint",20,34.409999999999997,138.65,{"$f":"($E11-1)/(((U11-T11)/60))","v":10.936300844205679},33.659999999999997,113.62,{"$f":"($E11-1)/(((X11-W11)/60))","v":14.257128564282139},{"$f":"(W11-T11)/T11","v":-2.1795989537925022E-2},-0.18052650558961414]
[null,"Default","HAC Proposal w/ Getty","Word",5,31.2,45.54,16.736401673640167,26.98,39.69,18.882769472856022,-0.13525641025641022,-0.12845849802371545,null,null,"High","HAC Proposal w/ Getty","Word",5,33.01,53.03,{"$f":"($E12-1)/(((U12-T12)/60))","v":11.988011988011985},31.42,52.94,{"$f":"($E12-1)/(((X12-W12)/60))","v":11.152416356877326},-4.8167222053922945E-2,-1.6971525551575223E-3]
[null,"Default","Future of Colors","Adobe",1,30.57,null,null,29.95,null,null,-2.0281321557082139E-2,{"$error":"#DIV/0!"},null,null,"High","Future of Colors","Adobe",1,24.76,null,null,24.1,null,null,-2.6655896607431347E-2,{"$error":"#DIV/0!"}]
[null,"Default","Picking Flower RGB","Tiff",1,10.08,null,null,10.06,null,null,-1.9841269841269419E-3,{"$error":"#DIV/0!"},null,null,"High","Picking Flower RGB","Tiff",1,10.199999999999999,null,null,9.89,null,null,-3.0392156862744976E-2,{"$error":"#DIV/0!"}]
[null,"Default","Flowerserve (x 3 times with Collation)","Powerpoint",30,40.909999999999997,194.72,11.312658474741564,32.76,186.66,11.306042884990253,-0.19921779516010754,-4.1392769104354986E-2,null,null,"High","Flowerserve (x 3 times with Collation)","Powerpoint",30,38.659999999999997,188.87,{"$f":"($E15-1)/(((U15-T15)/60))","v":11.5837827042141},31.07,189.87,{"$f":"($E15-1)/(((X15-W15)/60))","v":10.957178841309823},-0.19632695292291766,5.2946471117700008E-3]
[null,null,null,"Average",{"$f":"AVERAGE(E9:E15)","v":9.2857142857142865},{"$f":"AVERAGE(F9:F15)","v":27.207142857142859},{"$f":"AVERAGE(G9:G15)","v":80.498000000000005},{"$f":"AVERAGE(H9:H12,H15)","v":14.835084491971703},{"$f":"AVERAGE(I9:I15)","v":24.638571428571428},{"$f":"AVERAGE(J9:J15)","v":72.414000000000001},{"$f":"AVERAGE(K9:K12,K15)","v":18.037581089470045},-9.4407981097400978E-2,-0.10042485527590751,null,null,null,null,"Average",{"$f":"AVERAGE(S9:S15)","v":9.2857142857142865},{"$f":"AVERAGE(T9:T15)","v":27.191428571428567},{"$f":"AVERAGE(U9:U15)","v":93.04},{"$f":"AVERAGE(V9:V12,V15)","v":11.58434131213245},{"$f":"AVERAGE(W9:W15)","v":25.621428571428574},{"$f":"AVERAGE(X9:X15)","v":88.597999999999999},{"$f":"AVERAGE(Y9:Y12,Y15)","v":12.028950609464925},-5.7738783230009215E-2,-4.7742906276870237E-2]
[]
[]
[]
["Complex Print Jobs for alternative driver",null,null,null,null,"Benchmark Data",null,null,"Test Device Data",null,null,"Delta",null,null,"Complex Print Jobs for alternative driver",null,null,null,null,"Benchmark Data",null,null,"Test Device Data",null,null,"Delta"]
[null,null,null,null,null,{"$f":"F4","v":"Enter Benchmark Name"},null,null,{"$f":"I4","v":"Enter Specific Details Below"},null,null,"Test Device vs. Benchmark\n%",null,null,null,null,null,null,null,{"$f":"F21","v":"Enter Benchmark Name"},null,null,{"$f":"I21","v":"Enter Specific Details Below"},null,null,"Test Device vs. Benchmark\n%"]
[null,null,null,null,null,{"$f":"F5","v":"1.10.4 N"},null,null,{"$f":"I5","v":"0.123.0"},null,null,null,null,null,null,null,null,null,null,{"$f":"F22","v":"1.10.4 N"},null,null,{"$f":"I22","v":"0.123.0"}]
[null,null,null,null,null,{"$f":"CONCATENATE(\"PCL6\",\"-\", '[3]Test Info'!B19)","v":"PCL6-5.528.2"},null,null,{"$f":"CONCATENATE(\"PCL6\", \"-\", '[3]Test Info'!B11)","v":"PCL6-5.588.0"},null,null,null,null,null,null,null,null,null,null,{"$f":"F23","v":"PCL6-5.528.2"},null,null,{"$f":"I23","v":"PCL6-5.588.0"}]
[null,null,null,null,null,"Enter Default Resolution (dpi)",null,null,"Enter Default Resolution (dpi)",null,null,null,null,null,null,null,null,null,null,"ENHANCED",null,null,"ENHANCED"]
["Sides","Print Quality","Job","Application","Pages","FPOT\nMeasured in Seconds","C-C\nMeasured in Seconds","2-N PPM aka\n ESAT (ipm)","FPOT\nMeasured in Seconds","C-C\nMeasured in Seconds","2-N PPM aka\n ESAT (ipm)","FPOT","C-C",null,"Sides","Print Quality","Job","Application","Pages","FPOT\nMeasured in Seconds","C-C\nMeasured in Seconds","2-N PPM aka\n ESAT (ipm)","FPOT\nMeasured in Seconds","C-C\nMeasured in Seconds","2-N PPM aka\n ESAT (ipm)","FPOT","C-C"]
["Simplex","Default","AdGraphics-Powerpoint(LTR)","Powerpoint",4,"NA","NA",{"$f":"($E26-1)/(((G26-F26)/60))","v":{"$error":"#VALUE!"}},"NA","NA",{"$f":"($E26-1)/(((J26-I26)/60))","v":{"$error":"#VALUE!"}},{"$f":"(I26-F26)/F26","v":{"$error":"#VALUE!"}},{"$f":"(J26-G26)/G26","v":{"$error":"#VALUE!"}},null,"Simplex","High","AdGraphics-Powerpoint(LTR)","Powerpoint",4,19.39,38.340000000000003,{"$f":"($E26-1)/(((U26-T26)/60))","v":9.4986807387862786},20.98,39.659999999999997,{"$f":"($E26-1)/(((X26-W26)/60))","v":9.6359743040685242},{"$f":"(W26-T26)/T26","v":8.2001031459515206E-2},{"$f":"(X26-U26)/U26","v":3.4428794992175091E-2}]
[null,"Default","Advertising_InDesign_8-1 ","Adobe",4,"NA","NA",{"$f":"($E27-1)/(((G27-F27)/60))","v":{"$error":"#VALUE!"}},"NA","NA",{"$f":"($E27-1)/(((J27-I27)/60))","v":{"$error":"#VALUE!"}},{"$f":"(I27-F27)/F27","v":{"$error":"#VALUE!"}},{"$f":"(J27-G27)/G27","v":{"$error":"#VALUE!"}},null,null,"High","Advertising_InDesign_8-1 ","Adobe",4,15.96,22.81,{"$f":"($E27-1)/(((U27-T27)/60))","v":26.277372262773731},17.329999999999998,24.6,{"$f":"($E27-1)/(((X27-W27)/60))","v":24.759284731774407},{"$f":"(W27-T27)/T27","v":8.5839598997493563E-2},{"$f":"(X27-U27)/U27","v":7.8474353353792325E-2}]
[null,"Default","Introducing Powerpoint 2010","Powerpoint",20,"NA","NA",{"$f":"($E28-1)/(((G28-F28)/60))","v":{"$error":"#VALUE!"}},"NA","NA",{"$f":"($E28-1)/(((J28-I28)/60))","v":{"$error":"#VALUE!"}},{"$f":"(I28-F28)/F28","v":{"$error":"#VALUE!"}},{"$error":"#VALUE!"},null,null,"High","Introducing Powerpoint 2010","Powerpoint",20,25.05,98.72,{"$f":"($E28-1)/(((U28-T28)/60))","v":15.474412922492196},21.85,88.84,{"$f":"($E28-1)/(((X28-W28)/60))","v":17.017465293327362},{"$f":"(W28-T28)/T28","v":-0.12774451097804387},-0.10008103727714744]
[null,"Default","HAC Proposal w/ Getty","Word",5,"NA","NA",{"$f":"($E29-1)/(((G29-F29)/60))","v":{"$error":"#VALUE!"}},"NA","NA",{"$f":"($E29-1)/(((J29-I29)/60))","v":{"$error":"#VALUE!"}},{"$error":"#VALUE!"},{"$error":"#VALUE!"},null,null,"High","HAC Proposal w/ Getty","Word",5,14.77,26.53,{"$f":"($E29-1)/(((U29-T29)/60))","v":20.408163265306118},13.98,26.06,{"$f":"($E29-1)/(((X29-W29)/60))","v":19.867549668874176},-5.3486797562626892E-2,-1.7715793441387198E-2]
[null,"Default","Future of Colors","Adobe",1,"NA","NA",null,"NA","NA",null,{"$error":"#VALUE!"},{"$error":"#VALUE!"},null,null,"High","Future of Colors","Adobe",1,68.87,null,null,68.95,null,null,1.1616088282270698E-3,{"$error":"#DIV/0!"}]
[null,"Default","Picking Flower RGB","Tiff",1,"NA","NA",null,"NA","NA",null,{"$error":"#VALUE!"},{"$error":"#VALUE!"},null,null,"High","Picking Flower RGB","Tiff",1,10.19,null,null,10.050000000000001,null,null,-1.3738959764474857E-2,{"$error":"#DIV/0!"}]
[null,"Default","Flowerserve (x 3 times with Collation)","Powerpoint",30,"NA","NA",{"$f":"($E32-1)/(((G32-F32)/60))","v":{"$error":"#VALUE!"}},"NA","NA",{"$f":"($E32-1)/(((J32-I32)/60))","v":{"$error":"#VALUE!"}},{"$error":"#VALUE!"},{"$error":"#VALUE!"},null,null,"High","Flowerserve (x 3 times with Collation)","Powerpoint",30,24.17,108.62,{"$f":"($E32-1)/(((U32-T32)/60))","v":20.603907637655418},21.45,119,{"$f":"($E32-1)/(((X32-W32)/60))","v":17.837006663249618},-0.11253620190318586,9.5562511508009526E-2]
[null,null,null,"Average",{"$f":"AVERAGE(E26:E32)","v":9.2857142857142865},{"$f":"AVERAGE(F26:F32)","v":{"$error":"#DIV/0!"}},{"$f":"AVERAGE(G26:G32)","v":{"$error":"#DIV/0!"}},{"$f":"AVERAGE(H26:H29,H32)","v":{"$error":"#VALUE!"}},{"$f":"AVERAGE(I26:I32)","v":{"$error":"#DIV/0!"}},{"$f":"AVERAGE(J26:J32)","v":{"$error":"#DIV/0!"}},{"$f":"AVERAGE(K26:K29,K32)","v":{"$error":"#VALUE!"}},{"$error":"#DIV/0!"},{"$error":"#DIV/0!"},null,null,null,null,"Average",{"$f":"AVERAGE(S26:S32)","v":9.2857142857142865},{"$f":"AVERAGE(T26:T32)","v":25.485714285714291},{"$f":"AVERAGE(U26:U32)","v":59.003999999999998},{"$f":"AVERAGE(V26:V29,V32)","v":18.452507365402749},{"$f":"AVERAGE(W26:W32)","v":24.94142857142857},{"$f":"AVERAGE(X26:X32)","v":59.631999999999991},{"$f":"AVERAGE(Y26:Y29,Y32)","v":17.823456132258816},-2.1356502242152714E-2,1.0643346213815894E-2]
[]
[]
["Complex Print Jobs for alternative driver",null,null,null,null,"Benchmark Data",null,null,"Test Device Data",null,null,"Delta",null,null,"Complex Print Jobs for alternative driver",null,null,null,null,"Benchmark Data",null,null,"Test Device Data",null,null,"Delta"]
[null,null,null,null,null,{"$f":"F21","v":"Enter Benchmark Name"},null,null,{"$f":"I21","v":"Enter Specific Details Below"},null,null,"Test Device vs. Benchmark\n%",null,null,null,null,null,null,null,{"$f":"F37","v":"Enter Benchmark Name"},null,null,{"$f":"I37","v":"Enter Specific Details Below"},null,null,"Test Device vs. Benchmark\n%"]
[null,null,null,null,null,{"$f":"F22","v":"1.10.4 N"},null,null,{"$f":"I22","v":"0.123.0"},null,null,null,null,null,null,null,null,null,null,{"$f":"F38","v":"1.10.4 N"},null,null,{"$f":"I38","v":"0.123.0"}]
[null,null,null,null,null,"Enter Driver Name & Version",null,null,"Enter Driver Name & Version",null,null,null,null,null,null,null,null,null,null,{"$f":"F39","v":"Enter Driver Name & Version"},null,null,{"$f":"I39","v":"Enter Driver Name & Version"}]
[null,null,null,null,null,"Enter Default Resolution (dpi)",null,null,"Enter Default Resolution (dpi)",null,null,null,null,null,null,null,null,null,null,"Enter Default Resolution (dpi)",null,null,"Enter Default Resolution (dpi)"]
["Sides","Print Quality","Job","Application","Pages","FPOT\nMeasured in Seconds","C-C\nMeasured in Seconds","2-N PPM aka\n ESAT (ipm)","FPOT\nMeasured in Seconds","C-C\nMeasured in Seconds","2-N PPM aka\n ESAT (ipm)","FPOT","C-C",null,"Sides","Print Quality","Job","Application","Pages","FPOT\nMeasured in Seconds","C-C\nMeasured in Seconds","2-N PPM aka\n ESAT (ipm)","FPOT\nMeasured in Seconds","C-C\nMeasured in Seconds","2-N PPM aka\n ESAT (ipm)","FPOT","C-C"]
["Simplex","Default","AdGraphics-Powerpoint(LTR)","Powerpoint",4,null,null,{"$f":"($E42-1)/(((G42-F42)/60))","v":{"$error":"#DIV/0!"}},null,null,{"$f":"($E42-1)/(((J42-I42)/60))","v":{"$error":"#DIV/0!"}},{"$f":"(I42-F42)/F42","v":{"$error":"#DIV/0!"}},{"$f":"(J42-G42)/G42","v":{"$error":"#DIV/0!"}},null,"Simplex","High","AdGraphics-Powerpoint(LTR)","Powerpoint",4,null,null,{"$f":"($E42-1)/(((U42-T42)/60))","v":{"$error":"#DIV/0!"}},null,null,{"$f":"($E42-1)/(((X42-W42)/60))","v":{"$error":"#DIV/0!"}},{"$f":"(W42-T42)/T42","v":{"$error":"#DIV/0!"}},{"$f":"(X42-U42)/U42","v":{"$error":"#DIV/0!"}}]
[null,"Default","Advertising_InDesign_8-1 ","Adobe",4,null,null,{"$f":"($E43-1)/(((G43-F43)/60))","v":{"$error":"#DIV/0!"}},null,null,{"$f":"($E43-1)/(((J43-I43)/60))","v":{"$error":"#DIV/0!"}},{"$f":"(I43-F43)/F43","v":{"$error":"#DIV/0!"}},{"$f":"(J43-G43)/G43","v":{"$error":"#DIV/0!"}},null,null,"High","Advertising_InDesign_8-1 ","Adobe",4,null,null,{"$f":"($E43-1)/(((U43-T43)/60))","v":{"$error":"#DIV/0!"}},null,null,{"$f":"($E43-1)/(((X43-W43)/60))","v":{"$error":"#DIV/0!"}},{"$f":"(W43-T43)/T43","v":{"$error":"#DIV/0!"}},{"$f":"(X43-U43)/U43","v":{"$error":"#DIV/0!"}}]
[null,"Default","Introducing Powerpoint 2010","Powerpoint",20,null,null,{"$f":"($E44-1)/(((G44-F44)/60))","v":{"$error":"#DIV/0!"}},null,null,{"$f":"($E44-1)/(((J44-I44)/60))","v":{"$error":"#DIV/0!"}},{"$f":"(I44-F44)/F44","v":{"$error":"#DIV/0!"}},{"$error":"#DIV/0!"},null,null,"High","Introducing Powerpoint 2010","Powerpoint",20,null,null,{"$f":"($E44-1)/(((U44-T44)/60))","v":{"$error":"#DIV/0!"}},null,null,{"$f":"($E44-1)/(((X44-W44)/60))","v":{"$error":"#DIV/0!"}},{"$f":"(W44-T44)/T44","v":{"$error":"#DIV/0!"}},{"$error":"#DIV/0!"}]
[null,"Default","HAC Proposal w/ Getty","Word",5,null,null,{"$f":"($E45-1)/(((G45-F45)/60))","v":{"$error":"#DIV/0!"}},null,null,{"$f":"($E45-1)/(((J45-I45)/60))","v":{"$error":"#DIV/0!"}},{"$error":"#DIV/0!"},{"$error":"#DIV/0!"},null,null,"High","HAC Proposal w/ Getty","Word",5,null,null,{"$f":"($E45-1)/(((U45-T45)/60))","v":{"$error":"#DIV/0!"}},null,null,{"$f":"($E45-1)/(((X45-W45)/60))","v":{"$error":"#DIV/0!"}},{"$error":"#DIV/0!"},{"$error":"#DIV/0!"}]
[null,"Default","Future of Colors","Adobe",1,null,null,null,null,null,null,{"$error":"#DIV/0!"},{"$error":"#DIV/0!"},null,null,"High","Future of Colors","Adobe",1,null,null,null,null,null,null,{"$error":"#DIV/0!"},{"$error":"#DIV/0!"}]
[null,"Default","Picking Flower RGB","Tiff",1,null,null,null,null,null,null,{"$error":"#DIV/0!"},{"$error":"#DIV/0!"},null,null,"High","Picking Flower RGB","Tiff",1,null,null,null,null,null,null,{"$error":"#DIV/0!"},{"$error":"#DIV/0!"}]
[null,"Default","Flowerserve (x 3 times with Collation)","Powerpoint",30,null,null,{"$f":"($E48-1)/(((G48-F48)/60))","v":{"$error":"#DIV/0!"}},null,null,{"$f":"($E48-1)/(((J48-I48)/60))","v":{"$error":"#DIV/0!"}},{"$error":"#DIV/0!"},{"$error":"#DIV/0!"},null,null,"High","Flowerserve (x 3 times with Collation)","Powerpoint",30,null,null,{"$f":"($E48-1)/(((U48-T48)/60))","v":{"$error":"#DIV/0!"}},null,null,{"$f":"($E48-1)/(((X48-W48)/60))","v":{"$error":"#DIV/0!"}},{"$error":"#DIV/0!"},{"$error":"#DIV/0!"}]
[null,null,null,"Average",{"$f":"AVERAGE(E42:E48)","v":9.2857142857142865},{"$f":"AVERAGE(F42:F48)","v":{"$error":"#DIV/0!"}},{"$f":"AVERAGE(G42:G48)","v":{"$error":"#DIV/0!"}},{"$f":"AVERAGE(H42:H45,H48)","v":{"$error":"#DIV/0!"}},{"$f":"AVERAGE(I42:I48)","v":{"$error":"#DIV/0!"}},{"$f":"AVERAGE(J42:J48)","v":{"$error":"#DIV/0!"}},{"$f":"AVERAGE(K42:K45,K48)","v":{"$error":"#DIV/0!"}},{"$error":"#DIV/0!"},{"$error":"#DIV/0!"},null,null,null,null,"Average",{"$f":"AVERAGE(S42:S48)","v":9.2857142857142865},{"$f":"AVERAGE(T42:T48)","v":{"$error":"#DIV/0!"}},{"$f":"AVERAGE(U42:U48)","v":{"$error":"#DIV/0!"}},{"$f":"AVERAGE(V42:V45,V48)","v":{"$error":"#DIV/0!"}},{"$f":"AVERAGE(W42:W48)","v":{"$error":"#DIV/0!"}},{"$f":"AVERAGE(X42:X48)","v":{"$error":"#DIV/0!"}},{"$f":"AVERAGE(Y42:Y45,Y48)","v":{"$error":"#DIV/0!"}},{"$error":"#DIV/0!"},{"$error":"#DIV/0!"}]
[]
[]
[]
["Complex Print Jobs -Procedure"]
[]
[]
[]
[null,"Device Setup:\nDevice is fully ready to print \nSufficient Media loaded in Tray1\n\nProcedure:\n\nComplex Print Jobs for PCL6 Print Driver -Default Resolution \nComplex Print Jobs for PS Print Driver -Default Resolution \n\n1.Set the driver type as default \"PS/ PCL 6\" with Banner sheet disabled accordingly\n2.Open the Test File in application mentioned in the Laptop\n3.Go to File/Print ->Properties and  Settings are \"Simplex \" ,print quality \"Default Resolution\"  and Click Print buton; and Start timer in Stopwatch together\n4. Use Lap funtion in the stop watch as \nFPOT (lap 1): Time from “Print” button selected until the TRAIL EDGE of the 1st sheet exits to the default tray\nC-C (lap 2): Time from “Print” button selected until the TRAIL EDGE of the last sheet exits to the default tray\n5.Record the time then and repeat the above steps for conseqent readings\n\nComplex Print Jobs for PCL6 Print Driver -High Resolution \nComplex Print Jobs for PS Print Driver -High Resolution \n\n1.Set the driver type as default \"PS/ PCL 6\" with Banner sheet disabled accordingly\n2.Open the Test File in application mentioned in the Laptop\n3.Go to File/Print ->Properties and  Settings are \"Simplex \" ,print quality \"Default Resolution\"  and Click Print buton; and Start timer in Stopwatch together\n4. Use Lap funtion in the stop watch as \nFPOT (lap 1): Time from “Print” button selected until the TRAIL EDGE of the 1st sheet exits to the default tray\nC-C (lap 2): Time from “Print” button selected until the TRAIL EDGE of the last sheet exits to the default tray\n5.Record the time then and repeat the above steps for conseqent readings\n\n"]

{"sheet":"XPS","index":9,"n_rows":13,"n_cols":22,"rows_kept":13,"cut":false,"hidden":true,"merged":[[2,0,11,0],[2,12,11,12]]}
["XPS - No Banner, Simplex (Test Device; Default Connection Method)",null,null,null,null,null,null,null,null,null,null,null,"XPS - No Banner, Simplex (Benchmark Device; Default Connection Method)"]
["Type","Mode","Job","Application","Pages","FPOT Measured\nin Seconds","C-C Measured\nin Seconds","2-N PPM aka\n ESAT (ipm)","2-N % Rated Speed Calculated","C-C % Rated Speed Calculated",null,null,"Type","Mode","Job","Application","Pages","FPOT Measured\nin Seconds","C-C Measured\nin Seconds","2-N PPM aka\n ESAT (ipm)","2-N % Rated Speed Calculated","C-C % Rated Speed Calculated"]
["XPS","Color","Contents","Word",12,null,null,{"$f":"IF(OR(G3=\"NA\", G3=\"FAILED\"), G3, (IF(ISERROR((E3-1)/(G3-F3)*60), \"\", (E3-1)/(G3-F3)*60)))","v":""},{"$f":"IF(OR(G3=\"NA\", G3=\"FAILED\"), G3, (IF(ISERROR(H3/'Test Info'!$I$6*100), \"\", H3/'Test Info'!$I$6*100)))","v":""},{"$f":"IF(OR(G3=\"NA\", G3=\"FAILED\"), G3, (IF(ISERROR(E3/G3/'Test Info'!$I$6*6000), \"\", E3/G3/'Test Info'!$I$6*6000)))","v":""},null,null,"XPS","Color","Contents","Word",12,null,null,{"$f":"IF(OR(S3=\"NA\", S3=\"FAILED\"), S3, (IF(ISERROR((Q3-1)/(S3-R3)*60), \"\", (Q3-1)/(S3-R3)*60)))","v":""},{"$f":"IF(OR(S3=\"NA\", S3=\"FAILED\"), S3, (IF(ISERROR(T3/'Test Info'!$I$6*100), \"\", T3/'Test Info'!$I$6*100)))","v":""},{"$f":"IF(OR(S3=\"NA\", S3=\"FAILED\"), S3, (IF(ISERROR(Q3/S3/'Test Info'!$I$6*6000), \"\", Q3/S3/'Test Info'!$I$6*6000)))","v":""}]
[null,"Color","Jewelry","Powerpoint",12,null,null,{"$f":"IF(OR(G4=\"NA\", G4=\"FAILED\"), G4, (IF(ISERROR((E4-1)/(G4-F4)*60), \"\", (E4-1)/(G4-F4)*60)))","v":""},{"$f":"IF(OR(G4=\"NA\", G4=\"FAILED\"), G4, (IF(ISERROR(H4/'Test Info'!$I$6*100), \"\", H4/'Test Info'!$I$6*100)))","v":""},{"$f":"IF(OR(G4=\"NA\", G4=\"FAILED\"), G4, (IF(ISERROR(E4/G4/'Test Info'!$I$6*6000), \"\", E4/G4/'Test Info'!$I$6*6000)))","v":""},null,null,null,"Color","Jewelry","Powerpoint",12,null,null,{"$f":"IF(OR(S4=\"NA\", S4=\"FAILED\"), S4, (IF(ISERROR((Q4-1)/(S4-R4)*60), \"\", (Q4-1)/(S4-R4)*60)))","v":""},{"$f":"IF(OR(S4=\"NA\", S4=\"FAILED\"), S4, (IF(ISERROR(T4/'Test Info'!$I$6*100), \"\", T4/'Test Info'!$I$6*100)))","v":""},{"$f":"IF(OR(S4=\"NA\", S4=\"FAILED\"), S4, (IF(ISERROR(Q4/S4/'Test Info'!$I$6*6000), \"\", Q4/S4/'Test Info'!$I$6*6000)))","v":""}]
[null,"Color","Rain year","Excel",2,null,null,{"$f":"IF(OR(G5=\"NA\", G5=\"FAILED\"), G5, (IF(ISERROR((E5-1)/(G5-F5)*60), \"\", (E5-1)/(G5-F5)*60)))","v":""},{"$f":"IF(OR(G5=\"NA\", G5=\"FAILED\"), G5, (IF(ISERROR(H5/'Test Info'!$I$6*100), \"\", H5/'Test Info'!$I$6*100)))","v":""},{"$f":"IF(OR(G5=\"NA\", G5=\"FAILED\"), G5, (IF(ISERROR(E5/G5/'Test Info'!$I$6*6000), \"\", E5/G5/'Test Info'!$I$6*6000)))","v":""},null,null,null,"Color","Rain year","Excel",2,null,null,{"$f":"IF(OR(S5=\"NA\", S5=\"FAILED\"), S5, (IF(ISERROR((Q5-1)/(S5-R5)*60), \"\", (Q5-1)/(S5-R5)*60)))","v":""},{"$f":"IF(OR(S5=\"NA\", S5=\"FAILED\"), S5, (IF(ISERROR(T5/'Test Info'!$I$6*100), \"\", T5/'Test Info'!$I$6*100)))","v":""},{"$f":"IF(OR(S5=\"NA\", S5=\"FAILED\"), S5, (IF(ISERROR(Q5/S5/'Test Info'!$I$6*6000), \"\", Q5/S5/'Test Info'!$I$6*6000)))","v":""}]
[null,"Mono","Gold","Powerpoint",8,null,null,{"$f":"IF(OR(G6=\"NA\",G6=\"FAILED\"),G6,(IF(ISERROR((E6-1)/(G6-F6)*60),\"\",(E6-1)/(G6-F6)*60)))","v":""},{"$f":"IF(OR(G6=\"NA\", G6=\"FAILED\"), G6, (IF(ISERROR(H6/'Test Info'!$I$6*100), \"\", H6/'Test Info'!$I$6*100)))","v":""},{"$f":"IF(OR(G6=\"NA\", G6=\"FAILED\"), G6, (IF(ISERROR(E6/G6/'Test Info'!$I$6*6000), \"\", E6/G6/'Test Info'!$I$6*6000)))","v":""},null,null,null,"Mono","Gold","Powerpoint",8,null,null,{"$f":"IF(OR(S6=\"NA\",S6=\"FAILED\"),S6,(IF(ISERROR((Q6-1)/(S6-R6)*60),\"\",(Q6-1)/(S6-R6)*60)))","v":""},{"$f":"IF(OR(S6=\"NA\", S6=\"FAILED\"), S6, (IF(ISERROR(T6/'Test Info'!$I$6*100), \"\", T6/'Test Info'!$I$6*100)))","v":""},{"$f":"IF(OR(S6=\"NA\", S6=\"FAILED\"), S6, (IF(ISERROR(Q6/S6/'Test Info'!$I$6*6000), \"\", Q6/S6/'Test Info'!$I$6*6000)))","v":""}]
[null,"Mono","Pain at the pump","Chrome",3,null,null,{"$f":"IF(OR(G7=\"NA\",G7=\"FAILED\"),G7,(IF(ISERROR((E7-1)/(G7-F7)*60),\"\",(E7-1)/(G7-F7)*60)))","v":""},{"$f":"IF(OR(G7=\"NA\", G7=\"FAILED\"), G7, (IF(ISERROR(H7/'Test Info'!$I$6*100), \"\", H7/'Test Info'!$I$6*100)))","v":""},{"$f":"IF(OR(G7=\"NA\", G7=\"FAILED\"), G7, (IF(ISERROR(E7/G7/'Test Info'!$I$6*6000), \"\", E7/G7/'Test Info'!$I$6*6000)))","v":""},null,null,null,"Mono","Pain at the pump","Chrome",3,null,null,{"$f":"IF(OR(S7=\"NA\",S7=\"FAILED\"),S7,(IF(ISERROR((Q7-1)/(S7-R7)*60),\"\",(Q7-1)/(S7-R7)*60)))","v":""},{"$f":"IF(OR(S7=\"NA\", S7=\"FAILED\"), S7, (IF(ISERROR(T7/'Test Info'!$I$6*100), \"\", T7/'Test Info'!$I$6*100)))","v":""},{"$f":"IF(OR(S7=\"NA\", S7=\"FAILED\"), S7, (IF(ISERROR(Q7/S7/'Test Info'!$I$6*6000), \"\", Q7/S7/'Test Info'!$I$6*6000)))","v":""}]
[null,"Mono","Lincoln 2","Word",2,null,null,{"$f":"IF(OR(G8=\"NA\",G8=\"FAILED\"),G8,(IF(ISERROR((E8-1)/(G8-F8)*60),\"\",(E8-1)/(G8-F8)*60)))","v":""},{"$f":"IF(OR(G8=\"NA\", G8=\"FAILED\"), G8, (IF(ISERROR(H8/'Test Info'!$I$6*100), \"\", H8/'Test Info'!$I$6*100)))","v":""},{"$f":"IF(OR(G8=\"NA\", G8=\"FAILED\"), G8, (IF(ISERROR(E8/G8/'Test Info'!$I$6*6000), \"\", E8/G8/'Test Info'!$I$6*6000)))","v":""},null,null,null,"Mono","Lincoln 2","Word",2,null,null,{"$f":"IF(OR(S8=\"NA\",S8=\"FAILED\"),S8,(IF(ISERROR((Q8-1)/(S8-R8)*60),\"\",(Q8-1)/(S8-R8)*60)))","v":""},{"$f":"IF(OR(S8=\"NA\", S8=\"FAILED\"), S8, (IF(ISERROR(T8/'Test Info'!$I$6*100), \"\", T8/'Test Info'!$I$6*100)))","v":""},{"$f":"IF(OR(S8=\"NA\", S8=\"FAILED\"), S8, (IF(ISERROR(Q8/S8/'Test Info'!$I$6*6000), \"\", Q8/S8/'Test Info'!$I$6*6000)))","v":""}]
[null,"Mono","Budget","Excel",1,null,null,{"$f":"IF(OR(G9=\"NA\",G9=\"FAILED\"),G9,(IF(ISERROR((E9-1)/(G9-F9)*60),\"\",(E9-1)/(G9-F9)*60)))","v":""},{"$f":"IF(OR(G9=\"NA\", G9=\"FAILED\"), G9, (IF(ISERROR(H9/'Test Info'!$I$6*100), \"\", H9/'Test Info'!$I$6*100)))","v":""},{"$f":"IF(OR(G9=\"NA\", G9=\"FAILED\"), G9, (IF(ISERROR(E9/G9/'Test Info'!$I$6*6000), \"\", E9/G9/'Test Info'!$I$6*6000)))","v":""},null,null,null,"Mono","Budget","Excel",1,null,null,{"$f":"IF(OR(S9=\"NA\",S9=\"FAILED\"),S9,(IF(ISERROR((Q9-1)/(S9-R9)*60),\"\",(Q9-1)/(S9-R9)*60)))","v":""},{"$f":"IF(OR(S9=\"NA\", S9=\"FAILED\"), S9, (IF(ISERROR(T9/'Test Info'!$I$6*100), \"\", T9/'Test Info'!$I$6*100)))","v":""},{"$f":"IF(OR(S9=\"NA\", S9=\"FAILED\"), S9, (IF(ISERROR(Q9/S9/'Test Info'!$I$6*6000), \"\", Q9/S9/'Test Info'!$I$6*6000)))","v":""}]
[null,"Color","Begin with things","Corel Draw",4,null,null,{"$f":"IF(OR(G10=\"NA\", G10=\"FAILED\"), G10, (IF(ISERROR((E10-1)/(G10-F10)*60), \"\", (E10-1)/(G10-F10)*60)))","v":""},{"$f":"IF(OR(G10=\"NA\", G10=\"FAILED\"), G10, (IF(ISERROR(H10/'Test Info'!$I$6*100), \"\", H10/'Test Info'!$I$6*100)))","v":""},{"$f":"IF(OR(G10=\"NA\", G10=\"FAILED\"), G10, (IF(ISERROR(E10/G10/'Test Info'!$I$6*6000), \"\", E10/G10/'Test Info'!$I$6*6000)))","v":""},null,null,null,"Color","Begin with things","Corel Draw",4,null,null,{"$f":"IF(OR(S10=\"NA\", S10=\"FAILED\"), S10, (IF(ISERROR((Q10-1)/(S10-R10)*60), \"\", (Q10-1)/(S10-R10)*60)))","v":""},{"$f":"IF(OR(S10=\"NA\", S10=\"FAILED\"), S10, (IF(ISERROR(T10/'Test Info'!$I$6*100), \"\", T10/'Test Info'!$I$6*100)))","v":""},{"$f":"IF(OR(S10=\"NA\", S10=\"FAILED\"), S10, (IF(ISERROR(Q10/S10/'Test Info'!$I$6*6000), \"\", Q10/S10/'Test Info'!$I$6*6000)))","v":""}]
[null,"Color","Lincoln 6","Word",6,null,null,{"$f":"IF(OR(G11=\"NA\", G11=\"FAILED\"), G11, (IF(ISERROR((E11-1)/(G11-F11)*60), \"\", (E11-1)/(G11-F11)*60)))","v":""},{"$f":"IF(OR(G11=\"NA\", G11=\"FAILED\"), G11, (IF(ISERROR(H11/'Test Info'!$I$6*100), \"\", H11/'Test Info'!$I$6*100)))","v":""},{"$f":"IF(OR(G11=\"NA\", G11=\"FAILED\"), G11, (IF(ISERROR(E11/G11/'Test Info'!$I$6*6000), \"\", E11/G11/'Test Info'!$I$6*6000)))","v":""},null,null,null,"Color","Lincoln 6","Word",6,null,null,{"$f":"IF(OR(S11=\"NA\", S11=\"FAILED\"), S11, (IF(ISERROR((Q11-1)/(S11-R11)*60), \"\", (Q11-1)/(S11-R11)*60)))","v":""},{"$f":"IF(OR(S11=\"NA\", S11=\"FAILED\"), S11, (IF(ISERROR(T11/'Test Info'!$I$6*100), \"\", T11/'Test Info'!$I$6*100)))","v":""},{"$f":"IF(OR(S11=\"NA\", S11=\"FAILED\"), S11, (IF(ISERROR(Q11/S11/'Test Info'!$I$6*6000), \"\", Q11/S11/'Test Info'!$I$6*6000)))","v":""}]
[null,"Color","Turtle Island","Photoshop",1,null,null,{"$f":"IF(OR(G12=\"NA\", G12=\"FAILED\"), G12, (IF(ISERROR((E12-1)/(G12-F12)*60), \"\", (E12-1)/(G12-F12)*60)))","v":""},{"$f":"IF(OR(G12=\"NA\", G12=\"FAILED\"), G12, (IF(ISERROR(H12/'Test Info'!$I$6*100), \"\", H12/'Test Info'!$I$6*100)))","v":""},{"$f":"IF(OR(G12=\"NA\", G12=\"FAILED\"), G12, (IF(ISERROR(E12/G12/'Test Info'!$I$6*6000), \"\", E12/G12/'Test Info'!$I$6*6000)))","v":""},null,null,null,"Color","Turtle Island","Photoshop",1,null,null,{"$f":"IF(OR(S12=\"NA\", S12=\"FAILED\"), S12, (IF(ISERROR((Q12-1)/(S12-R12)*60), \"\", (Q12-1)/(S12-R12)*60)))","v":""},{"$f":"IF(OR(S12=\"NA\", S12=\"FAILED\"), S12, (IF(ISERROR(T12/'Test Info'!$I$6*100), \"\", T12/'Test Info'!$I$6*100)))","v":""},{"$f":"IF(OR(S12=\"NA\", S12=\"FAILED\"), S12, (IF(ISERROR(Q12/S12/'Test Info'!$I$6*6000), \"\", Q12/S12/'Test Info'!$I$6*6000)))","v":""}]
[null,null,null,"Average",{"$f":"AVERAGE(E3:E12)","v":5.0999999999999996},{"$f":"IF(F12=\"NA\", F12, (IF(ISERROR(AVERAGE(F3:F12)), \"\", AVERAGE(F3:F12))))","v":""},{"$f":"IF(G12=\"NA\", G12, (IF(ISERROR(AVERAGE(G3:G12)), \"\", AVERAGE(G3:G12))))","v":""},{"$f":"IF(H12=\"NA\", H12, (IF(ISERROR(AVERAGE(H3:H12)), \"\", AVERAGE(H3:H12))))","v":""},{"$f":"IF(I12=\"NA\", I12, (IF(ISERROR(AVERAGE(I3:I12)), \"\", AVERAGE(I3:I12))))","v":""},{"$f":"IF(J12=\"NA\", J12, (IF(ISERROR(AVERAGE(J3:J12)), \"\", AVERAGE(J3:J12))))","v":""},null,null,null,null,null,"Average",{"$f":"AVERAGE(Q3:Q12)","v":5.0999999999999996},{"$f":"IF(R12=\"NA\", R12, (IF(ISERROR(AVERAGE(R3:R12)), \"\", AVERAGE(R3:R12))))","v":""},{"$f":"IF(S12=\"NA\", S12, (IF(ISERROR(AVERAGE(S3:S12)), \"\", AVERAGE(S3:S12))))","v":""},{"$f":"IF(T12=\"NA\", T12, (IF(ISERROR(AVERAGE(T3:T12)), \"\", AVERAGE(T3:T12))))","v":""},{"$f":"IF(U12=\"NA\", U12, (IF(ISERROR(AVERAGE(U3:U12)), \"\", AVERAGE(U3:U12))))","v":""},{"$f":"IF(V12=\"NA\", V12, (IF(ISERROR(AVERAGE(V3:V12)), \"\", AVERAGE(V3:V12))))","v":""}]

{"sheet":"Concurrency, Power","index":10,"n_rows":164,"n_cols":21,"rows_kept":164,"cut":false,"hidden":true,"merged":[[65,13,65,14],[19,17,19,20],[50,12,50,16],[51,12,51,16],[57,13,57,14],[61,13,61,14],[27,5,27,8],[23,5,23,8],[25,5,25,8],[10,17,10,20],[11,15,11,16],[12,17,12,20],[13,17,13,20],[14,17,14,20],[20,17,20,20],[21,15,21,16],[22,17,22,20],[23,17,23,20],[15,17,15,20],[16,15,16,16],[17,17,17,20],[18,17,18,20],[3,9,3,11],[10,5,10,8],[12,5,12,8],[13,5,13,8],[14,5,14,8],[11,3,11,4],[16,3,16,4],[21,3,21,4],[24,3,24,4],[39,2,39,3],[34,0,34,4],[35,0,35,4],[91,0,147,7],[15,5,15,8],[17,5,17,8],[65,1,65,2],[75,1,75,4],[57,1,57,2],[61,1,61,2],[50,0,50,4],[51,0,51,4],[18,5,18,8],[81,1,81,2],[19,5,19,8],[28,5,28,8],[20,5,20,8],[22,5,22,8],[26,5,26,8]]}
[{"$f":"'Test Info'!A1","v":"Samudra MFP High B0"}]
[{"$f":"'Test Info'!A2","v":"Release: "},{"$f":"'Test Info'!B2","v":"0.123.0"}]
["Test Duration:",{"$f":"CONCATENATE(TEXT('Test Info'!B3, \"m/d/yyyy\"), \" - \", TEXT(EndDate, \"m/d/yyyy\"))","v":"9/11/2017 - 13/11/2017"}]
[null,null,null,null,null,null,null,null,null,"Time Conversion Tool"]
[null,null,null,null,null,null,null,null,null,"Enter","Enter","Calculated"]
[null,null,null,null,null,null,null,null,null,"Minutes","Seconds","Seconds"]
[null,null,null,null,null,null,null,null,null,null,null,{"$f":"J7*60+K7","v":0}]
[]
["Concurrent Operations to Default Tray (Test Device)",null,null,null,null,null,null,null,null,null,null,null,"Concurrent Operations to Default Tray (Benchmark)"]
["PCL6 - No Banner",null,null,null,null,null,null,null,null,null,null,null,"PCL6 - No Banner"]
["Action-Concurrency","Job","Pages","C-C Time Measured in Seconds","Delta %  Calculated","Notes",null,null,null,null,null,null,"Action-Concurrency","Job","Pages","C-C Time Measured in Seconds","Delta %  Calculated","Notes"]
[null,null,null,"Print Section",null,null,null,null,null,null,null,null,null,null,null,"Print Section"]
["Print-Solo","Sisters",12,null,null,"C-C print time of Sisters.cdr (12 pgs)",null,null,1,null,null,null,"Print-Solo","Sisters",12,null,null,"C-C print time of Sisters.cdr (12 pgs)",null,null,1]
["Print-Copy","Sisters",12,null,{"$f":"IF(OR(D14=\"NA\", D14=\"Failed\"), D14, (IF(D14=0, \"\", (D14-D13)/D13)))","v":""},"C-C print time while copying America (15pgs)",null,null,null,null,null,null,"Print-Copy","Sisters",12,null,{"$f":"IF(OR(P14=\"NA\", P14=\"Failed\"), P14, (IF(P14=0, \"\", (P14-P13)/P13)))","v":""},"C-C print time while copying America (15pgs)"]
["Print-Scan","Sisters",12,null,{"$f":"IF(OR(D15=\"NA\", D15=\"Failed\"), D15, (IF(D15=0, \"\", (D15-D13)/D13)))","v":""},"C-C print time while scanning PScan10 (10pgs)",null,null,null,null,null,null,"Print-Scan","Sisters",12,null,{"$f":"IF(OR(P15=\"NA\", P15=\"Failed\"), P15, (IF(P15=0, \"\", (P15-P13)/P13)))","v":""},"C-C print time while scanning PScan10 (10pgs)"]
["Print-Fax","Sisters",12,null,{"$f":"IF(OR(D16=\"NA\", D16=\"Failed\"), D16, (IF(D16=0, \"\", (D16-D13)/D13)))","v":""},"C-C print time while faxing America (4pgs)",null,null,null,null,null,null,"Print-Fax","Sisters",12,null,{"$f":"IF(OR(P16=\"NA\", P16=\"Failed\"), P16, (IF(P16=0, \"\", (P16-P13)/P13)))","v":""},"C-C print time while faxing America (4pgs)"]
[null,null,null,"Scan Section",null,null,null,null,null,null,null,null,null,null,null,"Scan Section"]
["Scan-Solo","PScan10",10,null,null,"C-C scan time of PScan10 (10pgs)",null,null,null,null,null,null,"Scan-Solo","PScan10",10,null,null,"C-C scan time of PScan10 (10pgs)"]
["Scan-Copy","PScan10",10,null,{"$f":"IF(OR(D19=\"NA\", D19=\"Failed\"), D19, (IF(D19=0, \"\", (D19-D18)/D18)))","v":""},"C-C scan time while copying America (15pgs)",null,null,null,null,null,null,"Scan-Copy","PScan10",10,null,{"$f":"IF(OR(P19=\"NA\", P19=\"Failed\"), P19, (IF(P19=0, \"\", (P19-P18)/P18)))","v":""},"C-C scan time while copying America (15pgs)"]
["Scan-Fax","PScan10",10,null,{"$f":"IF(OR(D20=\"NA\", D20=\"Failed\"), D20, (IF(D20=0, \"\", (D20-D18)/D18)))","v":""},"C-C scan time while sending fax of America (4pgs)",null,null,null,null,null,null,"Scan-Fax","PScan10",10,null,{"$f":"IF(OR(P20=\"NA\", P20=\"Failed\"), P20, (IF(P20=0, \"\", (P20-P18)/P18)))","v":""},"C-C scan time while sending fax of America (4pgs)"]
["Scan-Print","PScan10",10,null,{"$f":"IF(OR(D21=\"NA\", D21=\"Failed\"), D21, (IF(D21=0, \"\", (D21-D18)/D18)))","v":""},"C-C scan time while printing Sisters.cdr (12 pgs)",null,null,null,null,null,null,"Scan-Print","PScan10",10,null,{"$f":"IF(OR(P21=\"NA\", P21=\"Failed\"), P21, (IF(P21=0, \"\", (P21-P18)/P18)))","v":""},"C-C scan time while printing Sisters.cdr (12 pgs)"]
[null,null,null,"Copy Section",null,null,null,null,null,null,null,null,null,null,null,"Copy Section"]
["Copy-Solo","America",15,null,null,"C-C copy time of America (15pgs)",null,null,null,null,null,null,"Copy-Solo","America",15,null,null,"C-C copy time of America (15pgs)"]
["Copy-Print","America",15,null,{"$f":"IF(OR(D24=\"NA\", D24=\"Failed\"), D24, (IF(D24=0, \"\", (D24-D23)/D23)))","v":""},"C-C copy time while printing Sisters.cdr (12 pgs)",null,null,null,null,null,null,"Copy-Print","America",15,null,{"$f":"IF(OR(P24=\"NA\", P24=\"Failed\"), P24, (IF(P24=0, \"\", (P24-P23)/P23)))","v":""},"C-C copy time while printing Sisters.cdr (12 pgs)"]
[]
["Fax-Solo","America",4,null,null,"C-C Fax time of America (4pgs)"]
["Fax-Print","America",4,null,{"$f":"IF(OR(D27=\"NA\", D27=\"Failed\"), D27, (IF(D27=0, \"\", (D27-D26)/D26)))","v":""},"C-C fax time while printing Sisters.cdr (12 pgs)"]
["Fax-Scan","America",4,null,{"$f":"IF(OR(D28=\"NA\", D28=\"Failed\"), D28, (IF(D28=0, \"\", (D28-D26)/D26)))","v":""},"C-C fax time while scanning PScan10 (10pgs)"]
["Fax-Copy","America",4,null,{"$f":"IF(OR(D29=\"NA\", D29=\"Failed\"), D29, (IF(D29=0, \"\", (D29-D26)/D26)))","v":""},"C-C fax time while copying America (15pgs)"]
[]
[]
[]
["Fax send & Receive (TBD)"]
[]
["SETUP CHECKLIST"]
["Check on Device (LocalUI > Embedded Fax)"]
["Heading","Item","Test Setting","✔","N/A"]
["Fax Options","Confirmation Report","Always Print",0,{"$f":"D38","v":0}]
[]
[]
["Mode","Document","Pages Faxed","1st Sheet Through DADF","Last Sheet Exits DADF","Fax Received by Test PC/Client","Printing of Confirmation Report"]
["Standard (200x100 dpi)","ISO Fax 11\" Color",4]
["Fine (200 dpi)","ISO Fax 11\" Color",4]
["Super Fine (600 dpi)","ISO Fax 11\" Color",4]
[]
[]
[]
["Power On/Off - Low Power Mode, Sleep Mode Recovery",null,null,null,null,null,null,null,null,null,null,null,"Power On/Off - Low Power Mode, Sleep Mode Recovery"]
["Test Device",null,null,null,null,null,null,null,null,null,null,null,"Benchmark Device"]
[]
["SETUP CHECKLIST",null,null,null,null,null,null,null,null,null,null,null,"SETUP CHECKLIST"]
["Check on Device (LocalUI)",null,null,null,null,null,null,null,null,null,null,null,"Check on Device (LocalUI)"]
["Heading","Item"," Test Setting","✔","N/A",null,null,null,null,null,null,null,"Heading","Item"," Test Setting","✔","N/A"]
["Energy Saver","Low Power Mode","1 min.",1,{"$f":"D54","v":1},null,null,null,null,null,null,null,"Energy Saver","Low Power Mode","1 min.",1,{"$f":"P54","v":1}]
["Energy Saver","Sleep Mode","8 min.",2,{"$f":"D55","v":2},null,null,null,null,null,null,null,"Energy Saver","Sleep Mode","8 min.",2,{"$f":"P55","v":2}]
[]
["Action","Job","State of Device","# of Idle Minutes Before test","Total Seconds",null,null,null,null,null,null,null,"Action","Job","State of Device","# of Idle Minutes Before test","Total Seconds"]
[]
["Power: Fax Received & Printed","Page 1 of Progress","Ready",0,null,null,null,null,null,null,null,null,"Power: Fax Received & Printed","Page 1 of Progress","Ready",0]
["Power: Fax Received & Printed","Page 1 of Progress","Low Power Mode",6,null,null,null,null,null,null,null,null,"Power: Fax Received & Printed","Page 1 of Progress","Low Power Mode",6]
["Power: Fax Received & Printed","Page 1 of Progress","Sleep Mode",13,null,null,null,null,null,null,null,null,"Power: Fax Received & Printed","Page 1 of Progress","Sleep Mode",13]
[]
["Power: Print Received & Printed","Inpatient (3pgs)","Ready",0,null,null,null,null,null,null,null,null,"Power: Print Received & Printed","Inpatient (3pgs)","Ready",0]
["Power: Print Received & Printed","Inpatient (3pgs)","Low Power Mode",6,null,null,null,null,null,null,null,null,"Power: Print Received & Printed","Inpatient (3pgs)","Low Power Mode",6]
["Power: Print Received & Printed","Inpatient (3pgs)","Sleep Mode",13,null,null,null,null,null,null,null,null,"Power: Print Received & Printed","Inpatient (3pgs)","Sleep Mode",13]
[]
["Wake Up",null,"Low Power Mode",6,null,null,null,null,null,null,null,null,"Wake Up",null,"Low Power Mode",6]
["Wake Up",null,"Sleep Mode",13,null,null,null,null,null,null,null,null,"Wake Up",null,"Sleep Mode",13]
["Wake Up",null,"Deep Sleep Mode","Overnight",null,null,null,null,null,null,null,null,"Wake Up",null,"Deep Sleep Mode","Overnight"]
["Power Off",null,"Ready",0,null,null,null,null,null,null,null,null,"Power Off",null,"Ready",0]
["Power Off",null,"Low Power Mode",6,null,null,null,null,null,null,null,null,"Power Off",null,"Low Power Mode",6]
["Power Off",null,"Sleep Mode",13,null,null,null,null,null,null,null,null,"Power Off",null,"Sleep Mode",13]
["Power On",null,"Cold","Overnight",null,null,null,{"$f":"AVERAGE(E73:G73)","v":{"$error":"#DIV/0!"}},null,null,null,null,"Power On",null,"Cold","Overnight"]
["Power On",null,"Warm",0,null,null,null,null,null,null,null,null,"Power On",null,"Warm",0]
["Power on",null,"Warm-Config Sht",0,null,null,null,null,null,null,null,null,"Power on",null,"Warm-Config Sht",0]
[]
[null,null,null,"Please make sure to reset energy saver setting back to default after this segment test."]
[]
["Power on From Cold (Default Energy Saver setting)"]
[]
["Shut down Device the night before"]
[null,"Total Seconds"]
[null,"Enter Test Device","Enter Bench Mark"]
["Day 1",null,null,null,null,null," "]
["Day 2"]
["Day 3"]
["Avg",{"$f":"AVERAGE(B84:B86)","v":{"$error":"#DIV/0!"}},{"$f":"AVERAGE(C84:C86)","v":{"$error":"#DIV/0!"}}]
[]
[]
[]
[]
["Device Setup: \nSet the PCL6 driver as the default\nJob settings\n1.Have a network scan location on a server and verify that it works\n2.Set the driver type as default \"PCL6 \" mentioned in driver column with Banner sheet disabled\n3. In SAKO,Workflow scanning settings as follows \nOutput Color: Auto, Resolution: 600dpi , Quality/File Size:  Medium compression /Medium File size \nFile Format: pdf, File Name:  Default  <Do not modify File Name : by default it would be displayed as DOC>\nOriginal Size: Auto\n\nProcedure:\nPrint Section\n\nPrint-Solo:\n1.Open the \"Sisters\" Test File in application mentioned in the Laptop\n2.Go to File/Print and Click Print buton and stopwatch timer together <Do not change any Defaults - like page setting,paper selection..>\n3.Measure CC as follows and record the time in seconds\nC-C : Time from “Print” button selected until the TRAIL EDGE of the last sheet exits to the default tray\n\nPrint-Copy:\n1.First action – Submit print job \"Sisters\" test file via PCL6 and Start timer of stopwatch while selecting \"print button\"\n2.Second action – when trail edge of first page of print job exits, submit copy job\n3.Measure CC as follows and record the time in seconds\nC-C : Time from “Print” button selected until the TRAIL EDGE of the last sheet of \"Sisters\" print job exits to the default tray\n\nPrint-Scan:\n1. First action – Go to Workflowscanning -> configured server path  - Submit scan job \"PScan10\" (with mentioned above job settings)\n2. Give 5 seconds from time pressing start button for workflow scan  then go to  Second action –  start print job\"Sisters\" test file via PCL6 \nStart the timer of stopwatch while selecting the print button\n3.Measure CC as follows and record the time in seconds\nC-C : Time from “Print” button selected until the TRAIL EDGE of the last sheet of \"Sisters\" print job exits to the default tray\n\nScan Section\n\nScan-Solo\n1. First action – Go to Workflowscanning -> configured server path  - Submit scan job \"PScan10\"(with mentioned above job settings)\n2.Press start timer while pressing \"Start\" button for scanning\n2.Measure CC as follows and record the time in seconds\nC-C : Time from “Start” button selected In LUI watch for \"Scanning...\" \"Processing ..\" Message until then \"Completed\" message  (stop timer here)\n\nScan-Print\n1.First action - Submit print job \"Sisters\" via PCL6 \n2. Give 5 seconds from time pressing print button  then go to  Second action - Go to Workflowscanning -> configured server path  - Submit scan job \"PScan10\" (with mentioned above job settings)  -Start the timer here while pressing start button for scanning \n3.Measure CC as follows and record the time in seconds\nC-C : Time from “Start” button selected In LUI watch for \"Scanning...\" \"Processing ..\" Message until then \"Completed\" message  (stop timer here)\n\nScan Copy\n1. First action – Go to Workflowscanning -> configured server path  - Submit scan job \"PScan10\"(with mentioned above job settings);press Start bitton and Start timer of stopwatch together\n2.Second action - submit copy job using \"America\" test file in SPDH -immediately when \"PScan10\" last page is exited to SPDH \n3.Measure CC as follows and record the time in seconds\nC-C : Time from scanning job- “Start” button selected In LUI watch for \"Scanning...\" \"Processing ..\" Message until then \"Completed\" message  (stop timer here)\n\nCopy Section\n\nCopy-Solo\n1.submit copy job using \"America\" test file in SPDH  with default settings; Press start timer while pressing \"Start\" button for copying\n2.Measure CC as follows and record the time in seconds\nC-C : Time from “Start” button selected until TRAIL EDGE of the last sheet of \"America\" copy job exits to the default tray\n\nCopy-Print\n1.First action - Submit print job \"Sisters\" test file via PCL6 \n2.when trail edge of first page of print job exits, then Second action - submit copy job using \"America\" test file in SPDH  with default settings; Press start timer while pressing \"Start\" button for copying\n3.Measure CC as follows and record the time in seconds\nC-C : Time from “Start” button selected until TRAIL EDGE of the last sheet of \"America\" copy job exits to the default tray\n\n"]
[]
[]
[]
[]
[]
[]
[]
[]
[]
[]
[]
[]
[]
[]
[]
[]
[]
[]
[]
[]
[]
[]
[]
[]
[]
[]
[]
[]
[]
[]
[]
[]
[]
[]
[]
[]
[]
[]
[]
[]
[]
[]
[]
[]
[]
[]
[]
[]
[]
[]
[]
[]
[]
[]
[]
[]
[]
[]
[]
[]
["Power on From Cold "]
[]
["Precondition:"]
["Tester have to Power off the device for 12 hours before powering ON."]
[]
["Procedure:"]
[]
[" The Power On: Cold.  Testers shall…"]
["1.     Select the Power button to turn the device off"]
["2.   Turn the device off overnight before timing the “Cold” Power On.  "]
["3.     The next day: Select the “Power” button to turn on the device and start the timer together."]
["4.    Record the time untill the device came upwith the “ Home Screen” (\" Ready State ” with all the services)"]

{"sheet":"preBLI","index":11,"n_rows":133,"n_cols":10,"rows_kept":133,"cut":false,"hidden":true,"merged":[[107,0,107,4],[0,2,0,7],[1,2,1,4],[1,5,1,7],[1,8,3,9],[2,3,2,4],[2,6,2,7],[3,3,3,4],[3,6,3,7],[4,3,4,4],[4,6,4,7],[5,0,5,4],[6,0,6,1],[6,2,6,4],[6,5,6,7],[7,0,7,1],[7,2,7,4],[7,5,7,7],[8,0,8,1],[8,2,8,4],[8,5,8,7],[9,0,14,0],[15,0,20,0],[21,0,26,0],[28,0,28,4],[29,0,29,1],[29,2,29,4],[29,5,29,7],[30,0,30,1],[30,2,30,4],[30,5,30,7],[31,0,31,1],[31,2,31,4],[31,5,31,7],[32,0,37,0],[38,0,43,0],[44,0,49,0],[51,0,51,4],[52,0,52,1],[52,2,52,4],[69,0,69,4],[52,5,52,7],[53,0,53,1],[53,2,53,4],[53,5,53,7],[54,0,54,1],[54,2,54,4],[54,5,54,7],[55,0,55,1],[55,2,55,4],[55,5,55,7],[56,0,61,0],[62,0,67,0],[70,0,70,1],[70,2,70,4],[70,5,70,7],[71,0,71,1],[71,2,71,4],[71,5,71,7],[89,0,89,1],[89,2,89,4],[72,0,72,1],[72,2,72,4],[72,5,72,7],[73,0,73,1],[73,2,73,4],[73,5,73,7],[74,0,79,0],[80,0,85,0],[87,0,87,4],[88,0,88,1],[88,2,88,4],[90,0,90,1],[90,2,90,4],[91,0,91,1],[91,2,91,4],[92,0,92,1],[92,2,92,4],[93,0,93,1],[93,2,93,4],[94,0,94,1],[94,2,94,4],[95,0,95,1],[95,2,95,4],[96,0,96,1],[96,2,96,4],[97,0,97,1],[97,2,97,4],[98,0,98,1],[98,2,98,4],[104,0,104,4],[105,0,105,4],[99,0,99,1],[99,2,99,4],[100,0,100,1],[100,2,100,4],[102,0,102,4],[103,0,103,4]]}
[null,null,"Side-By-Side\r\nProductivity Ratings"]
["Test Date",null,{"$f":"'Test Info'!B16","v":"Samudra Low MFP"},null,null,{"$f":"'Test Info'!B8","v":"Samudra MFP High"},null,null,"Delta Test Device vs. Benchmark"]
["CPU Type/Hz",null,"Connection Method:",null,null,"Connection Method:"]
["Ram Memory",null,"Driver Type & Version",null,null,"Driver Type & Version"]
["OS",null,"SW Release:",{"$f":"'Test Info'!B17","v":"V 1.10.4N"},null,"SW Release:",{"$f":"'Test Info'!B9","v":"0.123.0"},null,"PPM"," Eff."]
["Buyers Laboratory Copy Productivity/Efficiency Ratings: Auto Color"]
["Manufacturer's Rated Speed (CPM)"]
["Document Feeder First-Copy-Out Time (sec)"]
["Paper Size",null,"8-1/2\" x 11\"",null,null,"8-1/2\" x 11\""]
["1:1\r\nSimplex Mode","# of Sets","C-C Time (Seconds)","CPM (IPM)","Efficiency","C-C Time (Seconds)","CPM (IPM)","Efficiency"]
[null,1,null,{"$f":"10*$B11/C11*60","v":{"$error":"#DIV/0!"}},{"$f":"D11/$C$7","v":{"$error":"#DIV/0!"}},null,{"$f":"10*$B11/F11*60","v":{"$error":"#DIV/0!"}},{"$f":"G11/$F$7","v":{"$error":"#DIV/0!"}},{"$f":"G11-D11","v":{"$error":"#DIV/0!"}},{"$error":"#DIV/0!"}]
[null,5,null,{"$f":"10*$B12/C12*60","v":{"$error":"#DIV/0!"}},{"$f":"D12/$C$7","v":{"$error":"#DIV/0!"}},null,{"$f":"10*$B12/F12*60","v":{"$error":"#DIV/0!"}},{"$f":"G12/$F$7","v":{"$error":"#DIV/0!"}},{"$error":"#DIV/0!"},{"$error":"#DIV/0!"}]
[null,10,null,{"$f":"10*$B13/C13*60","v":{"$error":"#DIV/0!"}},{"$f":"D13/$C$7","v":{"$error":"#DIV/0!"}},null,{"$f":"10*$B13/F13*60","v":{"$error":"#DIV/0!"}},{"$f":"G13/$F$7","v":{"$error":"#DIV/0!"}},{"$error":"#DIV/0!"},{"$error":"#DIV/0!"}]
[null,20,null,{"$f":"10*$B14/C14*60","v":{"$error":"#DIV/0!"}},{"$f":"D14/$C$7","v":{"$error":"#DIV/0!"}},null,{"$f":"10*$B14/F14*60","v":{"$error":"#DIV/0!"}},{"$f":"G14/$F$7","v":{"$error":"#DIV/0!"}},{"$error":"#DIV/0!"},{"$error":"#DIV/0!"}]
[null,"Average",{"$f":"AVERAGE(C11:C14)","v":{"$error":"#DIV/0!"}},{"$error":"#DIV/0!"},{"$error":"#DIV/0!"},{"$error":"#DIV/0!"},{"$error":"#DIV/0!"},{"$error":"#DIV/0!"},{"$f":"G15-D15","v":{"$error":"#DIV/0!"}},{"$f":"H15-E15","v":{"$error":"#DIV/0!"}}]
["1:2\r\nDuplex Mode","# of Sets","C-C Time (Seconds)","CPM (IPM)","Efficiency","C-C Time (Seconds)","CPM (IPM)","Efficiency"]
[null,1,null,{"$f":"10*$B17/C17*60","v":{"$error":"#DIV/0!"}},{"$f":"D17/$C$7","v":{"$error":"#DIV/0!"}},null,{"$f":"10*B17/F17*60","v":{"$error":"#DIV/0!"}},{"$f":"G17/$F$7","v":{"$error":"#DIV/0!"}},{"$f":"G17-D17","v":{"$error":"#DIV/0!"}},{"$error":"#DIV/0!"}]
[null,5,null,{"$f":"10*$B18/C18*60","v":{"$error":"#DIV/0!"}},{"$f":"D18/$C$7","v":{"$error":"#DIV/0!"}},null,{"$f":"10*B18/F18*60","v":{"$error":"#DIV/0!"}},{"$f":"G18/$F$7","v":{"$error":"#DIV/0!"}},{"$error":"#DIV/0!"},{"$error":"#DIV/0!"}]
[null,10,null,{"$f":"10*$B19/C19*60","v":{"$error":"#DIV/0!"}},{"$f":"D19/$C$7","v":{"$error":"#DIV/0!"}},null,{"$f":"10*B19/F19*60","v":{"$error":"#DIV/0!"}},{"$f":"G19/$F$7","v":{"$error":"#DIV/0!"}},{"$error":"#DIV/0!"},{"$error":"#DIV/0!"}]
[null,20,null,{"$f":"10*$B20/C20*60","v":{"$error":"#DIV/0!"}},{"$f":"D20/$C$7","v":{"$error":"#DIV/0!"}},null,{"$f":"10*B20/F20*60","v":{"$error":"#DIV/0!"}},{"$f":"G20/$F$7","v":{"$error":"#DIV/0!"}},{"$error":"#DIV/0!"},{"$error":"#DIV/0!"}]
[null,"Average",{"$f":"AVERAGE(C17:C20)","v":{"$error":"#DIV/0!"}},{"$error":"#DIV/0!"},{"$error":"#DIV/0!"},{"$error":"#DIV/0!"},{"$error":"#DIV/0!"},{"$error":"#DIV/0!"},{"$f":"G21-D21","v":{"$error":"#DIV/0!"}},{"$f":"H21-E21","v":{"$error":"#DIV/0!"}}]
["2:2\r\nDuplex Mode\n- 10 sheets (20 sides) are provided as input originals.","# of Sets","C-C Time (Seconds)","CPM (IPM)","Efficiency","C-C Time (Seconds)","CPM (IPM)","Efficiency"]
[null,1,null,{"$f":"20*$B23/C23*60","v":{"$error":"#DIV/0!"}},{"$f":"D23/$C$7","v":{"$error":"#DIV/0!"}},null,{"$f":"20*B23/F23*60","v":{"$error":"#DIV/0!"}},{"$f":"G23/$F$7","v":{"$error":"#DIV/0!"}},{"$f":"G23-D23","v":{"$error":"#DIV/0!"}},{"$error":"#DIV/0!"}]
[null,5,null,{"$f":"20*$B24/C24*60","v":{"$error":"#DIV/0!"}},{"$f":"D24/$C$7","v":{"$error":"#DIV/0!"}},null,{"$f":"20*B24/F24*60","v":{"$error":"#DIV/0!"}},{"$f":"G24/$F$7","v":{"$error":"#DIV/0!"}},{"$error":"#DIV/0!"},{"$error":"#DIV/0!"}]
[null,10,null,{"$f":"20*$B25/C25*60","v":{"$error":"#DIV/0!"}},{"$f":"D25/$C$7","v":{"$error":"#DIV/0!"}},null,{"$f":"20*B25/F25*60","v":{"$error":"#DIV/0!"}},{"$f":"G25/$F$7","v":{"$error":"#DIV/0!"}},{"$error":"#DIV/0!"},{"$error":"#DIV/0!"}]
[null,20,null,{"$f":"20*$B26/C26*60","v":{"$error":"#DIV/0!"}},{"$f":"D26/$C$7","v":{"$error":"#DIV/0!"}},null,{"$f":"20*B26/F26*60","v":{"$error":"#DIV/0!"}},{"$f":"G26/$F$7","v":{"$error":"#DIV/0!"}},{"$error":"#DIV/0!"},{"$error":"#DIV/0!"}]
[null,"Average",{"$f":"AVERAGE(C23:C26)","v":{"$error":"#DIV/0!"}},{"$error":"#DIV/0!"},{"$error":"#DIV/0!"},{"$error":"#DIV/0!"},{"$error":"#DIV/0!"},{"$error":"#DIV/0!"},{"$f":"G27-D27","v":{"$error":"#DIV/0!"}},{"$f":"H27-E27","v":{"$error":"#DIV/0!"}}]
[]
["Buyers Laboratory Copy Productivity/Efficiency Ratings: Black"]
["Manufacturer's Rated Speed (cpm)"]
["Document Feeder First-Copy-Out Time (sec)"]
["Paper Size",null,"8-1/2\" x 11\"",null,null,"8-1/2\" x 11\""]
["1:1\r\nSimplex Mode","# of Sets","C-C Time (Seconds)","CPM (IPM)","Efficiency","C-C Time (Seconds)","CPM (IPM)","Efficiency"]
[null,1,null,{"$f":"10*$B34/C34*60","v":{"$error":"#DIV/0!"}},{"$f":"D34/$C$30","v":{"$error":"#DIV/0!"}},null,{"$f":"10*$B34/F34*60","v":{"$error":"#DIV/0!"}},{"$f":"G34/$F$30","v":{"$error":"#DIV/0!"}},{"$f":"G34-D34","v":{"$error":"#DIV/0!"}},{"$error":"#DIV/0!"}]
[null,5,null,{"$f":"10*$B35/C35*60","v":{"$error":"#DIV/0!"}},{"$f":"D35/$C$30","v":{"$error":"#DIV/0!"}},null,{"$f":"10*$B35/F35*60","v":{"$error":"#DIV/0!"}},{"$f":"G35/$F$30","v":{"$error":"#DIV/0!"}},{"$error":"#DIV/0!"},{"$error":"#DIV/0!"}]
[null,10,null,{"$f":"10*$B36/C36*60","v":{"$error":"#DIV/0!"}},{"$f":"D36/$C$30","v":{"$error":"#DIV/0!"}},null,{"$f":"10*$B36/F36*60","v":{"$error":"#DIV/0!"}},{"$f":"G36/$F$30","v":{"$error":"#DIV/0!"}},{"$error":"#DIV/0!"},{"$error":"#DIV/0!"}]
[null,20,null,{"$f":"10*$B37/C37*60","v":{"$error":"#DIV/0!"}},{"$f":"D37/$C$30","v":{"$error":"#DIV/0!"}},null,{"$f":"10*$B37/F37*60","v":{"$error":"#DIV/0!"}},{"$f":"G37/$F$30","v":{"$error":"#DIV/0!"}},{"$error":"#DIV/0!"},{"$error":"#DIV/0!"}]
[null,"Average",{"$f":"AVERAGE(C34:C37)","v":{"$error":"#DIV/0!"}},{"$error":"#DIV/0!"},{"$error":"#DIV/0!"},{"$error":"#DIV/0!"},{"$error":"#DIV/0!"},{"$error":"#DIV/0!"},{"$error":"#DIV/0!"},{"$error":"#DIV/0!"}]
["1:2\r\nDuplex Mode","# of Sets","C-C Time (Seconds)","CPM (IPM)","Efficiency","C-C Time (Seconds)","CPM (IPM)","Efficiency"]
[null,1,null,{"$f":"10*$B40/C40*60","v":{"$error":"#DIV/0!"}},{"$f":"D40/$C$30","v":{"$error":"#DIV/0!"}},null,{"$f":"10*$B40/F40*60","v":{"$error":"#DIV/0!"}},{"$f":"G40/$F$30","v":{"$error":"#DIV/0!"}},{"$f":"G40-D40","v":{"$error":"#DIV/0!"}},{"$error":"#DIV/0!"}]
[null,5,null,{"$f":"10*$B41/C41*60","v":{"$error":"#DIV/0!"}},{"$f":"D41/$C$30","v":{"$error":"#DIV/0!"}},null,{"$f":"10*$B41/F41*60","v":{"$error":"#DIV/0!"}},{"$f":"G41/$F$30","v":{"$error":"#DIV/0!"}},{"$error":"#DIV/0!"},{"$error":"#DIV/0!"}]
[null,10,null,{"$f":"10*$B42/C42*60","v":{"$error":"#DIV/0!"}},{"$f":"D42/$C$30","v":{"$error":"#DIV/0!"}},null,{"$f":"10*$B42/F42*60","v":{"$error":"#DIV/0!"}},{"$f":"G42/$F$30","v":{"$error":"#DIV/0!"}},{"$error":"#DIV/0!"},{"$error":"#DIV/0!"}]
[null,20,null,{"$f":"10*$B43/C43*60","v":{"$error":"#DIV/0!"}},{"$f":"D43/$C$30","v":{"$error":"#DIV/0!"}},null,{"$f":"10*$B43/F43*60","v":{"$error":"#DIV/0!"}},{"$f":"G43/$F$30","v":{"$error":"#DIV/0!"}},{"$error":"#DIV/0!"},{"$error":"#DIV/0!"}]
[null,"Average",{"$f":"AVERAGE(C40:C43)","v":{"$error":"#DIV/0!"}},{"$error":"#DIV/0!"},{"$error":"#DIV/0!"},{"$error":"#DIV/0!"},{"$error":"#DIV/0!"},{"$error":"#DIV/0!"},{"$error":"#DIV/0!"},{"$error":"#DIV/0!"}]
["2:2\r\nDuplex Mode\n- 10 sheets (20 sides) are provided as input originals.","# of Sets","C-C Time (Seconds)","CPM (IPM)","Efficiency","C-C Time (Seconds)","CPM (IPM)","Efficiency"]
[null,1,null,{"$f":"20*$B46/C46*60","v":{"$error":"#DIV/0!"}},{"$f":"D46/$C$30","v":{"$error":"#DIV/0!"}},null,{"$f":"20*$B46/F46*60","v":{"$error":"#DIV/0!"}},{"$f":"G46/$F$30","v":{"$error":"#DIV/0!"}},{"$f":"G46-D46","v":{"$error":"#DIV/0!"}},{"$error":"#DIV/0!"}]
[null,5,null,{"$f":"20*$B47/C47*60","v":{"$error":"#DIV/0!"}},{"$f":"D47/$C$30","v":{"$error":"#DIV/0!"}},null,{"$f":"20*$B47/F47*60","v":{"$error":"#DIV/0!"}},{"$f":"G47/$F$30","v":{"$error":"#DIV/0!"}},{"$error":"#DIV/0!"},{"$error":"#DIV/0!"}]
[null,10,null,{"$f":"20*$B48/C48*60","v":{"$error":"#DIV/0!"}},{"$f":"D48/$C$30","v":{"$error":"#DIV/0!"}},null,{"$f":"20*$B48/F48*60","v":{"$error":"#DIV/0!"}},{"$f":"G48/$F$30","v":{"$error":"#DIV/0!"}},{"$error":"#DIV/0!"},{"$error":"#DIV/0!"}]
[null,20,null,{"$f":"20*$B49/C49*60","v":{"$error":"#DIV/0!"}},{"$f":"D49/$C$30","v":{"$error":"#DIV/0!"}},null,{"$f":"20*$B49/F49*60","v":{"$error":"#DIV/0!"}},{"$f":"G49/$F$30","v":{"$error":"#DIV/0!"}},{"$error":"#DIV/0!"},{"$error":"#DIV/0!"}]
[null,"Average",{"$f":"AVERAGE(C46:C49)","v":{"$error":"#DIV/0!"}},{"$error":"#DIV/0!"},{"$error":"#DIV/0!"},{"$error":"#DIV/0!"},{"$error":"#DIV/0!"},{"$error":"#DIV/0!"},{"$error":"#DIV/0!"},{"$error":"#DIV/0!"}]
[]
["Buyers Laboratory Print Productivity/Efficiency Ratings: Auto Color"]
["Manufacturer's Rated Speed (ppm)"]
["Job Stream Speed (PPM) \n(Total 19 printed sides, email prints in portrait)"]
["Job Stream Efficiency",null,{"$f":"C54/C53","v":{"$error":"#DIV/0!"}},null,null,{"$f":"F54/F53","v":{"$error":"#DIV/0!"}}]
["Paper Size",null,"8-1/2\" x 11\"",null,null,"8-1/2\" x 11\""]
["1:1\r\nSimplex Mode \n","# of Sets","C-C Time (Seconds)","PPM (IPM)","Efficiency","C-C Time (Seconds)","PPM (IPM)","Efficiency"]
[null,1,null,{"$f":"10*$B58/C58*60","v":{"$error":"#DIV/0!"}},{"$f":"D58/$C$53","v":{"$error":"#DIV/0!"}},null,{"$f":"10*$B58/F58*60","v":{"$error":"#DIV/0!"}},{"$f":"G58/$F$53","v":{"$error":"#DIV/0!"}},{"$f":"G58-D58","v":{"$error":"#DIV/0!"}},{"$error":"#DIV/0!"}]
[null,5,null,{"$f":"10*$B59/C59*60","v":{"$error":"#DIV/0!"}},{"$f":"D59/$C$53","v":{"$error":"#DIV/0!"}},null,{"$f":"10*$B59/F59*60","v":{"$error":"#DIV/0!"}},{"$f":"G59/$F$53","v":{"$error":"#DIV/0!"}},{"$error":"#DIV/0!"},{"$error":"#DIV/0!"}]
[null,10,null,{"$f":"10*$B60/C60*60","v":{"$error":"#DIV/0!"}},{"$f":"D60/$C$53","v":{"$error":"#DIV/0!"}},null,{"$f":"10*$B60/F60*60","v":{"$error":"#DIV/0!"}},{"$f":"G60/$F$53","v":{"$error":"#DIV/0!"}},{"$error":"#DIV/0!"},{"$error":"#DIV/0!"}]
[null,20,null,{"$f":"10*$B61/C61*60","v":{"$error":"#DIV/0!"}},{"$f":"D61/$C$53","v":{"$error":"#DIV/0!"}},null,{"$f":"10*$B61/F61*60","v":{"$error":"#DIV/0!"}},{"$f":"G61/$F$53","v":{"$error":"#DIV/0!"}},{"$error":"#DIV/0!"},{"$error":"#DIV/0!"}]
[null,"Average",{"$f":"AVERAGE(C58:C61)","v":{"$error":"#DIV/0!"}},{"$error":"#DIV/0!"},{"$error":"#DIV/0!"},{"$error":"#DIV/0!"},{"$error":"#DIV/0!"},{"$error":"#DIV/0!"},{"$error":"#DIV/0!"},{"$error":"#DIV/0!"}]
["1:2\r\nDuplex Mode\n","# of Sets","C-C Time (Seconds)","PPM (IPM)","Efficiency","C-C Time (Seconds)","PPM (IPM)","Efficiency"]
[null,1,null,{"$f":"10*$B64/C64*60","v":{"$error":"#DIV/0!"}},{"$f":"D64/$C$53","v":{"$error":"#DIV/0!"}},null,{"$f":"10*$B64/F64*60","v":{"$error":"#DIV/0!"}},{"$f":"G64/$F$53","v":{"$error":"#DIV/0!"}},{"$f":"G64-D64","v":{"$error":"#DIV/0!"}},{"$error":"#DIV/0!"}]
[null,5,null,{"$f":"10*$B65/C65*60","v":{"$error":"#DIV/0!"}},{"$f":"D65/$C$53","v":{"$error":"#DIV/0!"}},null,{"$f":"10*$B65/F65*60","v":{"$error":"#DIV/0!"}},{"$f":"G65/$F$53","v":{"$error":"#DIV/0!"}},{"$error":"#DIV/0!"},{"$error":"#DIV/0!"}]
[null,10,null,{"$f":"10*$B66/C66*60","v":{"$error":"#DIV/0!"}},{"$f":"D66/$C$53","v":{"$error":"#DIV/0!"}},null,{"$f":"10*$B66/F66*60","v":{"$error":"#DIV/0!"}},{"$f":"G66/$F$53","v":{"$error":"#DIV/0!"}},{"$error":"#DIV/0!"},{"$error":"#DIV/0!"}]
[null,20,null,{"$f":"10*$B67/C67*60","v":{"$error":"#DIV/0!"}},{"$f":"D67/$C$53","v":{"$error":"#DIV/0!"}},null,{"$f":"10*$B67/F67*60","v":{"$error":"#DIV/0!"}},{"$f":"G67/$F$53","v":{"$error":"#DIV/0!"}},{"$error":"#DIV/0!"},{"$error":"#DIV/0!"}]
[null,"Average",{"$f":"AVERAGE(C64:C67)","v":{"$error":"#DIV/0!"}},{"$error":"#DIV/0!"},{"$error":"#DIV/0!"},{"$error":"#DIV/0!"},{"$error":"#DIV/0!"},{"$error":"#DIV/0!"},{"$error":"#DIV/0!"},{"$error":"#DIV/0!"}]
[]
["Buyers Laboratory Print Productivity/Efficiency Ratings: Black"]
["Manufacturer's Rated Speed (PPM)"]
["Job Stream Speed (PPM) \n(Total 19 printed sides, email prints in portrait)"]
["Job Stream Efficiency",null,{"$f":"C72/C71","v":{"$error":"#DIV/0!"}},null,null,{"$f":"F72/F71","v":{"$error":"#DIV/0!"}}]
["Paper Size",null,"8-1/2\" x 11\"",null,null,"8-1/2\" x 11\""]
["1:1\r\nSimplex Mode ","# of Sets","C-C Time (Seconds)","PPM (IPM)","Efficiency","C-C Time (Seconds)","PPM (IPM)","Efficiency"]
[null,1,null,{"$f":"10*$B76/C76*60","v":{"$error":"#DIV/0!"}},{"$f":"D76/$C$71","v":{"$error":"#DIV/0!"}},null,{"$f":"10*$B76/F76*60","v":{"$error":"#DIV/0!"}},{"$f":"G76/$F$71","v":{"$error":"#DIV/0!"}},{"$f":"G76-D76","v":{"$error":"#DIV/0!"}},{"$error":"#DIV/0!"}]
[null,5,null,{"$f":"10*$B77/C77*60","v":{"$error":"#DIV/0!"}},{"$f":"D77/$C$71","v":{"$error":"#DIV/0!"}},null,{"$f":"10*$B77/F77*60","v":{"$error":"#DIV/0!"}},{"$f":"G77/$F$71","v":{"$error":"#DIV/0!"}},{"$error":"#DIV/0!"},{"$error":"#DIV/0!"}]
[null,10,null,{"$f":"10*$B78/C78*60","v":{"$error":"#DIV/0!"}},{"$f":"D78/$C$71","v":{"$error":"#DIV/0!"}},null,{"$f":"10*$B78/F78*60","v":{"$error":"#DIV/0!"}},{"$f":"G78/$F$71","v":{"$error":"#DIV/0!"}},{"$error":"#DIV/0!"},{"$error":"#DIV/0!"}]
[null,20,null,{"$f":"10*$B79/C79*60","v":{"$error":"#DIV/0!"}},{"$f":"D79/$C$71","v":{"$error":"#DIV/0!"}},null,{"$f":"10*$B79/F79*60","v":{"$error":"#DIV/0!"}},{"$f":"G79/$F$71","v":{"$error":"#DIV/0!"}},{"$error":"#DIV/0!"},{"$error":"#DIV/0!"}]
[null,"Average",{"$f":"AVERAGE(C76:C79)","v":{"$error":"#DIV/0!"}},{"$error":"#DIV/0!"},{"$error":"#DIV/0!"},{"$error":"#DIV/0!"},{"$error":"#DIV/0!"},{"$error":"#DIV/0!"},{"$error":"#DIV/0!"},{"$error":"#DIV/0!"}]
["1:2\r\nDuplex Mode","# of Sets","C-C Time (Seconds)","PPM (IPM)","Efficiency","C-C Time (Seconds)","PPM (IPM)","Efficiency"]
[null,1,null,{"$f":"10*$B82/C82*60","v":{"$error":"#DIV/0!"}},{"$f":"D82/$C$71","v":{"$error":"#DIV/0!"}},null,{"$f":"10*$B82/F82*60","v":{"$error":"#DIV/0!"}},{"$f":"G82/$F$71","v":{"$error":"#DIV/0!"}},{"$f":"G82-D82","v":{"$error":"#DIV/0!"}},{"$error":"#DIV/0!"}]
[null,5,null,{"$f":"10*$B83/C83*60","v":{"$error":"#DIV/0!"}},{"$f":"D83/$C$71","v":{"$error":"#DIV/0!"}},null,{"$f":"10*$B83/F83*60","v":{"$error":"#DIV/0!"}},{"$f":"G83/$F$71","v":{"$error":"#DIV/0!"}},{"$error":"#DIV/0!"},{"$error":"#DIV/0!"}]
[null,10,null,{"$f":"10*$B84/C84*60","v":{"$error":"#DIV/0!"}},{"$f":"D84/$C$71","v":{"$error":"#DIV/0!"}},null,{"$f":"10*$B84/F84*60","v":{"$error":"#DIV/0!"}},{"$f":"G84/$F$71","v":{"$error":"#DIV/0!"}},{"$error":"#DIV/0!"},{"$error":"#DIV/0!"}]
[null,20,null,{"$f":"10*$B85/C85*60","v":{"$error":"#DIV/0!"}},{"$f":"D85/$C$71","v":{"$error":"#DIV/0!"}},null,{"$f":"10*$B85/F85*60","v":{"$error":"#DIV/0!"}},{"$f":"G85/$F$71","v":{"$error":"#DIV/0!"}},{"$error":"#DIV/0!"},{"$error":"#DIV/0!"}]
[null,"Average",{"$f":"AVERAGE(C82:C85)","v":{"$error":"#DIV/0!"}},{"$error":"#DIV/0!"},{"$error":"#DIV/0!"},{"$error":"#DIV/0!"},{"$error":"#DIV/0!"},{"$error":"#DIV/0!"},{"$error":"#DIV/0!"},{"$error":"#DIV/0!"}]
[]
["Key"]
["Manufacturer's Rated Speed:"]
["Originals:"]
["Document Feeder First-Copy-Out Time:"]
["Job Stream Speed:"]
["Job Stream Efficiency:"]
["Copy Modes:"]
["Print Modes:"]
["# of Sets:"]
["CPM / IPM / PPM:"]
["Efficiency:"]
["Average:"]
["INA:"]
["\"--\":"]
[]
["Copier productivity tests are based on tests performed by BLI using a variation of ASTM Standard Test Method F1318 with 8-1/2\" x 11\" paper."]
["BLI tests a unit's copy productivity by making multiple sets (the number of sets depends on the rated speed of the device) of BLI's 10-page two-sided test original in three copy modes (1:1, 1:2 and 2:2)."]
["BLI tests a unit's print productivity by printing multiple sets (the number of sets depends on the rated speed of the device) of BLI's 10-page Word document test file."]
["BLI's job stream includes Word documents, Outlook e-mail messages, Excel spreadsheets, PowerPoint, HTML and Acrobat PDF files. This test simulates the type of traffic a typical device might experience in a real-world, multi-user environment."]
[]
[]
[]
["Precondition:"]
["Device setup:"]
["Device should be ready state for printing."]
["Media should be loaded in Tray1,letter,LEF."]
["Machine Status-->Device Settings > Output > Output Location-->Set everything to Right Top Tray"]
["Before starting the test enter into Admin-->Machine status-->Tools-->General settings-->Output Speed( Priority Mode)--> Color/Mono"]
[]
["Buyers Laboratory Copy Productivity/Efficiency Ratings: Auto Color / Black"]
[]
["1. Document Feeder First-Copy-Out Time (sec)"]
["2. Copy Simplex 1:1, duplex 1:2, duplex 2:2 (10 sheets (20 sides) are provided as input originals)"]
["3. C-C (lap1): Time from “start” button selected until the TRAIL EDGE of the last sheet exits to the default tray."]
["4. 6.Record the time then and repeat the above steps for conseqent readings"]
[]
["Buyers Laboratory Print Productivity/Efficiency Ratings: Auto Color / Black"]
[]
["PreBLI jobs with default driver and resolution."]
[]
["1.Set the driver type as default \"PS\"with Banner sheet disabled,color or mono accordingly"]
["2.Open the Test File in application mentioned in the Laptop"]
["3.Go to File/Print ->Properties and  Settings are \"Simplex/duplex \" ,print quality \"Default Resolution\"  and Click Print buton; and Start timer in Stopwatch together"]
["4. Use Lap funtion in the stop watch as "]
["5.C-C (lap1): Time from “Print” button selected until the TRAIL EDGE of the last sheet exits to the default tray(For eg:if 10source file with 1 copy given ,start the timer and stop after 10th copy exists trail edge).  "]
["6.Record the time then and repeat the above steps for conseqent readings",null,null,null,null," "]

{"sheet":"Finisher 1 - Print, Stream,Copy","index":12,"n_rows":159,"n_cols":24,"rows_kept":159,"cut":false,"hidden":true,"merged":[[66,19,66,20],[79,15,79,16],[79,17,79,18],[92,16,92,19],[24,19,24,20],[31,19,31,20],[38,19,38,20],[49,19,49,20],[56,19,56,20],[12,14,12,15],[12,16,12,18],[12,19,12,21],[14,14,14,15],[16,19,16,20],[9,14,9,23],[10,14,10,23],[11,14,11,15],[11,16,11,18],[11,19,11,21],[12,5,12,7],[79,1,79,2],[9,0,9,9],[3,9,3,11],[11,0,11,1],[11,2,11,4],[11,5,11,7],[14,0,14,1],[12,0,12,1],[12,2,12,4],[79,3,79,4],[10,0,10,9],[92,2,92,5],[16,5,16,6],[24,5,24,6],[31,5,31,6],[38,5,38,6],[49,5,49,6],[56,5,56,6],[66,5,66,6]]}
[{"$f":"'Test Info'!A1","v":"Samudra MFP High B0"},null,null,null,null,null,null,null,null,null,null,null,null,null,{"$f":"'Print to Default Tray Full'!$O$1","v":"Samudra Low MFP"}]
[{"$f":"'Test Info'!A2","v":"Release: "},null,{"$f":"'Test Info'!B2","v":"0.123.0"},null,null,null,null,null,null,null,null,null,null,null,{"$f":"'Print to Default Tray Full'!$O$2","v":"Release"},null,{"$f":"'Test Info'!B17","v":"V 1.10.4N"}]
["Test Duration:",null,{"$f":"CONCATENATE(TEXT('Test Info'!B3, \"m/d/yyyy\"), \" - \", TEXT(EndDate, \"m/d/yyyy\"))","v":"9/11/2017 - 13/11/2017"},null,null,null,null,null,null,null,null,null,null,null,"Test Duration:",null,{"$f":"CONCATENATE(TEXT('Test Info'!B5, \"d/m/yyyy\"),\"-\", TEXT('Test Info'!F5,\"d/m/yyyy\"))","v":"Enter-Enter at End of Test"}]
[null,null,null,null,null,null,null,null,null,"Time Conversion Tool"]
[null,null,null,null,null,null,null,null,null,"Enter","Enter","Calculated"]
[null,null,null,null,null,null,null,null,null,"Minutes","Seconds","Seconds"]
["Print to Finisher 1",null,null,"Type:",{"$f":"'Test Info'!B12","v":"NA"},null,null,null,null,null,null,{"$f":"J7*60+K7","v":0},null,null,"Print to Finisher 1",null,null,"Type:",{"$f":"'Test Info'!B20","v":"NA"}]
["Print 11 inch Output",null,null,null,null,null,null,null,null,null,null,null,null,null,"Print 11 inch Output"]
[]
["SETUP CHECKLIST",null,null,null,null,null,null,null,null,null,null,null,null,null,"SETUP CHECKLIST"]
["Set Output Location on Device",null,null,null,null,null,null,null,null,null,null,null,null,null,"Set Output Location on Device"]
["Heading",null,"Item",null,null,"Test Setting",null,null,"✔","N/A",null,null,null,null,"Heading",null,"Item",null,null,"Test Setting",null,null,"✔","N/A"]
["Machine Status",null,"Device Settings > Output > Output Location",null,null,"Set everything to Right Top Tray",null,null,0,{"$f":"I13","v":0},null,null,null,null,"Machine Status",null,"Device Settings > Output > Output Location",null,null,"Set everything to Right Top Tray",null,null,0,{"$f":"W13","v":0}]
[]
["FFDS",null,null,null,null,null,null,null,null,null,null,null,null,null,"FFDS"]
["PS- No Banner",null,null,null,null,null,null,null,null,null,null,null,null,null,"PS- No Banner"]
["Office Color- No Banner",null,null,null,null,null,null,null,null,null,null,null,null,null,"Office Color- No Banner"]
["Type","Mode","Job","Application","Pages","FPOT Measured\nin Seconds","C-C Measured\nin Seconds","2-N PPM Calculated","2-N % Rated Speed Calculated","C-C % Rated Speed Calculated",null,null,null,null,"Type","Mode","Job","Application","Pages","FPOT Measured\nin Seconds","C-C Measured\nin Seconds","2-N PPM Calculated","2-N % Rated Speed Calculated","C-C % Rated Speed Calculated"]
["PS","Color","The blue fairy book 4","Corel Draw",4,null,null,{"$f":"IF(OR(G19=\"NA\", G19=\"FAILED\"), G19, (IF(ISERROR((E19-1)/(G19-F19)*60), \"\", (E19-1)/(G19-F19)*60)))","v":""},{"$f":"IF(OR(G19=\"NA\", G19=\"FAILED\"), G19, (IF(ISERROR(H19/'Test Info'!$I$6*100), \"\", H19/'Test Info'!$I$6*100)))","v":""},{"$f":"IF(OR(G19=\"NA\", G19=\"FAILED\"), G19, (IF(ISERROR(E19/G19/'Test Info'!$I$6*6000), \"\", E19/G19/'Test Info'!$I$6*6000)))","v":""},null,null,null,null,"PS","Color","The blue fairy book 4","Corel Draw",4,null,null,{"$f":"IF(OR(U19=\"NA\", U19=\"FAILED\"), U19, (IF(ISERROR((S19-1)/(U19-T19)*60), \"\", (S19-1)/(U19-T19)*60)))","v":""},{"$f":"IF(OR(U19=\"NA\", U19=\"FAILED\"), U19, (IF(ISERROR(V19/'Test Info'!$L$6*100), \"\", V19/'Test Info'!$L$6*100)))","v":""},{"$f":"IF(OR(U19=\"NA\", U19=\"FAILED\"), U19, (IF(ISERROR(S19/U19/'Test Info'!$L$6*6000), \"\", S19/U19/'Test Info'!$L$6*6000)))","v":""}]
["PS","Color","Contents","Word",12,null,null,{"$f":"IF(OR(G20=\"NA\", G20=\"FAILED\"), G20, (IF(ISERROR((E20-1)/(G20-F20)*60), \"\", (E20-1)/(G20-F20)*60)))","v":""},{"$f":"IF(OR(G20=\"NA\", G20=\"FAILED\"), G20, (IF(ISERROR(H20/'Test Info'!$I$6*100), \"\", H20/'Test Info'!$I$6*100)))","v":""},{"$f":"IF(OR(G20=\"NA\", G20=\"FAILED\"), G20, (IF(ISERROR(E20/G20/'Test Info'!$I$6*6000), \"\", E20/G20/'Test Info'!$I$6*6000)))","v":""},null,null,null,null,"PS","Color","Contents","Word",12,null,null,{"$f":"IF(OR(U20=\"NA\", U20=\"FAILED\"), U20, (IF(ISERROR((S20-1)/(U20-T20)*60), \"\", (S20-1)/(U20-T20)*60)))","v":""},{"$f":"IF(OR(U20=\"NA\", U20=\"FAILED\"), U20, (IF(ISERROR(V20/'Test Info'!$L$6*100), \"\", V20/'Test Info'!$L$6*100)))","v":""},{"$f":"IF(OR(U20=\"NA\", U20=\"FAILED\"), U20, (IF(ISERROR(S20/U20/'Test Info'!$L$6*6000), \"\", S20/U20/'Test Info'!$L$6*6000)))","v":""}]
["PS","Color","Jewelry","Powerpoint",12,null,null,{"$f":"IF(OR(G21=\"NA\", G21=\"FAILED\"), G21, (IF(ISERROR((E21-1)/(G21-F21)*60), \"\", (E21-1)/(G21-F21)*60)))","v":""},{"$f":"IF(OR(G21=\"NA\", G21=\"FAILED\"), G21, (IF(ISERROR(H21/'Test Info'!$I$6*100), \"\", H21/'Test Info'!$I$6*100)))","v":""},{"$f":"IF(OR(G21=\"NA\", G21=\"FAILED\"), G21, (IF(ISERROR(E21/G21/'Test Info'!$I$6*6000), \"\", E21/G21/'Test Info'!$I$6*6000)))","v":""},null,null,null,null,"PS","Color","Jewelry","Powerpoint",12,null,null,{"$f":"IF(OR(U21=\"NA\", U21=\"FAILED\"), U21, (IF(ISERROR((S21-1)/(U21-T21)*60), \"\", (S21-1)/(U21-T21)*60)))","v":""},{"$f":"IF(OR(U21=\"NA\", U21=\"FAILED\"), U21, (IF(ISERROR(V21/'Test Info'!$L$6*100), \"\", V21/'Test Info'!$L$6*100)))","v":""},{"$f":"IF(OR(U21=\"NA\", U21=\"FAILED\"), U21, (IF(ISERROR(S21/U21/'Test Info'!$L$6*6000), \"\", S21/U21/'Test Info'!$L$6*6000)))","v":""}]
["PS","Color","Rain year","Excel",2,null,null,{"$f":"IF(OR(G22=\"NA\", G22=\"FAILED\"), G22, (IF(ISERROR((E22-1)/(G22-F22)*60), \"\", (E22-1)/(G22-F22)*60)))","v":""},{"$f":"IF(OR(G22=\"NA\", G22=\"FAILED\"), G22, (IF(ISERROR(H22/'Test Info'!$I$6*100), \"\", H22/'Test Info'!$I$6*100)))","v":""},{"$f":"IF(OR(G22=\"NA\", G22=\"FAILED\"), G22, (IF(ISERROR(E22/G22/'Test Info'!$I$6*6000), \"\", E22/G22/'Test Info'!$I$6*6000)))","v":""},null,null,null,null,"PS","Color","Rain year","Excel",2,null,null,{"$f":"IF(OR(U22=\"NA\", U22=\"FAILED\"), U22, (IF(ISERROR((S22-1)/(U22-T22)*60), \"\", (S22-1)/(U22-T22)*60)))","v":""},{"$f":"IF(OR(U22=\"NA\", U22=\"FAILED\"), U22, (IF(ISERROR(V22/'Test Info'!$L$6*100), \"\", V22/'Test Info'!$L$6*100)))","v":""},{"$f":"IF(OR(U22=\"NA\", U22=\"FAILED\"), U22, (IF(ISERROR(S22/U22/'Test Info'!$L$6*6000), \"\", S22/U22/'Test Info'!$L$6*6000)))","v":""}]
[null,null,null,"Average",{"$f":"AVERAGE(E19:E22)","v":7.5},{"$f":"IF(F22=\"NA\", F22, (IF(ISERROR(AVERAGE(F19:F22)), \"\", AVERAGE(F19:F22))))","v":""},{"$f":"IF(G22=\"NA\", G22, (IF(ISERROR(AVERAGE(G19:G22)), \"\", AVERAGE(G19:G22))))","v":""},{"$f":"IF(H22=\"NA\", H22, (IF(ISERROR(AVERAGE(H19:H22)), \"\", AVERAGE(H19:H22))))","v":""},{"$f":"IF(I22=\"NA\", I22, (IF(ISERROR(AVERAGE(I19:I22)), \"\", AVERAGE(I19:I22))))","v":""},{"$f":"IF(J22=\"NA\", J22, (IF(ISERROR(AVERAGE(J19:J22)), \"\", AVERAGE(J19:J22))))","v":""},null,null,null,null,null,null,null,"Average",{"$f":"AVERAGE(S19:S22)","v":7.5},{"$f":"IF(T22=\"NA\", T22, (IF(ISERROR(AVERAGE(T19:T22)), \"\", AVERAGE(T19:T22))))","v":""},{"$f":"IF(U22=\"NA\", U22, (IF(ISERROR(AVERAGE(U19:U22)), \"\", AVERAGE(U19:U22))))","v":""},{"$f":"IF(V22=\"NA\", V22, (IF(ISERROR(AVERAGE(V19:V22)), \"\", AVERAGE(V19:V22))))","v":""},{"$f":"IF(W22=\"NA\", W22, (IF(ISERROR(AVERAGE(W19:W22)), \"\", AVERAGE(W19:W22))))","v":""},{"$f":"IF(X22=\"NA\", X22, (IF(ISERROR(AVERAGE(X19:X22)), \"\", AVERAGE(X19:X22))))","v":""}]
[]
["Office Mono- No Banner",null,null,null,null,null,null,null,null,null,null,null,null,null,"Office Mono- No Banner"]
["PS","Mono","Gold","Powerpoint",8,null,null,{"$f":"IF(OR(G26=\"NA\", G26=\"FAILED\"), G26, (IF(ISERROR((E26-1)/(G26-F26)*60), \"\", (E26-1)/(G26-F26)*60)))","v":""},{"$f":"IF(OR(G26=\"NA\", G26=\"FAILED\"), G26, (IF(ISERROR(H26/'Test Info'!$I$6*100), \"\", H26/'Test Info'!$I$6*100)))","v":""},{"$f":"IF(OR(G26=\"NA\", G26=\"FAILED\"), G26, (IF(ISERROR(E26/G26/'Test Info'!$I$6*6000), \"\", E26/G26/'Test Info'!$I$6*6000)))","v":""},null,null,null,null,"PS","Mono","Gold","Powerpoint",8,null,null,{"$f":"IF(OR(U26=\"NA\", U26=\"FAILED\"), U26, (IF(ISERROR((S26-1)/(U26-T26)*60), \"\", (S26-1)/(U26-T26)*60)))","v":""},{"$f":"IF(OR(U26=\"NA\", U26=\"FAILED\"), U26, (IF(ISERROR(V26/'Test Info'!$M$6*100), \"\", V26/'Test Info'!$M$6*100)))","v":""},{"$f":"IF(OR(U26=\"NA\", U26=\"FAILED\"), U26, (IF(ISERROR(S26/U26/'Test Info'!$M$6*6000), \"\", S26/U26/'Test Info'!$M$6*6000)))","v":""}]
["PS","Mono","Pain at the pump","IE",3,null,null,{"$f":"IF(OR(G27=\"NA\", G27=\"FAILED\"), G27, (IF(ISERROR((E27-1)/(G27-F27)*60), \"\", (E27-1)/(G27-F27)*60)))","v":""},{"$f":"IF(OR(G27=\"NA\", G27=\"FAILED\"), G27, (IF(ISERROR(H27/'Test Info'!$I$6*100), \"\", H27/'Test Info'!$I$6*100)))","v":""},{"$f":"IF(OR(G27=\"NA\", G27=\"FAILED\"), G27, (IF(ISERROR(E27/G27/'Test Info'!$I$6*6000), \"\", E27/G27/'Test Info'!$I$6*6000)))","v":""},null,null,null,null,"PS","Mono","Pain at the pump","IE",3,null,null,{"$f":"IF(OR(U27=\"NA\", U27=\"FAILED\"), U27, (IF(ISERROR((S27-1)/(U27-T27)*60), \"\", (S27-1)/(U27-T27)*60)))","v":""},{"$f":"IF(OR(U27=\"NA\", U27=\"FAILED\"), U27, (IF(ISERROR(V27/'Test Info'!$M$6*100), \"\", V27/'Test Info'!$M$6*100)))","v":""},{"$f":"IF(OR(U27=\"NA\", U27=\"FAILED\"), U27, (IF(ISERROR(S27/U27/'Test Info'!$M$6*6000), \"\", S27/U27/'Test Info'!$M$6*6000)))","v":""}]
["PS","Mono","Lincoln 2","Word",2,null,null,{"$f":"IF(OR(G28=\"NA\", G28=\"FAILED\"), G28, (IF(ISERROR((E28-1)/(G28-F28)*60), \"\", (E28-1)/(G28-F28)*60)))","v":""},{"$f":"IF(OR(G28=\"NA\", G28=\"FAILED\"), G28, (IF(ISERROR(H28/'Test Info'!$I$6*100), \"\", H28/'Test Info'!$I$6*100)))","v":""},{"$f":"IF(OR(G28=\"NA\", G28=\"FAILED\"), G28, (IF(ISERROR(E28/G28/'Test Info'!$I$6*6000), \"\", E28/G28/'Test Info'!$I$6*6000)))","v":""},null,null,null,null,"PS","Mono","Lincoln 2","Word",2,null,null,{"$f":"IF(OR(U28=\"NA\", U28=\"FAILED\"), U28, (IF(ISERROR((S28-1)/(U28-T28)*60), \"\", (S28-1)/(U28-T28)*60)))","v":""},{"$f":"IF(OR(U28=\"NA\", U28=\"FAILED\"), U28, (IF(ISERROR(V28/'Test Info'!$M$6*100), \"\", V28/'Test Info'!$M$6*100)))","v":""},{"$f":"IF(OR(U28=\"NA\", U28=\"FAILED\"), U28, (IF(ISERROR(S28/U28/'Test Info'!$M$6*6000), \"\", S28/U28/'Test Info'!$M$6*6000)))","v":""}]
["PS","Mono","Budget","Excel",1,null,null,null,null,{"$f":"IF(OR(G29=\"NA\", G29=\"FAILED\"), G29, (IF(ISERROR(E29/G29/'Test Info'!$I$6*6000), \"\", E29/G29/'Test Info'!$I$6*6000)))","v":""},null,null,null,null,"PS","Mono","Budget","Excel",1,null,null,null,null,{"$f":"IF(OR(U29=\"NA\", U29=\"FAILED\"), U29, (IF(ISERROR(S29/U29/'Test Info'!$I$6*6000), \"\", S29/U29/'Test Info'!$I$6*6000)))","v":""}]
[null,null,null,"Average",{"$f":"AVERAGE(E26:E29)","v":3.5},{"$f":"IF(F29=\"NA\", F29, (IF(ISERROR(AVERAGE(F26:F29)), \"\", AVERAGE(F26:F29))))","v":""},{"$f":"IF(G29=\"NA\", G29, (IF(ISERROR(AVERAGE(G26:G29)), \"\", AVERAGE(G26:G29))))","v":""},{"$f":"IF(H28=\"NA\", H28, (IF(ISERROR(AVERAGE(H26:H29)), \"\", AVERAGE(H26:H29))))","v":""},{"$f":"IF(I28=\"NA\", I28, (IF(ISERROR(AVERAGE(I26:I29)), \"\", AVERAGE(I26:I29))))","v":""},{"$f":"IF(J29=\"NA\", J29, (IF(ISERROR(AVERAGE(J26:J29)), \"\", AVERAGE(J26:J29))))","v":""},null,null,null,null,null,null,null,"Average",{"$f":"AVERAGE(S26:S29)","v":3.5},{"$f":"IF(T29=\"NA\", T29, (IF(ISERROR(AVERAGE(T26:T29)), \"\", AVERAGE(T26:T29))))","v":""},{"$f":"IF(U29=\"NA\", U29, (IF(ISERROR(AVERAGE(U26:U29)), \"\", AVERAGE(U26:U29))))","v":""},{"$f":"IF(V28=\"NA\", V28, (IF(ISERROR(AVERAGE(V26:V29)), \"\", AVERAGE(V26:V29))))","v":""},{"$f":"IF(W28=\"NA\", W28, (IF(ISERROR(AVERAGE(W26:W29)), \"\", AVERAGE(W26:W29))))","v":""},{"$f":"IF(X29=\"NA\", X29, (IF(ISERROR(AVERAGE(X26:X29)), \"\", AVERAGE(X26:X29))))","v":""}]
[]
["Graphic- No Banner",null,null,null,null,null,null,null,null,null,null,null,null,null,"Graphic- No Banner"]
["PS","Color","Architectural","IE",5,null,null,{"$f":"IF(OR(G33=\"NA\", G33=\"FAILED\"), G33, (IF(ISERROR((E33-1)/(G33-F33)*60), \"\", (E33-1)/(G33-F33)*60)))","v":""},{"$f":"IF(OR(G33=\"NA\", G33=\"FAILED\"), G33, (IF(ISERROR(H33/'Test Info'!$I$6*100), \"\", H33/'Test Info'!$I$6*100)))","v":""},{"$f":"IF(OR(G33=\"NA\", G33=\"FAILED\"), G33, (IF(ISERROR(E33/G33/'Test Info'!$I$6*6000), \"\", E33/G33/'Test Info'!$I$6*6000)))","v":""},null,null,null,null,"PS","Color","Architectural","IE",5,null,null,{"$f":"IF(OR(U33=\"NA\", U33=\"FAILED\"), U33, (IF(ISERROR((S33-1)/(U33-T33)*60), \"\", (S33-1)/(U33-T33)*60)))","v":""},{"$f":"IF(OR(U33=\"NA\", U33=\"FAILED\"), U33, (IF(ISERROR(V33/'Test Info'!$L$6*100), \"\", V33/'Test Info'!$L$6*100)))","v":""},{"$f":"IF(OR(U33=\"NA\", U33=\"FAILED\"), U33, (IF(ISERROR(S33/U33/'Test Info'!$L$6*6000), \"\", S33/U33/'Test Info'!$L$6*6000)))","v":""}]
["PS","Color","Outcast","Acrobat",12,null,null,{"$f":"IF(OR(G34=\"NA\", G34=\"FAILED\"), G34, (IF(ISERROR((E34-1)/(G34-F34)*60), \"\", (E34-1)/(G34-F34)*60)))","v":""},{"$f":"IF(OR(G34=\"NA\", G34=\"FAILED\"), G34, (IF(ISERROR(H34/'Test Info'!$I$6*100), \"\", H34/'Test Info'!$I$6*100)))","v":""},{"$f":"IF(OR(G34=\"NA\", G34=\"FAILED\"), G34, (IF(ISERROR(E34/G34/'Test Info'!$I$6*6000), \"\", E34/G34/'Test Info'!$I$6*6000)))","v":""},null,null,null,null,"PS","Color","Outcast","Acrobat",12,null,null,{"$f":"IF(OR(U34=\"NA\", U34=\"FAILED\"), U34, (IF(ISERROR((S34-1)/(U34-T34)*60), \"\", (S34-1)/(U34-T34)*60)))","v":""},{"$f":"IF(OR(U34=\"NA\", U34=\"FAILED\"), U34, (IF(ISERROR(V34/'Test Info'!$L$6*100), \"\", V34/'Test Info'!$L$6*100)))","v":""},{"$f":"IF(OR(U34=\"NA\", U34=\"FAILED\"), U34, (IF(ISERROR(S34/U34/'Test Info'!$L$6*6000), \"\", S34/U34/'Test Info'!$L$6*6000)))","v":""}]
["PS","Color","Valentines day","Powerpoint",40,null,null,{"$f":"IF(OR(G35=\"NA\", G35=\"FAILED\"), G35, (IF(ISERROR((E35-1)/(G35-F35)*60), \"\", (E35-1)/(G35-F35)*60)))","v":""},{"$f":"IF(OR(G35=\"NA\", G35=\"FAILED\"), G35, (IF(ISERROR(H35/'Test Info'!$I$6*100), \"\", H35/'Test Info'!$I$6*100)))","v":""},{"$f":"IF(OR(G35=\"NA\", G35=\"FAILED\"), G35, (IF(ISERROR(E35/G35/'Test Info'!$I$6*6000), \"\", E35/G35/'Test Info'!$I$6*6000)))","v":""},null,null,null,null,"PS","Color","Valentines day","Powerpoint",40,null,null,{"$f":"IF(OR(U35=\"NA\", U35=\"FAILED\"), U35, (IF(ISERROR((S35-1)/(U35-T35)*60), \"\", (S35-1)/(U35-T35)*60)))","v":""},{"$f":"IF(OR(U35=\"NA\", U35=\"FAILED\"), U35, (IF(ISERROR(V35/'Test Info'!$L$6*100), \"\", V35/'Test Info'!$L$6*100)))","v":""},{"$f":"IF(OR(U35=\"NA\", U35=\"FAILED\"), U35, (IF(ISERROR(S35/U35/'Test Info'!$L$6*6000), \"\", S35/U35/'Test Info'!$L$6*6000)))","v":""}]
["PS","Color","Rainfall","Excel",7,null,null,{"$f":"IF(OR(G36=\"NA\", G36=\"FAILED\"), G36, (IF(ISERROR((E36-1)/(G36-F36)*60), \"\", (E36-1)/(G36-F36)*60)))","v":""},{"$f":"IF(OR(G36=\"NA\", G36=\"FAILED\"), G36, (IF(ISERROR(H36/'Test Info'!$I$6*100), \"\", H36/'Test Info'!$I$6*100)))","v":""},{"$f":"IF(OR(G36=\"NA\", G36=\"FAILED\"), G36, (IF(ISERROR(E36/G36/'Test Info'!$I$6*6000), \"\", E36/G36/'Test Info'!$I$6*6000)))","v":""},null,null,null,null,"PS","Color","Rainfall","Excel",7,null,null,{"$f":"IF(OR(U36=\"NA\", U36=\"FAILED\"), U36, (IF(ISERROR((S36-1)/(U36-T36)*60), \"\", (S36-1)/(U36-T36)*60)))","v":""},{"$f":"IF(OR(U36=\"NA\", U36=\"FAILED\"), U36, (IF(ISERROR(V36/'Test Info'!$L$6*100), \"\", V36/'Test Info'!$L$6*100)))","v":""},{"$f":"IF(OR(U36=\"NA\", U36=\"FAILED\"), U36, (IF(ISERROR(S36/U36/'Test Info'!$L$6*6000), \"\", S36/U36/'Test Info'!$L$6*6000)))","v":""}]
[null,null,null,"Average",{"$f":"AVERAGE(E33:E36)","v":16},{"$f":"IF(F36=\"NA\", F36, (IF(ISERROR(AVERAGE(F33:F36)), \"\", AVERAGE(F33:F36))))","v":""},{"$f":"IF(G36=\"NA\", G36, (IF(ISERROR(AVERAGE(G33:G36)), \"\", AVERAGE(G33:G36))))","v":""},{"$f":"IF(H36=\"NA\", H36, (IF(ISERROR(AVERAGE(H33:H36)), \"\", AVERAGE(H33:H36))))","v":""},{"$f":"IF(I36=\"NA\", I36, (IF(ISERROR(AVERAGE(I33:I36)), \"\", AVERAGE(I33:I36))))","v":""},{"$f":"IF(J36=\"NA\", J36, (IF(ISERROR(AVERAGE(J33:J36)), \"\", AVERAGE(J33:J36))))","v":""},null,null,null,null,null,null,null,"Average",{"$f":"AVERAGE(S33:S36)","v":16},{"$f":"IF(T36=\"NA\", T36, (IF(ISERROR(AVERAGE(T33:T36)), \"\", AVERAGE(T33:T36))))","v":""},{"$f":"IF(U36=\"NA\", U36, (IF(ISERROR(AVERAGE(U33:U36)), \"\", AVERAGE(U33:U36))))","v":""},{"$f":"IF(V36=\"NA\", V36, (IF(ISERROR(AVERAGE(V33:V36)), \"\", AVERAGE(V33:V36))))","v":""},{"$f":"IF(W36=\"NA\", W36, (IF(ISERROR(AVERAGE(W33:W36)), \"\", AVERAGE(W33:W36))))","v":""},{"$f":"IF(X36=\"NA\", X36, (IF(ISERROR(AVERAGE(X33:X36)), \"\", AVERAGE(X33:X36))))","v":""}]
[]
["Stress- No Banner",null,null,null,null,null,null,null,null,null,null,null,null,null,"Stress- No Banner"]
["PS","Color","Begin with things","Corel Draw",4,null,null,{"$f":"IF(OR(G40=\"NA\", G40=\"FAILED\"), G40, (IF(ISERROR((E40-1)/(G40-F40)*60), \"\", (E40-1)/(G40-F40)*60)))","v":""},{"$f":"IF(OR(G40=\"NA\", G40=\"FAILED\"), G40, (IF(ISERROR(H40/'Test Info'!$I$6*100), \"\", H40/'Test Info'!$I$6*100)))","v":""},{"$f":"IF(OR(G40=\"NA\", G40=\"FAILED\"), G40, (IF(ISERROR(E40/G40/'Test Info'!$I$6*6000), \"\", E40/G40/'Test Info'!$I$6*6000)))","v":""},null,null,null,null,"PS","Color","Begin with things","Corel Draw",4,null,null,{"$f":"IF(OR(U40=\"NA\", U40=\"FAILED\"), U40, (IF(ISERROR((S40-1)/(U40-T40)*60), \"\", (S40-1)/(U40-T40)*60)))","v":""},{"$f":"IF(OR(U40=\"NA\", U40=\"FAILED\"), U40, (IF(ISERROR(V40/'Test Info'!$L$6*100), \"\", V40/'Test Info'!$L$6*100)))","v":""},{"$f":"IF(OR(U40=\"NA\", U40=\"FAILED\"), U40, (IF(ISERROR(S40/U40/'Test Info'!$L$6*6000), \"\", S40/U40/'Test Info'!$L$6*6000)))","v":""}]
["PS","Color","Lincoln 6","Word",6,null,null,{"$f":"IF(OR(G41=\"NA\", G41=\"FAILED\"), G41, (IF(ISERROR((E41-1)/(G41-F41)*60), \"\", (E41-1)/(G41-F41)*60)))","v":""},{"$f":"IF(OR(G41=\"NA\", G41=\"FAILED\"), G41, (IF(ISERROR(H41/'Test Info'!$I$6*100), \"\", H41/'Test Info'!$I$6*100)))","v":""},{"$f":"IF(OR(G41=\"NA\", G41=\"FAILED\"), G41, (IF(ISERROR(E41/G41/'Test Info'!$I$6*6000), \"\", E41/G41/'Test Info'!$I$6*6000)))","v":""},null,null,null,null,"PS","Color","Lincoln 6","Word",6,null,null,{"$f":"IF(OR(U41=\"NA\", U41=\"FAILED\"), U41, (IF(ISERROR((S41-1)/(U41-T41)*60), \"\", (S41-1)/(U41-T41)*60)))","v":""},{"$f":"IF(OR(U41=\"NA\", U41=\"FAILED\"), U41, (IF(ISERROR(V41/'Test Info'!$L$6*100), \"\", V41/'Test Info'!$L$6*100)))","v":""},{"$f":"IF(OR(U41=\"NA\", U41=\"FAILED\"), U41, (IF(ISERROR(S41/U41/'Test Info'!$L$6*6000), \"\", S41/U41/'Test Info'!$L$6*6000)))","v":""}]
["PS","Color","Sisters","Corel Draw",12,null,null,{"$f":"IF(OR(G42=\"NA\", G42=\"FAILED\"), G42, (IF(ISERROR((E42-1)/(G42-F42)*60), \"\", (E42-1)/(G42-F42)*60)))","v":""},{"$f":"IF(OR(G42=\"NA\", G42=\"FAILED\"), G42, (IF(ISERROR(H42/'Test Info'!$I$6*100), \"\", H42/'Test Info'!$I$6*100)))","v":""},{"$f":"IF(OR(G42=\"NA\", G42=\"FAILED\"), G42, (IF(ISERROR(E42/G42/'Test Info'!$I$6*6000), \"\", E42/G42/'Test Info'!$I$6*6000)))","v":""},null,null,null,null,"PS","Color","Sisters","Corel Draw",12,null,null,{"$f":"IF(OR(U42=\"NA\", U42=\"FAILED\"), U42, (IF(ISERROR((S42-1)/(U42-T42)*60), \"\", (S42-1)/(U42-T42)*60)))","v":""},{"$f":"IF(OR(U42=\"NA\", U42=\"FAILED\"), U42, (IF(ISERROR(V42/'Test Info'!$L$6*100), \"\", V42/'Test Info'!$L$6*100)))","v":""},{"$f":"IF(OR(U42=\"NA\", U42=\"FAILED\"), U42, (IF(ISERROR(S42/U42/'Test Info'!$L$6*6000), \"\", S42/U42/'Test Info'!$L$6*6000)))","v":""}]
["PS","Color","Turtle Island","Photoshop",1,null,null,null,null,{"$f":"IF(OR(G43=\"NA\", G43=\"FAILED\"), G43, (IF(ISERROR(E43/G43/'Test Info'!$I$6*6000), \"\", E43/G43/'Test Info'!$I$6*6000)))","v":""},null,null,null,null,"PS","Color","Turtle Island","Photoshop",1,null,null,null,null,{"$f":"IF(OR(U43=\"NA\", U43=\"FAILED\"), U43, (IF(ISERROR(S43/U43/'Test Info'!$I$6*6000), \"\", S43/U43/'Test Info'!$I$6*6000)))","v":""}]
[null,null,null,"Average",{"$f":"AVERAGE(E40:E43)","v":5.75},{"$f":"IF(F43=\"NA\", F43, (IF(ISERROR(AVERAGE(F40:F43)), \"\", AVERAGE(F40:F43))))","v":""},{"$f":"IF(G43=\"NA\", G43, (IF(ISERROR(AVERAGE(G40:G43)), \"\", AVERAGE(G40:G43))))","v":""},{"$f":"IF(H43=\"NA\", H43, (IF(ISERROR(AVERAGE(H40:H43)), \"\", AVERAGE(H40:H43))))","v":""},{"$f":"IF(I43=\"NA\", I43, (IF(ISERROR(AVERAGE(I40:I43)), \"\", AVERAGE(I40:I43))))","v":""},{"$f":"IF(J43=\"NA\", J43, (IF(ISERROR(AVERAGE(J40:J43)), \"\", AVERAGE(J40:J43))))","v":""},null,null,null,null,null,null,null,"Average",{"$f":"AVERAGE(S40:S43)","v":5.75},{"$f":"IF(T43=\"NA\", T43, (IF(ISERROR(AVERAGE(T40:T43)), \"\", AVERAGE(T40:T43))))","v":""},{"$f":"IF(U43=\"NA\", U43, (IF(ISERROR(AVERAGE(U40:U43)), \"\", AVERAGE(U40:U43))))","v":""},{"$f":"IF(V43=\"NA\", V43, (IF(ISERROR(AVERAGE(V40:V43)), \"\", AVERAGE(V40:V43))))","v":""},{"$f":"IF(W43=\"NA\", W43, (IF(ISERROR(AVERAGE(W40:W43)), \"\", AVERAGE(W40:W43))))","v":""},{"$f":"IF(X43=\"NA\", X43, (IF(ISERROR(AVERAGE(X40:X43)), \"\", AVERAGE(X40:X43))))","v":""}]
[]
[]
[]
["Print 14 and 17 inch Output",null,null,null,null,null,null,null,null,null,null,null,null,null,"Print 14 and 17 inch Output"]
["PS - No Banner",null,null,null,null,null,null,null,null,null,null,null,null,null,"PS - No Banner"]
["17 inch Color- No Banner",null,null,null,null,null,null,null,null,null,null,null,null,null,"17 inch Color- No Banner"]
["Type","Mode","Job","Application","Pages","FPOT Measured\nin Seconds","C-C Measured\nin Seconds","2-N PPM Calculated","2-N % Rated Speed Calculated","C-C % Rated Speed Calculated",null,null,null,null,"Type","Mode","Job","Application","Pages","FPOT Measured\nin Seconds","C-C Measured\nin Seconds","2-N PPM Calculated","2-N % Rated Speed Calculated","C-C % Rated Speed Calculated"]
["PS","Color","Jewelry-17","Powerpoint",12,null,null,{"$f":"IF(OR(G52=\"NA\", G52=\"FAILED\"), G52, (IF(ISERROR((E52-1)/(G52-F52)*60), \"\", (E52-1)/(G52-F52)*60)))","v":""},{"$f":"IF(OR(G52=\"NA\", G52=\"FAILED\"), G52, (IF(ISERROR(H52/'Test Info'!$I$6*100), \"\", H52/'Test Info'!$I$6*100)))","v":""},{"$f":"IF(OR(G52=\"NA\", G52=\"FAILED\"), G52, (IF(ISERROR(E52/G52/'Test Info'!$I$6*6000), \"\", E52/G52/'Test Info'!$I$6*6000)))","v":""},null,null,null,null,"PS","Color","Jewelry-17","Powerpoint",12,null,null,{"$f":"IF(OR(U52=\"NA\", U52=\"FAILED\"), U52, (IF(ISERROR((S52-1)/(U52-T52)*60), \"\", (S52-1)/(U52-T52)*60)))","v":""},{"$f":"IF(OR(U52=\"NA\", U52=\"FAILED\"), U52, (IF(ISERROR(V52/'Test Info'!$L$6*100), \"\", V52/'Test Info'!$L$6*100)))","v":""},{"$f":"IF(OR(U52=\"NA\", U52=\"FAILED\"), U52, (IF(ISERROR(S52/U52/'Test Info'!$L$6*6000), \"\", S52/U52/'Test Info'!$L$6*6000)))","v":""}]
["PS","Color","Contents-17","Word",7,null,null,{"$f":"IF(OR(G53=\"NA\", G53=\"FAILED\"), G53, (IF(ISERROR((E53-1)/(G53-F53)*60), \"\", (E53-1)/(G53-F53)*60)))","v":""},{"$f":"IF(OR(G53=\"NA\", G53=\"FAILED\"), G53, (IF(ISERROR(H53/'Test Info'!$I$6*100), \"\", H53/'Test Info'!$I$6*100)))","v":""},{"$f":"IF(OR(G53=\"NA\", G53=\"FAILED\"), G53, (IF(ISERROR(E53/G53/'Test Info'!$I$6*6000), \"\", E53/G53/'Test Info'!$I$6*6000)))","v":""},null,null,null,null,"PS","Color","Contents-17","Word",7,null,null,{"$f":"IF(OR(U53=\"NA\", U53=\"FAILED\"), U53, (IF(ISERROR((S53-1)/(U53-T53)*60), \"\", (S53-1)/(U53-T53)*60)))","v":""},{"$f":"IF(OR(U53=\"NA\", U53=\"FAILED\"), U53, (IF(ISERROR(V53/'Test Info'!$L$6*100), \"\", V53/'Test Info'!$L$6*100)))","v":""},{"$f":"IF(OR(U53=\"NA\", U53=\"FAILED\"), U53, (IF(ISERROR(S53/U53/'Test Info'!$L$6*6000), \"\", S53/U53/'Test Info'!$L$6*6000)))","v":""}]
["PS","Color","Valentines day-17","Powerpoint",40,null,null,{"$f":"IF(OR(G54=\"NA\", G54=\"FAILED\"), G54, (IF(ISERROR((E54-1)/(G54-F54)*60), \"\", (E54-1)/(G54-F54)*60)))","v":""},{"$f":"IF(OR(G54=\"NA\", G54=\"FAILED\"), G54, (IF(ISERROR(H54/'Test Info'!$I$6*100), \"\", H54/'Test Info'!$I$6*100)))","v":""},{"$f":"IF(OR(G54=\"NA\", G54=\"FAILED\"), G54, (IF(ISERROR(E54/G54/'Test Info'!$I$6*6000), \"\", E54/G54/'Test Info'!$I$6*6000)))","v":""},null,null,null,null,"PS","Color","Valentines day-17","Powerpoint",40,null,null,{"$f":"IF(OR(U54=\"NA\", U54=\"FAILED\"), U54, (IF(ISERROR((S54-1)/(U54-T54)*60), \"\", (S54-1)/(U54-T54)*60)))","v":""},{"$f":"IF(OR(U54=\"NA\", U54=\"FAILED\"), U54, (IF(ISERROR(V54/'Test Info'!$L$6*100), \"\", V54/'Test Info'!$L$6*100)))","v":""},{"$f":"IF(OR(U54=\"NA\", U54=\"FAILED\"), U54, (IF(ISERROR(S54/U54/'Test Info'!$L$6*6000), \"\", S54/U54/'Test Info'!$L$6*6000)))","v":""}]
[null,null,null,"Average",{"$f":"AVERAGE(E51:E54)","v":19.666666666666668},{"$f":"IF(F54=\"NA\", F54, (IF(ISERROR(AVERAGE(F52:F54)), \"\", AVERAGE(F52:F54))))","v":""},{"$f":"IF(G54=\"NA\", G54, (IF(ISERROR(AVERAGE(G52:G54)), \"\", AVERAGE(G52:G54))))","v":""},{"$f":"IF(H54=\"NA\", H54, (IF(ISERROR(AVERAGE(H52:H54)), \"\", AVERAGE(H52:H54))))","v":""},{"$f":"IF(I54=\"NA\", I54, (IF(ISERROR(AVERAGE(I52:I54)), \"\", AVERAGE(I52:I54))))","v":""},{"$f":"IF(J54=\"NA\", J54, (IF(ISERROR(AVERAGE(J52:J54)), \"\", AVERAGE(J52:J54))))","v":""},null,null,null,null,null,null,null,"Average",{"$f":"AVERAGE(S51:S54)","v":19.666666666666668},{"$f":"IF(T54=\"NA\", T54, (IF(ISERROR(AVERAGE(T52:T54)), \"\", AVERAGE(T52:T54))))","v":""},{"$f":"IF(U54=\"NA\", U54, (IF(ISERROR(AVERAGE(U52:U54)), \"\", AVERAGE(U52:U54))))","v":""},{"$f":"IF(V54=\"NA\", V54, (IF(ISERROR(AVERAGE(V52:V54)), \"\", AVERAGE(V52:V54))))","v":""},{"$f":"IF(W54=\"NA\", W54, (IF(ISERROR(AVERAGE(W52:W54)), \"\", AVERAGE(W52:W54))))","v":""},{"$f":"IF(X54=\"NA\", X54, (IF(ISERROR(AVERAGE(X52:X54)), \"\", AVERAGE(X52:X54))))","v":""}]
[]
["14 inch Mono- No Banner",null,null,null,null,null,null,null,null,null,null,null,null,null,"14 inch Mono- No Banner"]
["PS","Mono","Blue sky-14","Quark",12,null,null,{"$f":"IF(OR(G58=\"NA\", G58=\"FAILED\"), G58, (IF(ISERROR((E58-1)/(G58-F58)*60), \"\", (E58-1)/(G58-F58)*60)))","v":""},{"$f":"IF(OR(G58=\"NA\", G58=\"FAILED\"), G58, (IF(ISERROR(H58/'Test Info'!$I$6*100), \"\", H58/'Test Info'!$I$6*100)))","v":""},{"$f":"IF(OR(G58=\"NA\", G58=\"FAILED\"), G58, (IF(ISERROR(E58/G58/'Test Info'!$I$6*6000), \"\", E58/G58/'Test Info'!$I$6*6000)))","v":""},null,null,null,null,"PS","Mono","Blue sky-14","Quark",12,null,null,{"$f":"IF(OR(U58=\"NA\", U58=\"FAILED\"), U58, (IF(ISERROR((S58-1)/(U58-T58)*60), \"\", (S58-1)/(U58-T58)*60)))","v":""},{"$f":"IF(OR(U58=\"NA\", U58=\"FAILED\"), U58, (IF(ISERROR(V58/'Test Info'!$M$6*100), \"\", V58/'Test Info'!$M$6*100)))","v":""},{"$f":"IF(OR(U58=\"NA\", U58=\"FAILED\"), U58, (IF(ISERROR(S58/U58/'Test Info'!$M$6*6000), \"\", S58/U58/'Test Info'!$M$6*6000)))","v":""}]
["PS","Mono","Classifieds-14","Chrome",13,null,null,{"$f":"IF(OR(G59=\"NA\", G59=\"FAILED\"), G59, (IF(ISERROR((E59-1)/(G59-F59)*60), \"\", (E59-1)/(G59-F59)*60)))","v":""},{"$f":"IF(OR(G59=\"NA\", G59=\"FAILED\"), G59, (IF(ISERROR(H59/'Test Info'!$I$6*100), \"\", H59/'Test Info'!$I$6*100)))","v":""},{"$f":"IF(OR(G59=\"NA\", G59=\"FAILED\"), G59, (IF(ISERROR(E59/G59/'Test Info'!$I$6*6000), \"\", E59/G59/'Test Info'!$I$6*6000)))","v":""},null,null,null,null,"PS","Mono","Classifieds-14","Chrome",13,null,null,{"$f":"IF(OR(U59=\"NA\", U59=\"FAILED\"), U59, (IF(ISERROR((S59-1)/(U59-T59)*60), \"\", (S59-1)/(U59-T59)*60)))","v":""},{"$f":"IF(OR(U59=\"NA\", U59=\"FAILED\"), U59, (IF(ISERROR(V59/'Test Info'!$M$6*100), \"\", V59/'Test Info'!$M$6*100)))","v":""},{"$f":"IF(OR(U59=\"NA\", U59=\"FAILED\"), U59, (IF(ISERROR(S59/U59/'Test Info'!$M$6*6000), \"\", S59/U59/'Test Info'!$M$6*6000)))","v":""}]
["PS","Mono","Salary-14","Excel",5,null,null,{"$f":"IF(OR(G60=\"NA\", G60=\"FAILED\"), G60, (IF(ISERROR((E60-1)/(G60-F60)*60), \"\", (E60-1)/(G60-F60)*60)))","v":""},{"$f":"IF(OR(G60=\"NA\", G60=\"FAILED\"), G60, (IF(ISERROR(H60/'Test Info'!$I$6*100), \"\", H60/'Test Info'!$I$6*100)))","v":""},{"$f":"IF(OR(G60=\"NA\", G60=\"FAILED\"), G60, (IF(ISERROR(E60/G60/'Test Info'!$I$6*6000), \"\", E60/G60/'Test Info'!$I$6*6000)))","v":""},null,null,null,null,"PS","Mono","Salary-14","Excel",5,null,null,{"$f":"IF(OR(U60=\"NA\", U60=\"FAILED\"), U60, (IF(ISERROR((S60-1)/(U60-T60)*60), \"\", (S60-1)/(U60-T60)*60)))","v":""},{"$f":"IF(OR(U60=\"NA\", U60=\"FAILED\"), U60, (IF(ISERROR(V60/'Test Info'!$M$6*100), \"\", V60/'Test Info'!$M$6*100)))","v":""},{"$f":"IF(OR(U60=\"NA\", U60=\"FAILED\"), U60, (IF(ISERROR(S60/U60/'Test Info'!$M$6*6000), \"\", S60/U60/'Test Info'!$M$6*6000)))","v":""}]
[null,null,null,"Average",{"$f":"AVERAGE(E57:E60)","v":10},{"$f":"IF(F60=\"NA\", F60, (IF(ISERROR(AVERAGE(F58:F60)), \"\", AVERAGE(F58:F60))))","v":""},{"$f":"IF(G60=\"NA\", G60, (IF(ISERROR(AVERAGE(G58:G60)), \"\", AVERAGE(G58:G60))))","v":""},{"$f":"IF(H60=\"NA\", H60, (IF(ISERROR(AVERAGE(H58:H60)), \"\", AVERAGE(H58:H60))))","v":""},{"$f":"IF(I60=\"NA\", I60, (IF(ISERROR(AVERAGE(I58:I60)), \"\", AVERAGE(I58:I60))))","v":""},{"$f":"IF(J60=\"NA\", J60, (IF(ISERROR(AVERAGE(J58:J60)), \"\", AVERAGE(J58:J60))))","v":""},null,null,null,null,null,null,null,"Average",{"$f":"AVERAGE(S57:S60)","v":10},{"$f":"IF(T60=\"NA\", T60, (IF(ISERROR(AVERAGE(T58:T60)), \"\", AVERAGE(T58:T60))))","v":""},{"$f":"IF(U60=\"NA\", U60, (IF(ISERROR(AVERAGE(U58:U60)), \"\", AVERAGE(U58:U60))))","v":""},{"$f":"IF(V60=\"NA\", V60, (IF(ISERROR(AVERAGE(V58:V60)), \"\", AVERAGE(V58:V60))))","v":""},{"$f":"IF(W60=\"NA\", W60, (IF(ISERROR(AVERAGE(W58:W60)), \"\", AVERAGE(W58:W60))))","v":""},{"$f":"IF(X60=\"NA\", X60, (IF(ISERROR(AVERAGE(X58:X60)), \"\", AVERAGE(X58:X60))))","v":""}]
[]
[]
[]
["Job Stream  - PCL6",null,null,null,null,null,null,null,null,null,null,null,null,null,"Job Stream  - PCL6"]
[]
[]
["Type","Finisher Type","Banner","Mode","Pages","C-C Time Measured\nin Seconds","C-C % Rated Speed Calculated",null,null,null,null,null,null,null,"Type","Finisher Type","Banner","Mode","Pages","C-C Time Measured\nin Seconds","C-C % Rated Speed Calculated"]
["PCL6",1,"No","Color",81,null,{"$f":"IF(OR(F69=\"NA\",F69=\"FAILED\"),F69,(IF(ISERROR(E69/F69/'Test Info'!I6*6000),\"\",E69/F69/'Test Info'!I6*6000)))","v":""},null,null,null,null,null,null,null,"PCL6",1,"No","Color",81,null,{"$f":"IF(OR(T69=\"NA\",T69=\"FAILED\"),T69,(IF(ISERROR(S69/T69/'Test Info'!$L$6*6000),\"\",S69/T69/'Test Info'!$L$6*6000)))","v":""}]
["PCL6",1,"No","Mono",81,null,{"$f":"IF(OR(F70=\"NA\",F70=\"FAILED\"),F70,(IF(ISERROR(E70/F70/'Test Info'!J6*6000),\"\",E70/F70/'Test Info'!J6*6000)))","v":""},null,null,null,null,null,null,null,"PCL6",1,"No","Mono",81,null,{"$f":"IF(OR(T70=\"NA\",T70=\"FAILED\"),T70,(IF(ISERROR(S70/T70/'Test Info'!$M$6*6000),\"\",S70/T70/'Test Info'!$M$6*6000)))","v":""}]
["PCL6",1,"Yes","Color",96,null,{"$f":"IF(OR(F71=\"NA\",F71=\"FAILED\"),F71,(IF(ISERROR(E71/F71/'Test Info'!I6*6000),\"\",E71/F71/'Test Info'!I6*6000)))","v":""},null,null,null,null,null,null,null,"PCL6",1,"Yes","Color",96,null,{"$f":"IF(OR(T71=\"NA\",T71=\"FAILED\"),T71,(IF(ISERROR(S71/T71/'Test Info'!$L$6*6000),\"\",S71/T71/'Test Info'!$L$6*6000)))","v":""}]
["PCL6",1,"Yes","Mono",96,null,{"$f":"IF(OR(F72=\"NA\",F72=\"FAILED\"),F72,(IF(ISERROR(E72/F72/'Test Info'!J6*6000),\"\",E72/F72/'Test Info'!J6*6000)))","v":""},null,null,null,null,null,null,null,"PCL6",1,"Yes","Mono",96,null,{"$f":"IF(OR(T72=\"NA\",T72=\"FAILED\"),T72,(IF(ISERROR(S72/T72/'Test Info'!$M$6*6000),\"\",S72/T72/'Test Info'!$M$6*6000)))","v":""}]
[]
[]
[]
["Copy to Finisher",null,null,null,null,null,null,null,null,null,null,null,null,null,"Copy to Finisher"]
[]
["Copy 1 Page FCOT (Select Output Color - AUTO)",null,null,null,null,null,null,null,null,null,null,null,null,null,"Copy 1 Page FCOT (Select Output Color - AUTO)"]
[]
[]
["Job Number","Platen Mono","Platen Color","DADF Mono"," DADF Color",null,null,null,null,null,null,null,null,null,"Job Number","Platen Mono","Platen Color","DADF Mono"," DADF Color"]
[1,null,null,null,null,null,null,null,null,null,null,null,null,null,1]
[2,null,null,null,null,null,null,null,null,null,null,null,null,null,2]
[3,null,null,null,null,null,null,null,null,null,null,null,null,null,3]
[4,null,null,null,null,null,null,null,null,null,null,null,null,null,4]
[5,null,null,null,null,null,null,null,null,null,null,null,null,null,5]
[6,null,null,null,null,null,null,null,null,null,null,null,null,null,6]
["Min",{"$f":"IF(OR(B87=\"NA\", B87=\"Failed\"), B87, (IF((MIN(B83:B87)) = 0, \"\", MIN(B83:B87))))","v":""},{"$f":"IF(OR(C87=\"NA\", C87=\"Failed\"), C87, (IF((MIN(C83:C87)) = 0, \"\", MIN(C83:C87))))","v":""},{"$f":"IF(OR(D87=\"NA\", D87=\"Failed\"), D87, (IF((MIN(D83:D87)) = 0, \"\", MIN(D83:D87))))","v":""},{"$f":"IF(OR(E87=\"NA\", E87=\"Failed\"), E87, (IF((MIN(E83:E87)) = 0, \"\", MIN(E83:E87))))","v":""},null,null,null,null,null,null,null,null,null,"Min",{"$f":"IF(OR(P87=\"NA\", P87=\"Failed\"), P87, (IF((MIN(P83:P87)) = 0, \"\", MIN(P83:P87))))","v":""},{"$f":"IF(OR(Q87=\"NA\", Q87=\"Failed\"), Q87, (IF((MIN(Q83:Q87)) = 0, \"\", MIN(Q83:Q87))))","v":""},{"$f":"IF(OR(R87=\"NA\", R87=\"Failed\"), R87, (IF((MIN(R83:R87)) = 0, \"\", MIN(R83:R87))))","v":""},{"$f":"IF(OR(S87=\"NA\", S87=\"Failed\"), S87, (IF((MIN(S83:S87)) = 0, \"\", MIN(S83:S87))))","v":""}]
["Max",{"$f":"IF(OR(B87=\"NA\", B87=\"Failed\"), B87, (IF((MAX(B83:B87)) = 0, \"\", MAX(B83:B87))))","v":""},{"$f":"IF(OR(C87=\"NA\", C87=\"Failed\"), C87, (IF((MAX(C83:C87)) = 0, \"\", MAX(C83:C87))))","v":""},{"$f":"IF(OR(D87=\"NA\", D87=\"Failed\"), D87, (IF((MAX(D83:D87)) = 0, \"\", MAX(D83:D87))))","v":""},{"$f":"IF(OR(E87=\"NA\", E87=\"Failed\"), E87, (IF((MAX(E83:E87)) = 0, \"\", MAX(E83:E87))))","v":""},null,null,null,null,null,null,null,null,null,"Max",{"$f":"IF(OR(P87=\"NA\", P87=\"Failed\"), P87, (IF((MAX(P83:P87)) = 0, \"\", MAX(P83:P87))))","v":""},{"$f":"IF(OR(Q87=\"NA\", Q87=\"Failed\"), Q87, (IF((MAX(Q83:Q87)) = 0, \"\", MAX(Q83:Q87))))","v":""},{"$f":"IF(OR(R87=\"NA\", R87=\"Failed\"), R87, (IF((MAX(R83:R87)) = 0, \"\", MAX(R83:R87))))","v":""},{"$f":"IF(OR(S87=\"NA\", S87=\"Failed\"), S87, (IF((MAX(S83:S87)) = 0, \"\", MAX(S83:S87))))","v":""}]
["Delta",{"$f":"IF(OR(B87=\"NA\", B87=\"Failed\"), B87, (IF(ISERROR(B89-B88), \"\", B89-B88)))","v":""},{"$f":"IF(OR(C87=\"NA\", C87=\"Failed\"), C87, (IF(ISERROR(C89-C88), \"\", C89-C88)))","v":""},{"$f":"IF(OR(D87=\"NA\", D87=\"Failed\"), D87, (IF(ISERROR(D89-D88), \"\", D89-D88)))","v":""},{"$f":"IF(OR(E87=\"NA\", E87=\"Failed\"), E87, (IF(ISERROR(E89-E88), \"\", E89-E88)))","v":""},null,null,null,null,null,null,null,null,null,"Delta",{"$f":"IF(OR(P87=\"NA\", P87=\"Failed\"), P87, (IF(ISERROR(P89-P88), \"\", P89-P88)))","v":""},{"$f":"IF(OR(Q87=\"NA\", Q87=\"Failed\"), Q87, (IF(ISERROR(Q89-Q88), \"\", Q89-Q88)))","v":""},{"$f":"IF(OR(R87=\"NA\", R87=\"Failed\"), R87, (IF(ISERROR(R89-R88), \"\", R89-R88)))","v":""},{"$f":"IF(OR(S87=\"NA\", S87=\"Failed\"), S87, (IF(ISERROR(S89-S88), \"\", S89-S88)))","v":""}]
["Average",{"$f":"IF(OR(B87=\"NA\", B87=\"Failed\"), B87, (IF((SUM(B83:B87)-MAX(B83:B87)-MIN(B83:B87))/(COUNT(B83:B87)-2) = 0, \"\", (SUM(B83:B87)-MAX(B83:B87)-MIN(B83:B87))/(COUNT(B83:B87)-2))))","v":""},{"$f":"IF(OR(C87=\"NA\", C87=\"Failed\"), C87, (IF((SUM(C83:C87)-MAX(C83:C87)-MIN(C83:C87))/(COUNT(C83:C87)-2) = 0, \"\", (SUM(C83:C87)-MAX(C83:C87)-MIN(C83:C87))/(COUNT(C83:C87)-2))))","v":""},{"$f":"IF(OR(D87=\"NA\", D87=\"Failed\"), D87, (IF((SUM(D83:D87)-MAX(D83:D87)-MIN(D83:D87))/(COUNT(D83:D87)-2) = 0, \"\", (SUM(D83:D87)-MAX(D83:D87)-MIN(D83:D87))/(COUNT(D83:D87)-2))))","v":""},{"$f":"IF(OR(E87=\"NA\", E87=\"Failed\"), E87, (IF((SUM(E83:E87)-MAX(E83:E87)-MIN(E83:E87))/(COUNT(E83:E87)-2) = 0, \"\", (SUM(E83:E87)-MAX(E83:E87)-MIN(E83:E87))/(COUNT(E83:E87)-2))))","v":""},null,null,null,null,null,null,null,null,null,"Average",{"$f":"IF(OR(P87=\"NA\", P87=\"Failed\"), P87, (IF((SUM(P83:P87)-MAX(P83:P87)-MIN(P83:P87))/(COUNT(P83:P87)-2) = 0, \"\", (SUM(P83:P87)-MAX(P83:P87)-MIN(P83:P87))/(COUNT(P83:P87)-2))))","v":""},{"$f":"IF(OR(Q87=\"NA\", Q87=\"Failed\"), Q87, (IF((SUM(Q83:Q87)-MAX(Q83:Q87)-MIN(Q83:Q87))/(COUNT(Q83:Q87)-2) = 0, \"\", (SUM(Q83:Q87)-MAX(Q83:Q87)-MIN(Q83:Q87))/(COUNT(Q83:Q87)-2))))","v":""},{"$f":"IF(OR(R87=\"NA\", R87=\"Failed\"), R87, (IF((SUM(R83:R87)-MAX(R83:R87)-MIN(R83:R87))/(COUNT(R83:R87)-2) = 0, \"\", (SUM(R83:R87)-MAX(R83:R87)-MIN(R83:R87))/(COUNT(R83:R87)-2))))","v":""},{"$f":"IF(OR(S87=\"NA\", S87=\"Failed\"), S87, (IF((SUM(S83:S87)-MAX(S83:S87)-MIN(S83:S87))/(COUNT(S83:S87)-2) = 0, \"\", (SUM(S83:S87)-MAX(S83:S87)-MIN(S83:S87))/(COUNT(S83:S87)-2))))","v":""}]
[]
[]
[]
[]
[]
["Precondition:"]
["PCL6 test  every time when the Driver version is changed "]
["Machine Status-->Device Settings > Output > Output Location-->Set everything to Right Top Tray"]
["Before starting the test enter into Admin-->Machine status-->Tools-->General settings-->Output Speed( Priority Mode)--> Color/Mono"]
[]
["Job Setting:"]
[]
["PS- No Banner"]
["Office Color- No Banner /  Office Mono- No Banner"]
[]
["1.Set the driver type as default \"PS \" mentioned in driver column with Banner sheet  DISABLED"]
["2.Open the Test File in application mentioned in the Laptop"]
["3.Go to File/Print and <Do not change any driver default settings >;Click Print buton; and Start timer in Stopwatch together"]
["4. Use Lap funtion in the stop watch as "]
["FPOT (lap 1): Time from “Print” button selected until the TRAIL EDGE of the 1st sheet exits to the default tray"]
["C-C (lap 2): Time from “Print” button selected until the TRAIL EDGE of the last sheet exits to the default tray"]
["5.Record the time then and repeat the above steps for conseqent readings"]
[]
["Graphic- No Banner / Stress- No Banner"]
[]
["1.Set the driver type as default \"PS \" mentioned in driver column with Banner sheet  DISABLED"]
["2.Open the Test File in application mentioned in the Laptop"]
["3.Go to File/Print and <Do not change any driver default settings >;Click Print buton; and Start timer in Stopwatch together"]
["4. Use Lap funtion in the stop watch as "]
["FPOT (lap 1): Time from “Print” button selected until the TRAIL EDGE of the 1st sheet exits to the default tray"]
["C-C (lap 2): Time from “Print” button selected until the TRAIL EDGE of the last sheet exits to the default tray"]
["5.Record the time then and repeat the above steps for conseqent readings"]
[]
["Job Setting:"]
["Job Stream  - PCL6"]
["This test consists of 15 different jobs, combination of simplex / duplex, stapled / unstapled. etc "]
[]
["Procedure:"]
["Print 11 inch Output -PS Driver"]
["Print 14 ,17 inch Output - PS Driver"]
[]
["1.Set the driver type as default \"PS \" mentioned in driver column with Banner sheet  DISABLED"]
["2.Open the Test File in application mentioned in the Laptop"]
["3.Go to File/Print and <Do not change any driver default settings >;Click Print buton; and Start timer in Stopwatch together"]
["4. Use Lap funtion in the stop watch as "]
["FPOT (lap 1): Time from “Print” button selected until the TRAIL EDGE of the 1st sheet exits to the default tray"]
["C-C (lap 2): Time from “Print” button selected until the TRAIL EDGE of the last sheet exits to the default tray"]
["5.Record the time then and repeat the above steps for conseqent readings"]
["5. Measure and Record the CC time as follows"]
["C-C : Time from Print Queue “Pause Printing” unchecked on client until the TRAIL EDGE of the last sheet Test file 15.doc exits (stop timer here)"]
[]
["Job Stream  - PCL6"]
[]
["It is a  file with collection of 15 jobs "]
["1.Set the driver type as default \"PCL6 \" mentioned in driver column "]
["2.Keep the tray 1 open., Run the batch file to load all 15 jobs into the print queue."]
["3.When all 15 jobs are in the print queue at \"waiting for resource state\"  -Then RUN a 5 sheet copy job from some other tray (say tray3  to make sure that the printer is in ready state."]
["4.Once this job is done immediately close tray 1, confirm the media, and start the  timer in stopwatch"]
["5. Measure and Record the CC time as follows"]
["C-C : Time from Print Queue “Pause Printing” unchecked on client until the TRAIL EDGE of the last sheet Test file 15.doc exits (stop timer here)"]
[]
["Copy1 Page FCOT (Select Output Color - AUTO)"]
[]
["1.Perform copy job with \"100% magnification, Tray 1,  1-1 (simplex-to-simplex) \" /Default setting -Letter paper size"]
["( Job 1 -means page numbered 1 on the printed output of job 1 ,80 gsm media thickness)"]
["2.Load the \"Job\" in \"Platen/SPDH \" accordingly ,press Start to copy and start timer together "]
["3.Measure and record the CC time as follows"]
["C-C : Time from “Start” button selected until TRAIL EDGE of the sheet of  copy job exits to the default tray  -Top Tray (Stop "]

{"sheet":"Finisher 2 - Print, Stream,Copy","index":13,"n_rows":91,"n_cols":24,"rows_kept":91,"cut":false,"hidden":true,"merged":[[66,19,66,20],[79,15,79,16],[79,17,79,18],[92,16,92,19],[24,19,24,20],[31,19,31,20],[38,19,38,20],[49,19,49,20],[56,19,56,20],[12,14,12,15],[12,16,12,18],[12,19,12,21],[14,14,14,15],[16,19,16,20],[9,14,9,23],[10,14,10,23],[11,14,11,15],[11,16,11,18],[11,19,11,21],[12,0,12,1],[12,2,12,4],[12,5,12,7],[3,9,3,11],[11,0,11,1],[11,2,11,4],[11,5,11,7],[10,0,10,9],[9,0,9,9],[14,0,14,1],[16,5,16,6],[24,5,24,6],[31,5,31,6],[38,5,38,6],[49,5,49,6],[79,3,79,4],[92,2,92,5],[66,5,66,6],[79,1,79,2],[56,5,56,6]]}
[{"$f":"'Test Info'!A1","v":"Samudra MFP High B0"},null,null,null,null,null,null,null,null,null,null,null,null,null,{"$f":"'Test Info'!B16","v":"Samudra Low MFP"}]
[{"$f":"'Test Info'!A2","v":"Release: "},null,{"$f":"'Test Info'!B2","v":"0.123.0"},null,null,null,null,null,null,null,null,null,null,null,{"$f":"'Print to Default Tray Full'!$O$2","v":"Release"},null,{"$f":"'Test Info'!B17","v":"V 1.10.4N"}]
["Test Duration:",null,{"$f":"CONCATENATE(TEXT('Test Info'!B3, \"m/d/yyyy\"), \" - \", TEXT(EndDate, \"m/d/yyyy\"))","v":"9/11/2017 - 13/11/2017"},null,null,null,null,null,null,null,null,null,null,null,"Test Duration:",null,{"$f":"CONCATENATE(TEXT('Test Info'!B5, \"d/m/yyyy\"),\"-\", TEXT('Test Info'!F5,\"d/m/yyyy\"))","v":"Enter-Enter at End of Test"}]
[null,null,null,null,null,null,null,null,null,"Time Conversion Tool"]
[null,null,null,null,null,null,null,null,null,"Enter","Enter","Calculated"]
[null,null,null,null,null,null,null,null,null,"Minutes","Seconds","Seconds"]
["Print to Finisher 2",null,null,"Type:",{"$f":"'Test Info'!B13","v":"NA"},null,null,null,null,null,null,{"$f":"J7*60+K7","v":0},null,null,"Print to Finisher 2",null,null,"Type:",{"$f":"'Test Info'!B21","v":"NA"}]
["Print 11 inch Output",null,null,null,null,null,null,null,null,null,null,null,null,null,"Print 11 inch Output"]
[]
["SETUP CHECKLIST",null,null,null,null,null,null,null,null,null,null,null,null,null,"SETUP CHECKLIST"]
["Set Output Location on Device",null,null,null,null,null,null,null,null,null,null,null,null,null,"Set Output Location on Device"]
["Heading",null,"Item",null,null,"Test Setting",null,null,"✔","N/A",null,null,null,null,"Heading",null,"Item",null,null,"Test Setting",null,null,"✔","N/A"]
["Machine Status",null,"Device Settings > Output > Output Location",null,null,"Set everything to Right Top Tray",null,null,0,{"$f":"I13","v":0},null,null,null,null,"Machine Status",null,"Device Settings > Output > Output Location",null,null,"Set everything to Right Top Tray",null,null,0,{"$f":"W13","v":0}]
[]
["FFDS",null,null,null,null,null,null,null,null,null,null,null,null,null,"FFDS"]
["PS- No Banner",null,null,null,null,null,null,null,null,null,null,null,null,null,"PS- No Banner"]
["Office Color- No Banner",null,null,null,null,null,null,null,null,null,null,null,null,null,"Office Color- No Banner"]
["Type","Mode","Job","Application","Pages","FPOT Measured\nin Seconds","C-C Measured\nin Seconds","2-N PPM Calculated","2-N % Rated Speed Calculated","C-C % Rated Speed Calculated",null,null,null,null,"Type","Mode","Job","Application","Pages","FPOT Measured\nin Seconds","C-C Measured\nin Seconds","2-N PPM Calculated","2-N % Rated Speed Calculated","C-C % Rated Speed Calculated"]
["PS","Color","The blue fairy book 4","Corel Draw",4,null,null,{"$f":"IF(OR(G19=\"NA\", G19=\"FAILED\"), G19, (IF(ISERROR((E19-1)/(G19-F19)*60), \"\", (E19-1)/(G19-F19)*60)))","v":""},{"$f":"IF(OR(G19=\"NA\", G19=\"FAILED\"), G19, (IF(ISERROR(H19/'Test Info'!$I$6*100), \"\", H19/'Test Info'!$I$6*100)))","v":""},{"$f":"IF(OR(G19=\"NA\", G19=\"FAILED\"), G19, (IF(ISERROR(E19/G19/'Test Info'!$I$6*6000), \"\", E19/G19/'Test Info'!$I$6*6000)))","v":""},null,null,null,null,"PS","Color","The blue fairy book 4","Corel Draw",4,null,null,{"$f":"IF(OR(U19=\"NA\", U19=\"FAILED\"), U19, (IF(ISERROR((S19-1)/(U19-T19)*60), \"\", (S19-1)/(U19-T19)*60)))","v":""},{"$f":"IF(OR(U19=\"NA\", U19=\"FAILED\"), U19, (IF(ISERROR(V19/'Test Info'!$L$6*100), \"\", V19/'Test Info'!$L$6*100)))","v":""},{"$f":"IF(OR(U19=\"NA\", U19=\"FAILED\"), U19, (IF(ISERROR(S19/U19/'Test Info'!$L$6*6000), \"\", S19/U19/'Test Info'!$L$6*6000)))","v":""}]
["PS","Color","Contents","Word",12,null,null,{"$f":"IF(OR(G20=\"NA\", G20=\"FAILED\"), G20, (IF(ISERROR((E20-1)/(G20-F20)*60), \"\", (E20-1)/(G20-F20)*60)))","v":""},{"$f":"IF(OR(G20=\"NA\", G20=\"FAILED\"), G20, (IF(ISERROR(H20/'Test Info'!$I$6*100), \"\", H20/'Test Info'!$I$6*100)))","v":""},{"$f":"IF(OR(G20=\"NA\", G20=\"FAILED\"), G20, (IF(ISERROR(E20/G20/'Test Info'!$I$6*6000), \"\", E20/G20/'Test Info'!$I$6*6000)))","v":""},null,null,null,null,"PS","Color","Contents","Word",12,null,null,{"$f":"IF(OR(U20=\"NA\", U20=\"FAILED\"), U20, (IF(ISERROR((S20-1)/(U20-T20)*60), \"\", (S20-1)/(U20-T20)*60)))","v":""},{"$f":"IF(OR(U20=\"NA\", U20=\"FAILED\"), U20, (IF(ISERROR(V20/'Test Info'!$L$6*100), \"\", V20/'Test Info'!$L$6*100)))","v":""},{"$f":"IF(OR(U20=\"NA\", U20=\"FAILED\"), U20, (IF(ISERROR(S20/U20/'Test Info'!$L$6*6000), \"\", S20/U20/'Test Info'!$L$6*6000)))","v":""}]
["PS","Color","Jewelry","Powerpoint",12,null,null,{"$f":"IF(OR(G21=\"NA\", G21=\"FAILED\"), G21, (IF(ISERROR((E21-1)/(G21-F21)*60), \"\", (E21-1)/(G21-F21)*60)))","v":""},{"$f":"IF(OR(G21=\"NA\", G21=\"FAILED\"), G21, (IF(ISERROR(H21/'Test Info'!$I$6*100), \"\", H21/'Test Info'!$I$6*100)))","v":""},{"$f":"IF(OR(G21=\"NA\", G21=\"FAILED\"), G21, (IF(ISERROR(E21/G21/'Test Info'!$I$6*6000), \"\", E21/G21/'Test Info'!$I$6*6000)))","v":""},null,null,null,null,"PS","Color","Jewelry","Powerpoint",12,null,null,{"$f":"IF(OR(U21=\"NA\", U21=\"FAILED\"), U21, (IF(ISERROR((S21-1)/(U21-T21)*60), \"\", (S21-1)/(U21-T21)*60)))","v":""},{"$f":"IF(OR(U21=\"NA\", U21=\"FAILED\"), U21, (IF(ISERROR(V21/'Test Info'!$L$6*100), \"\", V21/'Test Info'!$L$6*100)))","v":""},{"$f":"IF(OR(U21=\"NA\", U21=\"FAILED\"), U21, (IF(ISERROR(S21/U21/'Test Info'!$L$6*6000), \"\", S21/U21/'Test Info'!$L$6*6000)))","v":""}]
["PS","Color","Rain year","Excel",2,null,null,{"$f":"IF(OR(G22=\"NA\", G22=\"FAILED\"), G22, (IF(ISERROR((E22-1)/(G22-F22)*60), \"\", (E22-1)/(G22-F22)*60)))","v":""},{"$f":"IF(OR(G22=\"NA\", G22=\"FAILED\"), G22, (IF(ISERROR(H22/'Test Info'!$I$6*100), \"\", H22/'Test Info'!$I$6*100)))","v":""},{"$f":"IF(OR(G22=\"NA\", G22=\"FAILED\"), G22, (IF(ISERROR(E22/G22/'Test Info'!$I$6*6000), \"\", E22/G22/'Test Info'!$I$6*6000)))","v":""},null,null,null,null,"PS","Color","Rain year","Excel",2,null,null,{"$f":"IF(OR(U22=\"NA\", U22=\"FAILED\"), U22, (IF(ISERROR((S22-1)/(U22-T22)*60), \"\", (S22-1)/(U22-T22)*60)))","v":""},{"$f":"IF(OR(U22=\"NA\", U22=\"FAILED\"), U22, (IF(ISERROR(V22/'Test Info'!$L$6*100), \"\", V22/'Test Info'!$L$6*100)))","v":""},{"$f":"IF(OR(U22=\"NA\", U22=\"FAILED\"), U22, (IF(ISERROR(S22/U22/'Test Info'!$L$6*6000), \"\", S22/U22/'Test Info'!$L$6*6000)))","v":""}]
[null,null,null,"Average",{"$f":"AVERAGE(E19:E22)","v":7.5},{"$f":"IF(F22=\"NA\", F22, (IF(ISERROR(AVERAGE(F19:F22)), \"\", AVERAGE(F19:F22))))","v":""},{"$f":"IF(G22=\"NA\", G22, (IF(ISERROR(AVERAGE(G19:G22)), \"\", AVERAGE(G19:G22))))","v":""},{"$f":"IF(H22=\"NA\", H22, (IF(ISERROR(AVERAGE(H19:H22)), \"\", AVERAGE(H19:H22))))","v":""},{"$f":"IF(I22=\"NA\", I22, (IF(ISERROR(AVERAGE(I19:I22)), \"\", AVERAGE(I19:I22))))","v":""},{"$f":"IF(J22=\"NA\", J22, (IF(ISERROR(AVERAGE(J19:J22)), \"\", AVERAGE(J19:J22))))","v":""},null,null,null,null,null,null,null,"Average",{"$f":"AVERAGE(S19:S22)","v":7.5},{"$f":"IF(T22=\"NA\", T22, (IF(ISERROR(AVERAGE(T19:T22)), \"\", AVERAGE(T19:T22))))","v":""},{"$f":"IF(U22=\"NA\", U22, (IF(ISERROR(AVERAGE(U19:U22)), \"\", AVERAGE(U19:U22))))","v":""},{"$f":"IF(V22=\"NA\", V22, (IF(ISERROR(AVERAGE(V19:V22)), \"\", AVERAGE(V19:V22))))","v":""},{"$f":"IF(W22=\"NA\", W22, (IF(ISERROR(AVERAGE(W19:W22)), \"\", AVERAGE(W19:W22))))","v":""},{"$f":"IF(X22=\"NA\", X22, (IF(ISERROR(AVERAGE(X19:X22)), \"\", AVERAGE(X19:X22))))","v":""}]
[]
["Office Mono- No Banner",null,null,null,null,null,null,null,null,null,null,null,null,null,"Office Mono- No Banner"]
["PS","Mono","Gold","Powerpoint",8,null,null,{"$f":"IF(OR(G26=\"NA\", G26=\"FAILED\"), G26, (IF(ISERROR((E26-1)/(G26-F26)*60), \"\", (E26-1)/(G26-F26)*60)))","v":""},{"$f":"IF(OR(G26=\"NA\", G26=\"FAILED\"), G26, (IF(ISERROR(H26/'Test Info'!$I$6*100), \"\", H26/'Test Info'!$I$6*100)))","v":""},{"$f":"IF(OR(G26=\"NA\", G26=\"FAILED\"), G26, (IF(ISERROR(E26/G26/'Test Info'!$I$6*6000), \"\", E26/G26/'Test Info'!$I$6*6000)))","v":""},null,null,null,null,"PS","Mono","Gold","Powerpoint",8,null,null,{"$f":"IF(OR(U26=\"NA\", U26=\"FAILED\"), U26, (IF(ISERROR((S26-1)/(U26-T26)*60), \"\", (S26-1)/(U26-T26)*60)))","v":""},{"$f":"IF(OR(U26=\"NA\", U26=\"FAILED\"), U26, (IF(ISERROR(V26/'Test Info'!$M$6*100), \"\", V26/'Test Info'!$M$6*100)))","v":""},{"$f":"IF(OR(U26=\"NA\", U26=\"FAILED\"), U26, (IF(ISERROR(S26/U26/'Test Info'!$M$6*6000), \"\", S26/U26/'Test Info'!$M$6*6000)))","v":""}]
["PS","Mono","Pain at the pump","IE",3,null,null,{"$f":"IF(OR(G27=\"NA\", G27=\"FAILED\"), G27, (IF(ISERROR((E27-1)/(G27-F27)*60), \"\", (E27-1)/(G27-F27)*60)))","v":""},{"$f":"IF(OR(G27=\"NA\", G27=\"FAILED\"), G27, (IF(ISERROR(H27/'Test Info'!$I$6*100), \"\", H27/'Test Info'!$I$6*100)))","v":""},{"$f":"IF(OR(G27=\"NA\", G27=\"FAILED\"), G27, (IF(ISERROR(E27/G27/'Test Info'!$I$6*6000), \"\", E27/G27/'Test Info'!$I$6*6000)))","v":""},null,null,null,null,"PS","Mono","Pain at the pump","IE",3,null,null,{"$f":"IF(OR(U27=\"NA\", U27=\"FAILED\"), U27, (IF(ISERROR((S27-1)/(U27-T27)*60), \"\", (S27-1)/(U27-T27)*60)))","v":""},{"$f":"IF(OR(U27=\"NA\", U27=\"FAILED\"), U27, (IF(ISERROR(V27/'Test Info'!$M$6*100), \"\", V27/'Test Info'!$M$6*100)))","v":""},{"$f":"IF(OR(U27=\"NA\", U27=\"FAILED\"), U27, (IF(ISERROR(S27/U27/'Test Info'!$M$6*6000), \"\", S27/U27/'Test Info'!$M$6*6000)))","v":""}]
["PS","Mono","Lincoln 2","Word",2,null,null,{"$f":"IF(OR(G28=\"NA\", G28=\"FAILED\"), G28, (IF(ISERROR((E28-1)/(G28-F28)*60), \"\", (E28-1)/(G28-F28)*60)))","v":""},{"$f":"IF(OR(G28=\"NA\", G28=\"FAILED\"), G28, (IF(ISERROR(H28/'Test Info'!$I$6*100), \"\", H28/'Test Info'!$I$6*100)))","v":""},{"$f":"IF(OR(G28=\"NA\", G28=\"FAILED\"), G28, (IF(ISERROR(E28/G28/'Test Info'!$I$6*6000), \"\", E28/G28/'Test Info'!$I$6*6000)))","v":""},null,null,null,null,"PS","Mono","Lincoln 2","Word",2,null,null,{"$f":"IF(OR(U28=\"NA\", U28=\"FAILED\"), U28, (IF(ISERROR((S28-1)/(U28-T28)*60), \"\", (S28-1)/(U28-T28)*60)))","v":""},{"$f":"IF(OR(U28=\"NA\", U28=\"FAILED\"), U28, (IF(ISERROR(V28/'Test Info'!$M$6*100), \"\", V28/'Test Info'!$M$6*100)))","v":""},{"$f":"IF(OR(U28=\"NA\", U28=\"FAILED\"), U28, (IF(ISERROR(S28/U28/'Test Info'!$M$6*6000), \"\", S28/U28/'Test Info'!$M$6*6000)))","v":""}]
["PS","Mono","Budget","Excel",1,null,null,null,null,{"$f":"IF(OR(G29=\"NA\", G29=\"FAILED\"), G29, (IF(ISERROR(E29/G29/'Test Info'!$I$6*6000), \"\", E29/G29/'Test Info'!$I$6*6000)))","v":""},null,null,null,null,"PS","Mono","Budget","Excel",1,null,null,null,null,{"$f":"IF(OR(U29=\"NA\", U29=\"FAILED\"), U29, (IF(ISERROR(S29/U29/'Test Info'!$I$6*6000), \"\", S29/U29/'Test Info'!$I$6*6000)))","v":""}]
[null,null,null,"Average",{"$f":"AVERAGE(E26:E29)","v":3.5},{"$f":"IF(F29=\"NA\", F29, (IF(ISERROR(AVERAGE(F26:F29)), \"\", AVERAGE(F26:F29))))","v":""},{"$f":"IF(G29=\"NA\", G29, (IF(ISERROR(AVERAGE(G26:G29)), \"\", AVERAGE(G26:G29))))","v":""},{"$f":"IF(H28=\"NA\", H28, (IF(ISERROR(AVERAGE(H26:H29)), \"\", AVERAGE(H26:H29))))","v":""},{"$f":"IF(I28=\"NA\", I28, (IF(ISERROR(AVERAGE(I26:I29)), \"\", AVERAGE(I26:I29))))","v":""},{"$f":"IF(J29=\"NA\", J29, (IF(ISERROR(AVERAGE(J26:J29)), \"\", AVERAGE(J26:J29))))","v":""},null,null,null,null,null,null,null,"Average",{"$f":"AVERAGE(S26:S29)","v":3.5},{"$f":"IF(T29=\"NA\", T29, (IF(ISERROR(AVERAGE(T26:T29)), \"\", AVERAGE(T26:T29))))","v":""},{"$f":"IF(U29=\"NA\", U29, (IF(ISERROR(AVERAGE(U26:U29)), \"\", AVERAGE(U26:U29))))","v":""},{"$f":"IF(V28=\"NA\", V28, (IF(ISERROR(AVERAGE(V26:V29)), \"\", AVERAGE(V26:V29))))","v":""},{"$f":"IF(W28=\"NA\", W28, (IF(ISERROR(AVERAGE(W26:W29)), \"\", AVERAGE(W26:W29))))","v":""},{"$f":"IF(X29=\"NA\", X29, (IF(ISERROR(AVERAGE(X26:X29)), \"\", AVERAGE(X26:X29))))","v":""}]
[]
["Graphic- No Banner",null,null,null,null,null,null,null,null,null,null,null,null,null,"Graphic- No Banner"]
["PS","Color","Architectural","IE",5,null,null,{"$f":"IF(OR(G33=\"NA\", G33=\"FAILED\"), G33, (IF(ISERROR((E33-1)/(G33-F33)*60), \"\", (E33-1)/(G33-F33)*60)))","v":""},{"$f":"IF(OR(G33=\"NA\", G33=\"FAILED\"), G33, (IF(ISERROR(H33/'Test Info'!$I$6*100), \"\", H33/'Test Info'!$I$6*100)))","v":""},{"$f":"IF(OR(G33=\"NA\", G33=\"FAILED\"), G33, (IF(ISERROR(E33/G33/'Test Info'!$I$6*6000), \"\", E33/G33/'Test Info'!$I$6*6000)))","v":""},null,null,null,null,"PS","Color","Architectural","IE",5,null,null,{"$f":"IF(OR(U33=\"NA\", U33=\"FAILED\"), U33, (IF(ISERROR((S33-1)/(U33-T33)*60), \"\", (S33-1)/(U33-T33)*60)))","v":""},{"$f":"IF(OR(U33=\"NA\", U33=\"FAILED\"), U33, (IF(ISERROR(V33/'Test Info'!$L$6*100), \"\", V33/'Test Info'!$L$6*100)))","v":""},{"$f":"IF(OR(U33=\"NA\", U33=\"FAILED\"), U33, (IF(ISERROR(S33/U33/'Test Info'!$L$6*6000), \"\", S33/U33/'Test Info'!$L$6*6000)))","v":""}]
["PS","Color","Outcast","Acrobat",12,null,null,{"$f":"IF(OR(G34=\"NA\", G34=\"FAILED\"), G34, (IF(ISERROR((E34-1)/(G34-F34)*60), \"\", (E34-1)/(G34-F34)*60)))","v":""},{"$f":"IF(OR(G34=\"NA\", G34=\"FAILED\"), G34, (IF(ISERROR(H34/'Test Info'!$I$6*100), \"\", H34/'Test Info'!$I$6*100)))","v":""},{"$f":"IF(OR(G34=\"NA\", G34=\"FAILED\"), G34, (IF(ISERROR(E34/G34/'Test Info'!$I$6*6000), \"\", E34/G34/'Test Info'!$I$6*6000)))","v":""},null,null,null,null,"PS","Color","Outcast","Acrobat",12,null,null,{"$f":"IF(OR(U34=\"NA\", U34=\"FAILED\"), U34, (IF(ISERROR((S34-1)/(U34-T34)*60), \"\", (S34-1)/(U34-T34)*60)))","v":""},{"$f":"IF(OR(U34=\"NA\", U34=\"FAILED\"), U34, (IF(ISERROR(V34/'Test Info'!$L$6*100), \"\", V34/'Test Info'!$L$6*100)))","v":""},{"$f":"IF(OR(U34=\"NA\", U34=\"FAILED\"), U34, (IF(ISERROR(S34/U34/'Test Info'!$L$6*6000), \"\", S34/U34/'Test Info'!$L$6*6000)))","v":""}]
["PS","Color","Valentines day","Powerpoint",40,null,null,{"$f":"IF(OR(G35=\"NA\", G35=\"FAILED\"), G35, (IF(ISERROR((E35-1)/(G35-F35)*60), \"\", (E35-1)/(G35-F35)*60)))","v":""},{"$f":"IF(OR(G35=\"NA\", G35=\"FAILED\"), G35, (IF(ISERROR(H35/'Test Info'!$I$6*100), \"\", H35/'Test Info'!$I$6*100)))","v":""},{"$f":"IF(OR(G35=\"NA\", G35=\"FAILED\"), G35, (IF(ISERROR(E35/G35/'Test Info'!$I$6*6000), \"\", E35/G35/'Test Info'!$I$6*6000)))","v":""},null,null,null,null,"PS","Color","Valentines day","Powerpoint",40,null,null,{"$f":"IF(OR(U35=\"NA\", U35=\"FAILED\"), U35, (IF(ISERROR((S35-1)/(U35-T35)*60), \"\", (S35-1)/(U35-T35)*60)))","v":""},{"$f":"IF(OR(U35=\"NA\", U35=\"FAILED\"), U35, (IF(ISERROR(V35/'Test Info'!$L$6*100), \"\", V35/'Test Info'!$L$6*100)))","v":""},{"$f":"IF(OR(U35=\"NA\", U35=\"FAILED\"), U35, (IF(ISERROR(S35/U35/'Test Info'!$L$6*6000), \"\", S35/U35/'Test Info'!$L$6*6000)))","v":""}]
["PS","Color","Rainfall","Excel",7,null,null,{"$f":"IF(OR(G36=\"NA\", G36=\"FAILED\"), G36, (IF(ISERROR((E36-1)/(G36-F36)*60), \"\", (E36-1)/(G36-F36)*60)))","v":""},{"$f":"IF(OR(G36=\"NA\", G36=\"FAILED\"), G36, (IF(ISERROR(H36/'Test Info'!$I$6*100), \"\", H36/'Test Info'!$I$6*100)))","v":""},{"$f":"IF(OR(G36=\"NA\", G36=\"FAILED\"), G36, (IF(ISERROR(E36/G36/'Test Info'!$I$6*6000), \"\", E36/G36/'Test Info'!$I$6*6000)))","v":""},null,null,null,null,"PS","Color","Rainfall","Excel",7,null,null,{"$f":"IF(OR(U36=\"NA\", U36=\"FAILED\"), U36, (IF(ISERROR((S36-1)/(U36-T36)*60), \"\", (S36-1)/(U36-T36)*60)))","v":""},{"$f":"IF(OR(U36=\"NA\", U36=\"FAILED\"), U36, (IF(ISERROR(V36/'Test Info'!$L$6*100), \"\", V36/'Test Info'!$L$6*100)))","v":""},{"$f":"IF(OR(U36=\"NA\", U36=\"FAILED\"), U36, (IF(ISERROR(S36/U36/'Test Info'!$L$6*6000), \"\", S36/U36/'Test Info'!$L$6*6000)))","v":""}]
[null,null,null,"Average",{"$f":"AVERAGE(E33:E36)","v":16},{"$f":"IF(F36=\"NA\", F36, (IF(ISERROR(AVERAGE(F33:F36)), \"\", AVERAGE(F33:F36))))","v":""},{"$f":"IF(G36=\"NA\", G36, (IF(ISERROR(AVERAGE(G33:G36)), \"\", AVERAGE(G33:G36))))","v":""},{"$f":"IF(H36=\"NA\", H36, (IF(ISERROR(AVERAGE(H33:H36)), \"\", AVERAGE(H33:H36))))","v":""},{"$f":"IF(I36=\"NA\", I36, (IF(ISERROR(AVERAGE(I33:I36)), \"\", AVERAGE(I33:I36))))","v":""},{"$f":"IF(J36=\"NA\", J36, (IF(ISERROR(AVERAGE(J33:J36)), \"\", AVERAGE(J33:J36))))","v":""},null,null,null,null,null,null,null,"Average",{"$f":"AVERAGE(S33:S36)","v":16},{"$f":"IF(T36=\"NA\", T36, (IF(ISERROR(AVERAGE(T33:T36)), \"\", AVERAGE(T33:T36))))","v":""},{"$f":"IF(U36=\"NA\", U36, (IF(ISERROR(AVERAGE(U33:U36)), \"\", AVERAGE(U33:U36))))","v":""},{"$f":"IF(V36=\"NA\", V36, (IF(ISERROR(AVERAGE(V33:V36)), \"\", AVERAGE(V33:V36))))","v":""},{"$f":"IF(W36=\"NA\", W36, (IF(ISERROR(AVERAGE(W33:W36)), \"\", AVERAGE(W33:W36))))","v":""},{"$f":"IF(X36=\"NA\", X36, (IF(ISERROR(AVERAGE(X33:X36)), \"\", AVERAGE(X33:X36))))","v":""}]
[]
["Stress- No Banner",null,null,null,null,null,null,null,null,null,null,null,null,null,"Stress- No Banner"]
["PS","Color","Begin with things","Corel Draw",4,null,null,{"$f":"IF(OR(G40=\"NA\", G40=\"FAILED\"), G40, (IF(ISERROR((E40-1)/(G40-F40)*60), \"\", (E40-1)/(G40-F40)*60)))","v":""},{"$f":"IF(OR(G40=\"NA\", G40=\"FAILED\"), G40, (IF(ISERROR(H40/'Test Info'!$I$6*100), \"\", H40/'Test Info'!$I$6*100)))","v":""},{"$f":"IF(OR(G40=\"NA\", G40=\"FAILED\"), G40, (IF(ISERROR(E40/G40/'Test Info'!$I$6*6000), \"\", E40/G40/'Test Info'!$I$6*6000)))","v":""},null,null,null,null,"PS","Color","Begin with things","Corel Draw",4,null,null,{"$f":"IF(OR(U40=\"NA\", U40=\"FAILED\"), U40, (IF(ISERROR((S40-1)/(U40-T40)*60), \"\", (S40-1)/(U40-T40)*60)))","v":""},{"$f":"IF(OR(U40=\"NA\", U40=\"FAILED\"), U40, (IF(ISERROR(V40/'Test Info'!$L$6*100), \"\", V40/'Test Info'!$L$6*100)))","v":""},{"$f":"IF(OR(U40=\"NA\", U40=\"FAILED\"), U40, (IF(ISERROR(S40/U40/'Test Info'!$L$6*6000), \"\", S40/U40/'Test Info'!$L$6*6000)))","v":""}]
["PS","Color","Lincoln 6","Word",6,null,null,{"$f":"IF(OR(G41=\"NA\", G41=\"FAILED\"), G41, (IF(ISERROR((E41-1)/(G41-F41)*60), \"\", (E41-1)/(G41-F41)*60)))","v":""},{"$f":"IF(OR(G41=\"NA\", G41=\"FAILED\"), G41, (IF(ISERROR(H41/'Test Info'!$I$6*100), \"\", H41/'Test Info'!$I$6*100)))","v":""},{"$f":"IF(OR(G41=\"NA\", G41=\"FAILED\"), G41, (IF(ISERROR(E41/G41/'Test Info'!$I$6*6000), \"\", E41/G41/'Test Info'!$I$6*6000)))","v":""},null,null,null,null,"PS","Color","Lincoln 6","Word",6,null,null,{"$f":"IF(OR(U41=\"NA\", U41=\"FAILED\"), U41, (IF(ISERROR((S41-1)/(U41-T41)*60), \"\", (S41-1)/(U41-T41)*60)))","v":""},{"$f":"IF(OR(U41=\"NA\", U41=\"FAILED\"), U41, (IF(ISERROR(V41/'Test Info'!$L$6*100), \"\", V41/'Test Info'!$L$6*100)))","v":""},{"$f":"IF(OR(U41=\"NA\", U41=\"FAILED\"), U41, (IF(ISERROR(S41/U41/'Test Info'!$L$6*6000), \"\", S41/U41/'Test Info'!$L$6*6000)))","v":""}]
["PS","Color","Sisters","Corel Draw",12,null,null,{"$f":"IF(OR(G42=\"NA\", G42=\"FAILED\"), G42, (IF(ISERROR((E42-1)/(G42-F42)*60), \"\", (E42-1)/(G42-F42)*60)))","v":""},{"$f":"IF(OR(G42=\"NA\", G42=\"FAILED\"), G42, (IF(ISERROR(H42/'Test Info'!$I$6*100), \"\", H42/'Test Info'!$I$6*100)))","v":""},{"$f":"IF(OR(G42=\"NA\", G42=\"FAILED\"), G42, (IF(ISERROR(E42/G42/'Test Info'!$I$6*6000), \"\", E42/G42/'Test Info'!$I$6*6000)))","v":""},null,null,null,null,"PS","Color","Sisters","Corel Draw",12,null,null,{"$f":"IF(OR(U42=\"NA\", U42=\"FAILED\"), U42, (IF(ISERROR((S42-1)/(U42-T42)*60), \"\", (S42-1)/(U42-T42)*60)))","v":""},{"$f":"IF(OR(U42=\"NA\", U42=\"FAILED\"), U42, (IF(ISERROR(V42/'Test Info'!$L$6*100), \"\", V42/'Test Info'!$L$6*100)))","v":""},{"$f":"IF(OR(U42=\"NA\", U42=\"FAILED\"), U42, (IF(ISERROR(S42/U42/'Test Info'!$L$6*6000), \"\", S42/U42/'Test Info'!$L$6*6000)))","v":""}]
["PS","Color","Turtle Island","Photoshop",1,null,null,null,null,{"$f":"IF(OR(G43=\"NA\", G43=\"FAILED\"), G43, (IF(ISERROR(E43/G43/'Test Info'!$I$6*6000), \"\", E43/G43/'Test Info'!$I$6*6000)))","v":""},null,null,null,null,"PS","Color","Turtle Island","Photoshop",1,null,null,null,null,{"$f":"IF(OR(U43=\"NA\", U43=\"FAILED\"), U43, (IF(ISERROR(S43/U43/'Test Info'!$I$6*6000), \"\", S43/U43/'Test Info'!$I$6*6000)))","v":""}]
[null,null,null,"Average",{"$f":"AVERAGE(E40:E43)","v":5.75},{"$f":"IF(F43=\"NA\", F43, (IF(ISERROR(AVERAGE(F40:F43)), \"\", AVERAGE(F40:F43))))","v":""},{"$f":"IF(G43=\"NA\", G43, (IF(ISERROR(AVERAGE(G40:G43)), \"\", AVERAGE(G40:G43))))","v":""},{"$f":"IF(H43=\"NA\", H43, (IF(ISERROR(AVERAGE(H40:H43)), \"\", AVERAGE(H40:H43))))","v":""},{"$f":"IF(I43=\"NA\", I43, (IF(ISERROR(AVERAGE(I40:I43)), \"\", AVERAGE(I40:I43))))","v":""},{"$f":"IF(J43=\"NA\", J43, (IF(ISERROR(AVERAGE(J40:J43)), \"\", AVERAGE(J40:J43))))","v":""},null,null,null,null,null,null,null,"Average",{"$f":"AVERAGE(S40:S43)","v":5.75},{"$f":"IF(T43=\"NA\", T43, (IF(ISERROR(AVERAGE(T40:T43)), \"\", AVERAGE(T40:T43))))","v":""},{"$f":"IF(U43=\"NA\", U43, (IF(ISERROR(AVERAGE(U40:U43)), \"\", AVERAGE(U40:U43))))","v":""},{"$f":"IF(V43=\"NA\", V43, (IF(ISERROR(AVERAGE(V40:V43)), \"\", AVERAGE(V40:V43))))","v":""},{"$f":"IF(W43=\"NA\", W43, (IF(ISERROR(AVERAGE(W40:W43)), \"\", AVERAGE(W40:W43))))","v":""},{"$f":"IF(X43=\"NA\", X43, (IF(ISERROR(AVERAGE(X40:X43)), \"\", AVERAGE(X40:X43))))","v":""}]
[]
[]
[]
["Print 14 and 17 inch Output",null,null,null,null,null,null,null,null,null,null,null,null,null,"Print 14 and 17 inch Output"]
["PS - No Banner",null,null,null,null,null,null,null,null,null,null,null,null,null,"PS - No Banner"]
["17 inch Color- No Banner",null,null,null,null,null,null,null,null,null,null,null,null,null,"17 inch Color- No Banner"]
["Type","Mode","Job","Application","Pages","FPOT Measured\nin Seconds","C-C Measured\nin Seconds","2-N PPM Calculated","2-N % Rated Speed Calculated","C-C % Rated Speed Calculated",null,null,null,null,"Type","Mode","Job","Application","Pages","FPOT Measured\nin Seconds","C-C Measured\nin Seconds","2-N PPM Calculated","2-N % Rated Speed Calculated","C-C % Rated Speed Calculated"]
["PS","Color","Jewelry-17","Powerpoint",12,null,null,{"$f":"IF(OR(G52=\"NA\", G52=\"FAILED\"), G52, (IF(ISERROR((E52-1)/(G52-F52)*60), \"\", (E52-1)/(G52-F52)*60)))","v":""},{"$f":"IF(OR(G52=\"NA\", G52=\"FAILED\"), G52, (IF(ISERROR(H52/'Test Info'!$I$6*100), \"\", H52/'Test Info'!$I$6*100)))","v":""},{"$f":"IF(OR(G52=\"NA\", G52=\"FAILED\"), G52, (IF(ISERROR(E52/G52/'Test Info'!$I$6*6000), \"\", E52/G52/'Test Info'!$I$6*6000)))","v":""},null,null,null,null,"PS","Color","Jewelry-17","Powerpoint",12,null,null,{"$f":"IF(OR(U52=\"NA\", U52=\"FAILED\"), U52, (IF(ISERROR((S52-1)/(U52-T52)*60), \"\", (S52-1)/(U52-T52)*60)))","v":""},{"$f":"IF(OR(U52=\"NA\", U52=\"FAILED\"), U52, (IF(ISERROR(V52/'Test Info'!$L$6*100), \"\", V52/'Test Info'!$L$6*100)))","v":""},{"$f":"IF(OR(U52=\"NA\", U52=\"FAILED\"), U52, (IF(ISERROR(S52/U52/'Test Info'!$L$6*6000), \"\", S52/U52/'Test Info'!$L$6*6000)))","v":""}]
["PS","Color","Contents-17","Word",7,null,null,{"$f":"IF(OR(G53=\"NA\", G53=\"FAILED\"), G53, (IF(ISERROR((E53-1)/(G53-F53)*60), \"\", (E53-1)/(G53-F53)*60)))","v":""},{"$f":"IF(OR(G53=\"NA\", G53=\"FAILED\"), G53, (IF(ISERROR(H53/'Test Info'!$I$6*100), \"\", H53/'Test Info'!$I$6*100)))","v":""},{"$f":"IF(OR(G53=\"NA\", G53=\"FAILED\"), G53, (IF(ISERROR(E53/G53/'Test Info'!$I$6*6000), \"\", E53/G53/'Test Info'!$I$6*6000)))","v":""},null,null,null,null,"PS","Color","Contents-17","Word",7,null,null,{"$f":"IF(OR(U53=\"NA\", U53=\"FAILED\"), U53, (IF(ISERROR((S53-1)/(U53-T53)*60), \"\", (S53-1)/(U53-T53)*60)))","v":""},{"$f":"IF(OR(U53=\"NA\", U53=\"FAILED\"), U53, (IF(ISERROR(V53/'Test Info'!$L$6*100), \"\", V53/'Test Info'!$L$6*100)))","v":""},{"$f":"IF(OR(U53=\"NA\", U53=\"FAILED\"), U53, (IF(ISERROR(S53/U53/'Test Info'!$L$6*6000), \"\", S53/U53/'Test Info'!$L$6*6000)))","v":""}]
["PS","Color","Valentines day-17","Powerpoint",40,null,null,{"$f":"IF(OR(G54=\"NA\", G54=\"FAILED\"), G54, (IF(ISERROR((E54-1)/(G54-F54)*60), \"\", (E54-1)/(G54-F54)*60)))","v":""},{"$f":"IF(OR(G54=\"NA\", G54=\"FAILED\"), G54, (IF(ISERROR(H54/'Test Info'!$I$6*100), \"\", H54/'Test Info'!$I$6*100)))","v":""},{"$f":"IF(OR(G54=\"NA\", G54=\"FAILED\"), G54, (IF(ISERROR(E54/G54/'Test Info'!$I$6*6000), \"\", E54/G54/'Test Info'!$I$6*6000)))","v":""},null,null,null,null,"PS","Color","Valentines day-17","Powerpoint",40,null,null,{"$f":"IF(OR(U54=\"NA\", U54=\"FAILED\"), U54, (IF(ISERROR((S54-1)/(U54-T54)*60), \"\", (S54-1)/(U54-T54)*60)))","v":""},{"$f":"IF(OR(U54=\"NA\", U54=\"FAILED\"), U54, (IF(ISERROR(V54/'Test Info'!$L$6*100), \"\", V54/'Test Info'!$L$6*100)))","v":""},{"$f":"IF(OR(U54=\"NA\", U54=\"FAILED\"), U54, (IF(ISERROR(S54/U54/'Test Info'!$L$6*6000), \"\", S54/U54/'Test Info'!$L$6*6000)))","v":""}]
[null,null,null,"Average",{"$f":"AVERAGE(E51:E54)","v":19.666666666666668},{"$f":"IF(F54=\"NA\", F54, (IF(ISERROR(AVERAGE(F52:F54)), \"\", AVERAGE(F52:F54))))","v":""},{"$f":"IF(G54=\"NA\", G54, (IF(ISERROR(AVERAGE(G52:G54)), \"\", AVERAGE(G52:G54))))","v":""},{"$f":"IF(H54=\"NA\", H54, (IF(ISERROR(AVERAGE(H52:H54)), \"\", AVERAGE(H52:H54))))","v":""},{"$f":"IF(I54=\"NA\", I54, (IF(ISERROR(AVERAGE(I52:I54)), \"\", AVERAGE(I52:I54))))","v":""},{"$f":"IF(J54=\"NA\", J54, (IF(ISERROR(AVERAGE(J52:J54)), \"\", AVERAGE(J52:J54))))","v":""},null,null,null,null,null,null,null,"Average",{"$f":"AVERAGE(S51:S54)","v":19.666666666666668},{"$f":"IF(T54=\"NA\", T54, (IF(ISERROR(AVERAGE(T52:T54)), \"\", AVERAGE(T52:T54))))","v":""},{"$f":"IF(U54=\"NA\", U54, (IF(ISERROR(AVERAGE(U52:U54)), \"\", AVERAGE(U52:U54))))","v":""},{"$f":"IF(V54=\"NA\", V54, (IF(ISERROR(AVERAGE(V52:V54)), \"\", AVERAGE(V52:V54))))","v":""},{"$f":"IF(W54=\"NA\", W54, (IF(ISERROR(AVERAGE(W52:W54)), \"\", AVERAGE(W52:W54))))","v":""},{"$f":"IF(X54=\"NA\", X54, (IF(ISERROR(AVERAGE(X52:X54)), \"\", AVERAGE(X52:X54))))","v":""}]
[]
["14 inch Mono- No Banner",null,null,null,null,null,null,null,null,null,null,null,null,null,"14 inch Mono- No Banner"]
["PS","Mono","Blue sky-14","Quark",12,null,null,{"$f":"IF(OR(G58=\"NA\", G58=\"FAILED\"), G58, (IF(ISERROR((E58-1)/(G58-F58)*60), \"\", (E58-1)/(G58-F58)*60)))","v":""},{"$f":"IF(OR(G58=\"NA\", G58=\"FAILED\"), G58, (IF(ISERROR(H58/'Test Info'!$I$6*100), \"\", H58/'Test Info'!$I$6*100)))","v":""},{"$f":"IF(OR(G58=\"NA\", G58=\"FAILED\"), G58, (IF(ISERROR(E58/G58/'Test Info'!$I$6*6000), \"\", E58/G58/'Test Info'!$I$6*6000)))","v":""},null,null,null,null,"PS","Mono","Blue sky-14","Quark",12,null,null,{"$f":"IF(OR(U58=\"NA\", U58=\"FAILED\"), U58, (IF(ISERROR((S58-1)/(U58-T58)*60), \"\", (S58-1)/(U58-T58)*60)))","v":""},{"$f":"IF(OR(U58=\"NA\", U58=\"FAILED\"), U58, (IF(ISERROR(V58/'Test Info'!$M$6*100), \"\", V58/'Test Info'!$M$6*100)))","v":""},{"$f":"IF(OR(U58=\"NA\", U58=\"FAILED\"), U58, (IF(ISERROR(S58/U58/'Test Info'!$M$6*6000), \"\", S58/U58/'Test Info'!$M$6*6000)))","v":""}]
["PS","Mono","Classifieds-14","Chrome",13,null,null,{"$f":"IF(OR(G59=\"NA\", G59=\"FAILED\"), G59, (IF(ISERROR((E59-1)/(G59-F59)*60), \"\", (E59-1)/(G59-F59)*60)))","v":""},{"$f":"IF(OR(G59=\"NA\", G59=\"FAILED\"), G59, (IF(ISERROR(H59/'Test Info'!$I$6*100), \"\", H59/'Test Info'!$I$6*100)))","v":""},{"$f":"IF(OR(G59=\"NA\", G59=\"FAILED\"), G59, (IF(ISERROR(E59/G59/'Test Info'!$I$6*6000), \"\", E59/G59/'Test Info'!$I$6*6000)))","v":""},null,null,null,null,"PS","Mono","Classifieds-14","Chrome",13,null,null,{"$f":"IF(OR(U59=\"NA\", U59=\"FAILED\"), U59, (IF(ISERROR((S59-1)/(U59-T59)*60), \"\", (S59-1)/(U59-T59)*60)))","v":""},{"$f":"IF(OR(U59=\"NA\", U59=\"FAILED\"), U59, (IF(ISERROR(V59/'Test Info'!$M$6*100), \"\", V59/'Test Info'!$M$6*100)))","v":""},{"$f":"IF(OR(U59=\"NA\", U59=\"FAILED\"), U59, (IF(ISERROR(S59/U59/'Test Info'!$M$6*6000), \"\", S59/U59/'Test Info'!$M$6*6000)))","v":""}]
["PS","Mono","Salary-14","Excel",5,null,null,{"$f":"IF(OR(G60=\"NA\", G60=\"FAILED\"), G60, (IF(ISERROR((E60-1)/(G60-F60)*60), \"\", (E60-1)/(G60-F60)*60)))","v":""},{"$f":"IF(OR(G60=\"NA\", G60=\"FAILED\"), G60, (IF(ISERROR(H60/'Test Info'!$I$6*100), \"\", H60/'Test Info'!$I$6*100)))","v":""},{"$f":"IF(OR(G60=\"NA\", G60=\"FAILED\"), G60, (IF(ISERROR(E60/G60/'Test Info'!$I$6*6000), \"\", E60/G60/'Test Info'!$I$6*6000)))","v":""},null,null,null,null,"PS","Mono","Salary-14","Excel",5,null,null,{"$f":"IF(OR(U60=\"NA\", U60=\"FAILED\"), U60, (IF(ISERROR((S60-1)/(U60-T60)*60), \"\", (S60-1)/(U60-T60)*60)))","v":""},{"$f":"IF(OR(U60=\"NA\", U60=\"FAILED\"), U60, (IF(ISERROR(V60/'Test Info'!$M$6*100), \"\", V60/'Test Info'!$M$6*100)))","v":""},{"$f":"IF(OR(U60=\"NA\", U60=\"FAILED\"), U60, (IF(ISERROR(S60/U60/'Test Info'!$M$6*6000), \"\", S60/U60/'Test Info'!$M$6*6000)))","v":""}]
[null,null,null,"Average",{"$f":"AVERAGE(E57:E60)","v":10},{"$f":"IF(F60=\"NA\", F60, (IF(ISERROR(AVERAGE(F58:F60)), \"\", AVERAGE(F58:F60))))","v":""},{"$f":"IF(G60=\"NA\", G60, (IF(ISERROR(AVERAGE(G58:G60)), \"\", AVERAGE(G58:G60))))","v":""},{"$f":"IF(H60=\"NA\", H60, (IF(ISERROR(AVERAGE(H58:H60)), \"\", AVERAGE(H58:H60))))","v":""},{"$f":"IF(I60=\"NA\", I60, (IF(ISERROR(AVERAGE(I58:I60)), \"\", AVERAGE(I58:I60))))","v":""},{"$f":"IF(J60=\"NA\", J60, (IF(ISERROR(AVERAGE(J58:J60)), \"\", AVERAGE(J58:J60))))","v":""},null,null,null,null,null,null,null,"Average",{"$f":"AVERAGE(S57:S60)","v":10},{"$f":"IF(T60=\"NA\", T60, (IF(ISERROR(AVERAGE(T58:T60)), \"\", AVERAGE(T58:T60))))","v":""},{"$f":"IF(U60=\"NA\", U60, (IF(ISERROR(AVERAGE(U58:U60)), \"\", AVERAGE(U58:U60))))","v":""},{"$f":"IF(V60=\"NA\", V60, (IF(ISERROR(AVERAGE(V58:V60)), \"\", AVERAGE(V58:V60))))","v":""},{"$f":"IF(W60=\"NA\", W60, (IF(ISERROR(AVERAGE(W58:W60)), \"\", AVERAGE(W58:W60))))","v":""},{"$f":"IF(X60=\"NA\", X60, (IF(ISERROR(AVERAGE(X58:X60)), \"\", AVERAGE(X58:X60))))","v":""}]
[]
[]
[]
["Complex Finisher Print Test - PCL6",null,null,null,null,null,null,null,null,null,null,null,null,null,"Job Stream  - PCL6"]
[]
[]
["Type","Finisher Type","Banner","Mode","Pages","C-C Time Measured\nin Seconds","C-C % Rated Speed Calculated",null,null,null,null,null,null,null,"Type","Finisher Type","Banner","Mode","Pages","C-C Time Measured\nin Seconds","C-C % Rated Speed Calculated"]
["PCL6",2,"No","Color",81,null,{"$f":"IF(OR(F69=\"NA\",F69=\"FAILED\"),F69,(IF(ISERROR(E69/F69/'Test Info'!I6*6000),\"\",E69/F69/'Test Info'!I6*6000)))","v":""},null,null,null,null,null,null,null,"PCL6",1,"No","Color",81,null,{"$f":"IF(OR(T69=\"NA\",T69=\"FAILED\"),T69,(IF(ISERROR(S69/T69/'Test Info'!$L$6*6000),\"\",S69/T69/'Test Info'!$L$6*6000)))","v":""}]
["PCL6",2,"No","Mono",81,null,{"$f":"IF(OR(F70=\"NA\",F70=\"FAILED\"),F70,(IF(ISERROR(E70/F70/'Test Info'!J6*6000),\"\",E70/F70/'Test Info'!J6*6000)))","v":""},null,null,null,null,null,null,null,"PCL6",1,"No","Mono",81,null,{"$f":"IF(OR(T70=\"NA\",T70=\"FAILED\"),T70,(IF(ISERROR(S70/T70/'Test Info'!$M$6*6000),\"\",S70/T70/'Test Info'!$M$6*6000)))","v":""}]
["PCL6",2,"Yes","Color",96,null,{"$f":"IF(OR(F71=\"NA\",F71=\"FAILED\"),F71,(IF(ISERROR(E71/F71/'Test Info'!I6*6000),\"\",E71/F71/'Test Info'!I6*6000)))","v":""},null,null,null,null,null,null,null,"PCL6",1,"Yes","Color",96,null,{"$f":"IF(OR(T71=\"NA\",T71=\"FAILED\"),T71,(IF(ISERROR(S71/T71/'Test Info'!$L$6*6000),\"\",S71/T71/'Test Info'!$L$6*6000)))","v":""}]
["PCL6",2,"Yes","Mono",96,null,{"$f":"IF(OR(F72=\"NA\",F72=\"FAILED\"),F72,(IF(ISERROR(E72/F72/'Test Info'!J6*6000),\"\",E72/F72/'Test Info'!J6*6000)))","v":""},null,null,null,null,null,null,null,"PCL6",1,"Yes","Mono",96,null,{"$f":"IF(OR(T72=\"NA\",T72=\"FAILED\"),T72,(IF(ISERROR(S72/T72/'Test Info'!$M$6*6000),\"\",S72/T72/'Test Info'!$M$6*6000)))","v":""}]
[]
[]
[]
["Copy to Finisher",null,null,null,null,null,null,null,null,null,null,null,null,null,"Copy to Finisher"]
[]
["Copy 1 Page FCOT (Select Output Color - AUTO)",null,null,null,null,null,null,null,null,null,null,null,null,null,"Copy 1 Page FCOT (Select Output Color - AUTO)"]
[]
[]
["Job Number","Platen Mono","Platen Color","DADF Mono"," DADF Color",null,null,null,null,null,null,null,null,null,"Job Number","Platen Mono","Platen Color","DADF Mono"," DADF Color"]
[1,null,null,null,null,null,null,null,null,null,null,null,null,null,1]
[2,null,null,null,null,null,null,null,null,null,null,null,null,null,2]
[3,null,null,null,null,null,null,null,null,null,null,null,null,null,3]
[4,null,null,null,null,null,null,null,null,null,null,null,null,null,4]
[5,null,null,null,null,null,null,null,null,null,null,null,null,null,5]
[6,null,null,null,null,null,null,null,null,null,null,null,null,null,6]
["Min",{"$f":"IF(OR(B87=\"NA\", B87=\"Failed\"), B87, (IF((MIN(B83:B87)) = 0, \"\", MIN(B83:B87))))","v":""},{"$f":"IF(OR(C87=\"NA\", C87=\"Failed\"), C87, (IF((MIN(C83:C87)) = 0, \"\", MIN(C83:C87))))","v":""},{"$f":"IF(OR(D87=\"NA\", D87=\"Failed\"), D87, (IF((MIN(D83:D87)) = 0, \"\", MIN(D83:D87))))","v":""},{"$f":"IF(OR(E87=\"NA\", E87=\"Failed\"), E87, (IF((MIN(E83:E87)) = 0, \"\", MIN(E83:E87))))","v":""},null,null,null,null,null,null,null,null,null,"Min",{"$f":"IF(OR(P87=\"NA\", P87=\"Failed\"), P87, (IF((MIN(P83:P87)) = 0, \"\", MIN(P83:P87))))","v":""},{"$f":"IF(OR(Q87=\"NA\", Q87=\"Failed\"), Q87, (IF((MIN(Q83:Q87)) = 0, \"\", MIN(Q83:Q87))))","v":""},{"$f":"IF(OR(R87=\"NA\", R87=\"Failed\"), R87, (IF((MIN(R83:R87)) = 0, \"\", MIN(R83:R87))))","v":""},{"$f":"IF(OR(S87=\"NA\", S87=\"Failed\"), S87, (IF((MIN(S83:S87)) = 0, \"\", MIN(S83:S87))))","v":""}]
["Max",{"$f":"IF(OR(B87=\"NA\", B87=\"Failed\"), B87, (IF((MAX(B83:B87)) = 0, \"\", MAX(B83:B87))))","v":""},{"$f":"IF(OR(C87=\"NA\", C87=\"Failed\"), C87, (IF((MAX(C83:C87)) = 0, \"\", MAX(C83:C87))))","v":""},{"$f":"IF(OR(D87=\"NA\", D87=\"Failed\"), D87, (IF((MAX(D83:D87)) = 0, \"\", MAX(D83:D87))))","v":""},{"$f":"IF(OR(E87=\"NA\", E87=\"Failed\"), E87, (IF((MAX(E83:E87)) = 0, \"\", MAX(E83:E87))))","v":""},null,null,null,null,null,null,null,null,null,"Max",{"$f":"IF(OR(P87=\"NA\", P87=\"Failed\"), P87, (IF((MAX(P83:P87)) = 0, \"\", MAX(P83:P87))))","v":""},{"$f":"IF(OR(Q87=\"NA\", Q87=\"Failed\"), Q87, (IF((MAX(Q83:Q87)) = 0, \"\", MAX(Q83:Q87))))","v":""},{"$f":"IF(OR(R87=\"NA\", R87=\"Failed\"), R87, (IF((MAX(R83:R87)) = 0, \"\", MAX(R83:R87))))","v":""},{"$f":"IF(OR(S87=\"NA\", S87=\"Failed\"), S87, (IF((MAX(S83:S87)) = 0, \"\", MAX(S83:S87))))","v":""}]
["Delta",{"$f":"IF(OR(B87=\"NA\", B87=\"Failed\"), B87, (IF(ISERROR(B89-B88), \"\", B89-B88)))","v":""},{"$f":"IF(OR(C87=\"NA\", C87=\"Failed\"), C87, (IF(ISERROR(C89-C88), \"\", C89-C88)))","v":""},{"$f":"IF(OR(D87=\"NA\", D87=\"Failed\"), D87, (IF(ISERROR(D89-D88), \"\", D89-D88)))","v":""},{"$f":"IF(OR(E87=\"NA\", E87=\"Failed\"), E87, (IF(ISERROR(E89-E88), \"\", E89-E88)))","v":""},null,null,null,null,null,null,null,null,null,"Delta",{"$f":"IF(OR(P87=\"NA\", P87=\"Failed\"), P87, (IF(ISERROR(P89-P88), \"\", P89-P88)))","v":""},{"$f":"IF(OR(Q87=\"NA\", Q87=\"Failed\"), Q87, (IF(ISERROR(Q89-Q88), \"\", Q89-Q88)))","v":""},{"$f":"IF(OR(R87=\"NA\", R87=\"Failed\"), R87, (IF(ISERROR(R89-R88), \"\", R89-R88)))","v":""},{"$f":"IF(OR(S87=\"NA\", S87=\"Failed\"), S87, (IF(ISERROR(S89-S88), \"\", S89-S88)))","v":""}]
["Average",{"$f":"IF(OR(B87=\"NA\", B87=\"Failed\"), B87, (IF((SUM(B83:B87)-MAX(B83:B87)-MIN(B83:B87))/(COUNT(B83:B87)-2) = 0, \"\", (SUM(B83:B87)-MAX(B83:B87)-MIN(B83:B87))/(COUNT(B83:B87)-2))))","v":""},{"$f":"IF(OR(C87=\"NA\", C87=\"Failed\"), C87, (IF((SUM(C83:C87)-MAX(C83:C87)-MIN(C83:C87))/(COUNT(C83:C87)-2) = 0, \"\", (SUM(C83:C87)-MAX(C83:C87)-MIN(C83:C87))/(COUNT(C83:C87)-2))))","v":""},{"$f":"IF(OR(D87=\"NA\", D87=\"Failed\"), D87, (IF((SUM(D83:D87)-MAX(D83:D87)-MIN(D83:D87))/(COUNT(D83:D87)-2) = 0, \"\", (SUM(D83:D87)-MAX(D83:D87)-MIN(D83:D87))/(COUNT(D83:D87)-2))))","v":""},{"$f":"IF(OR(E87=\"NA\", E87=\"Failed\"), E87, (IF((SUM(E83:E87)-MAX(E83:E87)-MIN(E83:E87))/(COUNT(E83:E87)-2) = 0, \"\", (SUM(E83:E87)-MAX(E83:E87)-MIN(E83:E87))/(COUNT(E83:E87)-2))))","v":""},null,null,null,null,null,null,null,null,null,"Average",{"$f":"IF(OR(P87=\"NA\", P87=\"Failed\"), P87, (IF((SUM(P83:P87)-MAX(P83:P87)-MIN(P83:P87))/(COUNT(P83:P87)-2) = 0, \"\", (SUM(P83:P87)-MAX(P83:P87)-MIN(P83:P87))/(COUNT(P83:P87)-2))))","v":""},{"$f":"IF(OR(Q87=\"NA\", Q87=\"Failed\"), Q87, (IF((SUM(Q83:Q87)-MAX(Q83:Q87)-MIN(Q83:Q87))/(COUNT(Q83:Q87)-2) = 0, \"\", (SUM(Q83:Q87)-MAX(Q83:Q87)-MIN(Q83:Q87))/(COUNT(Q83:Q87)-2))))","v":""},{"$f":"IF(OR(R87=\"NA\", R87=\"Failed\"), R87, (IF((SUM(R83:R87)-MAX(R83:R87)-MIN(R83:R87))/(COUNT(R83:R87)-2) = 0, \"\", (SUM(R83:R87)-MAX(R83:R87)-MIN(R83:R87))/(COUNT(R83:R87)-2))))","v":""},{"$f":"IF(OR(S87=\"NA\", S87=\"Failed\"), S87, (IF((SUM(S83:S87)-MAX(S83:S87)-MIN(S83:S87))/(COUNT(S83:S87)-2) = 0, \"\", (SUM(S83:S87)-MAX(S83:S87)-MIN(S83:S87))/(COUNT(S83:S87)-2))))","v":""}]

{"sheet":"UI","index":14,"n_rows":184,"n_cols":14,"rows_kept":184,"cut":false,"hidden":true,"merged":[[54,10,57,10],[62,10,65,10],[69,10,72,10],[76,10,78,10],[3,11,3,13],[45,10,48,10],[81,0,81,7],[83,10,86,10],[160,10,165,10],[179,0,181,0],[99,10,102,10],[125,0,125,2],[130,0,130,2],[135,0,135,2],[140,0,140,2],[145,0,145,2],[91,10,95,10],[120,0,120,2]]}
[{"$f":"'Test Info'!A1:G1","v":"Samudra MFP High B0"}]
[{"$f":"'Test Info'!A2","v":"Release: "},null,{"$f":"'Test Info'!B2","v":"0.123.0"}]
["Test Duration:",null,{"$f":"'Print to Default Tray Full'!C3","v":"9/11/2017 - 13/11/2017"}]
[{"$f":"'Test Info'!A4","v":"Benchmark:"},null,{"$f":"'Test Info'!B4","v":"Samudra Low MFP"},null,null,null,null,null,null,null,null,"Time Conversion Tool"]
[{"$f":"'Test Info'!A5","v":"Benchmark Start Date:"},null,{"$f":"CONCATENATE(TEXT('Test Info'!B5, \"d/m/yyyy\"),\"-\", TEXT('Test Info'!F5,\"d/m/yyyy\"))","v":"Enter-Enter at End of Test"},null,null,null,null,null,null,null,null,"Enter","Enter","Calculated"]
[null,null,null,null,null,null,null,null,null,null,null,"Minutes","Seconds","Seconds"]
["Feature- From all services screen, first time after reboot select feature ",null,null,null,"Pass1","Pass2","Pass3",null,"BM/Target",null,null,null,null,{"$f":"L7*60+M7","v":0}]
["Feature, Tab, Button","Start Path","Action","Transition Start","Time in Seconds","Time in Seconds","Time in Seconds","Average",null,"Delta","Comments"]
["F","Services Home","Copy button",null,null,null,null,{"$f":"IF(ISERROR(AVERAGE(E9:G9)),\"\",AVERAGE(E9:G9))","v":""},null,{"$f":"IF(ISERROR((H9-I9)/I9), N/A, (H9-I9)/I9)","v":{"$error":"#NAME?"}}]
["F","Services Home","Email",null,null,null,null,"",null,{"$f":"IF(ISERROR((H10-I10)/I10), N/A, (H10-I10)/I10)","v":{"$error":"#NAME?"}}]
["F","Services Home","Scan To button",null,null,null,null,"",null,{"$f":"IF(ISERROR((H11-I11)/I11), N/A, (H11-I11)/I11)","v":{"$error":"#NAME?"}}]
["F","Services Home","ID Card copy button",null,null,null,null,"",null,{"$f":"IF(ISERROR((H12-I12)/I12), N/A, (H12-I12)/I12)","v":{"$error":"#NAME?"}}]
["F","Services Home","Fax",null,null,null,null,{"$f":"IF(ISERROR(AVERAGE(E13:F13)),\"\",AVERAGE(E13:F13))","v":""},null,{"$f":"IF(ISERROR((H13-I13)/I13), N/A, (H13-I13)/I13)","v":{"$error":"#NAME?"}}]
["F","Services Home","Weblet - TBD",null,null,null,null,"",null,{"$f":"IF(ISERROR((H14-I14)/I14), N/A, (H14-I14)/I14)","v":{"$error":"#NAME?"}},"Nextwave not capable yet"]
["F","Services Home","Weblet - TBD",null,null,null,null,"",null,{"$f":"IF(ISERROR((H15-I15)/I15), N/A, (H15-I15)/I15)","v":{"$error":"#NAME?"}},"Nextwave not capable yet"]
["F","Services Home","XeroxAppGallery",null,null,null,null,"",null,{"$f":"IF(ISERROR((H16-I16)/I16), N/A, (H16-I16)/I16)","v":{"$error":"#NAME?"}},"Nextwave not capable yet"]
[null,null,"Average:",{"$f":"IF(ISERROR(AVERAGE(D9:D16)),\"\",AVERAGE(D9:D16))","v":""},{"$f":"IF(ISERROR(AVERAGE(E9:E16)),\"\",AVERAGE(E9:E16))","v":""},null,null,{"$f":"IF(ISERROR(AVERAGE(H9:H16)),\"\",AVERAGE(H9:H16))","v":""},{"$f":"IF(ISERROR(AVERAGE(I9:I16)),\"\",AVERAGE(I9:I16))","v":""},{"$f":"IF(ISERROR((H17-I17)/I17), N/A, (H17-I17)/I17)","v":{"$error":"#NAME?"}}]
[]
[]
["Feature - From all services screen, select feature "]
["Feature, Tab, Button","Start Path","Action","Transition Start","Time in Seconds","Time in Seconds","Time in Seconds","Average",null,"Delta"]
["F","Services Home",{"$f":"C9","v":"Copy button"},null,null,null,null,null,null,{"$f":"IF(ISERROR((H22-I22)/I22), N/A, (H22-I22)/I22)","v":{"$error":"#NAME?"}}]
["F","Services Home",{"$f":"C10","v":"Email"},null,null,null,null,null,null,{"$f":"IF(ISERROR((H23-I23)/I23), N/A, (H23-I23)/I23)","v":{"$error":"#NAME?"}}]
["F","Services Home","Scan To button",null,null,null,null,null,null,{"$f":"IF(ISERROR((H24-I24)/I24), N/A, (H24-I24)/I24)","v":{"$error":"#NAME?"}}]
["F","Services Home","ID Card copy button",null,null,null,null,null,null,{"$f":"IF(ISERROR((H25-I25)/I25), N/A, (H25-I25)/I25)","v":{"$error":"#NAME?"}}]
["F","Services Home","Fax",null,null,null,null,null,null,{"$f":"IF(ISERROR((H26-I26)/I26), N/A, (H26-I26)/I26)","v":{"$error":"#NAME?"}}]
["F","Services Home","Weblet - TBD",null,null,null,null,{"$f":"IF(ISERROR(AVERAGE(E27:G27)),\"\",AVERAGE(E27:G27))","v":""},null,{"$f":"IF(ISERROR((H27-I27)/I27), N/A, (H27-I27)/I27)","v":{"$error":"#NAME?"}},"Nextwave not capable yet"]
["F","Services Home","Weblet - TBD",null,null,null,null,"",null,{"$f":"IF(ISERROR((H28-I28)/I28), N/A, (H28-I28)/I28)","v":{"$error":"#NAME?"}},"Nextwave not capable yet"]
["F","Services Home","XeroxAppGallery",null,null,null,null,"",null,{"$f":"IF(ISERROR((H29-I29)/I29), N/A, (H29-I29)/I29)","v":{"$error":"#NAME?"}},"Nextwave not capable yet"]
[null,null,"Average:",{"$f":"IF(ISERROR(AVERAGE(D22:D29)),\"\",AVERAGE(D22:D29))","v":""},{"$f":"IF(ISERROR(AVERAGE(E22:E29)),\"\",AVERAGE(E22:E29))","v":""},null,null,{"$f":"IF(ISERROR(AVERAGE(H22:H29)),\"\",AVERAGE(H22:H29))","v":""},{"$f":"IF(ISERROR(AVERAGE(I22:I29)),\"\",AVERAGE(I22:I29))","v":""},{"$f":"IF(ISERROR((H30-I30)/I30), N/A, (H30-I30)/I30)","v":{"$error":"#NAME?"}}]
[]
["Feature - From all services screen, select feature  while device is printing 36 page tax.ps job"]
["Feature, Tab, Button","Start Path","Action","Transition Start","Time in Seconds","Time in Seconds","Time in Seconds","Average",null,"Delta"]
["F","Services Home",{"$f":"C9","v":"Copy button"},null,null,null,null,{"$f":"IF(ISERROR(AVERAGE(E34:G34)),\"\",AVERAGE(E34:G34))","v":""},null,{"$f":"IF(ISERROR((H34-I34)/I34), N/A, (H34-I34)/I34)","v":{"$error":"#NAME?"}}]
["F","Services Home",{"$f":"C10","v":"Email"},null,null,null,null,{"$f":"IF(ISERROR(AVERAGE(E35:F35)),\"\",AVERAGE(E35:F35))","v":""},null,{"$f":"IF(ISERROR((H35-I35)/I35), N/A, (H35-I35)/I35)","v":{"$error":"#NAME?"}}]
["F","Services Home","Scan To button",null,null,null,null,"",null,{"$f":"IF(ISERROR((H36-I36)/I36), N/A, (H36-I36)/I36)","v":{"$error":"#NAME?"}}]
["F","Services Home","ID Card copy button",null,null,null,null,"",null,{"$f":"IF(ISERROR((H37-I37)/I37), N/A, (H37-I37)/I37)","v":{"$error":"#NAME?"}}]
["F","Services Home","Fax",null,null,null,null,{"$f":"IF(ISERROR(AVERAGE(E38:F38)),\"\",AVERAGE(E38:F38))","v":""},null,{"$f":"IF(ISERROR((H38-I38)/I38), N/A, (H38-I38)/I38)","v":{"$error":"#NAME?"}}]
["F","Services Home","Weblet - TBD",null,null,null,null,"",null,{"$f":"IF(ISERROR((H39-I39)/I39), N/A, (H39-I39)/I39)","v":{"$error":"#NAME?"}},"Nextwave not capable yet"]
["F","Services Home","Weblet - TBD",null,null,null,null,"",null,{"$f":"IF(ISERROR((H40-I40)/I40), N/A, (H40-I40)/I40)","v":{"$error":"#NAME?"}},"Nextwave not capable yet"]
["F","Services Home","XeroxAppGallery",null,null,null,null,"",null,{"$f":"IF(ISERROR((H41-I41)/I41), N/A, (H41-I41)/I41)","v":{"$error":"#NAME?"}},"Nextwave not capable yet"]
[null,null,"Average:",{"$f":"IF(ISERROR(AVERAGE(D34:D41)),\"\",AVERAGE(D34:D41))","v":""},{"$f":"IF(ISERROR(AVERAGE(E34:E41)),\"\",AVERAGE(E34:E41))","v":""},null,null,{"$f":"IF(ISERROR(AVERAGE(H34:H41)),\"\",AVERAGE(H34:H41))","v":""},{"$f":"IF(ISERROR(AVERAGE(I34:I41)),\"\",AVERAGE(I34:I41))","v":""},{"$f":"IF(ISERROR((H42-I42)/I42), N/A, (H42-I42)/I42)","v":{"$error":"#NAME?"}}]
[]
["Window Bearing Button - A button which opens a window."]
["Feature, Tab, Button","Start Path","Action","Transition\nStart","Time in Seconds","Time in Seconds","Time in Seconds","Average",null,"Delta"]
["WBB","Copy ","Reduce/Enlarge ",null,null,null,null,{"$f":"IF(ISERROR(AVERAGE(E46:G46)),\"\",AVERAGE(E46:G46))","v":""},null,{"$f":"IF(ISERROR((H46-I46)/I46), N/A, (H46-I46)/I46)","v":{"$error":"#NAME?"}}]
["WBB","email","Resolution",null,null,null,null,"",null,{"$f":"IF(ISERROR((H47-I47)/I47), N/A, (H47-I47)/I47)","v":{"$error":"#NAME?"}}]
["WBB","Copy ","Original size ",null,null,null,null,"",null,{"$f":"IF(ISERROR((H48-I48)/I48), N/A, (H48-I48)/I48)","v":{"$error":"#NAME?"}}]
[null,null,"Average:",{"$f":"IF(ISERROR(AVERAGE(D46:D48)),\"\",AVERAGE(D46:D48))","v":""},{"$f":"IF(ISERROR(AVERAGE(E46:E48)),\"\",AVERAGE(E46:E48))","v":""},"","","","",{"$f":"IF(ISERROR((H49-I49)/I49), N/A, (H49-I49)/I49)","v":{"$error":"#NAME?"}}]
[]
[]
[]
["Option Button - From initial feature level, select a button to set a job parameter.  "]
["Feature, Tab, Button","Start Path","Action","Transition\nStart","Time in Seconds","Time in Seconds","Time in Seconds","Average",null,"Delta"]
["B","Copy - 2 sided copying ","2-1 Sided button",null,null,null,null,{"$f":"IF(ISERROR(AVERAGE(E55:G55)),\"\",AVERAGE(E55:G55))","v":""},null,{"$f":"IF(ISERROR((H55-I55)/I55), N/A, (H55-I55)/I55)","v":{"$error":"#NAME?"}}]
["B","Copy - Original Type","Text & Photo",null,null,null,null,"",null,{"$f":"IF(ISERROR((H56-I56)/I56), N/A, (H56-I56)/I56)","v":{"$error":"#NAME?"}}]
["B","Copy- Paper supply","Tray 1 button",null,null,null,null,"",null,{"$f":"IF(ISERROR((H57-I57)/I57), N/A, (H57-I57)/I57)","v":{"$error":"#NAME?"}}]
[null,null,"Average:",{"$f":"IF(ISERROR(AVERAGE(D55:D57)),\"\",AVERAGE(D55:D57))","v":""},{"$f":"IF(ISERROR(AVERAGE(E55:E57)),\"\",AVERAGE(E55:E57))","v":""},null,null,"",{"$f":"IF(ISERROR(AVERAGE(I55:I57)),\"\",AVERAGE(I55:I57))","v":""},{"$f":"IF(ISERROR((H58-I58)/I58), N/A, (H58-I58)/I58)","v":{"$error":"#NAME?"}}]
[]
[]
["On/Off button  -  Results in a enablement of feature.  "]
["Feature, Tab, Button","Start Path","Action","Transition\nStart","Time in Seconds","Time in Seconds","Time in Seconds","Average",null,"Delta"]
["button ","Copy ","Collation",null,null,null,null,{"$f":"IF(ISERROR(AVERAGE(E63:G63)),\"\",AVERAGE(E63:G63))","v":""},null,{"$f":"IF(ISERROR((H63-I63)/I63), N/A, (H63-I63)/I63)","v":{"$error":"#NAME?"}}]
["button ","Email","Remove blank pages",null,null,null,null,"",null,{"$f":"IF(ISERROR((H64-I64)/I64), N/A, (H64-I64)/I64)","v":{"$error":"#NAME?"}}]
["button ","ID Copy ","Automatic background suppression",null,null,null,null,"",null,{"$f":"IF(ISERROR((H65-I65)/I65), N/A, (H65-I65)/I65)","v":{"$error":"#NAME?"}}]
[null,null,"Average:",{"$f":"IF(ISERROR(AVERAGE(D63:D65)),\"\",AVERAGE(D63:D65))","v":""},{"$f":"IF(ISERROR(AVERAGE(E63:E65)),\"\",AVERAGE(E63:E65))","v":""},"","","","",{"$f":"IF(ISERROR((H66-I66)/I66), N/A, (H66-I66)/I66)","v":{"$error":"#NAME?"}}]
[]
["Increment Button-  Results in setting a job parameter.  "]
["Feature, Tab, Button","Start Path","Action","Transition\nStart","Time in Seconds","Time in Seconds","Time in Seconds","Average",null,"Delta"]
["button ","Copy ","Quantity",null,null,null,null,{"$f":"IF(ISERROR(AVERAGE(E70:G70)),\"\",AVERAGE(E70:G70))","v":""},null,{"$f":"IF(ISERROR((H70-I70)/I70), N/A, (H70-I70)/I70)","v":{"$error":"#NAME?"}}]
["button ","ID Copy ","Quantity",null,null,null,null,"",null,{"$f":"IF(ISERROR((H71-I71)/I71), N/A, (H71-I71)/I71)","v":{"$error":"#NAME?"}}]
["button ","USB -> Print From USB","Quantity",null,null,null,null,"",null,{"$f":"IF(ISERROR((H72-I72)/I72), N/A, (H72-I72)/I72)","v":{"$error":"#NAME?"}}]
[null,null,"Average:",{"$f":"IF(ISERROR(AVERAGE(D70:D72)),\"\",AVERAGE(D70:D72))","v":""},"","","","","",{"$f":"IF(ISERROR((H73-I73)/I73), N/A, (H73-I73)/I73)","v":{"$error":"#NAME?"}}]
[]
["Slider Button -  Results in a setting a job parameter.  "]
["Feature, Tab, Button","Start Path","Action","Transition\nStart","Time in Seconds","Time in Seconds","Time in Seconds","Average",null,"Delta"]
["button ","Copy ","Lighten / Darken  (-3)",null,null,null,null,{"$f":"IF(ISERROR(AVERAGE(E77:G77)),\"\",AVERAGE(E77:G77))","v":""},null,{"$f":"IF(ISERROR((H77-I77)/I77), N/A, (H77-I77)/I77)","v":{"$error":"#NAME?"}}]
["button ","Email","Lighten / Darken  (-3)",null,null,null,null,"",null,{"$f":"IF(ISERROR((H78-I78)/I78), N/A, (H78-I78)/I78)","v":{"$error":"#NAME?"}}]
["button ","ID Copy","Lighten / Darken  (-3)",null,null,null,null,"",null,{"$f":"IF(ISERROR((H79-I79)/I79), N/A, (H79-I79)/I79)","v":{"$error":"#NAME?"}}]
[null,null,"Average:",{"$f":"IF(ISERROR(AVERAGE(D77:D79)),\"\",AVERAGE(D77:D79))","v":""},{"$f":"IF(ISERROR(AVERAGE(E77:E79)),\"\",AVERAGE(E77:E79))","v":""},{"$f":"IF(ISERROR(AVERAGE(F77:F79)),\"\",AVERAGE(F77:F79))","v":""},"","","",{"$f":"IF(ISERROR((H80-I80)/I80), N/A, (H80-I80)/I80)","v":{"$error":"#NAME?"}}]
[]
["Reset Button -  Results in a setting default job parameters.  \nCopy - Quantity , Reduce/Emlarge , 2-sided , collation , Lighten/darken, sharpness\nEmail-  2-sided , output color , Lighten/darken, sharpness\nUSB (Print From USB) - 2-sided , collation, quantity"]
["Feature, Tab, Button","Start Path","Action","Transition\nStart","Time in Seconds","Time in Seconds","Time in Seconds","Average",null,"Delta"]
["button ","Copy ","Reset",null,null,null,null,{"$f":"IF(ISERROR(AVERAGE(E84:G84)),\"\",AVERAGE(E84:G84))","v":""},null,{"$f":"IF(ISERROR((H84-I84)/I84), N/A, (H84-I84)/I84)","v":{"$error":"#NAME?"}}]
["button ","Email","Reset",null,null,null,null,"",null,{"$f":"IF(ISERROR((H85-I85)/I85), N/A, (H85-I85)/I85)","v":{"$error":"#NAME?"}}]
["button ","Scan To","Reset",null,null,null,null,"",null,{"$f":"IF(ISERROR((H86-I86)/I86), N/A, (H86-I86)/I86)","v":{"$error":"#NAME?"}}]
[null,null,"Average:",{"$f":"IF(ISERROR(AVERAGE(D84:D86)),\"\",AVERAGE(D84:D86))","v":""},{"$f":"IF(ISERROR(AVERAGE(E84:E86)),\"\",AVERAGE(E84:E86))","v":""},{"$f":"IF(ISERROR(AVERAGE(F83:F86)),\"\",AVERAGE(F83:F86))","v":""},{"$f":"IF(ISERROR(AVERAGE(G83:G86)),\"\",AVERAGE(G83:G86))","v":""},{"$f":"IF(ISERROR(AVERAGE(E87:G87)),\"\",AVERAGE(E87:G87))","v":""},{"$f":"IF(ISERROR(AVERAGE(I83:I86)),\"\",AVERAGE(I83:I86))","v":""},{"$f":"IF(ISERROR((H87-I87)/I87), N/A, (H87-I87)/I87)","v":{"$error":"#NAME?"}}]
[]
[]
["Pop-up -  Results in a pop-up to set a job parameter.  "]
["Feature, Tab, Button","Start Path","Action","Transition\nStart","Time in Seconds","Time in Seconds","Time in Seconds","Average",null,"Delta"]
["Pop-up","Copy - Page Layout","Page per side-Original orient button  ",null,null,null,null,{"$f":"IF(ISERROR(AVERAGE(E92:G92)),\"\",AVERAGE(E92:G92))","v":""},null,{"$f":"IF(ISERROR((H92-I92)/I92), N/A, (H92-I92)/I92)","v":{"$error":"#NAME?"}}]
["Pop-up","Email-original type","Photo",null,null,null,null,"",null,{"$f":"IF(ISERROR((H93-I93)/I93), N/A, (H93-I93)/I93)","v":{"$error":"#NAME?"}}]
["Pop-up","Scan-TO ","Add Destination",null,null,null,null,"",null,{"$f":"IF(ISERROR((H94-I94)/I94), N/A, (H94-I94)/I94)","v":{"$error":"#NAME?"}}]
["Pop-up","Email","Message",null,null,null,null,"",null,{"$f":"IF(ISERROR((H95-I95)/I95), N/A, (H95-I95)/I95)","v":{"$error":"#NAME?"}}]
[null,null,"Average:",{"$f":"IF(ISERROR(AVERAGE(D92:D95)),\"\",AVERAGE(D92:D95))","v":""},{"$f":"IF(ISERROR(AVERAGE(E92:E95)),\"\",AVERAGE(E92:E95))","v":""},null,null,{"$f":"IF(ISERROR(AVERAGE(E96:G96)),\"\",AVERAGE(E96:G96))","v":""},{"$f":"IF(ISERROR(AVERAGE(I92:I95)),\"\",AVERAGE(I92:I95))","v":""},{"$f":"IF(ISERROR((H96-I96)/I96), N/A, (H96-I96)/I96)","v":{"$error":"#NAME?"}}]
[]
[]
["Pop-over -  Results in a pop-up to set a job parameter.  ",null,null,"Transition\nStart","Time in Seconds","Time in Seconds","Time in Seconds","Average",null,"Delta"]
[null,"Scan To","Output color button",null,null,null,null,{"$f":"IF(ISERROR(AVERAGE(E100:G100)),\"\",AVERAGE(E100:G100))","v":""},null,{"$f":"IF(ISERROR((H100-I100)/I100), N/A, (H100-I100)/I100)","v":{"$error":"#NAME?"}}]
[null,"Copy","Paper supply",null,null,null,null,"",null,{"$f":"IF(ISERROR((H101-I101)/I101), N/A, (H101-I101)/I101)","v":{"$error":"#NAME?"}}]
[null,"ID Card Copy","Original Type",null,null,null,null,"",null,{"$f":"IF(ISERROR((H102-I102)/I102), N/A, (H102-I102)/I102)","v":{"$error":"#NAME?"}}]
[null,null,"Average:",{"$f":"IF(ISERROR(AVERAGE(D100:D102)),\"\",AVERAGE(D100:D102))","v":""},{"$f":"IF(ISERROR(AVERAGE(E100:E102)),\"\",AVERAGE(E100:E102))","v":""},{"$f":"IF(ISERROR(AVERAGE(F100:F102)),\"\",AVERAGE(F100:F102))","v":""},"","","",{"$f":"IF(ISERROR((H103-I103)/I103), N/A, (H103-I103)/I103)","v":{"$error":"#NAME?"}}]
[]
[]
["Key board- A button which opens a window size keyboard"]
["Feature, Tab, Button","Start Path","Action","Transition\nStart","Time in Seconds","Time in Seconds","Time in Seconds","Average",null,"Delta"]
["KB","Services Home","Guest",null,null,null,null,{"$f":"IF(ISERROR(AVERAGE(E108:G108)),\"\",AVERAGE(E108:G108))","v":""},null,{"$f":"IF(ISERROR((H108-I108)/I108), N/A, (H108-I108)/I108)","v":{"$error":"#NAME?"}}]
["KB","Email","Manual Entry",null,null,null,null,{"$f":"IF(ISERROR(AVERAGE(E109:G109)),\"\",AVERAGE(E109:G109))","v":""},null,{"$f":"IF(ISERROR((H109-I109)/I109), N/A, (H109-I109)/I109)","v":{"$error":"#NAME?"}}]
["KB","Fax","Manual Entry",null,null,null,null,{"$f":"IF(ISERROR(AVERAGE(E110:G110)),\"\",AVERAGE(E110:G110))","v":""},null,{"$f":"IF(ISERROR((H110-I110)/I110), N/A, (H110-I110)/I110)","v":{"$error":"#NAME?"}}]
["KB","Internet Fax","Manual Entry",null,null,null,null,"",null,{"$f":"IF(ISERROR((H111-I111)/I111), N/A, (H111-I111)/I111)","v":{"$error":"#NAME?"}},"Not applicable for Nextwave 1.0"]
["KB","email/DAB","Search",null,null,null,null,{"$f":"IF(ISERROR(AVERAGE(E112:G112)),\"\",AVERAGE(E112:G112))","v":""},null,{"$f":"IF(ISERROR((H112-I112)/I112), N/A, (H112-I112)/I112)","v":{"$error":"#NAME?"}}]
["While Device is printing 36 page tax.ps job","Services Home","Guest",null,null,null,null,"",null,{"$f":"IF(ISERROR((H113-I113)/I113), N/A, (H113-I113)/I113)","v":{"$error":"#NAME?"}}]
[]
["Machine status"]
["Feature, Tab, Button","Start Path","Action","Transition\nStart","Time in Seconds","Time in Seconds","Time in Seconds","Average",null,"Delta"]
["Status","Device","Supplies page",null,null,null,null,{"$f":"IF(ISERROR(AVERAGE(E117:G117)),\"\",AVERAGE(E117:G117))","v":""},null,{"$f":"IF(ISERROR((H117-I117)/I117), N/A, (H117-I117)/I117)","v":{"$error":"#NAME?"}}]
["While Device is printing 36 page tax.ps job","Device","Supplies page",null,null,null,null,"",null,{"$f":"IF(ISERROR((H118-I118)/I118), N/A, (H118-I118)/I118)","v":{"$error":"#NAME?"}}]
[]
["Email- Device Address Book"]
["Replace the DAB with the 50_users.csv file"]
["Feature, Tab, Button","Start Path","Action","Transition\nStart","Time in Seconds","Time in Seconds","Time in Seconds","Average",null,"Delta"]
["DAB","Email ","click on the DAB ",null,null,null,null,{"$f":"IF(ISERROR(AVERAGE(E123:G123)),\"\",AVERAGE(E123:G123))","v":""},null,{"$f":"IF(ISERROR((H123-I123)/I123), N/A, (H123-I123)/I123)","v":{"$error":"#NAME?"}}]
[]
["Email- Device Address Book"]
["Replace the DAB with the 500 users.csv file"]
["Feature, Tab, Button","Start Path","Action","Transition\nStart","Time in Seconds","Time in Seconds","Time in Seconds","Average",null,"Delta"]
["DAB","Email ","click on the DAB ",null,null,null,null,{"$f":"IF(ISERROR(AVERAGE(E128:G128)),\"\",AVERAGE(E128:G128))","v":""},null,{"$f":"IF(ISERROR((H128-I128)/I128), N/A, (H128-I128)/I128)","v":{"$error":"#NAME?"}}]
[null,null,"Average:",null,null,null,null,""]
[]
["Replace the DAB with the 5000 users.csv file (Not applicable for Nextwave Products)"]
["Feature, Tab, Button","Start Path","Action","Transition\nStart","Time in Seconds","Time in Seconds","Time in Seconds","Average",null,"Delta"]
["DAB","Email ","click on the DAB ",null,null,null,null,null,null,{"$f":"IF(ISERROR((H133-I133)/I133), N/A, (H133-I133)/I133)","v":{"$error":"#NAME?"}}]
[null,null,"Average:",null,{"$f":"IF(ISERROR(AVERAGE(E133:E133)),\"\",AVERAGE(E133:E133))","v":""},{"$f":"IF(ISERROR(AVERAGE(F133:F133)),\"\",AVERAGE(F133:F133))","v":""},{"$f":"IF(ISERROR(AVERAGE(G133:G133)),\"\",AVERAGE(G133:G133))","v":""},{"$f":"IF(ISERROR(AVERAGE(E134:G134)),\"\",AVERAGE(E134:G134))","v":""}]
[]
["Replace the DAB with the 1group100emails.csv file"]
["Feature, Tab, Button","Start Path","Action","Transition\nStart","Time in Seconds","Time in Seconds","Time in Seconds","Average",null,"Delta"]
["DAB","Email ","Add Group contact",null,null,null,null,{"$f":"IF(ISERROR(AVERAGE(E138:G138)),\"\",AVERAGE(E138:G138))","v":""},null,{"$f":"IF(ISERROR((H138-I138)/I138), N/A, (H138-I138)/I138)","v":{"$error":"#NAME?"}}]
[null,null,"Average:",null,{"$f":"IF(ISERROR(AVERAGE(E138:E138)),\"\",AVERAGE(E138:E138))","v":""},{"$f":"IF(ISERROR(AVERAGE(F138:F138)),\"\",AVERAGE(F138:F138))","v":""},{"$f":"IF(ISERROR(AVERAGE(G138:G138)),\"\",AVERAGE(G138:G138))","v":""},""]
[]
["Manual contact "]
["Feature, Tab, Button","Start Path","Action","Transition\nStart","Time in Seconds","Time in Seconds","Time in Seconds","Average",null,"Delta"]
["DAB","Email ","Add Manual contact",null,null,null,null,{"$f":"IF(ISERROR(AVERAGE(E143:G143)),\"\",AVERAGE(E143:G143))","v":""},null,{"$f":"IF(ISERROR((H143-I143)/I143), N/A, (H143-I143)/I143)","v":{"$error":"#NAME?"}}]
[null,null,"Average:",null,null,null,null,""]
[]
["Replace the DAB file with 100 favorites"]
["Feature, Tab, Button","Start Path","Action","Transition\nStart","Time in Seconds","Time in Seconds","Time in Seconds","Average",null,"Delta"]
["DAB->Favorites","Email ","Favourites -Scroll the UI until the 100th contact and add contact",null,null,null,null,{"$f":"IF(ISERROR(AVERAGE(E148:G148)),\"\",AVERAGE(E148:G148))","v":""},null,{"$f":"IF(ISERROR((H148-I148)/I148), N/A, (H148-I148)/I148)","v":{"$error":"#NAME?"}}]
[]
[]
["Print from USB"]
["Feature, Tab, Button","Start Path","Action","Transition\nStart","Time in Seconds","Time in Seconds","Time in Seconds","Average",null,"Delta"]
[null,"USB (need to have USB inserted first)","Print from USB",null,null,null,null,{"$f":"IF(ISERROR(AVERAGE(E153:G153)),\"\",AVERAGE(E153:G153))","v":""},null,{"$f":"IF(ISERROR((H153-I153)/I153), N/A, (H153-I153)/I153)","v":{"$error":"#NAME?"}}]
[null,"Insert USB  - All services","USB Screen",null,null,null,null,"",null,{"$f":"IF(ISERROR((H154-I154)/I154), N/A, (H154-I154)/I154)","v":{"$error":"#NAME?"}}]
[null,"Print from USB","Job Folder-10 jobs in folder",null,null,null,null,"",null,{"$f":"IF(ISERROR((H155-I155)/I155), N/A, (H155-I155)/I155)","v":{"$error":"#NAME?"}}]
[null,null,"Average:",{"$f":"IF(ISERROR(AVERAGE(D153:D155)),\"\",AVERAGE(D153:D155))","v":""},{"$f":"IF(ISERROR(AVERAGE(E153:E155)),\"\",AVERAGE(E153:E155))","v":""},{"$f":"IF(ISERROR(AVERAGE(F153:F155)),\"\",AVERAGE(F153:F155))","v":""},"","","",{"$f":"IF(ISERROR((H156-I156)/I156), N/A, (H156-I156)/I156)","v":{"$error":"#NAME?"}}]
[]
[]
["Job Status- Submit 5 jobs on paper size not loaded in device, and enter 5 secure print jobs logged in as admin. "]
["Feature, Tab, Button","Start Path","Action","Transition\nStart","Time in Seconds","Time in Seconds","Time in Seconds","Average",null,"Delta"]
[null,"Services Home(5 jobs held)","Job status-active jobs",null,null,null,null,{"$f":"IF(ISERROR(AVERAGE(E161:G161)),\"\",AVERAGE(E161:G161))","v":""},null,{"$f":"IF(ISERROR((H161-I161)/I161), N/A, (H161-I161)/I161)","v":{"$error":"#NAME?"}}]
[null,"Active jobs-select job 3","Required resources",null,null,null,null,"",null,{"$f":"IF(ISERROR((H162-I162)/I162), N/A, (H162-I162)/I162)","v":{"$error":"#NAME?"}}]
[null,"Active jobs-select job 4-delete","Delete job confirmation",null,null,null,null,"",null,{"$f":"IF(ISERROR((H163-I163)/I163), N/A, (H163-I163)/I163)","v":{"$error":"#NAME?"}}]
[null,"Active jobs","Completed jobs tab",null,null,null,null,"",null,{"$f":"IF(ISERROR((H164-I164)/I164), N/A, (H164-I164)/I164)","v":{"$error":"#NAME?"}}]
[null,"Completed jobs page3","Completed jobs page4",null,null,null,null,"",null,{"$f":"IF(ISERROR((H165-I165)/I165), N/A, (H165-I165)/I165)","v":{"$error":"#NAME?"}}]
[null,null,"Average:",{"$f":"IF(ISERROR(AVERAGE(D161:D165)),\"\",AVERAGE(D161:D165))","v":""},{"$f":"IF(ISERROR(AVERAGE(E161:E165)),\"\",AVERAGE(E161:E165))","v":""},{"$f":"IF(ISERROR(AVERAGE(F161:F165)),\"\",AVERAGE(F161:F165))","v":""},{"$f":"IF(ISERROR(AVERAGE(G161:G165)),\"\",AVERAGE(G161:G165))","v":""},"",{"$f":"IF(ISERROR(AVERAGE(I161:I165)),\"\",AVERAGE(I161:I165))","v":""},{"$f":"IF(ISERROR((H166-I166)/I166), N/A, (H166-I166)/I166)","v":{"$error":"#NAME?"}}]
[]
["Submit 5 Secure jobs "]
["Secure Print"]
["Feature, Tab, Button","Start Path","Action","Transition\nStart","Time in Seconds","Time in Seconds","Time in Seconds","Average",null,"Delta"]
[null,"Services Home, login as the job owner","Job status-My Secure jobs",null,null,null,null,{"$f":"IF(ISERROR(AVERAGE(E171:G171)),\"\",AVERAGE(E171:G171))","v":""},null,{"$f":"IF(ISERROR((H171-I171)/I171), N/A, (H171-I171)/I171)","v":{"$error":"#NAME?"}}]
[null,"Secure Print jobs-select job","Details",null,null,null,null,"",null,{"$f":"IF(ISERROR((H172-I172)/I172), N/A, (H172-I172)/I172)","v":{"$error":"#NAME?"}},"Not applicable to Nextwave"]
[null,"(Guest) SP jobs, Admin folder","Enter passcode for jobs in folder-OK",null,null,null,null,"",null,{"$f":"IF(ISERROR((H173-I173)/I173), N/A, (H173-I173)/I173)","v":{"$error":"#NAME?"}}]
[null,"Secure print jobs tab","Delete all",null,null,null,null,"",null,{"$f":"IF(ISERROR((H174-I174)/I174), N/A, (H174-I174)/I174)","v":{"$error":"#NAME?"}}]
[null,null,"Average:",{"$f":"IF(ISERROR(AVERAGE(D171:D174)),\"\",AVERAGE(D171:D174))","v":""},{"$f":"IF(ISERROR(AVERAGE(E171:E174)),\"\",AVERAGE(E171:E174))","v":""},{"$f":"IF(ISERROR(AVERAGE(F171:F172)),\"\",AVERAGE(F171:F172))","v":""},{"$f":"IF(ISERROR(AVERAGE(G171:G172)),\"\",AVERAGE(G171:G172))","v":""},"",{"$f":"IF(ISERROR(AVERAGE(I171:I174)),\"\",AVERAGE(I171:I174))","v":""},{"$f":"IF(ISERROR((H175-I175)/I175), N/A, (H175-I175)/I175)","v":{"$error":"#NAME?"}}]
[]
["Submit 5 Secure jobs "]
["Secure Print"]
["Feature, Tab, Button","Start Path","Action","Transition\nStart","Time in Seconds","Time in Seconds","Time in Seconds","Average",null,"Delta"]
["When Deviceis Printing\n36 page \"tax.ps\" job","Services Home, login as the job owner","Job status-My Secure jobs",null,null,null,null,{"$f":"IF(ISERROR(AVERAGE(E180:G180)),\"\",AVERAGE(E180:G180))","v":""},null,{"$f":"IF(ISERROR((H180-I180)/I180), N/A, (H180-I180)/I180)","v":{"$error":"#NAME?"}}]
[null,"Secure Print jobs-select job","Details",null,null,null,null,"",null,{"$f":"IF(ISERROR((H181-I181)/I181), N/A, (H181-I181)/I181)","v":{"$error":"#NAME?"}},"Not applicable to Nextwave"]
[null,"(Guest) SP jobs, Admin folder","Enter passcode for jobs in folder-OK",null,null,null,null,"",null,{"$f":"IF(ISERROR((H182-I182)/I182), N/A, (H182-I182)/I182)","v":{"$error":"#NAME?"}}]
[null,"Secure print jobs tab","Delete all",null,null,null,null,"",null,{"$f":"IF(ISERROR((H183-I183)/I183), N/A, (H183-I183)/I183)","v":{"$error":"#NAME?"}}]
[null,null,"Average:",{"$f":"IF(ISERROR(AVERAGE(D180:D183)),\"\",AVERAGE(D180:D183))","v":""},{"$f":"IF(ISERROR(AVERAGE(E180:E183)),\"\",AVERAGE(E180:E183))","v":""},{"$f":"IF(ISERROR(AVERAGE(F180:F181)),\"\",AVERAGE(F180:F181))","v":""},{"$f":"IF(ISERROR(AVERAGE(G180:G181)),\"\",AVERAGE(G180:G181))","v":""},"",{"$f":"IF(ISERROR(AVERAGE(I180:I183)),\"\",AVERAGE(I180:I183))","v":""},{"$f":"IF(ISERROR((H184-I184)/I184), N/A, (H184-I184)/I184)","v":{"$error":"#NAME?"}}]

{"sheet":"WIFI","index":15,"n_rows":114,"n_cols":30,"rows_kept":114,"cut":false,"hidden":true,"merged":[[34,21,34,22],[28,16,28,18],[29,16,29,18],[30,16,30,18],[31,16,31,18],[33,21,33,22],[24,16,24,17],[24,18,24,19],[24,20,24,22],[26,16,26,18],[27,16,27,18],[22,16,22,17],[22,18,22,19],[22,20,22,22],[23,16,23,17],[23,18,23,19],[23,20,23,22],[29,0,29,2],[30,0,30,2],[31,0,31,2],[33,5,33,6],[34,5,34,6],[22,0,22,1],[22,2,22,3],[22,4,22,6],[26,0,26,2],[27,0,27,2],[28,0,28,2],[23,0,23,1],[23,2,23,3],[23,4,23,6],[24,0,24,1],[24,2,24,3],[24,4,24,6],[15,17,15,23],[16,17,16,23],[20,0,20,7],[21,0,21,7],[15,1,15,7],[16,1,16,7],[20,16,20,23],[21,16,21,23]]}
["WI-FI Test (Default Paper Input Tray)",null,null,null,null,null,null,null,null,null,null,null,null,null,null,null,"WI-FI Test (Default Paper Input Tray)"]
[{"$f":"'Test Info'!A1:G1","v":"Samudra MFP High B0"},null,null,null,null,null,null,null,null,null,null,null,null,null,null,null,{"$f":"'Test Info'!B4","v":"Samudra Low MFP"}]
["Default Driver",null,"Enter ",null,null,null,null,null,null,null,null,null,null,null,null,null,"Default Driver",null,"Enter "]
["Alternative Driver",null,"Enter",null,null,null,null,null,null,null,null,null,null,null,null,null,"Alternative Driver",null,"Enter"]
[]
["Note: Both Color & Mono jobs need to be printed on Mono device.",null,null,null,null,null,null,null,null,null,null,null,null,null,null,null,"Note: Both Color & Mono jobs need to be printed on Mono device."]
[]
["Wi-Fi Print Job: No Banner, Regular Submission - Test Device",null,null,null,null,null,null,null,null,null,null,null,null,null,null,null,"Wi-Fi Print Job: No Banner, Regular Submission - Benchmark Device"]
[null,"Driver","Mode","Job Type","Application","Size","Side","File","Pages Printed","FPOT Measured\nin Seconds","C-C  Measured\nin Seconds","2-N PPM Calculated","2-N % Rated Speed Calculated","C-C % Rated Speed Calculated",null,null,null,"Driver","Mode","Job Type","Application","Size","Side","File","Pages Printed","FPOT Measured\nin Seconds","C-C  Measured\nin Seconds","2-N PPM Calculated","2-N % Rated Speed Calculated","C-C % Rated Speed Calculated"]
["Case 2","Default","Color","Graphic","Excel","Letter","Simplex","Rainfall",7,null,null,{"$f":"IF(OR(K10=\"NA\", K10=\"FAILED\"), K10, (IF(ISERROR((I10-1)/(K10-J10)*60), \"\", (I10-1)/(K10-J10)*60)))","v":""},{"$f":"IF(OR(K10=\"NA\", K10=\"FAILED\"), K10, (IF(ISERROR(L10/'Test Info'!$I$6*100), \"\", L10/'Test Info'!$I$6*100)))","v":""},{"$f":"IF(OR(K10=\"NA\", K10=\"FAILED\"), K10, (IF(ISERROR(I10/K10/'Test Info'!$I$6*6000), \"\", I10/K10/'Test Info'!$I$6*6000)))","v":""},null,null,"Case 2","Default","Color","Graphic","Excel","Letter","Simplex","Rainfall",7,null,null,{"$f":"IF(OR(AA10=\"NA\", AA10=\"FAILED\"), AA10, (IF(ISERROR((Y10-1)/(AA10-Z10)*60), \"\", (Y10-1)/(AA10-Z10)*60)))","v":""},{"$f":"IF(OR(AA10=\"NA\", AA10=\"FAILED\"), AA10, (IF(ISERROR(AB10/'Test Info'!$I$6*100), \"\", AB10/'Test Info'!$I$6*100)))","v":""},{"$f":"IF(OR(AA10=\"NA\", AA10=\"FAILED\"), AA10, (IF(ISERROR(Y10/AA10/'Test Info'!$I$6*6000), \"\", Y10/AA10/'Test Info'!$I$6*6000)))","v":""}]
["Case 6","Default","Color","Stress","Photoshop","Letter","Simplex","Turtle Island",1,null,null,"",{"$f":"IF(OR(K11=\"NA\", K11=\"FAILED\"), K11, (IF(ISERROR(L11/'Test Info'!$I$6*100), \"\", L11/'Test Info'!$I$6*100)))","v":""},{"$f":"IF(OR(K11=\"NA\", K11=\"FAILED\"), K11, (IF(ISERROR(I11/K11/'Test Info'!$I$6*6000), \"\", I11/K11/'Test Info'!$I$6*6000)))","v":""},null,null,"Case 6","Default","Color","Stress","Photoshop","Letter","Simplex","Turtle Island",1,null,null,"",{"$f":"IF(OR(AA11=\"NA\", AA11=\"FAILED\"), AA11, (IF(ISERROR(AB11/'Test Info'!$I$6*100), \"\", AB11/'Test Info'!$I$6*100)))","v":""},{"$f":"IF(OR(AA11=\"NA\", AA11=\"FAILED\"), AA11, (IF(ISERROR(Y11/AA11/'Test Info'!$I$6*6000), \"\", Y11/AA11/'Test Info'!$I$6*6000)))","v":""}]
["Case 10","Default","Mono","Office","Word","Letter","Duplex","Mountains",13,null,null,"",{"$f":"IF(OR(K12=\"NA\", K12=\"FAILED\"), K12, (IF(ISERROR(L12/'Test Info'!$I$6*100), \"\", L12/'Test Info'!$I$6*100)))","v":""},{"$f":"IF(OR(K12=\"NA\", K12=\"FAILED\"), K12, (IF(ISERROR(I12/K12/'Test Info'!$I$6*6000), \"\", I12/K12/'Test Info'!$I$6*6000)))","v":""},null,null,"Case 10","Default","Mono","Office","Word","Letter","Duplex","Mountains",13,null,null,"",{"$f":"IF(OR(AA12=\"NA\", AA12=\"FAILED\"), AA12, (IF(ISERROR(AB12/'Test Info'!$I$6*100), \"\", AB12/'Test Info'!$I$6*100)))","v":""},{"$f":"IF(OR(AA12=\"NA\", AA12=\"FAILED\"), AA12, (IF(ISERROR(Y12/AA12/'Test Info'!$I$6*6000), \"\", Y12/AA12/'Test Info'!$I$6*6000)))","v":""}]
["Case 15","Alternative","Color","Graphic","Acrobat","Letter","Simplex","Outcast",12,null,null,"",{"$f":"IF(OR(K13=\"NA\", K13=\"FAILED\"), K13, (IF(ISERROR(L13/'Test Info'!$I$6*100), \"\", L13/'Test Info'!$I$6*100)))","v":""},{"$f":"IF(OR(K13=\"NA\", K13=\"FAILED\"), K13, (IF(ISERROR(I13/K13/'Test Info'!$I$6*6000), \"\", I13/K13/'Test Info'!$I$6*6000)))","v":""},null,null,"Case 15","Alternative","Color","Graphic","Acrobat","Letter","Simplex","Outcast",12,null,null,"",{"$f":"IF(OR(AA13=\"NA\", AA13=\"FAILED\"), AA13, (IF(ISERROR(AB13/'Test Info'!$I$6*100), \"\", AB13/'Test Info'!$I$6*100)))","v":""},{"$f":"IF(OR(AA13=\"NA\", AA13=\"FAILED\"), AA13, (IF(ISERROR(Y13/AA13/'Test Info'!$I$6*6000), \"\", Y13/AA13/'Test Info'!$I$6*6000)))","v":""}]
["Case 23","Default","Color","Office","Powerpoint","A4","Simplex","Jewelry",12,null,null,"",{"$f":"IF(OR(K14=\"NA\", K14=\"FAILED\"), K14, (IF(ISERROR(L14/'Test Info'!$I$6*100), \"\", L14/'Test Info'!$I$6*100)))","v":""},{"$f":"IF(OR(K14=\"NA\", K14=\"FAILED\"), K14, (IF(ISERROR(I14/K14/'Test Info'!$I$6*6000), \"\", I14/K14/'Test Info'!$I$6*6000)))","v":""},null,null,"Case 23","Default","Color","Office","Powerpoint","A4","Simplex","Jewelry",12,null,null,"",{"$f":"IF(OR(AA14=\"NA\", AA14=\"FAILED\"), AA14, (IF(ISERROR(AB14/'Test Info'!$I$6*100), \"\", AB14/'Test Info'!$I$6*100)))","v":""},{"$f":"IF(OR(AA14=\"NA\", AA14=\"FAILED\"), AA14, (IF(ISERROR(Y14/AA14/'Test Info'!$I$6*6000), \"\", Y14/AA14/'Test Info'!$I$6*6000)))","v":""}]
["Case 24","Default","Color","Office","Chrome","Legal","Simplex","Classifieds-14",13,null,null,"",{"$f":"IF(OR(K15=\"NA\", K15=\"FAILED\"), K15, (IF(ISERROR(L15/'Test Info'!$I$6*100), \"\", L15/'Test Info'!$I$6*100)))","v":""},{"$f":"IF(OR(K15=\"NA\", K15=\"FAILED\"), K15, (IF(ISERROR(I15/K15/'Test Info'!$I$6*6000), \"\", I15/K15/'Test Info'!$I$6*6000)))","v":""},null,null,"Case 24","Default","Color","Office","Chrome","Legal","Simplex","Classifieds-14",13,null,null,"",{"$f":"IF(OR(AA15=\"NA\", AA15=\"FAILED\"), AA15, (IF(ISERROR(AB15/'Test Info'!$I$6*100), \"\", AB15/'Test Info'!$I$6*100)))","v":""},{"$f":"IF(OR(AA15=\"NA\", AA15=\"FAILED\"), AA15, (IF(ISERROR(Y15/AA15/'Test Info'!$I$6*6000), \"\", Y15/AA15/'Test Info'!$I$6*6000)))","v":""}]
[" ","Wireless Average",null,null,null,null,null,null,{"$f":"AVERAGE(I10:I15)","v":9.6666666666666661},{"$f":"IF(ISERROR(AVERAGE(J10:J15)),\"\",AVERAGE(J10:J15))","v":""},{"$f":"IF(ISERROR(AVERAGE(K10:K15)),\"\",AVERAGE(K10:K15))","v":""},{"$f":"IF(ISERROR(AVERAGE(L10, L12:L15)),\"\",AVERAGE(L10, L12:L15))","v":""},{"$f":"IF(ISERROR(AVERAGE(M10, M12:M15)),\"\",AVERAGE(M10, M12:M15))","v":""},"",null,null," ","Wireless Average",null,null,null,null,null,null,{"$f":"AVERAGE(Y10:Y15)","v":9.6666666666666661},{"$f":"IF(ISERROR(AVERAGE(Z10:Z15)),\"\",AVERAGE(Z10:Z15))","v":""},{"$f":"IF(ISERROR(AVERAGE(AA10:AA15)),\"\",AVERAGE(AA10:AA15))","v":""},{"$f":"IF(ISERROR(AVERAGE(AB10, AB12:AB15)),\"\",AVERAGE(AB10, AB12:AB15))","v":""},{"$f":"IF(ISERROR(AVERAGE(AC10, AC12:AC15)),\"\",AVERAGE(AC10, AC12:AC15))","v":""},{"$f":"IF(ISERROR(AVERAGE(AD10, AD12:AD15)),\"\",AVERAGE(AD10, AD12:AD15))","v":""}]
[null,"Wired Average",null,null,null,null,null,null,{"$f":"I16","v":9.6666666666666661},{"$f":"IF(ISERROR(AVERAGE('Print To Default Tray Subset'!L11,'Print To Default Tray Subset'!L15,'Print To Default Tray Subset'!L19,'Print To Default Tray Subset'!L24,'Print To Default Tray Subset'!L32,'Print To Default Tray Subset'!L33)), \"\",AVERAGE('Print To Default Tray Subset'!L11,'Print To Default Tray Subset'!L15,'Print To Default Tray Subset'!L19,'Print To Default Tray Subset'!L24,'Print To Default Tray Subset'!L32,'Print To Default Tray Subset'!L33))","v":""},{"$f":"IF(ISERROR(AVERAGE('Print To Default Tray Subset'!M11,'Print To Default Tray Subset'!M15,'Print To Default Tray Subset'!M19,'Print To Default Tray Subset'!M24,'Print To Default Tray Subset'!M32,'Print To Default Tray Subset'!M33)), \"\",AVERAGE('Print To Default Tray Subset'!M11,'Print To Default Tray Subset'!M15,'Print To Default Tray Subset'!M19,'Print To Default Tray Subset'!M24,'Print To Default Tray Subset'!M32,'Print To Default Tray Subset'!M33))","v":""},{"$f":"IF(ISERROR(AVERAGE('Print To Default Tray Subset'!N11,'Print To Default Tray Subset'!N19,'Print To Default Tray Subset'!N24,'Print To Default Tray Subset'!N32,'Print To Default Tray Subset'!N33)),\"\",AVERAGE('Print To Default Tray Subset'!N11,'Print To Default Tray Subset'!N19,'Print To Default Tray Subset'!N24,'Print To Default Tray Subset'!N32,'Print To Default Tray Subset'!N33))","v":""},{"$f":"IF(ISERROR(AVERAGE('Print To Default Tray Subset'!O11,'Print To Default Tray Subset'!O19,'Print To Default Tray Subset'!O24,'Print To Default Tray Subset'!O32,'Print To Default Tray Subset'!O33)),\"\",AVERAGE('Print To Default Tray Subset'!O11,'Print To Default Tray Subset'!O19,'Print To Default Tray Subset'!O24,'Print To Default Tray Subset'!O32,'Print To Default Tray Subset'!O33))","v":""},{"$f":"IF(ISERROR(AVERAGE('Print To Default Tray Subset'!P11,'Print To Default Tray Subset'!P19,'Print To Default Tray Subset'!P24,'Print To Default Tray Subset'!P32,'Print To Default Tray Subset'!P33)),\"\",AVERAGE('Print To Default Tray Subset'!P11,'Print To Default Tray Subset'!P19,'Print To Default Tray Subset'!P24,'Print To Default Tray Subset'!P32,'Print To Default Tray Subset'!P33))","v":""},null,null,null,"Wired Average",null,null,null,null,null,null,{"$f":"Y16","v":9.6666666666666661},{"$f":"IF(ISERROR(AVERAGE('Print To Default Tray Subset'!AC11,'Print To Default Tray Subset'!AC15,'Print To Default Tray Subset'!AC19,'Print To Default Tray Subset'!AC24,'Print To Default Tray Subset'!AC32,'Print To Default Tray Subset'!AC33)),\"\",AVERAGE('Print To Default Tray Subset'!AC11,'Print To Default Tray Subset'!AC15,'Print To Default Tray Subset'!AC19,'Print To Default Tray Subset'!AC24,'Print To Default Tray Subset'!AC32,'Print To Default Tray Subset'!AC33))","v":""},{"$f":"IF(ISERROR(AVERAGE('Print To Default Tray Subset'!AD11,'Print To Default Tray Subset'!AD15,'Print To Default Tray Subset'!AD19,'Print To Default Tray Subset'!AD24,'Print To Default Tray Subset'!AD32,'Print To Default Tray Subset'!AD33)),\"\",AVERAGE('Print To Default Tray Subset'!AD11,'Print To Default Tray Subset'!AD15,'Print To Default Tray Subset'!AD19,'Print To Default Tray Subset'!AD24,'Print To Default Tray Subset'!AD32,'Print To Default Tray Subset'!AD33))","v":""},{"$f":"IF(ISERROR(AVERAGE('Print To Default Tray Subset'!AE11,'Print To Default Tray Subset'!AE19,'Print To Default Tray Subset'!AE24,'Print To Default Tray Subset'!AE32,'Print To Default Tray Subset'!AE33)),\"\",AVERAGE('Print To Default Tray Subset'!AE11,'Print To Default Tray Subset'!AE19,'Print To Default Tray Subset'!AE24,'Print To Default Tray Subset'!AE32,'Print To Default Tray Subset'!AE33))","v":""},{"$f":"IF(ISERROR(AVERAGE('Print To Default Tray Subset'!AF11,'Print To Default Tray Subset'!AF19,'Print To Default Tray Subset'!AF24,'Print To Default Tray Subset'!AF32,'Print To Default Tray Subset'!AF33)),\"\",AVERAGE('Print To Default Tray Subset'!AF11,'Print To Default Tray Subset'!AF19,'Print To Default Tray Subset'!AF24,'Print To Default Tray Subset'!AF32,'Print To Default Tray Subset'!AF33))","v":""},{"$f":"IF(ISERROR(AVERAGE('Print To Default Tray Subset'!AG11,'Print To Default Tray Subset'!AG19,'Print To Default Tray Subset'!AG24,'Print To Default Tray Subset'!AG32,'Print To Default Tray Subset'!AG33)),\"\",AVERAGE('Print To Default Tray Subset'!AG11,'Print To Default Tray Subset'!AG19,'Print To Default Tray Subset'!AG24,'Print To Default Tray Subset'!AG32,'Print To Default Tray Subset'!AG33))","v":""}]
[]
["Wi-Fi Scan: FTP to Server - Test Device",null,null,null,null,null,null,null,null,null,null,null,null,null,null,null,"Wi-Fi Scan: FTP to Server - Benchmark Device"]
[]
["SETUP CHECKLIST",null,null,null,null,null,null,null,null,null,null,null,"`",null,null,null,"SETUP CHECKLIST"]
["Device WebUI (Properties > Services > Workflow Scanning)",null,null,null,null,null,null,null,null,null,null,null,null,null,null,null,"Device WebUI (Properties > Services > Workflow Scanning)"]
["Heading",null,"Item",null,"Test Setting",null,null,"x",null,null,null,null,null,null,null,null,"Heading",null,"Item",null,"Test Setting",null,null,"x"]
["General > Settings",null,"Confirmation Sheet",null,"Off",null,null,null,null,null,null,null,null,null,null,null,"General > Settings",null,"Confirmation Sheet",null,"Off"]
["File Repository Setup",null,"Default",null,"[Set to Location of Server]",null,null,null,null,null,null,null,null,null,null,null,"File Repository Setup",null,"Default",null,"[Set to Location of Server]"]
[]
["Mode Resolution Options",null,null,"Resolution","Color Mode Selected for Job","Original","Images","TOTAL time of scan feed and processing - files on server",null,null,null,null,null,null,null,null,"Mode Resolution Options",null,null,"Resolution","Color Mode Selected for Job","Original","Images","TOTAL time of scan feed and processing - files on server"]
["PDF Auto 300 dpi",null,null,300,"Auto","Pscan10",10,null,null,null,null,null,null,null,null,null,"PDF Auto 300 dpi",null,null,300,"Auto","Pscan10",10]
["PDF Mono 200 dpi",null,null,200,"Mono","Pscan10",10,null,null,null,null,null,null,null,null,null,"PDF Mono 200 dpi",null,null,200,"Mono","Pscan10",10]
["Duplex Auto 600 dpi",200,null,600,"Color","Mountain",25,null,null,null,null,null,null,null,null,null,"Duplex Auto 600 dpi",200,null,600,"Color","Mountain",25]
["MTIFF Auto 600 dpi",600,"N Layer MRC",600,"Color","Pscan10",10,null,null,null,null,null,null,null,null,null,"MTIFF Auto 600 dpi",600,"N Layer MRC",600,"Color","Pscan10",10]
["PDF Auto 200 dpi",null,null,200,"Auto","Scan Set 10",10,null,null,null,null,null,null,null,null,null,"PDF Auto 200 dpi",null,null,200,"Auto","Scan Set 10",10]
[]
[null,null,null,null,null,"Scan Wi-Fi average",null,{"$f":"IF(ISERROR(AVERAGE(H28:H32)),\"\",AVERAGE(H28:H32))","v":""},null,null,null,null,null,null,null,null,null,null,null,null,null,"Scan Wi-Fi average",null,{"$f":"IF(ISERROR(AVERAGE(X28:X32)),\"\",AVERAGE(X28:X32))","v":""}]
[null,null,null,null,null,"Scan Wired average",null,{"$f":"IF(ISERROR(AVERAGE(Scan!J19,Scan!J22,Scan!J28,Scan!J56,Scan!J74)),\"\",AVERAGE(Scan!J19,Scan!J22,Scan!J28,Scan!J56,Scan!J74))","v":""},null,null,null,null,null,null,null,null,null,null,null,null,null,"Scan Wired average",null,{"$f":"IF(ISERROR(AVERAGE(Scan!Z19,Scan!Z22,Scan!Z28,Scan!Z56,Scan!Z74)),\"\",AVERAGE(Scan!Z19,Scan!Z22,Scan!Z28,Scan!Z56,Scan!Z74))","v":""}]
[]
["WIFI set up preferred illustration or per program TPM directive."]
[]
[]
[]
[]
[]
[]
[]
[]
[]
[]
[]
[]
[]
[]
[]
[]
[]
[]
[]
[]
[]
[]
[]
[]
[]
[]
[]
[]
[]
[]
[]
[]
[]
[]
[]
[]
[]
[]
[]
[]
[]
[]
[]
[]
[]
[]
[]
[]
[]
[]
[]
[]
[]
[]
[]
[]
[]
[]
[]
[]
[]
[]
[]
[]
[]
[]
[]
[]
[]
[]
[]
[]
[]
[]
[]
[]
[null,null,null,null,{"$f":"WIFI!N2:P20","v":{"$error":"#VALUE!"}}]

{"sheet":"ISO Instruction Matrix","index":16,"n_rows":20,"n_cols":13,"rows_kept":20,"cut":false,"hidden":true,"merged":[[10,4,11,4],[10,5,11,5],[10,6,11,6],[1,1,1,6],[1,8,1,12],[2,3,3,3],[2,4,3,4],[2,5,3,5],[2,6,3,6],[12,1,14,1],[15,1,17,1],[4,1,6,1],[7,1,9,1],[10,3,11,3]]}
[]
[null,"PRINTER TEST",null,null,null,null,null,null,"COPIER TEST"]
[null,"OFFICE TEST - PRINTING",null,"1 set Test","2 set test","1 set + 30 seconds Test","1 set + 4 minutes test",null,"Color Mode","1 SET TEST","2 SET TEST","1 SET + 30 SECONDS TEST","1 SET + 4 MINUTES TEST"]
[null,"Color Printing Mode","Application File",null,null,null,null,null,"1:1","YES","YES","YES","YES"]
[null,"Simplex with default settings","Word","YES","YES","YES","No",null,"1:2","YES","YES","YES","YES"]
[null,null,"Adobe Reader","YES","YES","YES","YES",null,"2:2","YES","YES","YES","YES"]
[null,null,"Excel","YES","YES","YES","No",null,"B&W Mode","1 SET TEST","2 SET TEST","1 SET + 30 SECONDS TEST","1 SET + 4 MINUTES TEST"]
[null,"Duplex with Default Settings","Word","YES","YES","YES","No",null,"1:1","YES","YES","YES","YES"]
[null,null,"Adobe Reader","YES","YES","YES","No",null,"1:2","YES","YES","YES","YES"]
[null,null,"Excel","YES","YES","YES","No",null,"2:2","YES","YES","YES","YES"]
[null,"OFFICE TEST - PRINTING",null,"1 set Test","2 set test","1 set + 30 seconds Test","1 set + 4 minutes test"]
[null,"B&W Printing Mode","Application File"]
[null,"Simplex with default settings","Word","YES","YES","YES","No"]
[null,null,"Adobe Reader","YES","YES","YES","YES"]
[null,null,"Excel","YES","YES","YES","No"]
[null,"Duplex with default settings","Word","YES","YES","YES","No"]
[null,null,"Adobe Reader","YES","YES","YES","No"]
[null,null,"Excel","YES","YES","YES","No"]
[]
[null,"Note: Please save ISO Summary Report-A,  ISO Summary Report-A4, ISO Full Report - A, ISO Full Report -A4 tabs as PDF file with name: Device name ISO Productivity Report"]

{"sheet":"ISO Printer -A","index":17,"n_rows":47,"n_cols":55,"rows_kept":47,"cut":false,"hidden":true,"merged":[[42,1,43,5],[46,0,98,7],[16,0,18,0],[0,1,0,3],[2,12,2,13],[4,0,6,0],[7,0,9,0],[11,12,11,13],[13,0,15,0]]}
["Printer Model:",{"$f":"'Test Info'!$A$1:$G$1","v":0},null,null,null,"Media","Letter",null,null,null,null,null,null,null,null,null,null,{"$f":"Q5-P5","v":0}]
[]
["1 set test OFFICE TEST MATRIX",null,null,null,null,null,null,null,null,null,null,null,"N=2sets data",null,"1 set + 30 seconds test",null,null,null,null,null,null,null,null,null,null,null,null,null,null,null,null,null,null,null,null,null,null,"1set + 4minute test"]
["Color Printing Mode","Application File","File Name","FSOT1 (s)","FSOT2 (s)","Consistency","FSOTavg","FSOT3 (s)","FSOTavg2","FSOT (s)","EFTP1set (ipm)",null,"FSOT","LSOT","N30sec","FSOT30sec1","LSOT1","FSOT30sec2","LSOT2","FSOT consistency","ESAT1","ESAT2","ESAT consistency","EFTP1","EFTP2","EFTP consistency","FSOT30avg","LSOTavg","FSOT30sec3","LSOT3","FSOT30avg2","LSOTavg2","FSOT","LSOT","ESATavg","EFTP30sec",null,"N4min","FSOT4min1","LSOT1","FSOT4min2","LSOT2","FSOT consistency","FSOT30avg","LSOTavg","EFTP1","EFTP2","EFTP consistency","FSOT4min3","LSOT3","FSOT4minavg2","LSOTavg2","FSOT","LSOT","EFTP4min"]
["Simplex with default settings","Word","Office-Word(A).doc",null,null,{"$f":"IF((D5+E5)=0,\" \",ABS(((2*D5)/(D5+E5))-1))","v":" "},{"$f":"(D5+E5)/2","v":0},null,{"$f":"(D5+E5+H5)/3","v":0},{"$f":"IF((D5+E5)=0,\" \",IF(F5<0.05,G5, I5))","v":" "},{"$f":"IF((D5+E5)=0,\" \",IF(J5=0,\" \", 240/J5))","v":" "},null,null,null,{"$f":"IF( (N5-M5)=0,\" \",ROUNDUP((30/(N5-M5))+1,0))","v":" "},null,null,null,null,{"$f":"ABS(((2*P5)/(P5+R5))-1)","v":{"$error":"#DIV/0!"}},{"$f":"(240*(O5-1))/(Q5-P5)","v":{"$error":"#VALUE!"}},{"$f":"(240*(O5-1))/(S5-R5)","v":{"$error":"#VALUE!"}},{"$f":"ABS(((2*U5)/(V5+U5))-1)","v":{"$error":"#VALUE!"}},{"$f":"(240*O5)/Q5","v":{"$error":"#VALUE!"}},{"$f":"(240*O5)/S5","v":{"$error":"#VALUE!"}},{"$f":"ABS(((2*X5)/(X5+Y5))-1)","v":{"$error":"#VALUE!"}},{"$f":"(P5+R5)/2","v":0},0,null,null,{"$f":"(P5+R5+AC5)/3","v":0},0,{"$f":"IF(AND(T5<0.05,W5<0.05,Z5<0.05),AA5,AE5)","v":{"$error":"#DIV/0!"}},{"$f":"IF(AND(T5<0.05,W5<0.05,Z5<0.05),AB5,AF5)","v":{"$error":"#DIV/0!"}},{"$f":"(240*(O5-1))/(AH5-AG5)","v":{"$error":"#VALUE!"}},{"$f":"(240*O5)/AH5","v":{"$error":"#VALUE!"}},null,{"$f":"ROUNDUP((((240*(O5-1))/(AH5-AG5))+1),0)","v":{"$error":"#VALUE!"}},null,null,null,null,{"$f":"ABS(((2*AM5)/(AM5+AO5))-1)","v":{"$error":"#DIV/0!"}},{"$f":"(AM5+AO5)/2","v":0},0,{"$f":"(240*AL5)/AN5","v":{"$error":"#VALUE!"}},{"$f":"(240*AL5)/AP5","v":{"$error":"#VALUE!"}},{"$f":"ABS(((2*AT5)/(AT5+AU5))-1)","v":{"$error":"#VALUE!"}},null,null,{"$f":"(AM5+AO5+AW5)/3","v":0},0,{"$f":"IF(AND(AQ5<0.05,AV5<0.05),AR5,AY5)","v":{"$error":"#DIV/0!"}},{"$f":"IF(AND(AQ5<0.05,AV5<0.05),AS5,AZ5)","v":{"$error":"#DIV/0!"}},{"$f":"(240*AL5)/BB5","v":{"$error":"#VALUE!"}}]
[null,"Adobe Reader","office-PDF(A&A4).pdf",null,null," ",0,null,0," "," ",null,null,null," ",null,null,null,null,{"$error":"#DIV/0!"},{"$error":"#VALUE!"},{"$error":"#VALUE!"},{"$error":"#VALUE!"},{"$error":"#VALUE!"},{"$error":"#VALUE!"},{"$error":"#VALUE!"},0,0,null,null,0,0,{"$error":"#DIV/0!"},{"$error":"#DIV/0!"},{"$error":"#VALUE!"},{"$error":"#VALUE!"},null,{"$error":"#VALUE!"},null,null,null,null,{"$f":"ABS(((2*AM6)/(AM6+AO6))-1)","v":{"$error":"#DIV/0!"}},{"$f":"(AM6+AO6)/2","v":0},{"$f":"(AN6+AP6)/2","v":0},{"$f":"(240*AL6)/AN6","v":{"$error":"#VALUE!"}},{"$f":"(240*AL6)/AP6","v":{"$error":"#VALUE!"}},{"$f":"ABS(((2*AT6)/(AT6+AU6))-1)","v":{"$error":"#VALUE!"}},null,null,0,0,{"$error":"#DIV/0!"},{"$error":"#DIV/0!"},{"$error":"#VALUE!"}]
[null,"Excel","Office-Excel(A).xls",null,null," ",0,null,0," "," ",null,null,null," ",null,null,null,null,{"$error":"#DIV/0!"},{"$error":"#VALUE!"},{"$error":"#VALUE!"},{"$error":"#VALUE!"},{"$error":"#VALUE!"},{"$error":"#VALUE!"},{"$error":"#VALUE!"},0,0,null,null,0,0,{"$error":"#DIV/0!"},{"$error":"#DIV/0!"},{"$error":"#VALUE!"},{"$error":"#VALUE!"},null,{"$error":"#VALUE!"},null,null,null,null,{"$error":"#DIV/0!"},0,0,{"$error":"#VALUE!"},{"$error":"#VALUE!"},{"$error":"#VALUE!"},null,null,0,0,{"$error":"#DIV/0!"},{"$error":"#DIV/0!"},{"$error":"#VALUE!"}]
["Duplex with Default Settings","Word","Office-Word(A).doc",null,null," ",0,null,0," "," ",null,null,null," ",null,null,null,null,{"$error":"#DIV/0!"},{"$error":"#VALUE!"},{"$error":"#VALUE!"},{"$error":"#VALUE!"},{"$error":"#VALUE!"},{"$error":"#VALUE!"},{"$error":"#VALUE!"},0,0,null,null,0,0,{"$error":"#DIV/0!"},{"$error":"#DIV/0!"},{"$error":"#VALUE!"},{"$error":"#VALUE!"},null,{"$error":"#VALUE!"},null,null,null,null,{"$error":"#DIV/0!"},0,0,{"$error":"#VALUE!"},{"$error":"#VALUE!"},{"$error":"#VALUE!"},null,null,0,0,{"$error":"#DIV/0!"},{"$error":"#DIV/0!"},{"$error":"#VALUE!"}]
[null,"Adobe Reader","office-PDF(A&A4).pdf",null,null," ",0,null,0," "," ",null,null,null," ",null,null,null,null,{"$error":"#DIV/0!"},{"$error":"#VALUE!"},{"$error":"#VALUE!"},{"$error":"#VALUE!"},{"$error":"#VALUE!"},{"$error":"#VALUE!"},{"$error":"#VALUE!"},0,0,null,null,0,0,{"$error":"#DIV/0!"},{"$error":"#DIV/0!"},{"$error":"#VALUE!"},{"$error":"#VALUE!"},null,{"$error":"#VALUE!"},null,null,null,null,{"$error":"#DIV/0!"},0,0,{"$error":"#VALUE!"},{"$error":"#VALUE!"},{"$error":"#VALUE!"},null,null,0,0,{"$error":"#DIV/0!"},{"$error":"#DIV/0!"},{"$error":"#VALUE!"}]
[null,"Excel","Office-Excel(A).xls",null,null," ",0,null,0," "," ",null,null,null," ",null,null,null,null,{"$error":"#DIV/0!"},{"$error":"#VALUE!"},{"$error":"#VALUE!"},{"$error":"#VALUE!"},{"$error":"#VALUE!"},{"$error":"#VALUE!"},{"$error":"#VALUE!"},0,0,null,null,0,0,{"$error":"#DIV/0!"},{"$error":"#DIV/0!"},{"$error":"#VALUE!"},{"$error":"#VALUE!"},null,{"$error":"#VALUE!"},null,null,null,null,{"$error":"#DIV/0!"},0,0,{"$error":"#VALUE!"},{"$error":"#VALUE!"},{"$error":"#VALUE!"},null,null,0,0,{"$error":"#DIV/0!"},{"$error":"#DIV/0!"},{"$error":"#VALUE!"}]
[]
["1 set test OFFICE TEST MATRIX",null,null,null,null,null,null,null,null,null,null,null,"N=2sets data",null,"1 set + 30 seconds test",null,null,null,null,null,null,null,null,null,null,null,null,null,null,null,null,null,null,null,null,null,null,"1set + 4minute test"]
["B&W Printing Mode","Application File","File Name","FSOT1 (s)","FSOT2 (s)","Consistency","FSOTavg","FSOT3 (s)","FSOTavg2","FSOT (s)","EFTP1set (ipm)",null,"FSOT","LSOT","N30sec","FSOT30sec1","LSOT1","FSOT30sec2","LSOT2","FSOT consistency","ESAT1","ESAT2","ESAT consistency","EFTP1","EFTP2","EFTP consistency","FSOT30avg","LSOTavg","FSOT30sec3","LSOT3","FSOT30avg2","LSOTavg2","FSOT","LSOT","ESATavg","EFTP30sec",null,"N4min","FSOT4min1","LSOT1","FSOT4min2","LSOT2","FSOT consistency","FSOT30avg","LSOTavg","EFTP1","EFTP2","EFTP consistency","FSOT4min3","LSOT3","FSOT4minavg2","LSOTavg2","FSOT","LSOT","EFTP4min"]
["Simplex with default settings","Word","Office-Word(A).doc",null,null,{"$f":"IF((D14+E14)=0,\" \",ABS(((2*D14)/(D14+E14))-1))","v":" "},{"$f":"(D14+E14)/2","v":0},null,{"$f":"(D14+E14+H14)/3","v":0},{"$f":"IF((D14+E14)=0,\" \",IF(F14<0.05,G14, I14))","v":" "},{"$f":"IF((D14+E14)=0,\" \",IF(J14=0,\" \", 240/J14))","v":" "},null,null,null,{"$f":"IF( (N14-M14)=0,\" \",ROUNDUP((30/(N14-M14))+1,0))","v":" "},null,null,null,null,{"$f":"ABS(((2*P14)/(P14+R14))-1)","v":{"$error":"#DIV/0!"}},{"$f":"(240*(O14-1))/(Q14-P14)","v":{"$error":"#VALUE!"}},{"$f":"(240*(O14-1))/(S14-R14)","v":{"$error":"#VALUE!"}},{"$f":"ABS(((2*U14)/(V14+U14))-1)","v":{"$error":"#VALUE!"}},{"$f":"(240*O14)/Q14","v":{"$error":"#VALUE!"}},{"$f":"(240*O14)/S14","v":{"$error":"#VALUE!"}},{"$f":"ABS(((2*X14)/(X14+Y14))-1)","v":{"$error":"#VALUE!"}},{"$f":"(P14+R14)/2","v":0},0,null,null,{"$f":"(P14+R14+AC14)/3","v":0},0,{"$f":"IF(AND(T14<0.05,W14<0.05,Z14<0.05),AA14,AE14)","v":{"$error":"#DIV/0!"}},{"$f":"IF(AND(T14<0.05,W14<0.05,Z14<0.05),AB14,AF14)","v":{"$error":"#DIV/0!"}},{"$f":"(240*(O14-1))/(AH14-AG14)","v":{"$error":"#VALUE!"}},{"$f":"(240*O14)/AH14","v":{"$error":"#VALUE!"}},null,{"$f":"ROUNDUP((((240*(O14-1))/(AH14-AG14))+1),0)","v":{"$error":"#VALUE!"}},null,null,null,null,{"$f":"ABS(((2*AM14)/(AM14+AO14))-1)","v":{"$error":"#DIV/0!"}},{"$f":"(AM14+AO14)/2","v":0},0,{"$f":"(240*AL14)/AN14","v":{"$error":"#VALUE!"}},{"$f":"(240*AL14)/AP14","v":{"$error":"#VALUE!"}},{"$f":"ABS(((2*AT14)/(AT14+AU14))-1)","v":{"$error":"#VALUE!"}},null,null,{"$f":"(AM14+AO14+AW14)/3","v":0},0,{"$f":"IF(AND(AQ14<0.05,AV14<0.05),AR14,AY14)","v":{"$error":"#DIV/0!"}},{"$f":"IF(AND(AQ14<0.05,AV14<0.05),AS14,AZ14)","v":{"$error":"#DIV/0!"}},{"$f":"(240*AL14)/BB14","v":{"$error":"#VALUE!"}}]
[null,"Adobe Reader","office-PDF(A&A4).pdf",null,null," ",0,null,0," "," ",null,null,null," ",null,null,null,null,{"$error":"#DIV/0!"},{"$error":"#VALUE!"},{"$error":"#VALUE!"},{"$error":"#VALUE!"},{"$error":"#VALUE!"},{"$error":"#VALUE!"},{"$error":"#VALUE!"},0,0,null,null,0,0,{"$error":"#DIV/0!"},{"$error":"#DIV/0!"},{"$error":"#VALUE!"},{"$error":"#VALUE!"},null,{"$error":"#VALUE!"},null,null,null,null,{"$error":"#DIV/0!"},0,0,{"$error":"#VALUE!"},{"$error":"#VALUE!"},{"$error":"#VALUE!"},null,null,0,0,{"$error":"#DIV/0!"},{"$error":"#DIV/0!"},{"$error":"#VALUE!"}]
[null,"Excel","Office-Excel(A).xls",null,null," ",0,null,0," "," ",null,null,null," ",null,null,null,null,{"$error":"#DIV/0!"},{"$error":"#VALUE!"},{"$error":"#VALUE!"},{"$error":"#VALUE!"},{"$error":"#VALUE!"},{"$error":"#VALUE!"},{"$error":"#VALUE!"},0,0,null,null,0,0,{"$error":"#DIV/0!"},{"$error":"#DIV/0!"},{"$error":"#VALUE!"},{"$error":"#VALUE!"},null,{"$error":"#VALUE!"},null,null,null,null,{"$error":"#DIV/0!"},0,0,{"$error":"#VALUE!"},{"$error":"#VALUE!"},{"$error":"#VALUE!"},null,null,0,0,{"$error":"#DIV/0!"},{"$error":"#DIV/0!"},{"$error":"#VALUE!"}]
["Duplex with default settings","Word","Office-Word(A).doc",null,null," ",0,null,0," "," ",null,null,null," ",null,null,null,null,{"$error":"#DIV/0!"},{"$error":"#VALUE!"},{"$error":"#VALUE!"},{"$error":"#VALUE!"},{"$error":"#VALUE!"},{"$error":"#VALUE!"},{"$error":"#VALUE!"},0,0,null,null,0,0,{"$error":"#DIV/0!"},{"$error":"#DIV/0!"},{"$error":"#VALUE!"},{"$error":"#VALUE!"},null,{"$error":"#VALUE!"},null,null,null,null,{"$error":"#DIV/0!"},0,0,{"$error":"#VALUE!"},{"$error":"#VALUE!"},{"$error":"#VALUE!"},null,null,0,0,{"$error":"#DIV/0!"},{"$error":"#DIV/0!"},{"$error":"#VALUE!"}]
[null,"Adobe Reader","office-PDF(A&A4).pdf",null,null," ",0,null,0," "," ",null,null,null," ",null,null,null,null,{"$error":"#DIV/0!"},{"$error":"#VALUE!"},{"$error":"#VALUE!"},{"$error":"#VALUE!"},{"$error":"#VALUE!"},{"$error":"#VALUE!"},{"$error":"#VALUE!"},0,0,null,null,0,0,{"$error":"#DIV/0!"},{"$error":"#DIV/0!"},{"$error":"#VALUE!"},{"$error":"#VALUE!"},null,{"$error":"#VALUE!"},null,null,null,null,{"$error":"#DIV/0!"},0,0,{"$error":"#VALUE!"},{"$error":"#VALUE!"},{"$error":"#VALUE!"},null,null,0,0,{"$error":"#DIV/0!"},{"$error":"#DIV/0!"},{"$error":"#VALUE!"}]
[null,"Excel","Office-Excel(A).xls",null,null," ",0,null,0," "," ",null,null,null," ",null,null,null,null,{"$error":"#DIV/0!"},{"$error":"#VALUE!"},{"$error":"#VALUE!"},{"$error":"#VALUE!"},{"$error":"#VALUE!"},{"$error":"#VALUE!"},{"$error":"#VALUE!"},0,0,null,null,0,0,{"$error":"#DIV/0!"},{"$error":"#DIV/0!"},{"$error":"#VALUE!"},{"$error":"#VALUE!"},null,{"$error":"#VALUE!"},null,null,null,null,{"$error":"#DIV/0!"},0,0,{"$error":"#VALUE!"},{"$error":"#VALUE!"},{"$error":"#VALUE!"},null,null,0,0,{"$error":"#DIV/0!"},{"$error":"#DIV/0!"},{"$error":"#VALUE!"}]
[]
[]
["Test Condition / Operating System"]
["Test date"]
["Printer Model",null,{"$f":"B1","v":0}]
["Printer Voltage",null,null,null,null,"  "]
["Printer Serial Number"]
["Driver Type & version"]
["PC Operating system"]
["PC CPU type / Hz"]
["PC Ram Memory"]
["Application software & version"]
[]
[]
["Test Suites"]
["Engine Code"]
["Connectivity"]
["Media used"]
["Media Tray (Default)"]
[]
[]
[]
[]
[null,"ISO Printer Productivity Letter Paper Size-Procedure"]
[]
[]
[]
["Device Settings \nMono Device Settings: \nPriority Mode set for BW Plain,White Letter LEF Tray 1  \nColor Device Settings:\nPriority Mode set for Color Plain, White Letter LEF Tray 1 . \nMode settings-Login-->admin-->machine status-->tools-->device settings-->general-->output speed-->color for color settings and mono for B\\W settings.\n\nJob Settings\nSet the driver type as default \"PS\" with Banner sheet disabled accordingly\nother driver settings like printing mode is Default.Load sufficient level letter 75 gsm media in tray 1.\n\nProcedure:\nEnsure that Test conditions are met and recorded in the sheet then start the Test.\n\n1 Set Test Procedure to measure FSOT1set and EFTP1set:\n\n1.Open the Test File in application mentioned in the Laptop\n2.Go to File/Print ->Properties , Settings are \"Simplex  /duplex accordingly\" ,print quality \"Default Resolution\" ,Printing mode are color/Mono Count is \"1 set \" and Click Print buton; and Start timer in Stopwatch together\n3. Record the time in seconds for completion of one set as follows\nFSOT 1: Time from “Print” button selected until the TRAIL EDGE of the last sheet exits to the default tray (stop timer here)\n4.Repeat the above steps for conseqent readings \"FSOT 2\" and \" FSOT 3\"\n5.Then  2 Set Test Procedure to measure FSOT and LSOT\n6.Go to File/Print ->Properties , Settings are \"Simplex  /duplex accordingly\" ,print quality \"Default Resolution\"Printing mode are color/Mono Count is \"2 set \" and Click Print button; and Start timer in Stopwatch together\n7.Use Lap function as follows and Record the time for 2 set test\nLap1: FSOT : Time from “Print” button selected until the TRAIL EDGE of the First set exits to the default tray ,Make a Lap  here and timer continues to run.\nLap2: LSOT : Time from “Print” button selected until the TRAIL EDGE of the Second set /last sheet exits to the default tray (stop timer here)\n6.Then proceed to  1set+30sec Test Procedure to measure FSOT and LSOT\n7.Go to File/Print ->Properties ,\" Settings are \"Simplex /duplex accordingly\" ,print quality \"Default Resolution\",Printing mode are color/Mono Count is \"N set \" mentioned in table  and Click Print button; and Start timer in Stopwatch together\n8.Use Lap funtion  as follows and Record the time for N set test\nLap1: FSOT30sec1 : Time from “Print” button selected until the TRAIL EDGE of the First set exits to the default tray ,Make a Lap  here and timer continues to run ..\nLap2: LSOT1 : Time from “Print” button selected until the TRAIL EDGE of the last sheet exits to the default tray (stop timer here)\n9.Repeat Step 7-8 for conseqent readings FSOT30 sec2 ,LSOT2 and FSOT 30sec3 ,LSOT3\n10.If applicable for  1set+ 4min Test  Procedure to measure FSOT and LSOT\n11.Go to File/Print ->Properties ,\" Settings are \"Simplex  \" ,print quality \"Default Resolution\"Printing mode are color/Mono ,Count is \"N set \" mentioned in table  and Click Print buton; and Start timer in Stopwatch together\n12.Use Lap funtion  as follows and Record the time for N set test\nLap1: FSOT4min1 : Time from “Print” button selected until the TRAIL EDGE of the First set exits to the default tray ,Make a Lap  here and timer continues to run ..\nLap2: LSOT1 : Time from “Print” button selected until the TRAIL EDGE of the last sheet exits to the default tray (stop timer here)\n13.Repeat Step 11-12 for conseqent readings FSOT4min2 ,LSOT2 and FSOT 4min3 ,LSOT3\n"]

{"sheet":"ISO Copier -A","index":18,"n_rows":68,"n_cols":54,"rows_kept":68,"cut":false,"hidden":true,"merged":[[24,2,24,5],[28,2,28,5],[0,2,0,3],[2,11,2,12],[9,11,9,12],[20,2,20,5],[22,2,22,5],[23,2,23,5],[22,6,22,9]]}
["MFP Model:",{"$f":"'ISO Printer -A'!B1","v":0},null,null,null,null,null,"Media","Letter"]
[]
["1 set test",null,null,null,null,null,null,null,null,null,null,"N=2sets data",null,"1 set + 30 seconds test",null,null,null,null,null,null,null,null,null,null,null,null,null,null,null,null,null,null,null,null,null,null,"1set + 4minute test"]
["Color Mode","File Name","FSOT1 (s)","FSOT2 (s)","Consistency","FSOTavg","FSOT3 (s)","FSOTavg2","FSOT (s)","EFTP1set (ipm)\naka UCST",null,"FSOT","LSOT","N30sec","FSOT30sec1","LSOT1","FSOT30sec2","LSOT2","FSOT consistency","FSOT30avg","LSOTavg","ESAT1","ESAT2","ESAT consistency","EFTP1","EFTP2","EFTP consistency","FSOT30sec3","LSOT3","FSOT30avg2","LSOTavg2","FSOT","LSOT","ESAT","EFTP30sec",null,"N4min","FSOT4min1","LSOT1","FSOT4min2","LSOT2","FSOT consistency","FSOT30avg","LSOTavg","EFTP1","EFTP2","EFTP consistency","FSOT4min3","LSOT3","FSOT4minavg2","LSOTavg2","FSOT","LSOT","EFTP4min"]
["1:1","test file for 24735.pdf",null,null,{"$f":"IF((C5+D5)=0,\" \",ABS(((2*C5)/(C5+D5))-1))","v":" "},{"$f":"(C5+D5)/2","v":0},null,{"$f":"(C5+D5+G5)/3","v":0},{"$f":"IF(E5<0.05, F5, H5)","v":0},{"$f":"240/I5","v":{"$error":"#DIV/0!"}},null,null,null,{"$f":"ROUNDUP(((30/(M5-L5))+1),0)","v":{"$error":"#DIV/0!"}},null,null,null,null,{"$f":"ABS(((2*O5)/(O5+Q5))-1)","v":{"$error":"#DIV/0!"}},{"$f":"(O5+Q5)/2","v":0},0,{"$f":"(240*(N5-1))/(P5-O5)","v":{"$error":"#DIV/0!"}},{"$f":"(240*(N5-1))/(R5-Q5)","v":{"$error":"#DIV/0!"}},{"$f":"ABS(((2*V5)/(V5+W5))-1)","v":{"$error":"#DIV/0!"}},{"$f":"(240*N5)/P5","v":{"$error":"#DIV/0!"}},{"$f":"(240*N5)/R5","v":{"$error":"#DIV/0!"}},{"$f":"ABS(((2*Y5)/(Y5+Z5))-1)","v":{"$error":"#DIV/0!"}},null,null,{"$f":"(O5+Q5+AB5)/3","v":0},0,{"$f":"IF(AND(S5<0.05,X5<0.05,AA5<0.05),T5,AD5)","v":{"$error":"#DIV/0!"}},{"$f":"IF(AND(S5<0.05,X5<0.05,AA5<0.05),U5,AE5)","v":{"$error":"#DIV/0!"}},{"$f":"(240*(N5-1))/(AG5-AF5)","v":{"$error":"#DIV/0!"}},{"$f":"(240*N5)/AG5","v":{"$error":"#DIV/0!"}},null,{"$f":"ROUNDUP((((240*(N5-1))/(AG5-AF5))+1),0)","v":{"$error":"#DIV/0!"}},null,null,null,null,{"$f":"ABS(((2*AL5)/(AL5+AN5))-1)","v":{"$error":"#DIV/0!"}},{"$f":"(AL5+AN5)/2","v":0},0,{"$f":"(240*AK5)/AM5","v":{"$error":"#DIV/0!"}},{"$f":"(240*AK5)/AO5","v":{"$error":"#DIV/0!"}},{"$f":"ABS(((2*AS5)/(AS5+AT5))-1)","v":{"$error":"#DIV/0!"}},null,null,{"$f":"(AL5+AN5+AV5)/3","v":0},0,{"$f":"IF(AP5<0.05,AQ5,AX5)","v":{"$error":"#DIV/0!"}},{"$f":"IF(AP5<0.05,AR5,AY5)","v":{"$error":"#DIV/0!"}},{"$f":"(240*AK5)/BA5","v":{"$error":"#DIV/0!"}}]
["1:2","test file for 24735.pdf",null,null," ",0,null,{"$f":"(C6+D6+G6)/3","v":0},{"$f":"IF(E6<0.05, F6, H6)","v":0},{"$f":"240/I6","v":{"$error":"#DIV/0!"}},null,null,null,{"$f":"ROUNDUP(((30/(M6-L6))+1),0)","v":{"$error":"#DIV/0!"}},null,null,null,null,{"$f":"ABS(((2*O6)/(O6+Q6))-1)","v":{"$error":"#DIV/0!"}},0,0,{"$f":"(240*(N6-1))/(P6-O6)","v":{"$error":"#DIV/0!"}},{"$f":"(240*(N6-1))/(R6-Q6)","v":{"$error":"#DIV/0!"}},{"$f":"ABS(((2*V6)/(V6+W6))-1)","v":{"$error":"#DIV/0!"}},{"$f":"(240*N6)/P6","v":{"$error":"#DIV/0!"}},{"$f":"(240*N6)/R6","v":{"$error":"#DIV/0!"}},{"$f":"ABS(((2*Y6)/(Y6+Z6))-1)","v":{"$error":"#DIV/0!"}},null,null,0,0,{"$f":"IF(AND(S6<0.05,X6<0.05,AA6<0.05),T6,AD6)","v":{"$error":"#DIV/0!"}},{"$f":"IF(AND(S6<0.05,X6<0.05,AA6<0.05),U6,AE6)","v":{"$error":"#DIV/0!"}},{"$f":"(240*(N6-1))/(AG6-AF6)","v":{"$error":"#DIV/0!"}},{"$f":"(240*N6)/AG6","v":{"$error":"#DIV/0!"}},null,{"$f":"ROUNDUP((((240*(N6-1))/(AG6-AF6))+1),0)","v":{"$error":"#DIV/0!"}},null,null,null,null,{"$f":"ABS(((2*AL6)/(AL6+AN6))-1)","v":{"$error":"#DIV/0!"}},0,0,{"$f":"(240*AK6)/AM6","v":{"$error":"#DIV/0!"}},{"$f":"(240*AK6)/AO6","v":{"$error":"#DIV/0!"}},{"$f":"ABS(((2*AS6)/(AS6+AT6))-1)","v":{"$error":"#DIV/0!"}},null,null,0,0,{"$f":"IF(AP6<0.05,AQ6,AX6)","v":{"$error":"#DIV/0!"}},{"$f":"IF(AP6<0.05,AR6,AY6)","v":{"$error":"#DIV/0!"}},{"$f":"(240*AK6)/BA6","v":{"$error":"#DIV/0!"}}]
["2:2","test file for 24735.pdf",null,null," ",0,null,{"$f":"(C7+D7+G7)/3","v":0},{"$f":"IF(E7<0.05, F7, H7)","v":0},{"$f":"240/I7","v":{"$error":"#DIV/0!"}},null,null,null,{"$f":"ROUNDUP(((30/(M7-L7))+1),0)","v":{"$error":"#DIV/0!"}},null,null,null,null,{"$f":"ABS(((2*O7)/(O7+Q7))-1)","v":{"$error":"#DIV/0!"}},0,0,{"$f":"(240*(N7-1))/(P7-O7)","v":{"$error":"#DIV/0!"}},{"$f":"(240*(N7-1))/(R7-Q7)","v":{"$error":"#DIV/0!"}},{"$f":"ABS(((2*V7)/(V7+W7))-1)","v":{"$error":"#DIV/0!"}},{"$f":"(240*N7)/P7","v":{"$error":"#DIV/0!"}},{"$f":"(240*N7)/R7","v":{"$error":"#DIV/0!"}},{"$f":"ABS(((2*Y7)/(Y7+Z7))-1)","v":{"$error":"#DIV/0!"}},null,null,0,0,{"$f":"IF(AND(S7<0.05,X7<0.05,AA7<0.05),T7,AD7)","v":{"$error":"#DIV/0!"}},{"$f":"IF(AND(S7<0.05,X7<0.05,AA7<0.05),U7,AE7)","v":{"$error":"#DIV/0!"}},{"$f":"(240*(N7-1))/(AG7-AF7)","v":{"$error":"#DIV/0!"}},{"$f":"(240*N7)/AG7","v":{"$error":"#DIV/0!"}},null,{"$f":"ROUNDUP((((240*(N7-1))/(AG7-AF7))+1),0)","v":{"$error":"#DIV/0!"}},null,null,null,null,{"$f":"ABS(((2*AL7)/(AL7+AN7))-1)","v":{"$error":"#DIV/0!"}},0,0,{"$f":"(240*AK7)/AM7","v":{"$error":"#DIV/0!"}},{"$f":"(240*AK7)/AO7","v":{"$error":"#DIV/0!"}},{"$f":"ABS(((2*AS7)/(AS7+AT7))-1)","v":{"$error":"#DIV/0!"}},null,null,0,0,{"$f":"IF(AP7<0.05,AQ7,AX7)","v":{"$error":"#DIV/0!"}},{"$f":"IF(AP7<0.05,AR7,AY7)","v":{"$error":"#DIV/0!"}},{"$f":"(240*AK7)/BA7","v":{"$error":"#DIV/0!"}}]
[]
[]
["1 set test",null,null,null,null,null,null,null,null,null,null,"N=2sets data",null,"1 set + 30 seconds test",null,null,null,null,null,null,null,null,null,null,null,null,null,null,null,null,null,null,null,null,null,null,"1set + 4minute test"]
["B&W Mode","File Name","FSOT1 (s)","FSOT2 (s)","Consistency","FSOTavg","FSOT3 (s)","FSOTavg2","FSOT (s)","EFTP1set (ipm)\naka UCST",null,"FSOT","LSOT","N30sec","FSOT30sec1","LSOT1","FSOT30sec2","LSOT2","FSOT consistency","FSOT30avg","LSOTavg","ESAT1","ESAT2","ESAT consistency","EFTP1","EFTP2","EFTP consistency","FSOT30sec3","LSOT3","FSOT30avg2","LSOTavg2","FSOT","LSOT","ESAT","EFTP30sec",null,"N4min","FSOT4min1","LSOT1","FSOT4min2","LSOT2","FSOT consistency","FSOT30avg","LSOTavg","EFTP1","EFTP2","EFTP consistency","FSOT4min3","LSOT3","FSOT4minavg2","LSOTavg2","FSOT","LSOT","EFTP4min"]
["1:1","test file for 24735.pdf",null,null,{"$f":"IF((C12+D12)=0,\" \",ABS(((2*C12)/(C12+D12))-1))","v":" "},{"$f":"(C12+D12)/2","v":0},null,{"$f":"(C12+D12+G12)/3","v":0},{"$f":"IF(E12<0.05, F12, H12)","v":0},{"$f":"240/I12","v":{"$error":"#DIV/0!"}},null,null,null,{"$f":"ROUNDUP(((30/(M12-L12))+1),0)","v":{"$error":"#DIV/0!"}},null,null,null,null,{"$f":"ABS(((2*O12)/(O12+Q12))-1)","v":{"$error":"#DIV/0!"}},{"$f":"(O12+Q12)/2","v":0},0,{"$f":"(240*(N12-1))/(P12-O12)","v":{"$error":"#DIV/0!"}},{"$f":"(240*(N12-1))/(R12-Q12)","v":{"$error":"#DIV/0!"}},{"$f":"ABS(((2*V12)/(V12+W12))-1)","v":{"$error":"#DIV/0!"}},{"$f":"(240*N12)/P12","v":{"$error":"#DIV/0!"}},{"$f":"(240*N12)/R12","v":{"$error":"#DIV/0!"}},{"$f":"ABS(((2*Y12)/(Y12+Z12))-1)","v":{"$error":"#DIV/0!"}},null,null,{"$f":"(O12+Q12+AB12)/3","v":0},0,{"$f":"IF(AND(S12<0.05,X12<0.05,AA12<0.05),T12,AD12)","v":{"$error":"#DIV/0!"}},{"$f":"IF(AND(S12<0.05,X12<0.05,AA12<0.05),U12,AE12)","v":{"$error":"#DIV/0!"}},{"$f":"(240*(N12-1))/(AG12-AF12)","v":{"$error":"#DIV/0!"}},{"$f":"(240*N12)/AG12","v":{"$error":"#DIV/0!"}},null,{"$f":"ROUNDUP((((240*(N12-1))/(AG12-AF12))+1),0)","v":{"$error":"#DIV/0!"}},null,null,null,null,{"$f":"ABS(((2*AL12)/(AL12+AN12))-1)","v":{"$error":"#DIV/0!"}},{"$f":"(AL12+AN12)/2","v":0},0,{"$f":"(240*AK12)/AM12","v":{"$error":"#DIV/0!"}},{"$f":"(240*AK12)/AO12","v":{"$error":"#DIV/0!"}},{"$f":"ABS(((2*AS12)/(AS12+AT12))-1)","v":{"$error":"#DIV/0!"}},null,null,{"$f":"(AL12+AN12+AV12)/3","v":0},0,{"$f":"IF(AP12<0.05,AQ12,AX12)","v":{"$error":"#DIV/0!"}},{"$f":"IF(AP12<0.05,AR12,AY12)","v":{"$error":"#DIV/0!"}},{"$f":"(240*AK12)/BA12","v":{"$error":"#DIV/0!"}}]
["1:2","test file for 24735.pdf",null,null," ",0,null,{"$f":"(C13+D13+G13)/3","v":0},{"$f":"IF(E13<0.05, F13, H13)","v":0},{"$f":"240/I13","v":{"$error":"#DIV/0!"}},null,null,null,{"$f":"ROUNDUP(((30/(M13-L13))+1),0)","v":{"$error":"#DIV/0!"}},null,null,null,null,{"$f":"ABS(((2*O13)/(O13+Q13))-1)","v":{"$error":"#DIV/0!"}},0,0,{"$f":"(240*(N13-1))/(P13-O13)","v":{"$error":"#DIV/0!"}},{"$f":"(240*(N13-1))/(R13-Q13)","v":{"$error":"#DIV/0!"}},{"$f":"ABS(((2*V13)/(V13+W13))-1)","v":{"$error":"#DIV/0!"}},{"$f":"(240*N13)/P13","v":{"$error":"#DIV/0!"}},{"$f":"(240*N13)/R13","v":{"$error":"#DIV/0!"}},{"$f":"ABS(((2*Y13)/(Y13+Z13))-1)","v":{"$error":"#DIV/0!"}},null,null,0,0,{"$f":"IF(AND(S13<0.05,X13<0.05,AA13<0.05),T13,AD13)","v":{"$error":"#DIV/0!"}},{"$f":"IF(AND(S13<0.05,X13<0.05,AA13<0.05),U13,AE13)","v":{"$error":"#DIV/0!"}},{"$f":"(240*(N13-1))/(AG13-AF13)","v":{"$error":"#DIV/0!"}},{"$f":"(240*N13)/AG13","v":{"$error":"#DIV/0!"}},null,{"$f":"ROUNDUP((((240*(N13-1))/(AG13-AF13))+1),0)","v":{"$error":"#DIV/0!"}},null,null,null,null,{"$f":"ABS(((2*AL13)/(AL13+AN13))-1)","v":{"$error":"#DIV/0!"}},0,0,{"$f":"(240*AK13)/AM13","v":{"$error":"#DIV/0!"}},{"$f":"(240*AK13)/AO13","v":{"$error":"#DIV/0!"}},{"$f":"ABS(((2*AS13)/(AS13+AT13))-1)","v":{"$error":"#DIV/0!"}},null,null,0,0,{"$f":"IF(AP13<0.05,AQ13,AX13)","v":{"$error":"#DIV/0!"}},{"$f":"IF(AP13<0.05,AR13,AY13)","v":{"$error":"#DIV/0!"}},{"$f":"(240*AK13)/BA13","v":{"$error":"#DIV/0!"}}]
["2:2","test file for 24735.pdf",null,null," ",0,null,{"$f":"(C14+D14+G14)/3","v":0},{"$f":"IF(E14<0.05, F14, H14)","v":0},{"$f":"240/I14","v":{"$error":"#DIV/0!"}},null,null,null,{"$f":"ROUNDUP(((30/(M14-L14))+1),0)","v":{"$error":"#DIV/0!"}},null,null,null,null,{"$f":"ABS(((2*O14)/(O14+Q14))-1)","v":{"$error":"#DIV/0!"}},0,0,{"$f":"(240*(N14-1))/(P14-O14)","v":{"$error":"#DIV/0!"}},{"$f":"(240*(N14-1))/(R14-Q14)","v":{"$error":"#DIV/0!"}},{"$f":"ABS(((2*V14)/(V14+W14))-1)","v":{"$error":"#DIV/0!"}},{"$f":"(240*N14)/P14","v":{"$error":"#DIV/0!"}},{"$f":"(240*N14)/R14","v":{"$error":"#DIV/0!"}},{"$f":"ABS(((2*Y14)/(Y14+Z14))-1)","v":{"$error":"#DIV/0!"}},null,null,0,0,{"$f":"IF(AND(S14<0.05,X14<0.05,AA14<0.05),T14,AD14)","v":{"$error":"#DIV/0!"}},{"$f":"IF(AND(S14<0.05,X14<0.05,AA14<0.05),U14,AE14)","v":{"$error":"#DIV/0!"}},{"$f":"(240*(N14-1))/(AG14-AF14)","v":{"$error":"#DIV/0!"}},{"$f":"(240*N14)/AG14","v":{"$error":"#DIV/0!"}},null,{"$f":"ROUNDUP((((240*(N14-1))/(AG14-AF14))+1),0)","v":{"$error":"#DIV/0!"}},null,null,null,null,{"$f":"ABS(((2*AL14)/(AL14+AN14))-1)","v":{"$error":"#DIV/0!"}},0,0,{"$f":"(240*AK14)/AM14","v":{"$error":"#DIV/0!"}},{"$f":"(240*AK14)/AO14","v":{"$error":"#DIV/0!"}},{"$f":"ABS(((2*AS14)/(AS14+AT14))-1)","v":{"$error":"#DIV/0!"}},null,null,0,0,{"$f":"IF(AP14<0.05,AQ14,AX14)","v":{"$error":"#DIV/0!"}},{"$f":"IF(AP14<0.05,AR14,AY14)","v":{"$error":"#DIV/0!"}},{"$f":"(240*AK14)/BA14","v":{"$error":"#DIV/0!"}}]
[]
["Test Condition / Operating System"]
["Test date"]
["Device Model",null,{"$f":"B1","v":0}]
["Device Serial Number",null,{"$f":"'ISO Printer -A'!C26","v":0}]
["Voltage",null,{"$f":"'ISO Printer -A'!C25","v":0}]
["MFP Configuration",null,null,null,null,null,"Ex: ADF, Duplex copying unit as default"]
[]
["Copy Mode",null,null,null,null,null,"Ex: Default (Collating feature activated)"]
["Paper Tray",null,"Default"]
["Copy quality",null,"Default"]
[]
["Test Targets",null,"Test targets in accordance with ISO//IEC 24735"]
["Engine Code",null,{"$f":"'ISO Printer -A'!C35","v":0}]
["Media used",null,{"$f":"'ISO Printer -A'!C37","v":0}]
[]
[]
[]
["Device Setup"]
[]
[]
[]
["Device is fully ready to print "]
["Sufficient \"Letter\" -75gsm Media loaded in Tray1 "]
["Job Settings"]
["Select the plex (1:1/1:2/2:2 )accordingly.color mode:Color/Mono."]
["Use Tray1 ,100% Magnification throughout the job ,do not change any other settings in copy screen"]
["Collating enabled"]
["Procedure:"]
["Ensure that Test conditions are met and recorded in the sheet then start the Test.."]
["1 Set Test Procedure to measure FSOT1set and EFTP1set:"]
["1.Submit copy job using \"Test File for 24735 \" test file in SPDH  with mentioned settings; Press start timer while pressing \"Start\" button for copying"]
["2.Measure FSOT1 as follows and record the time in seconds"]
["FSOT1 : Time from “Start” button selected until TRAIL EDGE of the First set of \"test file for 24735 \" copy job exits to the default tray"]
["3.Repeat the above steps for conseqent readings \"FSOT 2\" and \" FSOT 3\""]
["4.Then  2 Set Test Procedure to measure FSOT and LSOT"]
["5.Submit \"2 set\" of copy job using \"Test File for 24735 \" test file in SPDH  with mentioned settings; Press start timer while pressing \"Start\" button for copying"]
["6.Use Lap funtion  as follows and Record the time for 2 set test"]
["Lap1: FSOT : Time from “Start” button selected until the TRAIL EDGE of the First set exits to the default tray ,Make a Lap  here and timer continues to run .."]
["Lap2: LSOT : Time from “Start” button selected until the TRAIL EDGE of the Second set /last sheet exits to the default tray (stop timer here)"]
["7.Then proceed to  1set+30sec Test Procedure to measure FSOT and LSOT"]
["8.Submit \"N set\" mentioned in table -  copy job using \"Test File for 24735 \" test file in SPDH  with mentioned settings; Press start timer while pressing \"Start\" button for copying"]
["9.Use Lap funtion  as follows and Record the time for N set test"]
["Lap1: FSOT30sec1 : Time from “Start” button selected until the TRAIL EDGE of the First set exits to the default tray ,Make a Lap  here and timer continues to run .."]
["Lap2: LSOT1 : Time from “Start” button selected until the TRAIL EDGE of the last sheet exits to the default tray (stop timer here)"]
["9.Repeat Step 8-9 for conseqent readings FSOT30 sec2 ,LSOT2 and FSOT 30sec3 ,LSOT3"]
["10.Then 1set+ 4min Test  Procedure to measure FSOT and LSOT"]
["11.Submit \"N set\" mentioned in table -  copy job using \"Test File for 24735 \" test file in SPDH  with mentioned settings; Press start timer while pressing \"Start\" button for copying"]
["12.Use Lap funtion  as follows and Record the time for N set test"]
["Lap1: FSOT4min1 : Time from “Start” button selected until the TRAIL EDGE of the First set exits to the default tray ,Make a Lap  here and timer continues to run .."]
["Lap2: LSOT1 : Time from “Start” button selected until the TRAIL EDGE of the last sheet exits to the default tray (stop timer here)"]
["13.Repeat Step 11-12 for conseqent readings FSOT4min2 ,LSOT2 and FSOT 4min3 ,LSOT3"]
["Note:"]
["ADF : Automatic Document Feeder  "]

{"sheet":"ISO Printer -A4","index":19,"n_rows":78,"n_cols":55,"rows_kept":78,"cut":false,"hidden":true,"merged":[[42,3,43,7],[16,0,18,0],[0,1,0,3],[2,12,2,13],[4,0,6,0],[7,0,9,0],[11,12,11,13],[13,0,15,0]]}
["Printer Model:",{"$f":"'Test Info'!$A$1:$G$1","v":0},null,null,null,"Media ","A4",null,null,null,null,null,null,null,null,null,null,{"$f":"Q5-P5","v":0}]
[]
["1 set test OFFICE TEST MATRIX",null,null,null,null,null,null,null,null,null,null,null,"N=2sets data",null,"1 set + 30 seconds test",null,null,null,null,null,null,null,null,null,null,null,null,null,null,null,null,null,null,null,null,null,null,"1set + 4minute test"]
["Color Printing Mode","Application File","File Name","FSOT1 (s)","FSOT2 (s)","Consistency","FSOTavg","FSOT3 (s)","FSOTavg2","FSOT (s)","EFTP1set (ipm)",null,"FSOT","LSOT","N30sec","FSOT30sec1","LSOT1","FSOT30sec2","LSOT2","FSOT consistency","ESAT1","ESAT2","ESAT consistency","EFTP1","EFTP2","EFTP consistency","FSOT30avg","LSOTavg","FSOT30sec3","LSOT3","FSOT30avg2","LSOTavg2","FSOT","LSOT","ESATavg","EFTP30sec",null,"N4min","FSOT4min1","LSOT1","FSOT4min2","LSOT2","FSOT consistency","FSOT30avg","LSOTavg","EFTP1","EFTP2","EFTP consistency","FSOT4min3","LSOT3","FSOT4minavg2","LSOTavg2","FSOT","LSOT","EFTP4min"]
["Simplex with default settings","Word","Office-Word(A4).doc",null,null,{"$f":"IF((D5+E5)=0,\" \",ABS(((2*D5)/(D5+E5))-1))","v":" "},{"$f":"(D5+E5)/2","v":0},null,{"$f":"(D5+E5+H5)/3","v":0},{"$f":"IF((D5+E5)=0,\" \",IF(F5<0.05,G5, I5))","v":" "},{"$f":"IF((D5+E5)=0,\" \",IF(J5=0,\" \", 240/J5))","v":" "},null,null,null,{"$f":"IF( (N5-M5)=0,\" \",ROUNDUP((30/(N5-M5))+1,0))","v":" "},null,null,null,null,{"$f":"ABS(((2*P5)/(P5+R5))-1)","v":{"$error":"#DIV/0!"}},{"$f":"(240*(O5-1))/(Q5-P5)","v":{"$error":"#VALUE!"}},{"$f":"(240*(O5-1))/(S5-R5)","v":{"$error":"#VALUE!"}},{"$f":"ABS(((2*U5)/(V5+U5))-1)","v":{"$error":"#VALUE!"}},{"$f":"(240*O5)/Q5","v":{"$error":"#VALUE!"}},{"$f":"(240*O5)/S5","v":{"$error":"#VALUE!"}},{"$f":"ABS(((2*X5)/(X5+Y5))-1)","v":{"$error":"#VALUE!"}},{"$f":"(P5+R5)/2","v":0},0,null,null,{"$f":"(P5+R5+AC5)/3","v":0},0,{"$f":"IF(AND(T5<0.05,W5<0.05,Z5<0.05),AA5,AE5)","v":{"$error":"#DIV/0!"}},{"$f":"IF(AND(T5<0.05,W5<0.05,Z5<0.05),AB5,AF5)","v":{"$error":"#DIV/0!"}},{"$f":"(240*(O5-1))/(AH5-AG5)","v":{"$error":"#VALUE!"}},{"$f":"(240*O5)/AH5","v":{"$error":"#VALUE!"}},null,{"$f":"ROUNDUP((((240*(O5-1))/(AH5-AG5))+1),0)","v":{"$error":"#VALUE!"}},null,null,null,null,{"$f":"ABS(((2*AM5)/(AM5+AO5))-1)","v":{"$error":"#DIV/0!"}},{"$f":"(AM5+AO5)/2","v":0},0,{"$f":"(240*AL5)/AN5","v":{"$error":"#VALUE!"}},{"$f":"(240*AL5)/AP5","v":{"$error":"#VALUE!"}},{"$f":"ABS(((2*AT5)/(AT5+AU5))-1)","v":{"$error":"#VALUE!"}},null,null,{"$f":"(AM5+AO5+AW5)/3","v":0},0,{"$f":"IF(AND(AQ5<0.05,AV5<0.05),AR5,AY5)","v":{"$error":"#DIV/0!"}},{"$f":"IF(AND(AQ5<0.05,AV5<0.05),AS5,AZ5)","v":{"$error":"#DIV/0!"}},{"$f":"(240*AL5)/BB5","v":{"$error":"#VALUE!"}}]
[null,"Adobe Reader","office-PDF(A&A4).pdf",null,null," ",0,null,0," "," ",null,null,null," ",null,null,null,null,{"$error":"#DIV/0!"},{"$error":"#VALUE!"},{"$error":"#VALUE!"},{"$error":"#VALUE!"},{"$error":"#VALUE!"},{"$error":"#VALUE!"},{"$error":"#VALUE!"},0,0,null,null,0,0,{"$error":"#DIV/0!"},{"$error":"#DIV/0!"},{"$error":"#VALUE!"},{"$error":"#VALUE!"},null,{"$error":"#VALUE!"},null,null,null,null,{"$error":"#DIV/0!"},0,0,{"$error":"#VALUE!"},{"$error":"#VALUE!"},{"$error":"#VALUE!"},null,null,0,0,{"$error":"#DIV/0!"},{"$error":"#DIV/0!"},{"$error":"#VALUE!"}]
[null,"Excel","Office-Excel(A4).xls",null,null," ",0,null,0," "," ",null,null,null," ",null,null,null,null,{"$error":"#DIV/0!"},{"$error":"#VALUE!"},{"$error":"#VALUE!"},{"$error":"#VALUE!"},{"$error":"#VALUE!"},{"$error":"#VALUE!"},{"$error":"#VALUE!"},0,0,null,null,0,0,{"$error":"#DIV/0!"},{"$error":"#DIV/0!"},{"$error":"#VALUE!"},{"$error":"#VALUE!"},null,{"$error":"#VALUE!"},null,null,null,null,{"$error":"#DIV/0!"},0,0,{"$error":"#VALUE!"},{"$error":"#VALUE!"},{"$error":"#VALUE!"},null,null,0,0,{"$error":"#DIV/0!"},{"$error":"#DIV/0!"},{"$error":"#VALUE!"}]
["Duplex with Default Settings","Word","Office-Word(A4).doc",null,null," ",0,null,0," "," ",null,null,null," ",null,null,null,null,{"$error":"#DIV/0!"},{"$error":"#VALUE!"},{"$error":"#VALUE!"},{"$error":"#VALUE!"},{"$error":"#VALUE!"},{"$error":"#VALUE!"},{"$error":"#VALUE!"},0,0,null,null,0,0,{"$error":"#DIV/0!"},{"$error":"#DIV/0!"},{"$error":"#VALUE!"},{"$error":"#VALUE!"},null,{"$error":"#VALUE!"},null,null,null,null,{"$error":"#DIV/0!"},0,0,{"$error":"#VALUE!"},{"$error":"#VALUE!"},{"$error":"#VALUE!"},null,null,0,0,{"$error":"#DIV/0!"},{"$error":"#DIV/0!"},{"$error":"#VALUE!"}]
[null,"Adobe Reader","office-PDF(A&A4).pdf",null,null," ",0,null,0," "," ",null,null,null," ",null,null,null,null,{"$error":"#DIV/0!"},{"$error":"#VALUE!"},{"$error":"#VALUE!"},{"$error":"#VALUE!"},{"$error":"#VALUE!"},{"$error":"#VALUE!"},{"$error":"#VALUE!"},0,0,null,null,0,0,{"$error":"#DIV/0!"},{"$error":"#DIV/0!"},{"$error":"#VALUE!"},{"$error":"#VALUE!"},null,{"$error":"#VALUE!"},null,null,null,null,{"$error":"#DIV/0!"},0,0,{"$error":"#VALUE!"},{"$error":"#VALUE!"},{"$error":"#VALUE!"},null,null,0,0,{"$error":"#DIV/0!"},{"$error":"#DIV/0!"},{"$error":"#VALUE!"}]
[null,"Excel","Office-Excel(A4).xls",null,null," ",0,null,0," "," ",null,null,null," ",null,null,null,null,{"$error":"#DIV/0!"},{"$error":"#VALUE!"},{"$error":"#VALUE!"},{"$error":"#VALUE!"},{"$error":"#VALUE!"},{"$error":"#VALUE!"},{"$error":"#VALUE!"},0,0,null,null,0,0,{"$error":"#DIV/0!"},{"$error":"#DIV/0!"},{"$error":"#VALUE!"},{"$error":"#VALUE!"},null,{"$error":"#VALUE!"},null,null,null,null,{"$error":"#DIV/0!"},0,0,{"$error":"#VALUE!"},{"$error":"#VALUE!"},{"$error":"#VALUE!"},null,null,0,0,{"$error":"#DIV/0!"},{"$error":"#DIV/0!"},{"$error":"#VALUE!"}]
[]
["1 set test OFFICE TEST MATRIX",null,null,null,null,null,null,null,null,null,null,null,"N=2sets data",null,"1 set + 30 seconds test",null,null,null,null,null,null,null,null,null,null,null,null,null,null,null,null,null,null,null,null,null,null,"1set + 4minute test"]
["B&W Printing Mode","Application File","File Name","FSOT1 (s)","FSOT2 (s)","Consistency","FSOTavg","FSOT3 (s)","FSOTavg2","FSOT (s)","EFTP1set (ipm)",null,"FSOT","LSOT","N30sec","FSOT30sec1","LSOT1","FSOT30sec2","LSOT2","FSOT consistency","ESAT1","ESAT2","ESAT consistency","EFTP1","EFTP2","EFTP consistency","FSOT30avg","LSOTavg","FSOT30sec3","LSOT3","FSOT30avg2","LSOTavg2","FSOT","LSOT","ESATavg","EFTP30sec",null,"N4min","FSOT4min1","LSOT1","FSOT4min2","LSOT2","FSOT consistency","FSOT30avg","LSOTavg","EFTP1","EFTP2","EFTP consistency","FSOT4min3","LSOT3","FSOT4minavg2","LSOTavg2","FSOT","LSOT","EFTP4min"]
["Simplex with default settings","Word","Office-Word(A4).doc",null,null,{"$f":"IF((D14+E14)=0,\" \",ABS(((2*D14)/(D14+E14))-1))","v":" "},{"$f":"(D14+E14)/2","v":0},null,{"$f":"(D14+E14+H14)/3","v":0},{"$f":"IF((D14+E14)=0,\" \",IF(F14<0.05,G14, I14))","v":" "},{"$f":"IF((D14+E14)=0,\" \",IF(J14=0,\" \", 240/J14))","v":" "},null,null,null,{"$f":"IF( (N14-M14)=0,\" \",ROUNDUP((30/(N14-M14))+1,0))","v":" "},null,null,null,null,{"$f":"ABS(((2*P14)/(P14+R14))-1)","v":{"$error":"#DIV/0!"}},{"$f":"(240*(O14-1))/(Q14-P14)","v":{"$error":"#VALUE!"}},{"$f":"(240*(O14-1))/(S14-R14)","v":{"$error":"#VALUE!"}},{"$f":"ABS(((2*U14)/(V14+U14))-1)","v":{"$error":"#VALUE!"}},{"$f":"(240*O14)/Q14","v":{"$error":"#VALUE!"}},{"$f":"(240*O14)/S14","v":{"$error":"#VALUE!"}},{"$f":"ABS(((2*X14)/(X14+Y14))-1)","v":{"$error":"#VALUE!"}},{"$f":"(P14+R14)/2","v":0},0,null,null,{"$f":"(P14+R14+AC14)/3","v":0},0,{"$f":"IF(AND(T14<0.05,W14<0.05,Z14<0.05),AA14,AE14)","v":{"$error":"#DIV/0!"}},{"$f":"IF(AND(T14<0.05,W14<0.05,Z14<0.05),AB14,AF14)","v":{"$error":"#DIV/0!"}},{"$f":"(240*(O14-1))/(AH14-AG14)","v":{"$error":"#VALUE!"}},{"$f":"(240*O14)/AH14","v":{"$error":"#VALUE!"}},null,{"$f":"ROUNDUP((((240*(O14-1))/(AH14-AG14))+1),0)","v":{"$error":"#VALUE!"}},null,null,null,null,{"$f":"ABS(((2*AM14)/(AM14+AO14))-1)","v":{"$error":"#DIV/0!"}},{"$f":"(AM14+AO14)/2","v":0},0,{"$f":"(240*AL14)/AN14","v":{"$error":"#VALUE!"}},{"$f":"(240*AL14)/AP14","v":{"$error":"#VALUE!"}},{"$f":"ABS(((2*AT14)/(AT14+AU14))-1)","v":{"$error":"#VALUE!"}},null,null,{"$f":"(AM14+AO14+AW14)/3","v":0},0,{"$f":"IF(AND(AQ14<0.05,AV14<0.05),AR14,AY14)","v":{"$error":"#DIV/0!"}},{"$f":"IF(AND(AQ14<0.05,AV14<0.05),AS14,AZ14)","v":{"$error":"#DIV/0!"}},{"$f":"(240*AL14)/BB14","v":{"$error":"#VALUE!"}}]
[null,"Adobe Reader","office-PDF(A&A4).pdf",null,null," ",0,null,0," "," ",null,null,null," ",null,null,null,null,{"$error":"#DIV/0!"},{"$error":"#VALUE!"},{"$error":"#VALUE!"},{"$error":"#VALUE!"},{"$error":"#VALUE!"},{"$error":"#VALUE!"},{"$error":"#VALUE!"},0,0,null,null,0,0,{"$error":"#DIV/0!"},{"$error":"#DIV/0!"},{"$error":"#VALUE!"},{"$error":"#VALUE!"},null,{"$error":"#VALUE!"},null,null,null,null,{"$error":"#DIV/0!"},0,0,{"$error":"#VALUE!"},{"$error":"#VALUE!"},{"$error":"#VALUE!"},null,null,0,0,{"$error":"#DIV/0!"},{"$error":"#DIV/0!"},{"$error":"#VALUE!"}]
[null,"Excel","Office-Excel(A4).xls",null,null," ",0,null,0," "," ",null,null,null," ",null,null,null,null,{"$error":"#DIV/0!"},{"$error":"#VALUE!"},{"$error":"#VALUE!"},{"$error":"#VALUE!"},{"$error":"#VALUE!"},{"$error":"#VALUE!"},{"$error":"#VALUE!"},0,0,null,null,0,0,{"$error":"#DIV/0!"},{"$error":"#DIV/0!"},{"$error":"#VALUE!"},{"$error":"#VALUE!"},null,{"$error":"#VALUE!"},null,null,null,null,{"$error":"#DIV/0!"},0,0,{"$error":"#VALUE!"},{"$error":"#VALUE!"},{"$error":"#VALUE!"},null,null,0,0,{"$error":"#DIV/0!"},{"$error":"#DIV/0!"},{"$error":"#VALUE!"}]
["Duplex with default settings","Word","Office-Word(A4).doc",null,null," ",0,null,0," "," ",null,null,null," ",null,null,null,null,{"$error":"#DIV/0!"},{"$error":"#VALUE!"},{"$error":"#VALUE!"},{"$error":"#VALUE!"},{"$error":"#VALUE!"},{"$error":"#VALUE!"},{"$error":"#VALUE!"},0,0,null,null,0,0,{"$error":"#DIV/0!"},{"$error":"#DIV/0!"},{"$error":"#VALUE!"},{"$error":"#VALUE!"},null,{"$error":"#VALUE!"},null,null,null,null,{"$error":"#DIV/0!"},0,0,{"$error":"#VALUE!"},{"$error":"#VALUE!"},{"$error":"#VALUE!"},null,null,0,0,{"$error":"#DIV/0!"},{"$error":"#DIV/0!"},{"$error":"#VALUE!"}]
[null,"Adobe Reader","office-PDF(A&A4).pdf",null,null," ",0,null,0," "," ",null,null,null," ",null,null,null,null,{"$error":"#DIV/0!"},{"$error":"#VALUE!"},{"$error":"#VALUE!"},{"$error":"#VALUE!"},{"$error":"#VALUE!"},{"$error":"#VALUE!"},{"$error":"#VALUE!"},0,0,null,null,0,0,{"$error":"#DIV/0!"},{"$error":"#DIV/0!"},{"$error":"#VALUE!"},{"$error":"#VALUE!"},null,{"$error":"#VALUE!"},null,null,null,null,{"$error":"#DIV/0!"},0,0,{"$error":"#VALUE!"},{"$error":"#VALUE!"},{"$error":"#VALUE!"},null,null,0,0,{"$error":"#DIV/0!"},{"$error":"#DIV/0!"},{"$error":"#VALUE!"}]
[null,"Excel","Office-Excel(A4).xls",null,null," ",0,null,0," "," ",null,null,null," ",null,null,null,null,{"$error":"#DIV/0!"},{"$error":"#VALUE!"},{"$error":"#VALUE!"},{"$error":"#VALUE!"},{"$error":"#VALUE!"},{"$error":"#VALUE!"},{"$error":"#VALUE!"},0,0,null,null,0,0,{"$error":"#DIV/0!"},{"$error":"#DIV/0!"},{"$error":"#VALUE!"},{"$error":"#VALUE!"},null,{"$error":"#VALUE!"},null,null,null,null,{"$error":"#DIV/0!"},0,0,{"$error":"#VALUE!"},{"$error":"#VALUE!"},{"$error":"#VALUE!"},null,null,0,0,{"$error":"#DIV/0!"},{"$error":"#DIV/0!"},{"$error":"#VALUE!"}]
[]
[]
["Test Condition / Operating System"]
["Test date",null,{"$f":"'ISO Printer -A'!C23","v":0}]
["Printer Model",null,{"$f":"'ISO Printer -A'!C24","v":0}]
["Printer Voltage",null,{"$f":"'ISO Printer -A'!C25","v":0},null,null,"  "]
["Printer Serial Number",null,{"$f":"'ISO Printer -A'!C26","v":0}]
["Driver Type & version",null,{"$f":"'ISO Printer -A'!C27","v":0}]
["Operating system",null,{"$f":"'ISO Printer -A'!C28","v":0}]
["CPU type / Hz",null,{"$f":"'ISO Printer -A'!C29","v":0}]
["Ram Memory",null,{"$f":"'ISO Printer -A'!C30","v":0}]
["Application software",null,{"$f":"'ISO Printer -A'!C31","v":0}]
[null,null,{"$f":"'ISO Printer -A'!C32","v":0}]
[null,null,{"$f":"'ISO Printer -A'!C33","v":0}]
["Test Suites",null,{"$f":"'ISO Printer -A'!C34","v":0}]
["Engine Code",null,{"$f":"'ISO Printer -A'!C35","v":0}]
["Connectivity",null,{"$f":"'ISO Printer -A'!C36","v":0}]
["Media used"]
["Media supplied(Default)"]
[]
[]
[]
[]
[null,null,null,"ISO Printer Productivity A4 Paper Size-Procedure"]
[]
["Device Setup"]
["Device is fully ready to print. "]
["Before starting the job warm up the device by continuously giving print and copy jobs. "]
["Set device color settings:Login-->admin-->machine status-->tools-->device settings-->general-->output speed-->color/B/W."]
["Sufficient \"A4\" -75gsm Media loaded in Tray1"]
[]
["Job Settings"]
["Set the driver type as default \"PS\" with Banner sheet disabled accordingly"]
["other driver settings like prnting mode is Default"]
["Procedure:"]
["Ensure that Test conditions are met and recorded in the sheet then start the Test.."]
["1 Set Test Procedure to measure FSOT1set and EFTP1set:"]
["1.Open the Test File in application mentioned in the Laptop"]
["2.Go to File/Print ->Properties , Settings are \"Simplex  /duplex accordingly\" ,print quality \"Default Resolution\",Color mode:Mono/Color,Count is \"1 set \" and Click Print buton; and Start timer in Stopwatch together"]
["3. Record the time in seconds for completion of one set as follows"]
["FSOT 1: Time from “Print” button selected until the TRAIL EDGE of the last sheet exits to the default tray (stop timer here)"]
["4.Repeat the above steps for conseqent readings \"FSOT 2\" and \" FSOT 3\""]
["5.Then  2 Set Test Procedure to measure FSOT and LSOT"]
["6.Go to File/Print ->Properties , Settings are \"Simplex  /duplex accordingly\" ,print quality \"Default Resolution\",Color mode:Mono/Color,Count is \"2 set \"   and Click Print buton; and Start timer in Stopwatch together"]
["7.Use Lap funtion  as follows and Record the time for 2 set test"]
["Lap1: FSOT : Time from “Print” button selected until the TRAIL EDGE of the First set exits to the default tray ,Make a Lap  here and timer continues to run .."]
["Lap2: LSOT : Time from “Print” button selected until the TRAIL EDGE of the Second set /last sheet exits to the default tray (stop timer here)"]
["6.Then proceed to  1set+30sec Test Procedure to measure FSOT and LSOT"]
["7.Go to File/Print ->Properties ,\" Settings are \"Simplex  /duplex accordingly\" ,print quality \"Default Resolution\"Color mode:Mono/Color,Count is \"N set \" mentioned in table  and Click Print buton; and Start timer in Stopwatch together"]
["8.Use Lap funtion  as follows and Record the time for N set test"]
["Lap1: FSOT30sec1 : Time from “Print” button selected until the TRAIL EDGE of the First set exits to the default tray ,Make a Lap  here and timer continues to run .."]
["Lap2: LSOT1 : Time from “Print” button selected until the TRAIL EDGE of the last sheet exits to the default tray (stop timer here)"]
["9.Repeat Step 7-8 for conseqent readings FSOT30 sec2 ,LSOT2 and FSOT 30sec3 ,LSOT3"]
["10.If applicable for  1set+ 4min Test  Procedure to measure FSOT and LSOT"]
["11.Go to File/Print ->Properties ,\" Settings are \"Simplex  \" ,print quality \"Default Resolution\",Count is \"N set \" mentioned in table  and Click Print buton; and Start timer in Stopwatch together"]
["12.Use Lap funtcion  as follows and Record the time for N set test"]
["Lap1: FSOT4min1 : Time from “Print” button selected until the TRAIL EDGE of the First set exits to the default tray ,Make a Lap  here and timer continues to run .."]
["Lap2: LSOT1 : Time from “Print” button selected until the TRAIL EDGE of the last sheet exits to the default tray (stop timer here)"]
["13.Repeat Step 11-12 for conseqent readings FSOT4min2 ,LSOT2 and FSOT 4min3 ,LSOT3"]

{"sheet":"ISO Copier -A4","index":20,"n_rows":71,"n_cols":54,"rows_kept":71,"cut":false,"hidden":true,"merged":[[32,2,33,13],[24,2,24,5],[28,2,28,5],[0,2,0,3],[2,11,2,12],[9,11,9,12],[20,2,20,5],[22,2,22,5],[23,2,23,5]]}
["MFP Model:",{"$f":"'ISO Printer -A4'!B1","v":0},null,null,null,null,null,"Media","A4"]
[]
["1 set test",null,null,null,null,null,null,null,null,null,null,"N=2sets data",null,"1 set + 30 seconds test",null,null,null,null,null,null,null,null,null,null,null,null,null,null,null,null,null,null,null,null,null,null,"1set + 4minute test"]
["Color Mode","File Name","FSOT1 (s)","FSOT2 (s)","Consistency","FSOTavg","FSOT3 (s)","FSOTavg2","FSOT (s)","EFTP1set (ipm)\naka UCST",null,"FSOT","LSOT","N30sec","FSOT30sec1","LSOT1","FSOT30sec2","LSOT2","FSOT consistency","FSOT30avg","LSOTavg","ESAT1","ESAT2","ESAT consistency","EFTP1","EFTP2","EFTP consistency","FSOT30sec3","LSOT3","FSOT30avg2","LSOTavg2","FSOT","LSOT","ESAT","EFTP30sec",null,"N4min","FSOT4min1","LSOT1","FSOT4min2","LSOT2","FSOT consistency","FSOT30avg","LSOTavg","EFTP1","EFTP2","EFTP consistency","FSOT4min3","LSOT3","FSOT4minavg2","LSOTavg2","FSOT","LSOT","EFTP4min"]
["1:1","test file for 24735.pdf",null,null,null,null,null,{"$f":"(C5+D5+G5)/3","v":0},{"$f":"IF(E5<0.05, F5, H5)","v":0},{"$f":"240/I5","v":{"$error":"#DIV/0!"}},null,null,null,{"$f":"ROUNDUP(((30/(M5-L5))+1),0)","v":{"$error":"#DIV/0!"}},null,null,null,null,{"$f":"ABS(((2*O5)/(O5+Q5))-1)","v":{"$error":"#DIV/0!"}},{"$f":"(O5+Q5)/2","v":0},0,{"$f":"(240*(N5-1))/(P5-O5)","v":{"$error":"#DIV/0!"}},{"$f":"(240*(N5-1))/(R5-Q5)","v":{"$error":"#DIV/0!"}},{"$f":"ABS(((2*V5)/(V5+W5))-1)","v":{"$error":"#DIV/0!"}},{"$f":"(240*N5)/P5","v":{"$error":"#DIV/0!"}},{"$f":"(240*N5)/R5","v":{"$error":"#DIV/0!"}},{"$f":"ABS(((2*Y5)/(Y5+Z5))-1)","v":{"$error":"#DIV/0!"}},null,null,{"$f":"(O5+Q5+AB5)/3","v":0},0,{"$f":"IF(AND(S5<0.05,X5<0.05,AA5<0.05),T5,AD5)","v":{"$error":"#DIV/0!"}},{"$f":"IF(AND(S5<0.05,X5<0.05,AA5<0.05),U5,AE5)","v":{"$error":"#DIV/0!"}},{"$f":"(240*(N5-1))/(AG5-AF5)","v":{"$error":"#DIV/0!"}},{"$f":"(240*N5)/AG5","v":{"$error":"#DIV/0!"}},null,{"$f":"ROUNDUP((((240*(N5-1))/(AG5-AF5))+1),0)","v":{"$error":"#DIV/0!"}},null,null,null,null,{"$f":"ABS(((2*AL5)/(AL5+AN5))-1)","v":{"$error":"#DIV/0!"}},{"$f":"(AL5+AN5)/2","v":0},0,{"$f":"(240*AK5)/AM5","v":{"$error":"#DIV/0!"}},{"$f":"(240*AK5)/AO5","v":{"$error":"#DIV/0!"}},{"$f":"ABS(((2*AS5)/(AS5+AT5))-1)","v":{"$error":"#DIV/0!"}},null,null,{"$f":"(AL5+AN5+AV5)/3","v":0},0,{"$f":"IF(AP5<0.05,AQ5,AX5)","v":{"$error":"#DIV/0!"}},{"$f":"IF(AP5<0.05,AR5,AY5)","v":{"$error":"#DIV/0!"}},{"$f":"(240*AK5)/BA5","v":{"$error":"#DIV/0!"}}]
["1:2","test file for 24735.pdf",null,null,null,null,null,{"$f":"(C6+D6+G6)/3","v":0},{"$f":"IF(E6<0.05, F6, H6)","v":0},{"$f":"240/I6","v":{"$error":"#DIV/0!"}},null,null,null,{"$f":"ROUNDUP(((30/(M6-L6))+1),0)","v":{"$error":"#DIV/0!"}},null,null,null,null,{"$f":"ABS(((2*O6)/(O6+Q6))-1)","v":{"$error":"#DIV/0!"}},0,0,{"$f":"(240*(N6-1))/(P6-O6)","v":{"$error":"#DIV/0!"}},{"$f":"(240*(N6-1))/(R6-Q6)","v":{"$error":"#DIV/0!"}},{"$f":"ABS(((2*V6)/(V6+W6))-1)","v":{"$error":"#DIV/0!"}},{"$f":"(240*N6)/P6","v":{"$error":"#DIV/0!"}},{"$f":"(240*N6)/R6","v":{"$error":"#DIV/0!"}},{"$f":"ABS(((2*Y6)/(Y6+Z6))-1)","v":{"$error":"#DIV/0!"}},null,null,0,0,{"$f":"IF(AND(S6<0.05,X6<0.05,AA6<0.05),T6,AD6)","v":{"$error":"#DIV/0!"}},{"$f":"IF(AND(S6<0.05,X6<0.05,AA6<0.05),U6,AE6)","v":{"$error":"#DIV/0!"}},{"$f":"(240*(N6-1))/(AG6-AF6)","v":{"$error":"#DIV/0!"}},{"$f":"(240*N6)/AG6","v":{"$error":"#DIV/0!"}},null,{"$f":"ROUNDUP((((240*(N6-1))/(AG6-AF6))+1),0)","v":{"$error":"#DIV/0!"}},null,null,null,null,{"$f":"ABS(((2*AL6)/(AL6+AN6))-1)","v":{"$error":"#DIV/0!"}},0,0,{"$f":"(240*AK6)/AM6","v":{"$error":"#DIV/0!"}},{"$f":"(240*AK6)/AO6","v":{"$error":"#DIV/0!"}},{"$f":"ABS(((2*AS6)/(AS6+AT6))-1)","v":{"$error":"#DIV/0!"}},null,null,0,0,{"$f":"IF(AP6<0.05,AQ6,AX6)","v":{"$error":"#DIV/0!"}},{"$f":"IF(AP6<0.05,AR6,AY6)","v":{"$error":"#DIV/0!"}},{"$f":"(240*AK6)/BA6","v":{"$error":"#DIV/0!"}}]
["2:2","test file for 24735.pdf",null,null,null,null,null,{"$f":"(C7+D7+G7)/3","v":0},{"$f":"IF(E7<0.05, F7, H7)","v":0},{"$f":"240/I7","v":{"$error":"#DIV/0!"}},null,null,null,{"$f":"ROUNDUP(((30/(M7-L7))+1),0)","v":{"$error":"#DIV/0!"}},null,null,null,null,{"$f":"ABS(((2*O7)/(O7+Q7))-1)","v":{"$error":"#DIV/0!"}},0,0,{"$f":"(240*(N7-1))/(P7-O7)","v":{"$error":"#DIV/0!"}},{"$f":"(240*(N7-1))/(R7-Q7)","v":{"$error":"#DIV/0!"}},{"$f":"ABS(((2*V7)/(V7+W7))-1)","v":{"$error":"#DIV/0!"}},{"$f":"(240*N7)/P7","v":{"$error":"#DIV/0!"}},{"$f":"(240*N7)/R7","v":{"$error":"#DIV/0!"}},{"$f":"ABS(((2*Y7)/(Y7+Z7))-1)","v":{"$error":"#DIV/0!"}},null,null,0,0,{"$f":"IF(AND(S7<0.05,X7<0.05,AA7<0.05),T7,AD7)","v":{"$error":"#DIV/0!"}},{"$f":"IF(AND(S7<0.05,X7<0.05,AA7<0.05),U7,AE7)","v":{"$error":"#DIV/0!"}},{"$f":"(240*(N7-1))/(AG7-AF7)","v":{"$error":"#DIV/0!"}},{"$f":"(240*N7)/AG7","v":{"$error":"#DIV/0!"}},null,{"$f":"ROUNDUP((((240*(N7-1))/(AG7-AF7))+1),0)","v":{"$error":"#DIV/0!"}},null,null,null,null,{"$f":"ABS(((2*AL7)/(AL7+AN7))-1)","v":{"$error":"#DIV/0!"}},0,0,{"$f":"(240*AK7)/AM7","v":{"$error":"#DIV/0!"}},{"$f":"(240*AK7)/AO7","v":{"$error":"#DIV/0!"}},{"$f":"ABS(((2*AS7)/(AS7+AT7))-1)","v":{"$error":"#DIV/0!"}},null,null,0,0,{"$f":"IF(AP7<0.05,AQ7,AX7)","v":{"$error":"#DIV/0!"}},{"$f":"IF(AP7<0.05,AR7,AY7)","v":{"$error":"#DIV/0!"}},{"$f":"(240*AK7)/BA7","v":{"$error":"#DIV/0!"}}]
[]
[]
["1 set test",null,null,null,null,null,null,null,null,null,null,"N=2sets data",null,"1 set + 30 seconds test",null,null,null,null,null,null,null,null,null,null,null,null,null,null,null,null,null,null,null,null,null,null,"1set + 4minute test"]
["B&W Mode","File Name","FSOT1 (s)","FSOT2 (s)","Consistency","FSOTavg","FSOT3 (s)","FSOTavg2","FSOT (s)","EFTP1set (ipm)\naka UCST",null,"FSOT","LSOT","N30sec","FSOT30sec1","LSOT1","FSOT30sec2","LSOT2","FSOT consistency","FSOT30avg","LSOTavg","ESAT1","ESAT2","ESAT consistency","EFTP1","EFTP2","EFTP consistency","FSOT30sec3","LSOT3","FSOT30avg2","LSOTavg2","FSOT","LSOT","ESAT","EFTP30sec",null,"N4min","FSOT4min1","LSOT1","FSOT4min2","LSOT2","FSOT consistency","FSOT30avg","LSOTavg","EFTP1","EFTP2","EFTP consistency","FSOT4min3","LSOT3","FSOT4minavg2","LSOTavg2","FSOT","LSOT","EFTP4min"]
["1:1","test file for 24735.pdf",null,null,null,null,null,{"$f":"(C12+D12+G12)/3","v":0},{"$f":"IF(E12<0.05, F12, H12)","v":0},{"$f":"240/I12","v":{"$error":"#DIV/0!"}},null,null,null,{"$f":"ROUNDUP(((30/(M12-L12))+1),0)","v":{"$error":"#DIV/0!"}},null,null,null,null,{"$f":"ABS(((2*O12)/(O12+Q12))-1)","v":{"$error":"#DIV/0!"}},{"$f":"(O12+Q12)/2","v":0},0,{"$f":"(240*(N12-1))/(P12-O12)","v":{"$error":"#DIV/0!"}},{"$f":"(240*(N12-1))/(R12-Q12)","v":{"$error":"#DIV/0!"}},{"$f":"ABS(((2*V12)/(V12+W12))-1)","v":{"$error":"#DIV/0!"}},{"$f":"(240*N12)/P12","v":{"$error":"#DIV/0!"}},{"$f":"(240*N12)/R12","v":{"$error":"#DIV/0!"}},{"$f":"ABS(((2*Y12)/(Y12+Z12))-1)","v":{"$error":"#DIV/0!"}},null,null,{"$f":"(O12+Q12+AB12)/3","v":0},0,{"$f":"IF(AND(S12<0.05,X12<0.05,AA12<0.05),T12,AD12)","v":{"$error":"#DIV/0!"}},{"$f":"IF(AND(S12<0.05,X12<0.05,AA12<0.05),U12,AE12)","v":{"$error":"#DIV/0!"}},{"$f":"(240*(N12-1))/(AG12-AF12)","v":{"$error":"#DIV/0!"}},{"$f":"(240*N12)/AG12","v":{"$error":"#DIV/0!"}},null,{"$f":"ROUNDUP((((240*(N12-1))/(AG12-AF12))+1),0)","v":{"$error":"#DIV/0!"}},null,null,null,null,{"$f":"ABS(((2*AL12)/(AL12+AN12))-1)","v":{"$error":"#DIV/0!"}},{"$f":"(AL12+AN12)/2","v":0},0,{"$f":"(240*AK12)/AM12","v":{"$error":"#DIV/0!"}},{"$f":"(240*AK12)/AO12","v":{"$error":"#DIV/0!"}},{"$f":"ABS(((2*AS12)/(AS12+AT12))-1)","v":{"$error":"#DIV/0!"}},null,null,{"$f":"(AL12+AN12+AV12)/3","v":0},0,{"$f":"IF(AP12<0.05,AQ12,AX12)","v":{"$error":"#DIV/0!"}},{"$f":"IF(AP12<0.05,AR12,AY12)","v":{"$error":"#DIV/0!"}},{"$f":"(240*AK12)/BA12","v":{"$error":"#DIV/0!"}}]
["1:2","test file for 24735.pdf",null,null,null,null,null,{"$f":"(C13+D13+G13)/3","v":0},{"$f":"IF(E13<0.05, F13, H13)","v":0},{"$f":"240/I13","v":{"$error":"#DIV/0!"}},null,null,null,{"$f":"ROUNDUP(((30/(M13-L13))+1),0)","v":{"$error":"#DIV/0!"}},null,null,null,null,{"$f":"ABS(((2*O13)/(O13+Q13))-1)","v":{"$error":"#DIV/0!"}},0,0,{"$f":"(240*(N13-1))/(P13-O13)","v":{"$error":"#DIV/0!"}},{"$f":"(240*(N13-1))/(R13-Q13)","v":{"$error":"#DIV/0!"}},{"$f":"ABS(((2*V13)/(V13+W13))-1)","v":{"$error":"#DIV/0!"}},{"$f":"(240*N13)/P13","v":{"$error":"#DIV/0!"}},{"$f":"(240*N13)/R13","v":{"$error":"#DIV/0!"}},{"$f":"ABS(((2*Y13)/(Y13+Z13))-1)","v":{"$error":"#DIV/0!"}},null,null,0,0,{"$f":"IF(AND(S13<0.05,X13<0.05,AA13<0.05),T13,AD13)","v":{"$error":"#DIV/0!"}},{"$f":"IF(AND(S13<0.05,X13<0.05,AA13<0.05),U13,AE13)","v":{"$error":"#DIV/0!"}},{"$f":"(240*(N13-1))/(AG13-AF13)","v":{"$error":"#DIV/0!"}},{"$f":"(240*N13)/AG13","v":{"$error":"#DIV/0!"}},null,{"$f":"ROUNDUP((((240*(N13-1))/(AG13-AF13))+1),0)","v":{"$error":"#DIV/0!"}},null,null,null,null,{"$f":"ABS(((2*AL13)/(AL13+AN13))-1)","v":{"$error":"#DIV/0!"}},0,0,{"$f":"(240*AK13)/AM13","v":{"$error":"#DIV/0!"}},{"$f":"(240*AK13)/AO13","v":{"$error":"#DIV/0!"}},{"$f":"ABS(((2*AS13)/(AS13+AT13))-1)","v":{"$error":"#DIV/0!"}},null,null,0,0,{"$f":"IF(AP13<0.05,AQ13,AX13)","v":{"$error":"#DIV/0!"}},{"$f":"IF(AP13<0.05,AR13,AY13)","v":{"$error":"#DIV/0!"}},{"$f":"(240*AK13)/BA13","v":{"$error":"#DIV/0!"}}]
["2:2","test file for 24735.pdf",null,null,null,null,null,{"$f":"(C14+D14+G14)/3","v":0},{"$f":"IF(E14<0.05, F14, H14)","v":0},{"$f":"240/I14","v":{"$error":"#DIV/0!"}},null,null,null,{"$f":"ROUNDUP(((30/(M14-L14))+1),0)","v":{"$error":"#DIV/0!"}},null,null,null,null,{"$f":"ABS(((2*O14)/(O14+Q14))-1)","v":{"$error":"#DIV/0!"}},0,0,{"$f":"(240*(N14-1))/(P14-O14)","v":{"$error":"#DIV/0!"}},{"$f":"(240*(N14-1))/(R14-Q14)","v":{"$error":"#DIV/0!"}},{"$f":"ABS(((2*V14)/(V14+W14))-1)","v":{"$error":"#DIV/0!"}},{"$f":"(240*N14)/P14","v":{"$error":"#DIV/0!"}},{"$f":"(240*N14)/R14","v":{"$error":"#DIV/0!"}},{"$f":"ABS(((2*Y14)/(Y14+Z14))-1)","v":{"$error":"#DIV/0!"}},null,null,0,0,{"$f":"IF(AND(S14<0.05,X14<0.05,AA14<0.05),T14,AD14)","v":{"$error":"#DIV/0!"}},{"$f":"IF(AND(S14<0.05,X14<0.05,AA14<0.05),U14,AE14)","v":{"$error":"#DIV/0!"}},{"$f":"(240*(N14-1))/(AG14-AF14)","v":{"$error":"#DIV/0!"}},{"$f":"(240*N14)/AG14","v":{"$error":"#DIV/0!"}},null,{"$f":"ROUNDUP((((240*(N14-1))/(AG14-AF14))+1),0)","v":{"$error":"#DIV/0!"}},null,null,null,null,{"$f":"ABS(((2*AL14)/(AL14+AN14))-1)","v":{"$error":"#DIV/0!"}},0,0,{"$f":"(240*AK14)/AM14","v":{"$error":"#DIV/0!"}},{"$f":"(240*AK14)/AO14","v":{"$error":"#DIV/0!"}},{"$f":"ABS(((2*AS14)/(AS14+AT14))-1)","v":{"$error":"#DIV/0!"}},null,null,0,0,{"$f":"IF(AP14<0.05,AQ14,AX14)","v":{"$error":"#DIV/0!"}},{"$f":"IF(AP14<0.05,AR14,AY14)","v":{"$error":"#DIV/0!"}},{"$f":"(240*AK14)/BA14","v":{"$error":"#DIV/0!"}}]
[]
["Test Condition / Operating System"]
["Test date"]
["Device Model",null,{"$f":"B1","v":0}]
["Device Serial Number",null,{"$f":"'ISO Printer -A4'!C26","v":0}]
["Voltage",null,{"$f":"'ISO Printer -A4'!C25","v":0}]
["MFP Configuration",null,{"$f":"'ISO Copier -A'!C21:F21","v":0}]
[]
["Copy Mode",null,{"$f":"'ISO Copier -A'!C23:F23","v":0}]
["Paper Tray",null,"Default"]
["Copy quality",null,"Default"]
[]
["Test Targets",null,"Test targets in accordance with ISO//IEC 24735"]
["Engine Code",null,{"$f":"'ISO Printer -A4'!C35","v":0}]
["Media used",null,{"$f":"'ISO Printer -A4'!C37","v":0}]
[]
[]
[]
[null,null,"ISO Copier Productivity-A4 Paper Size-Procedure"]
[]
[]
[]
[null,"Device Setup"]
[null,"Device is fully ready to print "]
[null,"Set color mode settings:login-->admin-->machine status-->tools-->device settings-->general-->output speed"]
[null,">select color/Mono"]
[null,"Sufficient \"A4\" -75gsm Media loaded in Tray1 "]
[null,"Job Settings"]
[null,"Select the plex (1:1/1:2/2:2 )accordingly.color mode:Color/Mono."]
[null,"Use Tray1 ,100% Magnification throughout the job ,do not change any other settings in copy screen"]
[null,"Collating enabled"]
[null,"Procedure:"]
[null,"Ensure that Test conditions are met and recorded in the sheet then start the Test.."]
[null,"1 Set Test Procedure to measure FSOT1set and EFTP1set:"]
[null,"1.Submit copy job using \"Test File for 24735 \" test file in SPDH  with mentioned settings; Press start timer while pressing \"Start\" button for copying"]
[null,"2.Measure FSOT1 as follows and record the time in seconds"]
[null,"FSOT1 : Time from “Start” button selected until TRAIL EDGE of the First set of \"test file for 24735 \" copy job exits to the default tray"]
[null,"3.Repeat the above steps for conseqent readings \"FSOT 2\" and \" FSOT 3\""]
[null,"4.Then  2 Set Test Procedure to measure FSOT and LSOT"]
[null,"5.Submit \"2 set\" of copy job using \"Test File for 24735 \" test file in SPDH  with mentioned settings; Press start timer while pressing \"Start\" button for copying"]
[null,"6.Use Lap funtion  as follows and Record the time for 2 set test"]
[null,"Lap1: FSOT : Time from “Start” button selected until the TRAIL EDGE of the First set exits to the default tray ,Make a Lap  here and timer continues to run .."]
[null,"Lap2: LSOT : Time from “Start” button selected until the TRAIL EDGE of the Second set /last sheet exits to the default tray (stop timer here)"]
[null,"7.Then proceed to  1set+30sec Test Procedure to measure FSOT and LSOT"]
[null,"8.Submit \"N set\" mentioned in table -  copy job using \"Test File for 24735 \" test file in SPDH  with mentioned settings; Press start timer while pressing \"Start\" button for copying"]
[null,"9.Use Lap funtion  as follows and Record the time for N set test"]
[null,"Lap1: FSOT30sec1 : Time from “Start” button selected until the TRAIL EDGE of the First set exits to the default tray ,Make a Lap  here and timer continues to run .."]
[null,"Lap2: LSOT1 : Time from “Start” button selected until the TRAIL EDGE of the last sheet exits to the default tray (stop timer here)"]
[null,"9.Repeat Step 8-9 for conseqent readings FSOT30 sec2 ,LSOT2 and FSOT 30sec3 ,LSOT3"]
[null,"10.Then 1set+ 4min Test  Procedure to measure FSOT and LSOT"]
[null,"11.Submit \"N set\" mentioned in table -  copy job using \"Test File for 24735 \" test file in SPDH  with mentioned settings; Press start timer while pressing \"Start\" button for copying"]
[null,"12.Use Lap funtion  as follows and Record the time for N set test"]
[null,"Lap1: FSOT4min1 : Time from “Start” button selected until the TRAIL EDGE of the First set exits to the default tray ,Make a Lap  here and timer continues to run .."]
[null,"Lap2: LSOT1 : Time from “Start” button selected until the TRAIL EDGE of the last sheet exits to the default tray (stop timer here)"]
[null,"13.Repeat Step 11-12 for conseqent readings FSOT4min2 ,LSOT2 and FSOT 4min3 ,LSOT3"]
[null,"Note:"]
[null,"ADF : Automatic Document Feeder  "]

{"sheet":"ISO Summary Report - A","index":21,"n_rows":99,"n_cols":10,"rows_kept":99,"cut":false,"hidden":true,"merged":[[98,0,100,4],[0,9,3,13],[23,0,23,5],[24,0,24,5],[25,0,25,5],[47,0,49,4],[76,0,76,5]]}
[null,null,null,null,null,null,null,null,null,"In order to display Xerox San fonts properly for the summary report, please install Xerox San font follow link: http://xeroxbrandcentral.external.xerox.com/assets-and-styles/visual/typography/xerox-sans-installer. "]
["ISO/IEC 24734 Productivity Test Report - Letter"]
[]
["Machine Model : "]
[{"$f":"'ISO Printer -A'!B1","v":0}]
[]
["Published Printing FSOT & ESAT","FSOT(sec)","ESAT(ipm)"]
["Color Simplex Print ",{"$f":"'ISO Print Summary - A'!C12","v":{"$error":"#DIV/0!"}},{"$f":"'ISO Print Summary - A'!G12","v":{"$error":"#VALUE!"}}]
["Color Duplex Print ",{"$f":"'ISO Print Summary - A'!C19","v":{"$error":"#DIV/0!"}},{"$f":"'ISO Print Summary - A'!G19","v":{"$error":"#VALUE!"}}]
["B&W Simplex Print ",{"$f":"'ISO Print Summary - A'!C29","v":{"$error":"#DIV/0!"}},{"$f":"'ISO Print Summary - A'!G29","v":{"$error":"#VALUE!"}}]
["B&W Duplex Print ",{"$f":"'ISO Print Summary - A'!C36","v":{"$error":"#DIV/0!"}},{"$f":"'ISO Print Summary - A'!G36","v":{"$error":"#VALUE!"}}]
["Declared in accordance with ISO/IEC 24734"]
[]
["Terms"]
["FSOT - First Set Out Time"]
["ESAT - Estimated Saturated Throughput"]
[]
[]
[]
[]
[]
[]
[]
[]
[]
[]
["26600 SW Parkway Ave"]
["Wilsonville, OR 97070"]
[]
["Number of cartridges used in testing",null,"13C,13M,13Y,13K"]
["Number of cartridges used in calculations",null,"9C,9M,9Y,9K"]
["Type of cartridge",null,"High Capacity "]
["Shake procedure used",null,"No"]
["Print mode",null,"Continuous"]
["Number of engines used in testing",null,3]
["Media used",null,"Xerox 4200 20#"]
["Paper size",null,"A"]
["Paper feed orientation",null,"Long Edge Feed"]
["Computer model",null,"Dell PC 1.2GHz"]
["Driver version",null,"3.0.2.2"]
["Operating system",null,"Windows XP Version 2002"]
["Application software",null,"Adobe Acrobat version 7.0.1"]
["Test page version",null,"NA"]
["Power on/off everyday?",null,"No"]
["Engine Code",null,"3.1.2"]
["PS Code",null,"3.4.2"]
[]
["© 2009 Xerox Corporation. All rights reserved. Contents of this publication may not be reproduced in any form without permission of Xerox Corporation. XEROX®, and the sphere of connectivity design are trademarks of Xerox Corporation in the U.S. and/or other countries."]
[]
[]
[]
[]
["ISO/IEC 24735 Productivity Test Report - Letter"]
[]
["Machine Model : "]
[{"$f":"'ISO Printer -A'!B1","v":0}]
[]
["Published Copying FSOT & ESAT","FSOT(sec)","ESAT(ipm)"]
["Color      1:1",{"$f":"'ISO Copier -A'!I5","v":0},{"$f":"'ISO Copier -A'!AH5","v":{"$error":"#DIV/0!"}}]
["Color      1:2",{"$f":"'ISO Copier -A'!I6","v":0},{"$f":"'ISO Copier -A'!AH6","v":{"$error":"#DIV/0!"}}]
["Color      2:2",{"$f":"'ISO Copier -A'!I7","v":0},{"$f":"'ISO Copier -A'!AH7","v":{"$error":"#DIV/0!"}}]
["B&W      1:1",{"$f":"'ISO Copier -A'!I12","v":0},{"$f":"'ISO Copier -A'!AH12","v":{"$error":"#DIV/0!"}}]
["B&W      1:2",{"$f":"'ISO Copier -A'!I13","v":0},{"$f":"'ISO Copier -A'!AH13","v":{"$error":"#DIV/0!"}}]
["B&W      2:2",{"$f":"'ISO Copier -A'!I14","v":0},{"$f":"'ISO Copier -A'!AH14","v":{"$error":"#DIV/0!"}}]
["Declared in accordance with ISO/IEC  24735"]
[]
["Terms"]
["FSOT - First Set Out Time"]
["ESAT - Estimated Saturated Throughput"]
[]
[]
[]
[]
[]
[]
[]
[]
["26600 SW Parkway Ave"]
["Wilsonville, OR 97070"]
[]
["Number of cartridges used in testing",null,"13C,13M,13Y,13K"]
["Number of cartridges used in calculations",null,"9C,9M,9Y,9K"]
["Type of cartridge",null,"High Capacity "]
["Shake procedure used",null,"No"]
["Print mode",null,"Continuous"]
["Number of engines used in testing",null,3]
["Media used",null,"Xerox 4200 20#"]
["Paper size",null,"A"]
["Paper feed orientation",null,"Long Edge Feed"]
["Computer model",null,"Dell PC 1.2GHz"]
["Driver version",null,"3.0.2.2"]
["Operating system",null,"Windows XP Version 2002"]
["Application software",null,"Adobe Acrobat version 7.0.1"]
["Test page version",null,"NA"]
["Power on/off everyday?",null,"No"]
["Engine Code",null,"3.1.2"]
["PS Code",null,"3.4.2"]
[]
["© 2009 Xerox Corporation. All rights reserved. Contents of this publication may not be reproduced in any form without permission of Xerox Corporation. XEROX®, and the sphere of connectivity design are trademarks of Xerox Corporation in the U.S. and/or other countries."]

{"sheet":"ISO Summary Report - A4","index":22,"n_rows":99,"n_cols":10,"rows_kept":99,"cut":false,"hidden":true,"merged":[[98,0,100,4],[0,9,3,13],[23,0,23,5],[24,0,24,5],[25,0,25,5],[47,0,49,4],[76,0,76,5]]}
[null,null,null,null,null,null,null,null,null,"In order to display Xerox San fonts properly for the summary report, please install Xerox San font follow link: http://xeroxbrandcentral.external.xerox.com/assets-and-styles/visual/typography/xerox-sans-installer. "]
["ISO/IEC 24734 Productivity Test Report - A4"]
[]
["Machine Model : "]
[{"$f":"'ISO Printer -A4'!B1","v":0}]
[]
["Published Printing FSOT & ESAT","FSOT(sec)","ESAT(ipm)"]
["Color Simplex Print ",{"$f":"'ISO Print Summary - A4'!C12","v":{"$error":"#DIV/0!"}},{"$f":"'ISO Print Summary - A4'!G12","v":{"$error":"#VALUE!"}}]
["Color Duplex Print ",{"$f":"'ISO Print Summary - A4'!C19","v":{"$error":"#DIV/0!"}},{"$f":"'ISO Print Summary - A4'!G19","v":{"$error":"#VALUE!"}}]
["B&W Simplex Print ",{"$f":"'ISO Print Summary - A4'!C29","v":{"$error":"#DIV/0!"}},{"$f":"'ISO Print Summary - A4'!G29","v":{"$error":"#VALUE!"}}]
["B&W Duplex Print ",{"$f":"'ISO Print Summary - A4'!C36","v":{"$error":"#DIV/0!"}},{"$f":"'ISO Print Summary - A4'!G36","v":{"$error":"#VALUE!"}}]
["Declared in accordance with ISO/IEC 24734"]
[]
["Terms"]
["FSOT - First Set Out Time"]
["ESAT - Estimated Saturated Throughput"]
[]
[]
[]
[]
[]
[]
[]
[]
[]
[]
["26600 SW Parkway Ave"]
["Wilsonville, OR 97070"]
[]
["Number of cartridges used in testing",null,"13C,13M,13Y,13K"]
["Number of cartridges used in calculations",null,"9C,9M,9Y,9K"]
["Type of cartridge",null,"High Capacity "]
["Shake procedure used",null,"No"]
["Print mode",null,"Continuous"]
["Number of engines used in testing",null,3]
["Media used",null,"Xerox 4200 20#"]
["Paper size",null,"A"]
["Paper feed orientation",null,"Long Edge Feed"]
["Computer model",null,"Dell PC 1.2GHz"]
["Driver version",null,"3.0.2.2"]
["Operating system",null,"Windows XP Version 2002"]
["Application software",null,"Adobe Acrobat version 7.0.1"]
["Test page version",null,"NA"]
["Power on/off everyday?",null,"No"]
["Engine Code",null,"3.1.2"]
["PS Code",null,"3.4.2"]
[]
["© 2009 Xerox Corporation. All rights reserved. Contents of this publication may not be reproduced in any form without permission of Xerox Corporation. XEROX®, and the sphere of connectivity design are trademarks of Xerox Corporation in the U.S. and/or other countries."]
[]
[]
[]
[]
["ISO/IEC 24735 Productivity Test Report - A4"]
[]
["Machine Model : "]
[{"$f":"'ISO Printer -A4'!B1","v":0}]
[]
["Published Copying FSOT & ESAT","FSOT(sec)","ESAT(ipm)"]
["Color      1:1",{"$f":"'ISO Copier -A4'!I5","v":0},{"$f":"'ISO Copier -A4'!AH5","v":{"$error":"#DIV/0!"}}]
["Color      1:2",{"$f":"'ISO Copier -A4'!I6","v":0},{"$f":"'ISO Copier -A4'!AH6","v":{"$error":"#DIV/0!"}}]
["Color      2:2",{"$f":"'ISO Copier -A4'!I7","v":0},{"$f":"'ISO Copier -A4'!AH7","v":{"$error":"#DIV/0!"}}]
["B&W      1:1",{"$f":"'ISO Copier -A4'!I12","v":0},{"$f":"'ISO Copier -A4'!AH12","v":{"$error":"#DIV/0!"}}]
["B&W      1:2",{"$f":"'ISO Copier -A4'!I13","v":0},{"$f":"'ISO Copier -A4'!AH13","v":{"$error":"#DIV/0!"}}]
["B&W      2:2",{"$f":"'ISO Copier -A4'!I14","v":0},{"$f":"'ISO Copier -A4'!AH14","v":{"$error":"#DIV/0!"}}]
["Declared in accordance with ISO/IEC  24735"]
[]
["Terms"]
["FSOT - First Set Out Time"]
["ESAT - Estimated Saturated Throughput"]
[]
[]
[]
[]
[]
[]
[]
[]
["26600 SW Parkway Ave"]
["Wilsonville, OR 97070"]
[]
["Number of cartridges used in testing",null,"13C,13M,13Y,13K"]
["Number of cartridges used in calculations",null,"9C,9M,9Y,9K"]
["Type of cartridge",null,"High Capacity "]
["Shake procedure used",null,"No"]
["Print mode",null,"Continuous"]
["Number of engines used in testing",null,3]
["Media used",null,"Xerox 4200 20#"]
["Paper size",null,"A"]
["Paper feed orientation",null,"Long Edge Feed"]
["Computer model",null,"Dell PC 1.2GHz"]
["Driver version",null,"3.0.2.2"]
["Operating system",null,"Windows XP Version 2002"]
["Application software",null,"Adobe Acrobat version 7.0.1"]
["Test page version",null,"NA"]
["Power on/off everyday?",null,"No"]
["Engine Code",null,"3.1.2"]
["PS Code",null,"3.4.2"]
[]
["© 2009 Xerox Corporation. All rights reserved. Contents of this publication may not be reproduced in any form without permission of Xerox Corporation. XEROX®, and the sphere of connectivity design are trademarks of Xerox Corporation in the U.S. and/or other countries."]

{"sheet":"ISO Full Report - A","index":23,"n_rows":100,"n_cols":9,"rows_kept":100,"cut":false,"hidden":true,"merged":[[10,4,10,6],[13,3,13,4],[13,6,13,7],[24,3,24,7],[25,4,25,5],[25,6,25,7],[99,0,101,4],[42,0,42,6],[47,0,49,4],[75,3,75,5],[76,3,76,7],[77,4,77,5],[77,6,77,7],[85,4,85,5],[85,6,85,7],[89,4,89,5],[89,6,89,7],[94,0,94,6]]}
[]
["ISO/IEC 24734 Productivity Test Report - Letter"]
[]
["Machine Model : "]
[{"$f":"'ISO Printer -A'!B1","v":0}]
[]
[]
[]
[]
["Test date",null,{"$f":"'ISO Printer -A'!C23","v":"00:00:00"}]
["Device Model",null,{"$f":"'ISO Printer -A'!B1","v":0},null,{"$f":"'ISO Printer -A'!C25","v":0}]
["Device Serial Number",null,{"$f":"'ISO Printer -A'!C26","v":0}]
["Driver version",null,{"$f":"IF('ISO Printer -A'!C27=\"\", \"\", 'ISO Printer -A'!C27)","v":""}]
["Operating system",null,{"$f":"'ISO Printer -A'!C28","v":0},{"$f":"'ISO Printer -A'!C29","v":0},null,null,{"$f":"'ISO Printer -A'!C30","v":0}]
["Application software",null,{"$f":"'ISO Printer -A'!C31","v":0}]
[null,null,{"$f":"'ISO Printer -A'!C32","v":0}]
[null,null,{"$f":"'ISO Printer -A'!C33","v":0}]
["Test Suites",null,"Office test suites in accordance with ISO 24734"]
["Engine Code",null,{"$f":"'ISO Printer -A'!C35","v":0}]
["Printer Driver Type & Version",null,{"$f":"'ISO Printer -A'!C27","v":0}]
["Connectivity",null,{"$f":"'ISO Printer -A'!C36","v":0}]
["Media used",null,{"$f":"'ISO Printer -A'!C37","v":0}]
["Media Tray",null,{"$f":"'ISO Printer -A'!C38","v":0}]
[]
["Published FSOT, EFTP & ESAT",null,"FSOT","EFTP (ipm)    / (set)",null,null,null,null,"ESAT"]
[null,null,"(Sec)","1 Set","1 Set+30 Sec",null,"1 Set +4 min",null,"(ipm)"]
["Color Simplex Print ","Word",{"$f":"'ISO Printer -A'!J5","v":" "},{"$f":"'ISO Printer -A'!K5","v":" "},{"$f":"'ISO Print Summary - A'!E6","v":{"$error":"#VALUE!"}},{"$f":"'ISO Print Summary - A'!E7","v":" "},{"$f":"'ISO Print Summary - A'!F6","v":{"$error":"#VALUE!"}},{"$f":"'ISO Print Summary - A'!F7","v":{"$error":"#VALUE!"}},{"$f":"'ISO Printer -A'!AI5","v":{"$error":"#VALUE!"}}]
[null,"Adobe Reader",{"$f":"'ISO Printer -A'!J6","v":" "},{"$f":"'ISO Printer -A'!K6","v":" "},{"$f":"'ISO Print Summary - A'!E8","v":{"$error":"#VALUE!"}},{"$f":"'ISO Print Summary - A'!E9","v":" "},{"$f":"'ISO Print Summary - A'!F8","v":{"$error":"#VALUE!"}},{"$f":"'ISO Print Summary - A'!F9","v":{"$error":"#VALUE!"}},{"$f":"'ISO Printer -A'!AI6","v":{"$error":"#VALUE!"}}]
[null,"Excel",{"$f":"'ISO Printer -A'!J7","v":" "},{"$f":"'ISO Printer -A'!K7","v":" "},{"$f":"'ISO Print Summary - A'!E10","v":{"$error":"#VALUE!"}},{"$f":"'ISO Print Summary - A'!E11","v":" "},{"$f":"'ISO Print Summary - A'!F10","v":{"$error":"#VALUE!"}},{"$f":"'ISO Print Summary - A'!F11","v":{"$error":"#VALUE!"}},{"$f":"'ISO Printer -A'!AI7","v":{"$error":"#VALUE!"}}]
[null,"Average",{"$f":"AVERAGE(C27:C29)","v":{"$error":"#DIV/0!"}},{"$error":"#DIV/0!"},{"$error":"#VALUE!"},{"$error":"#DIV/0!"},{"$error":"#VALUE!"},{"$error":"#VALUE!"},{"$error":"#VALUE!"}]
["Color Duplex Print ","Word",{"$f":"'ISO Printer -A'!J8","v":" "},{"$f":"'ISO Printer -A'!K8","v":" "},{"$f":"'ISO Print Summary - A'!E13","v":{"$error":"#VALUE!"}},{"$f":"'ISO Print Summary - A'!E14","v":" "},{"$f":"'ISO Print Summary - A'!F13","v":{"$error":"#VALUE!"}},{"$f":"'ISO Print Summary - A'!F14","v":{"$error":"#VALUE!"}},{"$f":"'ISO Printer -A'!AI8","v":{"$error":"#VALUE!"}}]
[null,"Adobe Reader",{"$f":"'ISO Printer -A'!J9","v":" "},{"$f":"'ISO Printer -A'!K9","v":" "},{"$f":"'ISO Print Summary - A'!E15","v":{"$error":"#VALUE!"}},{"$f":"'ISO Print Summary - A'!E16","v":" "},{"$f":"'ISO Print Summary - A'!F15","v":{"$error":"#VALUE!"}},{"$f":"'ISO Print Summary - A'!F16","v":{"$error":"#VALUE!"}},{"$f":"'ISO Printer -A'!AI9","v":{"$error":"#VALUE!"}}]
[null,"Excel",{"$f":"'ISO Printer -A'!J10","v":" "},{"$f":"'ISO Printer -A'!K10","v":" "},{"$f":"'ISO Print Summary - A'!E17","v":{"$error":"#VALUE!"}},{"$f":"'ISO Print Summary - A'!E18","v":" "},{"$f":"'ISO Print Summary - A'!F17","v":{"$error":"#VALUE!"}},{"$f":"'ISO Print Summary - A'!F18","v":{"$error":"#VALUE!"}},{"$f":"'ISO Printer -A'!AI10","v":{"$error":"#VALUE!"}}]
[null,"Average",{"$f":"AVERAGE(C31:C33)","v":{"$error":"#DIV/0!"}},{"$error":"#DIV/0!"},{"$error":"#VALUE!"},{"$error":"#DIV/0!"},{"$error":"#VALUE!"},{"$error":"#VALUE!"},{"$error":"#VALUE!"}]
["B&W Simplex Print ","Word",{"$f":"'ISO Printer -A'!J14","v":" "},{"$f":"'ISO Printer -A'!K14","v":" "},{"$f":"'ISO Print Summary - A'!E23","v":{"$error":"#VALUE!"}},{"$f":"'ISO Print Summary - A'!E24","v":" "},{"$f":"'ISO Print Summary - A'!F23","v":{"$error":"#VALUE!"}},{"$f":"'ISO Print Summary - A'!F24","v":{"$error":"#VALUE!"}},{"$f":"'ISO Printer -A'!AI14","v":{"$error":"#VALUE!"}}]
[null,"Adobe Reader",{"$f":"'ISO Printer -A'!J15","v":" "},{"$f":"'ISO Printer -A'!K15","v":" "},{"$f":"'ISO Print Summary - A'!E25","v":{"$error":"#VALUE!"}},{"$f":"'ISO Print Summary - A'!E26","v":" "},{"$f":"'ISO Print Summary - A'!F25","v":{"$error":"#VALUE!"}},{"$f":"'ISO Print Summary - A'!F26","v":{"$error":"#VALUE!"}},{"$f":"'ISO Printer -A'!AI15","v":{"$error":"#VALUE!"}}]
[null,"Excel",{"$f":"'ISO Printer -A'!J16","v":" "},{"$f":"'ISO Printer -A'!K16","v":" "},{"$f":"'ISO Print Summary - A'!E27","v":{"$error":"#VALUE!"}},{"$f":"'ISO Print Summary - A'!E28","v":" "},{"$f":"'ISO Print Summary - A'!F27","v":{"$error":"#VALUE!"}},{"$f":"'ISO Print Summary - A'!F28","v":{"$error":"#VALUE!"}},{"$f":"'ISO Printer -A'!AI16","v":{"$error":"#VALUE!"}}]
[null,"Average",{"$f":"AVERAGE(C35:C37)","v":{"$error":"#DIV/0!"}},{"$error":"#DIV/0!"},{"$error":"#VALUE!"},{"$error":"#DIV/0!"},{"$error":"#VALUE!"},{"$error":"#VALUE!"},{"$error":"#VALUE!"}]
["B&W Duplex Print ","Word",{"$f":"'ISO Printer -A'!J17","v":" "},{"$f":"'ISO Printer -A'!K17","v":" "},{"$f":"'ISO Print Summary - A'!E30","v":{"$error":"#VALUE!"}},{"$f":"'ISO Print Summary - A'!E31","v":" "},{"$f":"'ISO Print Summary - A'!F30","v":{"$error":"#VALUE!"}},{"$f":"'ISO Print Summary - A'!F31","v":{"$error":"#VALUE!"}},{"$f":"'ISO Printer -A'!AI17","v":{"$error":"#VALUE!"}}]
[null,"Adobe Reader",{"$f":"'ISO Printer -A'!J18","v":" "},{"$f":"'ISO Printer -A'!K18","v":" "},{"$f":"'ISO Print Summary - A'!E32","v":{"$error":"#VALUE!"}},{"$f":"'ISO Print Summary - A'!E33","v":" "},{"$f":"'ISO Print Summary - A'!F32","v":{"$error":"#VALUE!"}},{"$f":"'ISO Print Summary - A'!F33","v":{"$error":"#VALUE!"}},{"$f":"'ISO Printer -A'!AI18","v":{"$error":"#VALUE!"}}]
[null,"Excel",{"$f":"'ISO Printer -A'!J19","v":" "},{"$f":"'ISO Printer -A'!K19","v":" "},{"$f":"'ISO Print Summary - A'!E34","v":{"$error":"#VALUE!"}},{"$f":"'ISO Print Summary - A'!E35","v":" "},{"$f":"'ISO Print Summary - A'!F34","v":{"$error":"#VALUE!"}},{"$f":"'ISO Print Summary - A'!F35","v":{"$error":"#VALUE!"}},{"$f":"'ISO Printer -A'!AI19","v":{"$error":"#VALUE!"}}]
[null,"Average",{"$f":"AVERAGE(C39:C41)","v":{"$error":"#DIV/0!"}},{"$error":"#DIV/0!"},{"$error":"#VALUE!"},{"$error":"#DIV/0!"},{"$error":"#VALUE!"},{"$error":"#VALUE!"},{"$error":"#VALUE!"}]
["Declared in accordance with ISO/IEC 24734"]
["Terms",null,"No"]
["FSOT - First Set Out Time",null,"3.1.2"]
["ESAT - Estimated Saturated Throughput",null,"3.4.2"]
["EFPT - Effective Throughput"]
["© 2009 Xerox Corporation. All rights reserved. Contents of this publication may not be reproduced in any form without permission of Xerox Corporation. XEROX®, and the sphere of connectivity design are trademarks of Xerox Corporation in the U.S. and/or oth"]
[]
[]
[]
[]
[]
["ISO/IEC 24735 Productivity Test Report - Letter"]
[]
["Machine Model : "]
[{"$f":"'ISO Copier -A'!C18","v":0}]
[]
[]
[]
[]
["Test date",null,{"$f":"'ISO Copier -A'!C17","v":"00:00:00"}]
["Device Model",null,{"$f":"'ISO Copier -A'!C18","v":0}]
["Device Serial Number",null,{"$f":"'ISO Copier -A'!C19","v":0}]
["Voltage",null,{"$f":"'ISO Copier -A'!C20","v":0}]
["MFP Configuration",null,{"$f":"'ISO Copier -A'!C21","v":0}]
[]
["Mode",null,{"$f":"'ISO Copier -A'!C23","v":0}]
["Paper Tray",null,{"$f":"'ISO Copier -A'!C24","v":"Default"}]
["Copy quality",null,{"$f":"'ISO Copier -A'!C25","v":"Default"}]
[]
["Test Targets",null,"Test targets in accordance with ISO//IEC 24735"]
["Engine Code",null,{"$f":"'ISO Copier -A'!C28","v":0}]
["Media used",null,{"$f":"'ISO Copier -A'!C29","v":0}]
[]
[]
["Published FSOT, EFTP & ESAT",null,"FSOT","EFTP (ipm)    / (set)",null,null,null,null,"ESAT"]
[null,null,"(Sec)","1 Set","1 Set+30 Sec",null,"1 Set +4 min",null,"(ipm)"]
["Color Copy","1:1",{"$f":"'ISO Copier -A'!I5","v":0},{"$f":"'ISO Copier -A'!J5","v":{"$error":"#DIV/0!"}},{"$f":"'ISO Copier -A'!AI5","v":{"$error":"#DIV/0!"}},{"$f":"'ISO Copy Summary - A'!D7","v":{"$error":"#DIV/0!"}},{"$f":"'ISO Copier -A'!BB5","v":{"$error":"#DIV/0!"}},{"$f":"'ISO Copy Summary - A'!E7","v":{"$error":"#DIV/0!"}},{"$f":"'ISO Copier -A'!AH5","v":{"$error":"#DIV/0!"}}]
[null,"1:2",{"$f":"'ISO Copier -A'!I6","v":0},{"$f":"'ISO Copier -A'!J6","v":{"$error":"#DIV/0!"}},{"$f":"'ISO Copier -A'!AI6","v":{"$error":"#DIV/0!"}},{"$f":"'ISO Copy Summary - A'!D9","v":{"$error":"#DIV/0!"}},{"$f":"'ISO Copier -A'!BB6","v":{"$error":"#DIV/0!"}},{"$f":"'ISO Copy Summary - A'!E9","v":{"$error":"#DIV/0!"}},{"$f":"'ISO Copier -A'!AH6","v":{"$error":"#DIV/0!"}}]
[null,"2:2",{"$f":"'ISO Copier -A'!I7","v":0},{"$f":"'ISO Copier -A'!J7","v":{"$error":"#DIV/0!"}},{"$f":"'ISO Copier -A'!AI7","v":{"$error":"#DIV/0!"}},{"$f":"'ISO Copy Summary - A'!D11","v":{"$error":"#DIV/0!"}},{"$f":"'ISO Copier -A'!BB7","v":{"$error":"#DIV/0!"}},{"$f":"'ISO Copy Summary - A'!E11","v":{"$error":"#DIV/0!"}},{"$f":"'ISO Copier -A'!AH7","v":{"$error":"#DIV/0!"}}]
["B&W Copy","1:1",{"$f":"'ISO Copier -A'!I12","v":0},{"$f":"'ISO Copier -A'!J12","v":{"$error":"#DIV/0!"}},{"$f":"'ISO Copier -A'!AI12","v":{"$error":"#DIV/0!"}},{"$f":"'ISO Copy Summary - A'!D17","v":{"$error":"#DIV/0!"}},{"$f":"'ISO Copier -A'!BB12","v":{"$error":"#DIV/0!"}},{"$f":"'ISO Copy Summary - A'!E17","v":{"$error":"#DIV/0!"}},{"$f":"'ISO Copier -A'!AH12","v":{"$error":"#DIV/0!"}}]
[null,"1:2",{"$f":"'ISO Copier -A'!I13","v":0},{"$f":"'ISO Copier -A'!J13","v":{"$error":"#DIV/0!"}},{"$f":"'ISO Copier -A'!AI13","v":{"$error":"#DIV/0!"}},{"$f":"'ISO Copy Summary - A'!D19","v":{"$error":"#DIV/0!"}},{"$f":"'ISO Copier -A'!BB13","v":{"$error":"#DIV/0!"}},{"$f":"'ISO Copy Summary - A'!E19","v":{"$error":"#DIV/0!"}},{"$f":"'ISO Copier -A'!AH13","v":{"$error":"#DIV/0!"}}]
[null,"2:2",{"$f":"'ISO Copier -A'!I14","v":0},{"$f":"'ISO Copier -A'!J14","v":{"$error":"#DIV/0!"}},{"$f":"'ISO Copier -A'!AI14","v":{"$error":"#DIV/0!"}},{"$f":"'ISO Copy Summary - A'!D21","v":{"$error":"#DIV/0!"}},{"$f":"'ISO Copier -A'!BB14","v":{"$error":"#DIV/0!"}},{"$f":"'ISO Copy Summary - A'!E21","v":{"$error":"#DIV/0!"}},{"$f":"'ISO Copier -A'!AH14","v":{"$error":"#DIV/0!"}}]
["Declared in accordance with ISO/IEC 24735"]
[]
["Terms"]
["FSOT - First Set Out Time"]
["ESAT - Estimated Saturated Throughput"]
["EFPT - Effective Throughput"]
[]
[]
[]
[]
[]
[null,null,"No"]
[null,null,"3.1.2"]
[null,null,"3.4.2"]
[]
["© 2009 Xerox Corporation. All rights reserved. Contents of this publication may not be reproduced in any form without permission of Xerox Corporation. XEROX®, and the sphere of connectivity design are trademarks of Xerox Corporation in the U.S. and/or oth"]

{"sheet":"ISO Full Report - A4","index":24,"n_rows":100,"n_cols":9,"rows_kept":100,"cut":false,"hidden":true,"merged":[[10,4,10,6],[13,3,13,4],[13,6,13,7],[24,3,24,7],[25,4,25,5],[25,6,25,7],[99,0,101,4],[42,0,42,6],[47,0,49,4],[75,3,75,5],[76,3,76,7],[77,4,77,5],[77,6,77,7],[85,4,85,5],[85,6,85,7],[89,4,89,5],[89,6,89,7],[94,0,94,6]]}
[]
["ISO/IEC 24734 Productivity Test Report - A4"]
[]
["Machine Model : "]
[{"$f":"'ISO Printer -A4'!B1","v":0}]
[]
[]
[]
[]
["Test date",null,{"$f":"'ISO Printer -A4'!C23","v":"00:00:00"}]
["Device Model",null,{"$f":"'ISO Printer -A4'!B1","v":0},null,{"$f":"'ISO Printer -A4'!C25","v":0}]
["Device Serial Number",null,{"$f":"'ISO Printer -A4'!C26","v":0}]
["Driver version",null,{"$f":"IF('ISO Printer -A4'!C27=\"\", \"\", 'ISO Printer -A4'!C27)","v":0}]
["Operating system",null,{"$f":"'ISO Printer -A4'!C28","v":0},{"$f":"'ISO Printer -A4'!C29","v":0},null,null,{"$f":"'ISO Printer -A4'!C30","v":0}]
["Application software",null,{"$f":"'ISO Printer -A4'!C31","v":0}]
[null,null,{"$f":"'ISO Printer -A4'!C32","v":0}]
[null,null,{"$f":"'ISO Printer -A4'!C33","v":0}]
["Test Suites",null,"Office test suites in accordance with ISO 24734"]
["Engine Code",null,{"$f":"'ISO Printer -A4'!C35","v":0}]
["Printer Driver Type & Version",null,{"$f":"'ISO Printer -A4'!C27","v":0}]
["Connectivity",null,{"$f":"'ISO Printer -A4'!C36","v":0}]
["Media used",null,{"$f":"'ISO Printer -A4'!C37","v":0}]
["Media Tray",null,{"$f":"'ISO Printer -A4'!C38","v":0}]
[]
["Published FSOT, EFTP & ESAT",null,"FSOT","EFTP (ipm)    / (set)",null,null,null,null,"ESAT"]
[null,null,"(Sec)","1 Set","1 Set+30 Sec",null,"1 Set +4 min",null,"(ipm)"]
["Color Simplex Print ","Word",{"$f":"'ISO Printer -A4'!J5","v":" "},{"$f":"'ISO Printer -A4'!K5","v":" "},{"$f":"'ISO Print Summary - A4'!E6","v":{"$error":"#VALUE!"}},{"$f":"'ISO Print Summary - A4'!E7","v":" "},{"$f":"'ISO Print Summary - A4'!F6","v":{"$error":"#VALUE!"}},{"$f":"'ISO Print Summary - A4'!F7","v":{"$error":"#VALUE!"}},{"$f":"'ISO Printer -A4'!AI5","v":{"$error":"#VALUE!"}}]
[null,"Adobe Reader",{"$f":"'ISO Printer -A4'!J6","v":" "},{"$f":"'ISO Printer -A4'!K6","v":" "},{"$f":"'ISO Print Summary - A4'!E8","v":{"$error":"#VALUE!"}},{"$f":"'ISO Print Summary - A4'!E9","v":" "},{"$f":"'ISO Print Summary - A4'!F8","v":{"$error":"#VALUE!"}},{"$f":"'ISO Print Summary - A4'!F9","v":{"$error":"#VALUE!"}},{"$f":"'ISO Printer -A4'!AI6","v":{"$error":"#VALUE!"}}]
[null,"Excel",{"$f":"'ISO Printer -A4'!J7","v":" "},{"$f":"'ISO Printer -A4'!K7","v":" "},{"$f":"'ISO Print Summary - A4'!E10","v":{"$error":"#VALUE!"}},{"$f":"'ISO Print Summary - A4'!E11","v":" "},{"$f":"'ISO Print Summary - A4'!F10","v":{"$error":"#VALUE!"}},{"$f":"'ISO Print Summary - A4'!F11","v":{"$error":"#VALUE!"}},{"$f":"'ISO Printer -A4'!AI7","v":{"$error":"#VALUE!"}}]
[null,"Average",{"$f":"AVERAGE(C27:C29)","v":{"$error":"#DIV/0!"}},{"$error":"#DIV/0!"},{"$error":"#VALUE!"},{"$error":"#DIV/0!"},{"$error":"#VALUE!"},{"$error":"#VALUE!"},{"$error":"#VALUE!"}]
["Color Duplex Print ","Word",{"$f":"'ISO Printer -A4'!J8","v":" "},{"$f":"'ISO Printer -A4'!K8","v":" "},{"$f":"'ISO Print Summary - A4'!E13","v":{"$error":"#VALUE!"}},{"$f":"'ISO Print Summary - A4'!E14","v":" "},{"$f":"'ISO Print Summary - A4'!F13","v":{"$error":"#VALUE!"}},{"$f":"'ISO Print Summary - A4'!F14","v":{"$error":"#VALUE!"}},{"$f":"'ISO Printer -A4'!AI8","v":{"$error":"#VALUE!"}}]
[null,"Adobe Reader",{"$f":"'ISO Printer -A4'!J9","v":" "},{"$f":"'ISO Printer -A4'!K9","v":" "},{"$f":"'ISO Print Summary - A4'!E15","v":{"$error":"#VALUE!"}},{"$f":"'ISO Print Summary - A4'!E16","v":" "},{"$f":"'ISO Print Summary - A4'!F15","v":{"$error":"#VALUE!"}},{"$f":"'ISO Print Summary - A4'!F16","v":{"$error":"#VALUE!"}},{"$f":"'ISO Printer -A4'!AI9","v":{"$error":"#VALUE!"}}]
[null,"Excel",{"$f":"'ISO Printer -A4'!J10","v":" "},{"$f":"'ISO Printer -A4'!K10","v":" "},{"$f":"'ISO Print Summary - A4'!E17","v":{"$error":"#VALUE!"}},{"$f":"'ISO Print Summary - A4'!E18","v":" "},{"$f":"'ISO Print Summary - A4'!F17","v":{"$error":"#VALUE!"}},{"$f":"'ISO Print Summary - A4'!F18","v":{"$error":"#VALUE!"}},{"$f":"'ISO Printer -A4'!AI10","v":{"$error":"#VALUE!"}}]
[null,"Average",{"$f":"AVERAGE(C31:C33)","v":{"$error":"#DIV/0!"}},{"$error":"#DIV/0!"},{"$error":"#VALUE!"},{"$error":"#DIV/0!"},{"$error":"#VALUE!"},{"$error":"#VALUE!"},{"$error":"#VALUE!"}]
["B&W Simplex Print ","Word",{"$f":"'ISO Printer -A4'!J14","v":" "},{"$f":"'ISO Printer -A4'!K14","v":" "},{"$f":"'ISO Print Summary - A4'!E23","v":{"$error":"#VALUE!"}},{"$f":"'ISO Print Summary - A4'!E24","v":" "},{"$f":"'ISO Print Summary - A4'!F23","v":{"$error":"#VALUE!"}},{"$f":"'ISO Print Summary - A4'!F24","v":{"$error":"#VALUE!"}},{"$f":"'ISO Printer -A4'!AI14","v":{"$error":"#VALUE!"}}]
[null,"Adobe Reader",{"$f":"'ISO Printer -A4'!J15","v":" "},{"$f":"'ISO Printer -A4'!K15","v":" "},{"$f":"'ISO Print Summary - A4'!E25","v":{"$error":"#VALUE!"}},{"$f":"'ISO Print Summary - A4'!E26","v":" "},{"$f":"'ISO Print Summary - A4'!F25","v":{"$error":"#VALUE!"}},{"$f":"'ISO Print Summary - A4'!F26","v":{"$error":"#VALUE!"}},{"$f":"'ISO Printer -A4'!AI15","v":{"$error":"#VALUE!"}}]
[null,"Excel",{"$f":"'ISO Printer -A4'!J16","v":" "},{"$f":"'ISO Printer -A4'!K16","v":" "},{"$f":"'ISO Print Summary - A4'!E27","v":{"$error":"#VALUE!"}},{"$f":"'ISO Print Summary - A4'!E28","v":" "},{"$f":"'ISO Print Summary - A4'!F27","v":{"$error":"#VALUE!"}},{"$f":"'ISO Print Summary - A4'!F28","v":{"$error":"#VALUE!"}},{"$f":"'ISO Printer -A4'!AI16","v":{"$error":"#VALUE!"}}]
[null,"Average",{"$f":"AVERAGE(C35:C37)","v":{"$error":"#DIV/0!"}},{"$error":"#DIV/0!"},{"$error":"#VALUE!"},{"$error":"#DIV/0!"},{"$error":"#VALUE!"},{"$error":"#VALUE!"},{"$error":"#VALUE!"}]
["B&W Duplex Print ","Word",{"$f":"'ISO Printer -A4'!J17","v":" "},{"$f":"'ISO Printer -A4'!K17","v":" "},{"$f":"'ISO Print Summary - A4'!E30","v":{"$error":"#VALUE!"}},{"$f":"'ISO Print Summary - A4'!E31","v":" "},{"$f":"'ISO Print Summary - A4'!F30","v":{"$error":"#VALUE!"}},{"$f":"'ISO Print Summary - A4'!F31","v":{"$error":"#VALUE!"}},{"$f":"'ISO Printer -A4'!AI17","v":{"$error":"#VALUE!"}}]
[null,"Adobe Reader",{"$f":"'ISO Printer -A4'!J18","v":" "},{"$f":"'ISO Printer -A4'!K18","v":" "},{"$f":"'ISO Print Summary - A4'!E32","v":{"$error":"#VALUE!"}},{"$f":"'ISO Print Summary - A4'!E33","v":" "},{"$f":"'ISO Print Summary - A4'!F32","v":{"$error":"#VALUE!"}},{"$f":"'ISO Print Summary - A4'!F33","v":{"$error":"#VALUE!"}},{"$f":"'ISO Printer -A4'!AI18","v":{"$error":"#VALUE!"}}]
[null,"Excel",{"$f":"'ISO Printer -A4'!J19","v":" "},{"$f":"'ISO Printer -A4'!K19","v":" "},{"$f":"'ISO Print Summary - A4'!E34","v":{"$error":"#VALUE!"}},{"$f":"'ISO Print Summary - A4'!E35","v":" "},{"$f":"'ISO Print Summary - A4'!F34","v":{"$error":"#VALUE!"}},{"$f":"'ISO Print Summary - A4'!F35","v":{"$error":"#VALUE!"}},{"$f":"'ISO Printer -A4'!AI19","v":{"$error":"#VALUE!"}}]
[null,"Average",{"$f":"AVERAGE(C39:C41)","v":{"$error":"#DIV/0!"}},{"$error":"#DIV/0!"},{"$error":"#VALUE!"},{"$error":"#DIV/0!"},{"$error":"#VALUE!"},{"$error":"#VALUE!"},{"$error":"#VALUE!"}]
["Declared in accordance with ISO/IEC 24734"]
["Terms",null,"No"]
["FSOT - First Set Out Time",null,"3.1.2"]
["ESAT - Estimated Saturated Throughput",null,"3.4.2"]
["EFPT - Effective Throughput"]
["© 2009 Xerox Corporation. All rights reserved. Contents of this publication may not be reproduced in any form without permission of Xerox Corporation. XEROX®, and the sphere of connectivity design are trademarks of Xerox Corporation in the U.S. and/or oth"]
[]
[]
[]
[]
[]
["ISO/IEC 24735 Productivity Test Report - A4"]
[]
["Machine Model : "]
[{"$f":"'ISO Copier -A4'!C18","v":0}]
[]
[]
[]
[]
["Test date",null,{"$f":"'ISO Copier -A4'!C17","v":"00:00:00"}]
["Device Model",null,{"$f":"'ISO Copier -A4'!C18","v":0}]
["Device Serial Number",null,{"$f":"'ISO Copier -A4'!C19","v":0}]
["Voltage",null,{"$f":"'ISO Copier -A4'!C20","v":0}]
["MFP Configuration",null,{"$f":"'ISO Copier -A4'!C21","v":0}]
[]
["Mode",null,{"$f":"'ISO Copier -A4'!C23","v":0}]
["Paper Tray",null,{"$f":"'ISO Copier -A4'!C24","v":"Default"}]
["Copy quality",null,{"$f":"'ISO Copier -A4'!C25","v":"Default"}]
[]
["Test Targets",null,"Test targets in accordance with ISO//IEC 24735"]
["Engine Code",null,{"$f":"'ISO Copier -A4'!C28","v":0}]
["Media used",null,{"$f":"'ISO Copier -A4'!C29","v":0}]
[]
[]
["Published FSOT, EFTP & ESAT",null,"FSOT","EFTP (ipm)    / (set)",null,null,null,null,"ESAT"]
[null,null,"(Sec)","1 Set","1 Set+30 Sec",null,"1 Set +4 min",null,"(ipm)"]
["Color Copy","1:1",{"$f":"'ISO Copier -A4'!I5","v":0},{"$f":"'ISO Copier -A4'!J5","v":{"$error":"#DIV/0!"}},{"$f":"'ISO Copier -A4'!AI5","v":{"$error":"#DIV/0!"}},{"$f":"'ISO Copy Summary - A4'!D7","v":{"$error":"#DIV/0!"}},{"$f":"'ISO Copier -A4'!BB5","v":{"$error":"#DIV/0!"}},{"$f":"'ISO Copy Summary - A4'!E7","v":{"$error":"#DIV/0!"}},{"$f":"'ISO Copier -A4'!AH5","v":{"$error":"#DIV/0!"}}]
[null,"1:2",{"$f":"'ISO Copier -A4'!I6","v":0},{"$f":"'ISO Copier -A4'!J6","v":{"$error":"#DIV/0!"}},{"$f":"'ISO Copier -A4'!AI6","v":{"$error":"#DIV/0!"}},{"$f":"'ISO Copy Summary - A4'!D9","v":{"$error":"#DIV/0!"}},{"$f":"'ISO Copier -A4'!BB6","v":{"$error":"#DIV/0!"}},{"$f":"'ISO Copy Summary - A4'!E9","v":{"$error":"#DIV/0!"}},{"$f":"'ISO Copier -A4'!AH6","v":{"$error":"#DIV/0!"}}]
[null,"2:2",{"$f":"'ISO Copier -A4'!I7","v":0},{"$f":"'ISO Copier -A4'!J7","v":{"$error":"#DIV/0!"}},{"$f":"'ISO Copier -A4'!AI7","v":{"$error":"#DIV/0!"}},{"$f":"'ISO Copy Summary - A4'!D11","v":{"$error":"#DIV/0!"}},{"$f":"'ISO Copier -A4'!BB7","v":{"$error":"#DIV/0!"}},{"$f":"'ISO Copy Summary - A4'!E11","v":{"$error":"#DIV/0!"}},{"$f":"'ISO Copier -A4'!AH7","v":{"$error":"#DIV/0!"}}]
["B&W Copy","1:1",{"$f":"'ISO Copier -A4'!I12","v":0},{"$f":"'ISO Copier -A4'!J12","v":{"$error":"#DIV/0!"}},{"$f":"'ISO Copier -A4'!AI12","v":{"$error":"#DIV/0!"}},{"$f":"'ISO Copy Summary - A4'!D17","v":{"$error":"#DIV/0!"}},{"$f":"'ISO Copier -A4'!BB12","v":{"$error":"#DIV/0!"}},{"$f":"'ISO Copy Summary - A4'!E17","v":{"$error":"#DIV/0!"}},{"$f":"'ISO Copier -A4'!AH12","v":{"$error":"#DIV/0!"}}]
[null,"1:2",{"$f":"'ISO Copier -A4'!I13","v":0},{"$f":"'ISO Copier -A4'!J13","v":{"$error":"#DIV/0!"}},{"$f":"'ISO Copier -A4'!AI13","v":{"$error":"#DIV/0!"}},{"$f":"'ISO Copy Summary - A4'!D19","v":{"$error":"#DIV/0!"}},{"$f":"'ISO Copier -A4'!BB13","v":{"$error":"#DIV/0!"}},{"$f":"'ISO Copy Summary - A4'!E19","v":{"$error":"#DIV/0!"}},{"$f":"'ISO Copier -A4'!AH13","v":{"$error":"#DIV/0!"}}]
[null,"2:2",{"$f":"'ISO Copier -A4'!I14","v":0},{"$f":"'ISO Copier -A4'!J14","v":{"$error":"#DIV/0!"}},{"$f":"'ISO Copier -A4'!AI14","v":{"$error":"#DIV/0!"}},{"$f":"'ISO Copy Summary - A4'!D21","v":{"$error":"#DIV/0!"}},{"$f":"'ISO Copier -A4'!BB14","v":{"$error":"#DIV/0!"}},{"$f":"'ISO Copy Summary - A4'!E21","v":{"$error":"#DIV/0!"}},{"$f":"'ISO Copier -A4'!AH14","v":{"$error":"#DIV/0!"}}]
["Declared in accordance with ISO/IEC 24735"]
[]
["Terms"]
["FSOT - First Set Out Time"]
["ESAT - Estimated Saturated Throughput"]
["EFPT - Effective Throughput"]
[]
[]
[]
[]
[]
[null,null,"No"]
[null,null,"3.1.2"]
[null,null,"3.4.2"]
[]
["© 2009 Xerox Corporation. All rights reserved. Contents of this publication may not be reproduced in any form without permission of Xerox Corporation. XEROX®, and the sphere of connectivity design are trademarks of Xerox Corporation in the U.S. and/or oth"]

{"sheet":"ISO Print Summary - A","index":25,"n_rows":36,"n_cols":7,"rows_kept":36,"cut":false,"hidden":true,"merged":[[5,0,10,0],[5,1,6,1],[5,2,6,2],[0,0,0,6],[1,0,1,6],[3,1,4,1],[3,2,4,2],[3,3,3,5],[3,6,4,6],[5,3,6,3],[5,6,6,6],[7,1,8,1],[7,2,8,2],[7,3,8,3],[7,6,8,6],[9,1,10,1],[12,0,17,0],[12,1,13,1],[12,2,13,2],[12,3,13,3],[12,6,13,6],[14,1,15,1],[14,2,15,2],[16,1,17,1],[16,2,17,2],[16,3,17,3],[16,6,17,6],[14,3,15,3],[14,6,15,6],[9,2,10,2],[9,3,10,3],[9,6,10,6],[20,1,21,1],[20,2,21,2],[20,3,20,5],[20,6,21,6],[22,0,27,0],[22,1,23,1],[22,2,23,2],[22,3,23,3],[22,6,23,6],[24,1,25,1],[24,2,25,2],[24,3,25,3],[24,6,25,6],[26,1,27,1],[26,2,27,2],[26,3,27,3],[26,6,27,6],[33,2,34,2],[33,3,34,3],[33,6,34,6],[29,0,34,0],[29,1,30,1],[29,2,30,2],[29,3,30,3],[29,6,30,6],[31,1,32,1],[31,2,32,2],[31,3,32,3],[31,6,32,6],[33,1,34,1]]}
[{"$f":"'ISO Printer -A'!B1","v":0}]
["PRINT SUMMARY - Letter"]
[]
["Office","Application File","FSOT             (sec)","EFTP (ipm)",null,null,"ESAT (ipm)"]
["Color Printing Mode",null,null,"1 set","1 set+30sec    (#sets)","1 set+4min    (#sets)"]
["Simplex with default settings","Word",{"$f":"'ISO Printer -A'!J5","v":" "},{"$f":"'ISO Printer -A'!K5","v":" "},{"$f":"'ISO Printer -A'!AJ5","v":{"$error":"#VALUE!"}},{"$f":"'ISO Printer -A'!BC5","v":{"$error":"#VALUE!"}},{"$f":"'ISO Printer -A'!AI5","v":{"$error":"#VALUE!"}}]
[null,null,null,null,{"$f":"'ISO Printer -A'!O5","v":" "},{"$f":"'ISO Printer -A'!AL5","v":{"$error":"#VALUE!"}}]
[null,"Adobe Reader",{"$f":"'ISO Printer -A'!J6","v":" "},{"$f":"'ISO Printer -A'!K6","v":" "},{"$f":"'ISO Printer -A'!AJ6","v":{"$error":"#VALUE!"}},{"$f":"'ISO Printer -A'!BC6","v":{"$error":"#VALUE!"}},{"$f":"'ISO Printer -A'!AI6","v":{"$error":"#VALUE!"}}]
[null,null,null,null,{"$f":"'ISO Printer -A'!O6","v":" "},{"$f":"'ISO Printer -A'!AL6","v":{"$error":"#VALUE!"}}]
[null,"Excel",{"$f":"'ISO Printer -A'!J7","v":" "},{"$f":"'ISO Printer -A'!K7","v":" "},{"$f":"'ISO Printer -A'!AJ7","v":{"$error":"#VALUE!"}},{"$f":"'ISO Printer -A'!BC7","v":{"$error":"#VALUE!"}},{"$f":"'ISO Printer -A'!AI7","v":{"$error":"#VALUE!"}}]
[null,null,null,null,{"$f":"'ISO Printer -A'!O7","v":" "},{"$f":"'ISO Printer -A'!AL7","v":{"$error":"#VALUE!"}}]
[null,"Average",{"$f":"AVERAGE(C6:C11)","v":{"$error":"#DIV/0!"}},null,null,null,{"$f":"AVERAGE(G6:G11)","v":{"$error":"#VALUE!"}}]
["Duplex with Default Settings","Word",{"$f":"'ISO Printer -A'!J8","v":" "},{"$f":"'ISO Printer -A'!K8","v":" "},{"$f":"'ISO Printer -A'!AJ8","v":{"$error":"#VALUE!"}},{"$f":"'ISO Printer -A'!BC8","v":{"$error":"#VALUE!"}},{"$f":"'ISO Printer -A'!AI8","v":{"$error":"#VALUE!"}}]
[null,null,null,null,{"$f":"'ISO Printer -A'!O8","v":" "},{"$f":"'ISO Printer -A'!AL8","v":{"$error":"#VALUE!"}}]
[null,"Adobe Reader",{"$f":"'ISO Printer -A'!J9","v":" "},{"$f":"'ISO Printer -A'!K9","v":" "},{"$f":"'ISO Printer -A'!AJ9","v":{"$error":"#VALUE!"}},{"$f":"'ISO Printer -A'!BC9","v":{"$error":"#VALUE!"}},{"$f":"'ISO Printer -A'!AI9","v":{"$error":"#VALUE!"}}]
[null,null,null,null,{"$f":"'ISO Printer -A'!O9","v":" "},{"$f":"'ISO Printer -A'!AL9","v":{"$error":"#VALUE!"}}]
[null,"Excel",{"$f":"'ISO Printer -A'!J10","v":" "},{"$f":"'ISO Printer -A'!K10","v":" "},{"$f":"'ISO Printer -A'!AJ10","v":{"$error":"#VALUE!"}},{"$f":"'ISO Printer -A'!BC10","v":{"$error":"#VALUE!"}},{"$f":"'ISO Printer -A'!AI10","v":{"$error":"#VALUE!"}}]
[null,null,null,null,{"$f":"'ISO Printer -A'!O10","v":" "},{"$f":"'ISO Printer -A'!AL10","v":{"$error":"#VALUE!"}}]
[null,"Average",{"$f":"AVERAGE(C13:C18)","v":{"$error":"#DIV/0!"}},null,null,null,{"$f":"AVERAGE(G13:G18)","v":{"$error":"#VALUE!"}}]
[]
["Office","Application File","FSOT             (sec)","EFTP (ipm)",null,null,"ESAT (ipm)"]
["B&W Printing Mode",null,null,"1 set","1 set+30sec    (#sets)","1 set+4min    (#sets)"]
["Simplex with default settings","Word",{"$f":"'ISO Printer -A'!J14","v":" "},{"$f":"'ISO Printer -A'!K14","v":" "},{"$f":"'ISO Printer -A'!AJ14","v":{"$error":"#VALUE!"}},{"$f":"'ISO Printer -A'!BC14","v":{"$error":"#VALUE!"}},{"$f":"'ISO Printer -A'!AI14","v":{"$error":"#VALUE!"}}]
[null,null,null,null,{"$f":"'ISO Printer -A'!O14","v":" "},{"$f":"'ISO Printer -A'!AL14","v":{"$error":"#VALUE!"}}]
[null,"Adobe Reader",{"$f":"'ISO Printer -A'!J15","v":" "},{"$f":"'ISO Printer -A'!K15","v":" "},{"$f":"'ISO Printer -A'!AJ15","v":{"$error":"#VALUE!"}},{"$f":"'ISO Printer -A'!BC15","v":{"$error":"#VALUE!"}},{"$f":"'ISO Printer -A'!AI15","v":{"$error":"#VALUE!"}}]
[null,null,null,null,{"$f":"'ISO Printer -A'!O15","v":" "},{"$f":"'ISO Printer -A'!AL15","v":{"$error":"#VALUE!"}}]
[null,"Excel",{"$f":"'ISO Printer -A'!J16","v":" "},{"$f":"'ISO Printer -A'!K16","v":" "},{"$f":"'ISO Printer -A'!AJ16","v":{"$error":"#VALUE!"}},{"$f":"'ISO Printer -A'!BC16","v":{"$error":"#VALUE!"}},{"$f":"'ISO Printer -A'!AI16","v":{"$error":"#VALUE!"}}]
[null,null,null,null,{"$f":"'ISO Printer -A'!O16","v":" "},{"$f":"'ISO Printer -A'!AL16","v":{"$error":"#VALUE!"}}]
[null,"Average",{"$f":"AVERAGE(C23:C28)","v":{"$error":"#DIV/0!"}},null,null,null,{"$f":"AVERAGE(G23:G28)","v":{"$error":"#VALUE!"}}]
["Duplex with default settings","Word",{"$f":"'ISO Printer -A'!J17","v":" "},{"$f":"'ISO Printer -A'!K17","v":" "},{"$f":"'ISO Printer -A'!AJ17","v":{"$error":"#VALUE!"}},{"$f":"'ISO Printer -A'!BC17","v":{"$error":"#VALUE!"}},{"$f":"'ISO Printer -A'!AI17","v":{"$error":"#VALUE!"}}]
[null,null,null,null,{"$f":"'ISO Printer -A'!O17","v":" "},{"$f":"'ISO Printer -A'!AL17","v":{"$error":"#VALUE!"}}]
[null,"Adobe Reader",{"$f":"'ISO Printer -A'!J18","v":" "},{"$f":"'ISO Printer -A'!K18","v":" "},{"$f":"'ISO Printer -A'!AJ18","v":{"$error":"#VALUE!"}},{"$f":"'ISO Printer -A'!BC18","v":{"$error":"#VALUE!"}},{"$f":"'ISO Printer -A'!AI18","v":{"$error":"#VALUE!"}}]
[null,null,null,null,{"$f":"'ISO Printer -A'!O18","v":" "},{"$f":"'ISO Printer -A'!AL18","v":{"$error":"#VALUE!"}}]
[null,"Excel",{"$f":"'ISO Printer -A'!J19","v":" "},{"$f":"'ISO Printer -A'!K19","v":" "},{"$f":"'ISO Printer -A'!AJ19","v":{"$error":"#VALUE!"}},{"$f":"'ISO Printer -A'!BC19","v":{"$error":"#VALUE!"}},{"$f":"'ISO Printer -A'!AI19","v":{"$error":"#VALUE!"}}]
[null,null,null,null,{"$f":"'ISO Printer -A'!O19","v":" "},{"$f":"'ISO Printer -A'!AL19","v":{"$error":"#VALUE!"}}]
[null,"Average",{"$f":"AVERAGE(C30:C35)","v":{"$error":"#DIV/0!"}},null,null,null,{"$f":"AVERAGE(G30:G35)","v":{"$error":"#VALUE!"}}]

{"sheet":"ISO Print Summary - A4","index":26,"n_rows":36,"n_cols":7,"rows_kept":36,"cut":false,"hidden":true,"merged":[[5,0,10,0],[5,1,6,1],[5,2,6,2],[0,0,0,6],[1,0,1,6],[3,1,4,1],[3,2,4,2],[3,3,3,5],[3,6,4,6],[5,3,6,3],[5,6,6,6],[7,1,8,1],[7,2,8,2],[7,3,8,3],[7,6,8,6],[9,1,10,1],[12,0,17,0],[12,1,13,1],[12,2,13,2],[12,3,13,3],[12,6,13,6],[14,1,15,1],[14,2,15,2],[16,1,17,1],[16,2,17,2],[16,3,17,3],[16,6,17,6],[14,3,15,3],[14,6,15,6],[9,2,10,2],[9,3,10,3],[9,6,10,6],[20,1,21,1],[20,2,21,2],[20,3,20,5],[20,6,21,6],[22,0,27,0],[22,1,23,1],[22,2,23,2],[22,3,23,3],[22,6,23,6],[24,1,25,1],[24,2,25,2],[24,3,25,3],[24,6,25,6],[26,1,27,1],[26,2,27,2],[26,3,27,3],[26,6,27,6],[33,2,34,2],[33,3,34,3],[33,6,34,6],[29,0,34,0],[29,1,30,1],[29,2,30,2],[29,3,30,3],[29,6,30,6],[31,1,32,1],[31,2,32,2],[31,3,32,3],[31,6,32,6],[33,1,34,1]]}
[{"$f":"'ISO Printer -A4'!B1","v":0}]
["PRINT SUMMARY - A4"]
[]
["Office","Application File","FSOT             (sec)","EFTP (ipm)",null,null,"ESAT (ipm)"]
["Color Printing Mode",null,null,"1 set","1 set+30sec    (#sets)","1 set+4min    (#sets)"]
["Simplex with default settings","Word",{"$f":"'ISO Printer -A4'!J5","v":" "},{"$f":"'ISO Printer -A4'!K5","v":" "},{"$f":"'ISO Printer -A4'!AJ5","v":{"$error":"#VALUE!"}},{"$f":"'ISO Printer -A4'!BC5","v":{"$error":"#VALUE!"}},{"$f":"'ISO Printer -A4'!AI5","v":{"$error":"#VALUE!"}}]
[null,null,null,null,{"$f":"'ISO Printer -A4'!O5","v":" "},{"$f":"'ISO Printer -A4'!AL5","v":{"$error":"#VALUE!"}}]
[null,"Adobe Reader",{"$f":"'ISO Printer -A4'!J6","v":" "},{"$f":"'ISO Printer -A4'!K6","v":" "},{"$f":"'ISO Printer -A4'!AJ6","v":{"$error":"#VALUE!"}},{"$f":"'ISO Printer -A4'!BC6","v":{"$error":"#VALUE!"}},{"$f":"'ISO Printer -A4'!AI6","v":{"$error":"#VALUE!"}}]
[null,null,null,null,{"$f":"'ISO Printer -A4'!O6","v":" "},{"$f":"'ISO Printer -A4'!AL6","v":{"$error":"#VALUE!"}}]
[null,"Excel",{"$f":"'ISO Printer -A4'!J7","v":" "},{"$f":"'ISO Printer -A4'!K7","v":" "},{"$f":"'ISO Printer -A4'!AJ7","v":{"$error":"#VALUE!"}},{"$f":"'ISO Printer -A4'!BC7","v":{"$error":"#VALUE!"}},{"$f":"'ISO Printer -A4'!AI7","v":{"$error":"#VALUE!"}}]
[null,null,null,null,{"$f":"'ISO Printer -A4'!O7","v":" "},{"$f":"'ISO Printer -A4'!AL7","v":{"$error":"#VALUE!"}}]
[null,"Average",{"$f":"AVERAGE(C6:C11)","v":{"$error":"#DIV/0!"}},null,null,null,{"$f":"AVERAGE(G6:G11)","v":{"$error":"#VALUE!"}}]
["Duplex with Default Settings","Word",{"$f":"'ISO Printer -A4'!J8","v":" "},{"$f":"'ISO Printer -A4'!K8","v":" "},{"$f":"'ISO Printer -A4'!AJ8","v":{"$error":"#VALUE!"}},{"$f":"'ISO Printer -A4'!BC8","v":{"$error":"#VALUE!"}},{"$f":"'ISO Printer -A4'!AI8","v":{"$error":"#VALUE!"}}]
[null,null,null,null,{"$f":"'ISO Printer -A4'!O8","v":" "},{"$f":"'ISO Printer -A4'!AL8","v":{"$error":"#VALUE!"}}]
[null,"Adobe Reader",{"$f":"'ISO Printer -A4'!J9","v":" "},{"$f":"'ISO Printer -A4'!K9","v":" "},{"$f":"'ISO Printer -A4'!AJ9","v":{"$error":"#VALUE!"}},{"$f":"'ISO Printer -A4'!BC9","v":{"$error":"#VALUE!"}},{"$f":"'ISO Printer -A4'!AI9","v":{"$error":"#VALUE!"}}]
[null,null,null,null,{"$f":"'ISO Printer -A4'!O9","v":" "},{"$f":"'ISO Printer -A4'!AL9","v":{"$error":"#VALUE!"}}]
[null,"Excel",{"$f":"'ISO Printer -A4'!J10","v":" "},{"$f":"'ISO Printer -A4'!K10","v":" "},{"$f":"'ISO Printer -A4'!AJ10","v":{"$error":"#VALUE!"}},{"$f":"'ISO Printer -A4'!BC10","v":{"$error":"#VALUE!"}},{"$f":"'ISO Printer -A4'!AI10","v":{"$error":"#VALUE!"}}]
[null,null,null,null,{"$f":"'ISO Printer -A4'!O10","v":" "},{"$f":"'ISO Printer -A4'!AL10","v":{"$error":"#VALUE!"}}]
[null,"Average",{"$f":"AVERAGE(C13:C18)","v":{"$error":"#DIV/0!"}},null,null,null,{"$f":"AVERAGE(G13:G18)","v":{"$error":"#VALUE!"}}]
[]
["Office","Application File","FSOT             (sec)","EFTP (ipm)",null,null,"ESAT (ipm)"]
["B&W Printing Mode",null,null,"1 set","1 set+30sec    (#sets)","1 set+4min    (#sets)"]
["Simplex with default settings","Word",{"$f":"'ISO Printer -A4'!J14","v":" "},{"$f":"'ISO Printer -A4'!K14","v":" "},{"$f":"'ISO Printer -A4'!AJ14","v":{"$error":"#VALUE!"}},{"$f":"'ISO Printer -A4'!BC14","v":{"$error":"#VALUE!"}},{"$f":"'ISO Printer -A4'!AI14","v":{"$error":"#VALUE!"}}]
[null,null,null,null,{"$f":"'ISO Printer -A4'!O14","v":" "},{"$f":"'ISO Printer -A4'!AL14","v":{"$error":"#VALUE!"}}]
[null,"Adobe Reader",{"$f":"'ISO Printer -A4'!J15","v":" "},{"$f":"'ISO Printer -A4'!K15","v":" "},{"$f":"'ISO Printer -A4'!AJ15","v":{"$error":"#VALUE!"}},{"$f":"'ISO Printer -A4'!BC15","v":{"$error":"#VALUE!"}},{"$f":"'ISO Printer -A4'!AI15","v":{"$error":"#VALUE!"}}]
[null,null,null,null,{"$f":"'ISO Printer -A4'!O15","v":" "},{"$f":"'ISO Printer -A4'!AL15","v":{"$error":"#VALUE!"}}]
[null,"Excel",{"$f":"'ISO Printer -A4'!J16","v":" "},{"$f":"'ISO Printer -A4'!K16","v":" "},{"$f":"'ISO Printer -A4'!AJ16","v":{"$error":"#VALUE!"}},{"$f":"'ISO Printer -A4'!BC16","v":{"$error":"#VALUE!"}},{"$f":"'ISO Printer -A4'!AI16","v":{"$error":"#VALUE!"}}]
[null,null,null,null,{"$f":"'ISO Printer -A4'!O16","v":" "},{"$f":"'ISO Printer -A4'!AL16","v":{"$error":"#VALUE!"}}]
[null,"Average",{"$f":"AVERAGE(C23:C28)","v":{"$error":"#DIV/0!"}},null,null,null,{"$f":"AVERAGE(G23:G28)","v":{"$error":"#VALUE!"}}]
["Duplex with default settings","Word",{"$f":"'ISO Printer -A4'!J17","v":" "},{"$f":"'ISO Printer -A4'!K17","v":" "},{"$f":"'ISO Printer -A4'!AJ17","v":{"$error":"#VALUE!"}},{"$f":"'ISO Printer -A4'!BC17","v":{"$error":"#VALUE!"}},{"$f":"'ISO Printer -A4'!AI17","v":{"$error":"#VALUE!"}}]
[null,null,null,null,{"$f":"'ISO Printer -A4'!O17","v":" "},{"$f":"'ISO Printer -A4'!AL17","v":{"$error":"#VALUE!"}}]
[null,"Adobe Reader",{"$f":"'ISO Printer -A4'!J18","v":" "},{"$f":"'ISO Printer -A4'!K18","v":" "},{"$f":"'ISO Printer -A4'!AJ18","v":{"$error":"#VALUE!"}},{"$f":"'ISO Printer -A4'!BC18","v":{"$error":"#VALUE!"}},{"$f":"'ISO Printer -A4'!AI18","v":{"$error":"#VALUE!"}}]
[null,null,null,null,{"$f":"'ISO Printer -A4'!O18","v":" "},{"$f":"'ISO Printer -A4'!AL18","v":{"$error":"#VALUE!"}}]
[null,"Excel",{"$f":"'ISO Printer -A4'!J19","v":" "},{"$f":"'ISO Printer -A4'!K19","v":" "},{"$f":"'ISO Printer -A4'!AJ19","v":{"$error":"#VALUE!"}},{"$f":"'ISO Printer -A4'!BC19","v":{"$error":"#VALUE!"}},{"$f":"'ISO Printer -A4'!AI19","v":{"$error":"#VALUE!"}}]
[null,null,null,null,{"$f":"'ISO Printer -A4'!O19","v":" "},{"$f":"'ISO Printer -A4'!AL19","v":{"$error":"#VALUE!"}}]
[null,"Average",{"$f":"AVERAGE(C30:C35)","v":{"$error":"#DIV/0!"}},null,null,null,{"$f":"AVERAGE(G30:G35)","v":{"$error":"#VALUE!"}}]

{"sheet":"ISO Copy Summary - A","index":27,"n_rows":21,"n_cols":6,"rows_kept":21,"cut":false,"hidden":true,"merged":[[0,0,0,5],[1,0,1,5],[3,0,4,0],[3,1,4,1],[3,2,3,4],[3,5,4,5],[5,0,6,0],[5,1,6,1],[5,2,6,2],[5,5,6,5],[7,0,8,0],[7,1,8,1],[7,2,8,2],[7,5,8,5],[9,0,10,0],[9,1,10,1],[9,2,10,2],[9,5,10,5],[13,0,14,0],[13,1,14,1],[13,2,13,4],[13,5,14,5],[19,0,20,0],[19,1,20,1],[19,2,20,2],[19,5,20,5],[15,0,16,0],[15,1,16,1],[15,2,16,2],[15,5,16,5],[17,0,18,0],[17,1,18,1],[17,2,18,2],[17,5,18,5]]}
[{"$f":"'ISO Copier -A'!C1","v":0}]
["COPY SUMMARY - Letter"]
[]
["Color Mode","FSOT             (sec)","EFTP (ipm)",null,null,"ESAT (ipm)"]
[null,null,"1 set","1 set+30sec    (#sets)","1 set+4min    (#sets)"]
["1:1",{"$f":"'ISO Copier -A'!I5","v":0},{"$f":"'ISO Copier -A'!J5","v":{"$error":"#DIV/0!"}},{"$f":"'ISO Copier -A'!AI5","v":{"$error":"#DIV/0!"}},{"$f":"'ISO Copier -A'!BB5","v":{"$error":"#DIV/0!"}},{"$f":"'ISO Copier -A'!AH5","v":{"$error":"#DIV/0!"}}]
[null,null,null,{"$f":"'ISO Copier -A'!N5","v":{"$error":"#DIV/0!"}},{"$f":"'ISO Copier -A'!AK5","v":{"$error":"#DIV/0!"}}]
["1:2",{"$f":"'ISO Copier -A'!I6","v":0},{"$f":"'ISO Copier -A'!J6","v":{"$error":"#DIV/0!"}},{"$f":"'ISO Copier -A'!AI6","v":{"$error":"#DIV/0!"}},{"$f":"'ISO Copier -A'!BB6","v":{"$error":"#DIV/0!"}},{"$f":"'ISO Copier -A'!AH6","v":{"$error":"#DIV/0!"}}]
[null,null,null,{"$f":"'ISO Copier -A'!N6","v":{"$error":"#DIV/0!"}},{"$f":"'ISO Copier -A'!AK6","v":{"$error":"#DIV/0!"}}]
["2:2",{"$f":"'ISO Copier -A'!I7","v":0},{"$f":"'ISO Copier -A'!J7","v":{"$error":"#DIV/0!"}},{"$f":"'ISO Copier -A'!AI7","v":{"$error":"#DIV/0!"}},{"$f":"'ISO Copier -A'!BB7","v":{"$error":"#DIV/0!"}},{"$f":"'ISO Copier -A'!AH7","v":{"$error":"#DIV/0!"}}]
[null,null,null,{"$f":"'ISO Copier -A'!N7","v":{"$error":"#DIV/0!"}},{"$f":"'ISO Copier -A'!AK7","v":{"$error":"#DIV/0!"}}]
[]
[]
["B&W Mode","FSOT             (sec)","EFTP (ipm)",null,null,"ESAT (ipm)"]
[null,null,"1 set","1 set+30sec    (#sets)","1 set+4min    (#sets)"]
["1:1",{"$f":"'ISO Copier -A'!I12","v":0},{"$f":"'ISO Copier -A'!J12","v":{"$error":"#DIV/0!"}},{"$f":"'ISO Copier -A'!AI12","v":{"$error":"#DIV/0!"}},{"$f":"'ISO Copier -A'!BB12","v":{"$error":"#DIV/0!"}},{"$f":"'ISO Copier -A'!AH12","v":{"$error":"#DIV/0!"}}]
[null,null,null,{"$f":"'ISO Copier -A'!N12","v":{"$error":"#DIV/0!"}},{"$f":"'ISO Copier -A'!AK12","v":{"$error":"#DIV/0!"}}]
["1:2",{"$f":"'ISO Copier -A'!I13","v":0},{"$f":"'ISO Copier -A'!J13","v":{"$error":"#DIV/0!"}},{"$f":"'ISO Copier -A'!AI13","v":{"$error":"#DIV/0!"}},{"$f":"'ISO Copier -A'!BB13","v":{"$error":"#DIV/0!"}},{"$f":"'ISO Copier -A'!AH13","v":{"$error":"#DIV/0!"}}]
[null,null,null,{"$f":"'ISO Copier -A'!N13","v":{"$error":"#DIV/0!"}},{"$f":"'ISO Copier -A'!AK13","v":{"$error":"#DIV/0!"}}]
["2:2",{"$f":"'ISO Copier -A'!I14","v":0},{"$f":"'ISO Copier -A'!J14","v":{"$error":"#DIV/0!"}},{"$f":"'ISO Copier -A'!AI14","v":{"$error":"#DIV/0!"}},{"$f":"'ISO Copier -A'!BB14","v":{"$error":"#DIV/0!"}},{"$f":"'ISO Copier -A'!AH14","v":{"$error":"#DIV/0!"}}]
[null,null,null,{"$f":"'ISO Copier -A'!N14","v":{"$error":"#DIV/0!"}},{"$f":"'ISO Copier -A'!AK14","v":{"$error":"#DIV/0!"}}]

{"sheet":"ISO Copy Summary - A4","index":28,"n_rows":21,"n_cols":6,"rows_kept":21,"cut":false,"hidden":true,"merged":[[0,0,0,5],[1,0,1,5],[3,0,4,0],[3,1,4,1],[3,2,3,4],[3,5,4,5],[5,0,6,0],[5,1,6,1],[5,2,6,2],[5,5,6,5],[7,0,8,0],[7,1,8,1],[7,2,8,2],[7,5,8,5],[9,0,10,0],[9,1,10,1],[9,2,10,2],[9,5,10,5],[13,0,14,0],[13,1,14,1],[13,2,13,4],[13,5,14,5],[19,0,20,0],[19,1,20,1],[19,2,20,2],[19,5,20,5],[15,0,16,0],[15,1,16,1],[15,2,16,2],[15,5,16,5],[17,0,18,0],[17,1,18,1],[17,2,18,2],[17,5,18,5]]}
[{"$f":"'ISO Copier -A4'!C1","v":0}]
["COPY SUMMARY - A4"]
[]
["Color Mode","FSOT             (sec)","EFTP (ipm)",null,null,"ESAT (ipm)"]
[null,null,"1 set","1 set+30sec    (#sets)","1 set+4min    (#sets)"]
["1:1",{"$f":"'ISO Copier -A4'!I5","v":0},{"$f":"'ISO Copier -A4'!J5","v":{"$error":"#DIV/0!"}},{"$f":"'ISO Copier -A4'!AI5","v":{"$error":"#DIV/0!"}},{"$f":"'ISO Copier -A4'!BB5","v":{"$error":"#DIV/0!"}},{"$f":"'ISO Copier -A4'!AH5","v":{"$error":"#DIV/0!"}}]
[null,null,null,{"$f":"'ISO Copier -A4'!N5","v":{"$error":"#DIV/0!"}},{"$f":"'ISO Copier -A4'!AK5","v":{"$error":"#DIV/0!"}}]
["1:2",{"$f":"'ISO Copier -A4'!I6","v":0},{"$f":"'ISO Copier -A4'!J6","v":{"$error":"#DIV/0!"}},{"$f":"'ISO Copier -A4'!AI6","v":{"$error":"#DIV/0!"}},{"$f":"'ISO Copier -A4'!BB6","v":{"$error":"#DIV/0!"}},{"$f":"'ISO Copier -A4'!AH6","v":{"$error":"#DIV/0!"}}]
[null,null,null,{"$f":"'ISO Copier -A4'!N6","v":{"$error":"#DIV/0!"}},{"$f":"'ISO Copier -A4'!AK6","v":{"$error":"#DIV/0!"}}]
["2:2",{"$f":"'ISO Copier -A4'!I7","v":0},{"$f":"'ISO Copier -A4'!J7","v":{"$error":"#DIV/0!"}},{"$f":"'ISO Copier -A4'!AI7","v":{"$error":"#DIV/0!"}},{"$f":"'ISO Copier -A4'!BB7","v":{"$error":"#DIV/0!"}},{"$f":"'ISO Copier -A4'!AH7","v":{"$error":"#DIV/0!"}}]
[null,null,null,{"$f":"'ISO Copier -A4'!N7","v":{"$error":"#DIV/0!"}},{"$f":"'ISO Copier -A4'!AK7","v":{"$error":"#DIV/0!"}}]
[]
[]
["B&W Mode","FSOT             (sec)","EFTP (ipm)",null,null,"ESAT (ipm)"]
[null,null,"1 set","1 set+30sec    (#sets)","1 set+4min    (#sets)"]
["1:1",{"$f":"'ISO Copier -A4'!I12","v":0},{"$f":"'ISO Copier -A4'!J12","v":{"$error":"#DIV/0!"}},{"$f":"'ISO Copier -A4'!AI12","v":{"$error":"#DIV/0!"}},{"$f":"'ISO Copier -A4'!BB12","v":{"$error":"#DIV/0!"}},{"$f":"'ISO Copier -A4'!AH12","v":{"$error":"#DIV/0!"}}]
[null,null,null,{"$f":"'ISO Copier -A4'!N12","v":{"$error":"#DIV/0!"}},{"$f":"'ISO Copier -A4'!AK12","v":{"$error":"#DIV/0!"}}]
["1:2",{"$f":"'ISO Copier -A4'!I13","v":0},{"$f":"'ISO Copier -A4'!J13","v":{"$error":"#DIV/0!"}},{"$f":"'ISO Copier -A4'!AI13","v":{"$error":"#DIV/0!"}},{"$f":"'ISO Copier -A4'!BB13","v":{"$error":"#DIV/0!"}},{"$f":"'ISO Copier -A4'!AH13","v":{"$error":"#DIV/0!"}}]
[null,null,null,{"$f":"'ISO Copier -A4'!N13","v":{"$error":"#DIV/0!"}},{"$f":"'ISO Copier -A4'!AK13","v":{"$error":"#DIV/0!"}}]
["2:2",{"$f":"'ISO Copier -A4'!I14","v":0},{"$f":"'ISO Copier -A4'!J14","v":{"$error":"#DIV/0!"}},{"$f":"'ISO Copier -A4'!AI14","v":{"$error":"#DIV/0!"}},{"$f":"'ISO Copier -A4'!BB14","v":{"$error":"#DIV/0!"}},{"$f":"'ISO Copier -A4'!AH14","v":{"$error":"#DIV/0!"}}]
[null,null,null,{"$f":"'ISO Copier -A4'!N14","v":{"$error":"#DIV/0!"}},{"$f":"'ISO Copier -A4'!AK14","v":{"$error":"#DIV/0!"}}]

{"sheet":"Config Sheet","index":29,"n_rows":3,"n_cols":3,"rows_kept":3,"cut":false,"hidden":false,"merged":[[4,0,4,2]]}
[{"$f":"'Test Info'!A1","v":"Samudra MFP High B0"}]
[{"$f":"'Test Info'!A2","v":"Release: "},null,{"$f":"'Test Info'!B2","v":"0.123.0"}]
["Test Duration:",null,{"$f":"CONCATENATE(TEXT('Test Info'!B3, \"m/d/yyyy\"), \" - \", TEXT(EndDate, \"m/d/yyyy\"))","v":"9/11/2017 - 13/11/2017"}]

{"sheet":"Version tracking","index":30,"n_rows":15,"n_cols":5,"rows_kept":15,"cut":false,"hidden":false,"merged":[]}
["Version ","Date","Changes Made","Changes made by","Reviewer/ Approver"]
[1,"2014-04-28","Initial Release"]
[2,"2014-06-02","Remove external link, change complex job for alternative drive  with same test suite as for default driver\nAdd UCST results table in Summary sheet"]
[3,"2014-07-01","Correct delta calculation formula in complex print job tab; removed Out of script error."]
[4,"2014-07-02","Fix broken embedded files for FPOT/FCOT."]
[5,"Dec. 17, 2014","Fix Formula for PreBLI 2:2 copy to reflect 20 impressions.  (1:1 and 1:2 remains to be 10 impressions); fix formula for PreBLI job stream to reflect 19 impressions. "]
[6,"Dec. 19, 2014","Add note in red for preBLI section to clarify 20 sides for 2:2 copy and 19 sides total for job stream "]
[7,"Jan. 8, 2015","Created Print To Default Tray Subset, this is a condensed print to default tray test.  \nComplex Job: Add Hi Resolution Mode & expand one job with collation x 3 times"]
[8,"Jan. 19, 2015","Print to Default Tray Subset: Rename B to Tabloid\nComplex Print Job: Rename Resolution Mode to Print Quality\nPreBLI: Corrected formula for average cells\nXPS: Corrected sheet qty for jobs\n"]
[9,"Jan. 22, 2015","Print to Default Tray Subset: corrected page count for 3, 9, 17 & 18"]
[10,"2015-09-23","Added A4 jobs to Print to Default Tray Full & Print to Default Tray Subset; Added A4 to ISO, removed external links"]
[11,"2016-05-06","Add UI, WIFI, change format of SW entry to custom and 0"]
[12,"2016-06-02","Add Email/Server Fax/Internet Fax/Email/DAB under Keyboard per CFPT update\nAdd 50 users.csv to Email-DAB\nAdd missing formula in ISO Copy for Consistency/FSOT avg"]
[13,"2016-12-26","Corrected the below listed \n1.Excel VBA Code: Compile Error in x64 Version (added the 'PtrSafe' attribute)\n3.Removed data validation for tray setting cells in Test Info tab\n4.Linked auto update of Test device name, BM device name, Driver and versions to all the tabs from Test Info tab\n5.Marketing FPOT Low power mode and sleep mode added in Summary tab\n6.Added Finisher3 module\n7.Added Black color fill in \"C-C Measured in Seconds\" cells for Single page documents in Complex print jobs,Print to default tray, Print to default tray subset,XPS and Finishers tab","Muralidaran Krishnasamy","Zhao Yi/ Tom. V"]
[14,"2017-04-06","1. Added Pre-Bli test module in Summary Tab and updated the formaulae accordingly.\n2. Added provision in Summary tab to enter previous cycle values for easy comparision.\n3. Splitted the benchmark values into two partion as \"From predecessor program\" and \"From Marketing spec\"\n4. Removed black cells from Scan test module. Snce we came to know about the test procedure. ","Dinesh.V.P","Zhao Yi/ Tom. V"]

{"sheet":"Sheet1","index":31,"n_rows":0,"n_cols":0,"rows_kept":0,"cut":false,"hidden":true,"merged":[]}

{"sheet":"Backup","index":32,"n_rows":42,"n_cols":10,"rows_kept":42,"cut":false,"hidden":false,"merged":[[20,0,20,5],[19,2,19,5],[9,2,9,5],[0,0,0,5],[5,2,5,5],[6,0,6,5],[7,2,7,5],[8,2,8,5],[17,0,17,5],[10,2,10,5],[11,2,11,5],[15,2,15,5],[18,2,18,5],[12,0,12,5],[25,2,25,5],[26,2,26,5],[27,0,27,5],[21,2,21,5],[22,2,22,5],[37,2,37,5],[38,2,38,5],[34,2,34,5],[13,2,13,5],[16,2,16,5],[14,2,14,5],[32,0,32,5],[33,2,33,5],[35,0,35,5],[36,2,36,5],[28,2,28,5],[29,0,29,5],[30,2,30,5],[31,2,31,5],[23,0,23,5],[24,2,24,5]]}
[{"$f":"'Test Info'!A1","v":"Samudra MFP High B0"}]
[{"$f":"'Test Info'!A2","v":"Release: "},{"$f":"'Test Info'!B2","v":"0.123.0"}]
["Test Duration:",{"$f":"CONCATENATE(TEXT('Test Info'!B3, \"m/d/yyyy\"), \" - \", TEXT(EndDate, \"m/d/yyyy\"))","v":"9/11/2017 - 13/11/2017"}]
[{"$f":"'Test Info'!A4","v":"Benchmark:"},{"$f":"'Test Info'!B4","v":"Samudra Low MFP"},null,null,null,null,null,null,"Color Key"]
[null,null,null,null,null,null,null,null,null,"Equal to or faster than BM"]
["Test Description","Results","Comments",null,null,null,null,null,null,"< 10% slower than BM"]
["Print port 9100 Raw via print driver",null,null,null,null,null,null,null,null,"10% or more slower than BM"]
["FPOT Default Tray"]
["2-N speed Default Tray"]
["Print Web Submission"]
["Print Duplex"]
["Print 14 and 17 inch "]
["Print and Copy to Finishers"]
["Print letter size to finishers"]
["Print 14 and 17 inch to finishers"]
["Xerox BLI Job Stream Print productivity PCL6"]
["Copy letter size to finishers"]
["Copy Single Page"]
["FCOT Simplex"]
["FCOT Duplex"]
["Copy  Multiple page via DADH"]
["Multiple page copy Simplex"]
["Multiple page copy Duplex"]
["Workflow Scan via FTP to Repository"]
["Scan DADF speed "]
["Scan File Sizes "]
["Scan Job Speed"]
["Concurrency"]
["Concurrency"]
["Power "]
["Power up and down speed"]
["Wake up from low power modes"]
["Print Simple Word Files"]
["Multiple page Word file printed once"]
["Single page Word file printed multiple times"]
["Overall metrics"]
["Passed (within 10% of benchmark performance)",null,5]
["Failed (Not within 10% of benchmark performance)",null,2]
[null,"Total Metrics:",{"$f":"Num_Pass + Num_Fail","v":7}]
[]
[]
["Note:  Please refer to Marketing FPOT-FCOT, ISO, XPS  and preBLI tabs for their results accordingly."]

{"sheet":"Sheet2","index":33,"n_rows":0,"n_cols":0,"rows_kept":0,"cut":false,"hidden":true,"merged":[]}